{"text_format":"3","workbook":"xlsx","n_sheets":12,"sheets":["Filtros","P1","P2","P3","P4","P5","P6","P7","P9","P11","P12","P13"],"not_rendered":{"macros":1,"defined_names":9,"pivot_tables":1},"read":"whole","date_system":"1900"}

{"sheet":"Filtros","index":0,"n_rows":545,"n_cols":51,"rows_kept":545}
[]
["Mes",12]
["Comuna/Hospital","(Todas)"]
[]
["Etiquetas de fila","Suma de Col01","Suma de Col02","Suma de Col03","Suma de Col04","Suma de Col05","Suma de Col06","Suma de Col07","Suma de Col08","Suma de Col09","Suma de Col10","Suma de Col11","Suma de Col12","Suma de Col13","Suma de Col14","Suma de Col15","Suma de Col16","Suma de Col17","Suma de Col18","Suma de Col19","Suma de Col20","Suma de Col21","Suma de Col22","Suma de Col23","Suma de Col24","Suma de Col25","Suma de Col26","Suma de Col27","Suma de Col28","Suma de Col29","Suma de Col30","Suma de Col31","Suma de Col32","Suma de Col33","Suma de Col34","Suma de Col35","Suma de Col36","Suma de Col37","Suma de Col38","Suma de Col39","Suma de Col40","Suma de Col41","Suma de col42","Suma de col43","Suma de col44","Suma de col45","Suma de col46","Suma de col47","Suma de col48","Suma de col49","Suma de col50"]
["P1010100",6504,1,64,350,1052,1228,1256,1088,872,493,100,{"$nulls":3},105,121,3]
["P1010201",13706,192,2300,2628,2367,2150,1794,1302,767,189,17,{"$nulls":3},205,275,2]
["P1010202",4245,6,141,350,593,604,534,688,935,368,26,{"$nulls":3},37,114,0]
["P1010203",6524,74,1142,1514,1393,1027,687,423,221,40,3,{"$nulls":3},105,185,1]
["P1010301",1414,21,169,206,202,221,196,165,138,82,12,1,1,0,23,69,2]
["P1010302",343,9,105,59,42,46,18,20,18,18,5,1,2,0,2,17,5]
["P1020100",9,9,1,6,0]
["P1020200",221,105,11,65,23]
["P1030101",1359,0,43,249,432,377,193,63,2,0]
["P1030102",1176,0,69,271,330,314,154,35,3,0]
["P1030103",926,6,95,259,280,205,68,13,0,0]
["P1030104",61,3,14,24,13,6,0,1,0,0]
["P1030201",119,0,10,27,37,23,18,4,0,0]
["P1030202",121,0,7,34,46,24,9,1,0,0]
["P1030203",79,1,11,19,30,12,4,1,1,0]
["P1030204",3,0,0,2,0,0,1,0]
["P1030301",8440]
["P1030303",17]
["P1030304",101]
["P1030401",19]
["P1030403",401]
["P1030404",843]
["P1040500",8454,131,1717,2177,1829,1306,755,378,145,15,1,{"$nulls":3},70,421,4]
["P1040501",803,190,20,216,99]
["P1040502",361,361]
["P1040503",174,348]
["P1040504",126,378]
["P1040505",96,312]
["P1040506",22]
["P1040507",1]
["P1040508",10072,78,1096,1856,2160,1719,1229,910,767,248,9,{"$nulls":3},169,597,5]
["P1050100",27]
["P1050101",773]
["P1050102",569]
["P1050103",64]
["P1050104",174]
["P1060010",2413,1,29,67,138,199,364,505,621,374,102,11,2,0,34,38,0]
["P1060020",164,3,26,50,36,14,14,6,9,3,3,{"$nulls":3},0,2,0]
["P1060040",2207]
["P1060050",875]
["P1060060",378]
["P1060070",45]
["P1060080",16]
["P1060090",5168,131,1565,1145,913,611,418,208,135,37,5,0,0,0,32,89,5]
["P1060100",1055,206,20,329,120]
["P1060101",902,191,14,337,137]
["P1060102",415,113,6,194,45]
["P1060103",112,35,5,73,14]
["P1060104",5,4,0,4,1]
["P1060106",7,4,2,2]
["P1060107",169,107,51,55]
["P1060108",631,387,216,265]
["P1060109",801,509,254,364]
["P1060110",700,484,224,310]
["P1060111",334,220,109,152]
["P1060112",68,59,22,27]
["P1060113",5,2,0,2]
["P1060115",50]
["P1060116",219]
["P1060117",24]
["P1060118",12]
["P1060119",1]
["P1060120",16]
["P1060121",5]
["P1060122",15]
["P1060123",18]
["P1060124",498,0,19,49,131,138,77,57,20,7,0,{"$nulls":3},9,20,1]
["P11000140",49,0,49,0,0,0,7,0,12,0,8,0,10,0,7,0,1,0,3,0,0,0,0,0,0,0,1,0,0,0,0,0,0,2,28]
["P11000150",2,null,2,{"$nulls":15},1,null,1,{"$nulls":20},0,0,1,1,0]
["P11000160",1,null,1,{"$nulls":15},1,{"$nulls":22},0,0,0,0,0]
["P11000190",3,null,3,{"$nulls":15},2,null,1,{"$nulls":20},0,0,1,1,0]
["P1200190",2084,34,440,501,455,315,213,91,34,1,0,{"$nulls":3},20,151,1]
["P1200200",684,11,209,115,123,80,58,27,31,25,3,2,0,0,6,25,2]
["P1200210",93,5,46,13,8,3,3,3,2,5,1,1,3,0,0,4,3]
["P1200220",1198,0,34,39,52,59,77,101,190,256,225,92,49,24,10,14,1]
["P1200230",20,0,0,1,4,5,0,0,0,2,3,3,1,1,0,0,0]
["P1200240",2474,0,0,24,104,313,507,603,487,306,130,{"$nulls":3},32,77,3]
["P1200250",1,0,0,0,1,0,0,0,0,0,0,{"$nulls":3},0,0,0]
["P1200260",78,0,16,27,17,8,8,2,0,0,0,{"$nulls":3},0,0,0]
["P1200270",286,2,33,81,75,64,21,10,0,0,0,{"$nulls":3},2,5,1]
["P1200280",45,4,13,15,11,2,0,2]
["P1200290",118,3,26,46,32,11,0,1]
["P1200300",26,1,7,9,6,3,0,0]
["P1200310",18,0,5,6,5,2,0,0]
["P1200330",274,6,52,124,79,13,3,2]
["P1200340",30]
["P1200350",22,0,5,1,1,3,0,1,2,6,2,1,0,0,0,0,0]
["P1206010",11607,0]
["P1206020",11230,0]
["P1206030",10361,0]
["P1206040",9518,0]
["P1206050",9571,0]
["P1206060",9095,0]
["P1206070",8112,0]
["P1206080",6099,0]
["P1207010",3286,2922,233,70,7,21,17,16,0,0,0]
["P1207020",3416,3019,205,69,69,13,11,27,3,0,0]
["P1207030",7298]
["P1207040",5243]
["P1207050",3106]
["P1207060",1228]
["P1207070",413]
["P1207080",151]
["P1207090",6896]
["P1207100",5082]
["P1207110",2418]
["P1207120",708]
["P1207130",271]
["P1207140",118]
["P1207150",8441,0]
["P1207160",2184,0]
["P1207170",2171,1936,143,49,12,21,4,5,1,0,0]
["P1207180",20878]
["P1207190",1004]
["P1208020",3295,2885,238,65,68,9,8,20,1,1,0]
["P1208030",3137,2773,218,42,64,18,4,17,1,0,0]
["P1208040",3006,2703,156,57,67,7,4,12,0,0,0]
["P1208050",2910,2661,146,40,47,2,3,8,2,1,0]
["P1208060",2522,2264,171,39,37,1,2,5,3,0,0]
["P1208070",1972,1726,168,39,26,5,1,6,0,1,0]
["P1208080",723,651,61,7,0,3,0,0,1,0,0]
["P1208090",159,143,12,4,0,0,0,0,0,0,0]
["P1208100",44,35,6,0,0,0,0,2,1,0,0]
["P1220020",11526]
["P1220030",7869]
["P1220070",23553]
["P1220090",7950]
["P1220091",95,84,6,4,null,1,0,0,null,null,0]
["P1220092",188,165,12,5,0,2,2,2,0,0,0]
["P1220093",223,198,15,3,1,3,0,3,0,0,0]
["P1220094",210,194,12,2,null,1,0,1,null,null,0]
["P1220095",200,180,11,5,null,1,0,3,null,null,0]
["P1220096",196,170,18,8,null,0,0,0,null,null,0]
["P1220097",184,161,14,4,null,1,0,0,2,2,0]
["P1220098",159,142,12,2,null,1,0,0,1,1,0]
["P1220099",90,82,6,1,null,0,1,0,null,null,0]
["P1220100",12,11,1,0,null,0,0,0]
["P1220101",4,3,1,0,null,0,0,0]
["P1220102",3,3,0,0,null,0,0,0]
["P1230001",596,0]
["P1230002",225,1]
["P1230003",61,1]
["P1230004",11,10,1,0,0,0,0,0,0,0,0]
["P1230005",4,2,0,0,null,0,0,0,2]
["P1240010",1988,8]
["P1240011",2021,1]
["P1240012",1724,0]
["P1240013",1764,4]
["P1240014",1606,2]
["P1240015",1357,4]
["P1240016",914,3]
["P1240017",1415,1118,65,14,214,0]
["P1240018",1518,1315,47,17,131,0]
["P1240019",1289,1153,33,9,87,0]
["P1240020",1294,1166,26,4,94,0]
["P1240021",1130,1044,11,4,71,0]
["P1240022",1001,918,10,6,63,0]
["P1240023",665,611,10,5,36,0]
["P1240024",48,44,2,0,2,0]
["P1240025",1,1]
["P1240026",3,2,0,0,1,0]
["P1240030",1,1]
["P1310010",6683,3438,3245,3222,3166,176,74,40,5,42,57]
["P1310020",2558,1247,1311,188,195,377,326,405,420,259,354,18,4,0,12,11,32]
["P1310030",164,85,79,21,10,23,25,20,28,21,16,0,0,0,0,1,2]
["P1310040",31,30,1,0,0,0,0,0,0,21,1,9,0,0,0,0,0]
["P1310050",238,20,218,{"$nulls":4},0,33,20,173,0,12,0,0,1,2]
["P1310060",18,0,18,{"$nulls":4},0,2,0,4,0,0,0,12,1,0]
["P1310070",722,386,336,164,153,222,183,{"$nulls":8},7,7]
["P1310080",572,263,309,{"$nulls":4},162,201,100,108,1,0,0,0,1,6]
["P1310090",977,473,504,8,13,140,119,176,206,135,165,14,1,0,0,4,15]
["P1320010",285,127,158,12,23,39,33,48,52,26,50,2,0,0,0,1,4]
["P1320030",208,95,113,1,4,20,28,30,47,42,34,2,0,0,0,0,0]
["P1320040",20,13,7,1,0,3,0,2,3,7,4,0,0,0,0,0,0]
["P1600100",14392,50,1108,2020,2524,2615,2216,1874,1381,604]
["P1600101",14522,77,1587,2248,2619,2474,2047,1588,1302,580]
["P1600102",12951,175,2158,2860,2633,1856,1354,952,680,283]
["P1600103",752,14,175,249,138,87,33,17,26,13]
["P2060000",26393,13432,12961,188,131,208,215,260,265,255,233,254,266,252,259,306,319,1153,1170,1520,1471,1506,1508,2802,2623,1493,1380,1101,1108,2134,2013,73,86,141,140]
["P2070101",1147,624,523,null,null,13,10,30,19,14,16,15,12,20,16,11,22,47,57,70,48,73,50,132,77,67,69,53,54,79,73,4,5,10,11]
["P2070102",195,117,78,null,null,5,4,0,5,3,3,3,1,1,2,0,1,11,7,17,7,17,7,23,16,14,6,9,8,14,11,0,0,2,2]
["P2070201",4165,2179,1986,null,null,8,4,22,15,28,19,22,25,24,20,52,36,188,152,224,224,213,228,435,403,293,233,216,210,454,417,7,17,11,11]
["P2070202",6571,3265,3306,null,null,23,34,48,43,61,54,67,54,65,80,76,83,332,322,397,421,403,404,685,691,340,354,268,289,500,477,15,17,18,26]
["P2070301",727,399,328,null,null,8,13,7,9,12,11,13,14,9,7,8,13,37,25,53,39,37,34,96,54,50,41,22,23,47,45,0,2,4,5]
["P2070302",116,66,50,null,null,2,2,2,3,0,1,2,1,1,4,1,1,5,1,6,5,10,4,16,10,5,5,5,6,11,7,0,0,0,2]
["P2070401",2881,1576,1305,null,null,21,23,39,36,25,29,34,26,30,29,42,35,141,153,183,156,167,144,361,208,174,137,145,135,214,194,5,4,11,18]
["P2070402",555,323,232,null,null,4,5,11,8,9,11,8,4,12,2,14,7,34,26,52,26,45,29,52,39,26,26,19,17,37,32,1,2,4,1]
["P2070501",720,403,317,null,null,13,7,23,8,13,13,10,8,18,15,11,19,41,41,53,37,32,26,88,47,44,39,20,19,37,38,0,2,6,5]
["P2070502",66,35,31,null,null,1,2,0,2,0,0,1,1,1,1,0,0,6,6,2,1,4,2,9,6,4,1,0,5,7,4,0,0,0,1]
["P2070503",6641,3308,3333,null,null,27,34,52,44,61,56,72,58,68,80,80,84,323,324,400,428,411,400,705,700,340,364,260,278,509,483,17,17,32,27]
["P2070504",4061,2121,1940,null,null,9,3,19,16,26,17,22,17,24,19,48,38,182,142,213,222,212,226,419,402,299,231,209,199,439,408,6,17,9,10]
["P2070505",16105,8085,8020,null,null,181,184,194,208,162,158,177,200,169,160,206,208,649,712,932,882,930,935,1695,1662,886,857,651,640,1253,1214,52,53,96,101]
["P2070506",24,14,10,null,null,0,1,0,1,1,0,1,0,0,0,0,0,2,1,2,1,1,2,1,1,1,1,2,1,3,1,0,0,0,1]
["P2090300",6078,398,657,743,473,667,522,723,1895]
["P2090400",876,24,63,91,65,103,72,111,347,175]
["P2100100",338,3,27,44,28,39,38,46,113,103]
["P2100200",87,56,31]
["P2100400",234,175,59]
["P2100500",16,14,2]
["P2100600",21,13,8]
["P2200700",1957]
["P2200800",1081]
["P2200900",79,53,26]
["P2300000",12,10,2]
["P2300100",36,19,17]
["P2300200",236,135,101]
["P2300300",13,8,5]
["P2300400",86,55,31]
["P2300410",369]
["P2300420",509]
["P2300460",602]
["P2300470",700]
["P2300480",2028]
["P2300490",2118]
["P2300500",2514]
["P2300510",2900]
["P2300520",10895]
["P2300530",7524,3743,3781,490,490,1248,1307,2005,1984,1]
["P2300540",454,240,214,25,24,74,74,141,116,0]
["P2300550",162,80,82,9,12,23,27,48,43,3]
["P2300560",51,23,28,1,4,6,7,16,17,4]
["P2300570",5628,891,1177,1091,930,857,682]
["P2300580",2734,501,592,525,399,414,303]
["P2400100",3098,1636,1462,null,null,6,3,10,5,12,10,16,9,18,18,27,34,104,103,164,148,172,172,345,346,253,182,165,142,344,290,2,9,9,11]
["P2400110",5558,2752,2806,null,null,20,29,48,35,51,38,50,51,48,58,71,70,265,226,318,350,335,340,601,653,291,312,214,232,440,412,10,14,15,20]
["P2400120",866,471,395,null,null,4,3,3,5,8,8,5,3,3,8,8,12,33,27,54,34,53,35,127,123,55,37,38,40,80,60,10,4,4,7]
["P2400130",3405,1760,1645,null,null,18,26,22,22,20,24,23,27,30,31,43,47,143,114,205,198,213,213,390,382,217,176,148,126,288,259,4,4,11,21]
["P2400140",13889,6873,7016,null,null,133,121,157,159,147,131,143,166,134,153,163,182,629,670,775,861,789,871,1412,1394,756,690,575,597,1060,1021,20,24,71,57]
["P2400150",13299,6859,6440,2143,1981,4716,4459,32,14,115,98]
["P2400160",990,649,341,122,78,527,263,6,0,2,3]
["P2400170",2368,1168,1200,342,358,826,842,8,3,14,15]
["P2400180",2807,1371,1436,441,426,930,1010,1,2,21,21]
["P2400190",291,136,155,48,45,88,110,0,0,3,5]
["P2400200",35,22,13,6,3,16,10,0,0,0,0]
["P2400210",4251,2217,2034,705,689,1512,1345,8,1,40,29]
["P2400220",502,275,227,82,69,193,158,2,0,3,1]
["P2400230",1730,914,816,294,246,620,570,5,0,5,10]
["P2400240",1023,542,481,200,164,342,317,2,3,3,4]
["P2400250",131,74,57,24,10,50,47,0,0,0,1]
["P2400260",6252,3236,3016,933,923,2303,2093,12,4,52,36]
["P2400270",5369,2719,2650,814,808,1905,1842,8,3,13,24]
["P2400280",1675,869,806,226,217,643,589,4,1,1,1]
["P2400290",1866,1023,843,240,243,783,600,8,2,3,3]
["P2400300",249,118,131,42,38,76,93,0,0,3,5]
["P2400310",30,16,14,4,4,12,10,0,0,0,0]
["P2400320",2894,1411,1483,462,445,949,1038,4,4,15,15]
["P2400330",2435,1207,1228,355,363,852,865,5,3,8,10]
["P2400340",965,634,331,119,71,515,260,6,0,2,4]
["P2400350",6722,3469,3253,1160,1060,2309,2193,16,7,88,67]
["P2400360",4,4,0,1,0,3,0,0,0,0,0]
["P2500100",101,58,43,0,0,0,0,0,0,0,0,0,0,0,0,0,0,0,0,0,0,0,0,0,0,5,2,2,0,11,8,11,7,19,13,10,13,0,0,0,0,0,0,0,0]
["P2500200",9,3,6,0,0,0,0,0,0,0,0,0,0,0,0,0,0,0,0,0,0,0,0,0,0,0,1,0,0,0,0,1,2,1,1,0,0,1,2,0,0,0,0,0,1]
["P2500400",93,41,52,0,0,0,0,0,0,0,1,0,2,0,0,2,2,1,3,2,9,3,0,7,5,2,4,4,4,4,6,2,5,8,6,4,2,0,1,2,2,0,0,0,0]
["P2500500",348,272,76,0,0,0,0,0,0,0,0,0,0,0,0,0,0,0,0,3,2,8,6,25,5,42,14,13,8,37,13,51,9,44,6,24,5,15,5,10,3,0,1,1,0]
["P2500600",9,6,3,0,0,0,0,0,0,0,0,0,0,0,0,0,0,0,0,0,0,0,0,4,1,0,0,1,0,1,0,0,0,0,0,0,1,0,1,0,0,0,0,1,0]
["P2500700",48,29,19,0,0,0,0,0,0,0,0,0,0,0,0,0,1,1,0,1,3,1,1,0,1,3,0,1,2,5,1,3,2,3,1,3,2,5,4,3,1,0,0,0,0]
["P2500800",17,11,6,0,0,0,0,0,0,0,0,1,0,2,0,0,1,1,0,1,0,1,0,0,1,1,0,2,2,1,1,1,0,0,1,0,0,0,0,0,0,0,0,0,0]
["P2500900",43,21,22,0,0,0,0,1,2,0,1,0,0,1,1,0,1,3,1,4,1,0,1,3,4,0,1,0,0,1,1,3,2,2,5,3,1,0,0,0,0,0,0,0,0]
["P2501000",30,13,17,0,0,0,0,0,0,0,1,0,0,1,0,0,0,0,2,0,1,2,1,1,2,1,0,1,0,1,0,0,6,2,2,4,1,null,1,null,null,0,0,0,0]
["P2501100",26,13,13,0,0,0,0,0,0,0,1,1,1,0,0,0,0,0,0,0,0,0,1,0,2,1,1,0,0,3,1,3,1,1,2,2,2,2,1,0,0,0,0,0,0]
["P2501200",24,16,8,0,0,0,0,0,0,0,1,1,0,0,1,0,0,0,0,1,1,2,0,1,1,0,0,2,1,1,0,2,0,2,2,2,0,2,1,0,0,0,0,0,0]
["P2501300",3,1,2,0,0,0,0,0,0,0,0,0,0,0,0,0,0,0,0,0,0,0,1,1,0,0,0,0,0,0,1,0,0,0,0,0,0,0,0,0,0,0,0,0,0]
["P2501400",7,1,6,0,0,0,0,0,0,0,0,0,0,0,0,0,0,0,0,0,0,0,0,0,0,0,0,0,0,0,1,0,0,1,2,0,3,0,0,0,0,0,0,0,0]
["P2501500",210,104,106,0,1,1,0,1,0,1,1,0,0,3,0,3,0,3,7,8,12,1,5,3,9,8,10,4,3,12,10,16,13,14,14,19,14,6,7,1,0,0,0,1,0]
["P2501600",1363,727,636,2,0,5,6,13,18,12,10,10,10,8,15,9,19,55,78,71,59,57,56,108,97,57,48,38,29,88,58,72,44,81,52,35,32,6,5,0,0,0,4,5,1]
["P3120500",263,113,150,2,3,8,4,2,0,0,1,1,2,1,0,1,1,0,0,2,0,2,1,1,1,3,2,5,16,7,16,21,20,21,30,36,53,null,1,1]
["P3120600",20,13,7,1,2,1,1,4,3,2,0,2,0,1,0,1,0,0,0,0,0,0,0,1,0,0,1,0,0,{"$nulls":9},0,0]
["P3120700",2423,1159,1264,18,19,49,43,52,39,67,75,70,66,78,97,84,86,106,72,92,87,101,91,97,120,92,92,56,93,67,69,39,76,44,38,47,101,null,2,2]
["P3120800",3369,1449,1920,6,0,0,1,1,4,1,3,17,5,14,16,11,28,6,40,25,85,37,131,56,133,130,213,126,209,226,225,182,238,236,220,375,369,null,1,0]
["P3130200",211,101,110,0,0,0,0,0,0,0,0,1,0,0,1,1,1,0,1,2,1,0,1,4,5,2,4,4,5,11,13,8,18,15,15,53,45,null,0,0]
["P3130201",342,144,198,0,0,1,0,1,0,1,0,2,0,3,2,3,0,1,2,5,2,3,0,5,1,4,3,7,5,7,8,14,21,25,26,62,128,null,0,0]
["P3140200",921,513,408,0,0,0,0,0,0,0,0,0,0,0,0,3,0,1,0,3,1,3,6,37,23,26,23,47,29,86,47,70,65,85,67,152,147,null,0,0]
["P3140300",9871,2402,7469,0,0,0,0,0,1,1,1,0,0,0,4,1,5,4,16,4,43,16,89,43,220,143,698,311,1026,393,1269,388,1270,442,1119,656,1708,null,0,1]
["P3140400",3230,1168,2096,9,5,17,16,22,23,16,14,29,16,33,24,31,23,31,30,29,20,36,36,41,33,43,51,45,51,72,92,92,109,134,207,488,1385,null,0,1]
["P3160800",3340,1195,2145,9,5,17,16,19,24,15,15,25,16,31,23,30,24,31,31,30,21,34,37,47,38,45,54,48,50,80,99,94,123,146,218,494,1351,null,0,1]
["P3160900",340,146,194,0,0,1,0,1,0,1,0,2,0,3,2,3,0,1,2,5,2,3,0,6,1,4,3,7,5,7,8,14,21,25,23,63,127,null,0,0]
["P3160910",1127,390,737,0,0,0,0,0,0,2,1,1,3,2,2,3,4,2,3,1,1,6,8,6,5,7,12,8,17,25,53,46,71,64,122,217,435,null,1,0]
["P3160920",804,312,492,0,0,1,0,0,1,4,1,2,0,3,1,1,2,3,4,2,5,5,3,9,6,14,12,13,13,30,22,40,35,46,66,139,321,null,0,0]
["P3160940",664,252,412,1,0,10,8,10,21,5,4,11,10,13,15,18,12,18,13,10,5,14,15,12,9,15,12,7,15,21,11,18,22,11,26,58,214,null,0,0]
["P3160950",440,253,187,253,187,{"$nulls":32},0,1,3]
["P3160960",335,202,133,202,133,{"$nulls":32},0,0,0]
["P3160980",7988,2942,5046,90,62,774,569,673,508,363,343,155,249,95,229,70,250,53,234,46,213,43,263,61,304,80,325,86,336,100,322,79,323,76,241,98,275,741,7,22]
["P3160990",4544,1707,2837,55,41,471,364,443,329,198,195,56,94,39,101,31,113,26,82,17,111,34,141,40,163,29,170,55,188,56,187,53,208,42,144,62,206,431,1,6]
["P3161000",617,156,461,0,0,11,4,10,11,4,7,8,6,3,17,8,13,4,16,0,27,5,27,6,27,13,45,14,52,12,47,23,59,18,34,17,69,118,0,2]
["P3161010",3112,1543,1569,{"$nulls":16},6,7,9,18,27,35,52,91,128,163,220,252,272,225,329,276,500,502,459,0,0]
["P3161020",413,226,187,{"$nulls":16},0,0,0,2,2,2,5,8,15,12,31,18,36,32,53,37,84,76,27,0,0]
["P3161030",1395,790,605,16,13,109,85,14,13,4,5,2,8,2,5,1,7,0,5,10,7,13,12,24,15,39,32,55,42,83,64,101,58,126,95,191,139,null,0,2]
["P3161040",21301,3582,17719,2,0,7,8,21,21,44,155,61,278,53,402,55,551,59,675,86,898,122,1213,229,1575,318,2270,414,2226,406,1935,538,1911,486,1562,681,2038,null,2,14]
["P3161041",8047,3094,4953,85,53,838,642,798,580,369,355,130,187,73,182,66,189,45,175,39,183,43,244,52,265,71,305,98,320,92,327,100,363,89,274,106,309]
["P3161042",1765,489,1276,6,8,96,77,83,74,49,70,20,51,19,63,18,65,16,63,6,69,14,85,20,92,15,94,21,123,34,94,27,96,27,61,18,91]
["P3161043",533,127,406,2,4,14,23,17,17,13,13,6,23,7,29,1,30,5,17,3,23,4,22,4,34,7,30,11,30,10,33,10,30,6,16,7,32]
["P3161044",1539,658,881,31,24,220,151,144,112,86,76,28,44,25,49,7,43,13,35,9,44,5,32,11,43,13,41,8,48,17,51,13,29,9,17,19,42]
["P3161045",2106,1041,1065,{"$nulls":16},2,6,10,10,13,24,38,57,79,116,132,159,184,153,222,189,361,351]
["P3161046",391,177,214,{"$nulls":16},0,0,2,0,3,7,8,13,12,13,27,35,25,37,36,37,64,72]
["P3161047",432,244,188,{"$nulls":16},1,1,2,4,9,8,8,13,31,24,44,23,49,24,49,31,51,60]
["P3161050",51,27,24,0,1,3,1,4,1,4,0,1,0,3,0,1,3,0,1,0,0,0,3,0,1,0,0,1,2,5,1,2,7,1,0,2,3,null,0,0]
["P3170100",551,210,341,0,1,3,1,3,1,0,0,2,2,0,3,2,4,0,1,4,10,7,21,12,22,16,26,24,41,25,51,37,52,33,42,42,63,null,0,0]
["P3170200",79,40,39,1,1,3,0,1,2,2,1,1,0,3,1,0,0,2,1,1,0,1,1,2,0,1,2,0,0,6,4,3,2,3,5,10,19,null,0,0]
["P3170400",93,42,51,0,0,0,0,0,0,0,0,13,12,2,2,1,1,1,1,2,7,0,5,3,3,1,2,2,3,6,3,5,3,3,5,3,4]
["P3170500",115,40,75,0,0,1,2,3,1,3,2,2,3,1,4,2,3,2,3,1,4,0,8,2,2,0,4,4,7,3,12,5,8,6,6,5,6]
["P3170600",57,26,31,0,0,0,0,0,0,0,0,0,1,1,1,2,1,1,1,1,4,1,1,2,0,0,1,1,0,6,4,1,4,3,3,7,10]
["P3170700",1,0,1,{"$nulls":17},1]
["P3170800",552,294,258,{"$nulls":16},1,0,1,3,9,6,14,19,35,28,44,52,44,36,63,48,83,66]
["P3170900",301,158,143,{"$nulls":16},0,0,2,1,5,3,9,12,13,17,22,26,32,26,41,25,34,33]
["P3171000",194,106,88,{"$nulls":16},0,0,1,1,3,1,4,5,9,9,16,15,15,17,22,19,36,21]
["P3171100",1453,458,995,16,1,48,30,63,32,48,24,35,54,20,55,18,54,13,47,10,57,15,79,17,82,26,102,30,114,26,73,28,72,21,59,24,60]
["P3171200",516,158,358,7,1,16,15,24,13,11,8,11,16,7,16,7,14,5,18,5,21,5,38,9,39,9,36,11,28,13,28,6,25,5,23,7,19]
["P3171300",468,119,349,8,0,0,2,1,0,4,1,7,13,3,14,6,16,4,14,2,25,6,27,3,20,14,41,12,48,11,35,14,41,12,24,12,28]
["P3171400",113,60,53,4,2,{"$nulls":6},0,2,0,0,0,0,0,0,1,1,2,2,1,1,5,6,4,5,5,8,12,10,14,7,12,9]
["P3171500",35,21,14,{"$nulls":8},0,0,0,0,0,1,0,0,0,0,1,2,0,0,1,1,2,1,0,2,6,3,3,1,8,3]
["P3171600",34,17,17,{"$nulls":8},0,0,0,0,0,0,0,0,1,0,0,0,0,0,1,1,1,1,2,4,2,4,6,3,4,4]
["P4150100",87889,31327,56562,58,65,78,164,136,350,282,642,499,1136,821,1934,1414,3146,2251,4996,3252,7033,4144,7636,4680,7828,4620,7188,4107,5925,4985,8519,86,167,148,250]
["P4150601",66786,24226,42560,19,13,45,53,60,122,145,279,250,522,432,1060,810,1866,1447,3272,2286,4810,3120,5582,3688,6125,3852,5975,3538,5337,4534,7544,62,114,64,128]
["P4150602",35657,13435,22222,22,22,20,51,53,139,119,265,188,435,360,745,629,1150,1011,1924,1487,2826,1918,3122,2231,3269,1978,2978,1671,2396,1748,2900,34,73,33,61]
["P4150603",47088,15548,31540,23,32,34,82,60,150,128,242,238,478,395,860,678,1467,1143,2556,1687,4060,2135,4632,2431,4750,2254,4377,2022,3565,2320,4289,47,111,30,70]
["P4150701",5201,2152,3049,{"$nulls":16},449,758,502,816,453,705,349,414,234,195,165,161,5,8,11,22]
["P4150703",24394,8312,16082,11,14,20,41,38,87,71,156,141,299,197,553,355,904,601,1473,821,2002,1055,2168,1176,2233,1251,1980,1209,1791,1366,2381,16,36,55,62]
["P4150801",45039,17742,27297,23,24,25,58,59,144,128,291,218,474,421,803,750,1286,1166,2179,1810,3243,2324,3594,2796,3765,2703,3550,2324,2992,2995,4894,48,93,57,107]
["P4170300",2122,840,1282,1,1,0,0,4,4,3,8,4,26,21,36,26,52,47,90,78,145,93,185,164,194,136,180,122,158,141,203,2,3,0,2]
["P4170500",996,610,386,1,0,0,2,0,1,6,1,3,7,18,13,24,20,46,90,129,23,103,41,112,43,65,51,59,57,44,37,1,3,1,1]
["P4180200",31436,10949,20487,10,9,24,31,31,83,69,161,122,317,223,619,454,1148,781,2026,1251,2921,1718,3331,2065,3702,2218,3355,1983,2784,7,5,24,44,28,50]
["P4180300",11226,3974,7252,7,10,6,13,14,50,30,92,59,146,90,242,161,382,326,661,440,970,618,1203,789,1287,772,1247,662,949,null,null,38,69,8,22]
["P4180500",12012,4832,7180,8,7,10,15,18,35,32,81,53,124,97,239,185,288,298,581,437,863,632,937,821,1007,754,985,652,847,835,1171,7,24,8,15]
["P4180800",9316,3627,5689,12,6,10,22,22,42,31,76,70,113,99,184,187,302,304,574,456,798,560,860,616,861,535,781,382,550,343,520,9,26,7,15]
["P4190100",18456,5273,13183,24,27,33,65,39,119,83,195,140,363,203,578,309,956,484,1344,621,1788,765,1874,708,1830,666,1658,574,1142,624,1244,22,38,36,81]
["P4190500",2869,1079,1790,0,0,0,1,1,1,4,6,7,12,11,21,26,47,58,95,84,175,129,238,168,265,183,283,182,271,226,375,4,2,1,2]
["P4190600",1119,595,524,1,1,1,0,2,1,2,1,5,2,9,8,14,18,30,34,61,75,115,80,119,85,92,75,68,56,76,88,4,0,0,1]
["P4190800",39421,13708,25713,36,50,63,123,97,250,197,445,331,771,527,1286,834,1941,1267,2932,1692,3667,2010,3770,2058,3425,1741,2805,1384,1966,1471,2282,55,141,39,90,10615]
["P4190801",19900,7387,12513,6,6,5,7,8,30,25,54,53,117,105,271,220,483,441,930,687,1393,955,1724,1221,1942,1276,1947,1165,1607,1220,2002,10,17,11,27,5551]
["P4190803",501,185,316,0,0,0,0,1,0,0,0,1,0,1,0,1,6,4,8,9,15,17,18,17,30,36,40,25,50,73,149,0,0,0,0,168]
["P4190804",302,137,165,0,0,0,0,1,1,1,1,1,4,5,0,5,5,10,8,14,19,16,21,23,23,26,27,17,28,18,28,0,0,1,0,82]
["P4190805",16420,5984,10436,9,8,10,25,16,54,58,132,90,202,169,368,276,556,477,1017,662,1390,904,1533,992,1522,885,1363,718,1077,718,1189,14,35,12,26]
["P4190806",20229,7319,12910,14,10,14,31,25,87,70,168,106,255,209,442,347,685,563,1217,815,1710,1097,1873,1211,1881,1070,1692,903,1345,875,1514,15,43,15,35]
["P4190807",3194,1151,2043,0,0,1,0,2,3,5,4,8,16,15,26,37,63,53,126,90,203,135,223,178,334,193,325,190,296,244,424,18,28,6,10]
["P4190808",19051,6890,12161,10,10,10,30,24,82,65,159,116,247,189,429,318,636,552,1173,776,1673,986,1787,1153,1748,1043,1602,819,1232,829,1353,17,44,16,32]
["P4190809",15119,5309,9810,14,9,13,29,27,72,52,139,98,247,164,383,289,608,449,994,627,1332,822,1531,912,1510,793,1259,571,886,478,811,10,11,9,14]
["P4190810",4454,1622,2832,0,0,1,2,3,1,1,2,2,6,2,6,20,29,29,71,46,137,99,196,172,331,265,448,303,525,679,1078,2,2,0,2,1244]
["P4190811",1658,612,1046,0,0,0,0,0,0,1,0,3,1,2,4,2,13,10,23,17,39,33,57,69,87,79,119,117,182,279,521,2,1,0,1,475]
["P4190812",27272,9906,17366,8,7,11,19,26,48,66,136,117,234,191,465,340,848,644,1486,994,2118,1372,2426,1559,2555,1601,2340,1348,2031,1629,2653,25,50,21,47]
["P4190900",2569,1354,1215,0,0,0,1,0,4,1,1,4,6,13,15,19,22,62,49,92,89,171,127,231,172,239,208,223,193,299,328,4,4,0,6]
["P4190910",2891,1456,1435,0,0,0,1,1,2,5,3,3,5,12,14,19,33,62,63,97,108,158,147,263,186,265,218,223,242,348,413,8,2,3,5]
["P4190920",4288,1552,2736,4,3,2,6,3,12,12,35,20,50,30,96,46,118,116,228,160,341,196,382,265,393,230,369,230,313,238,390,3,11,3,8]
["P4190930",2392,1285,1107,0,0,0,0,0,0,2,0,2,6,11,11,13,20,57,44,87,89,143,120,240,158,243,196,210,173,277,290,3,4,2,2]
["P4190940",2745,1438,1307,0,0,0,0,0,0,4,2,3,6,10,15,17,28,63,57,109,106,178,143,245,192,265,214,235,202,309,342,6,5,3,6]
["P4190950",15765,5733,10032,8,10,9,16,31,72,40,129,82,189,156,342,264,582,473,1049,682,1412,888,1557,993,1612,894,1321,660,907,553,834,10,23,8,13]
["P4190960",7077,2681,4396,7,5,4,12,9,32,35,86,56,118,103,196,165,308,277,523,369,715,525,656,416,574,309,454,201,414,205,303,6,12,7,8]
["P4190970",55,31,24,0,0,0,0,0,0,0,0,0,0,1,0,0,0,3,2,1,6,5,3,4,4,5,4,8,3,4,2,1,1,0,0]
["P4200100",6597,2625,3972,{"$nulls":26},2625,3972,18,31,5,5]
["P4200200",2315,847,1468,{"$nulls":26},847,1468,5,7,6,6]
["P4200300",10174,3715,6459,6,4,5,11,8,42,36,91,54,130,91,231,152,355,276,623,420,881,570,1001,629,986,561,843,475,625,432,636,22,40,14,25]
["P4200400",3286,1267,2019,2,0,0,6,3,5,7,11,8,25,21,51,46,71,86,126,118,185,170,225,219,277,207,327,181,278,199,432,13,16,3,5]
["P4200500",20847,5703,15144,38,42,54,141,88,265,182,466,284,760,467,1278,677,1885,985,2820,1360,3666,1568,3821,{"$nulls":8},70,257,47,130]
["P4200600",11992,4335,7657,6,5,7,5,17,33,27,81,41,110,92,218,160,362,265,619,391,922,579,1048,706,1147,698,1055,569,810,777,1242,17,30,7,14]
["P4200700",1994,777,1217,3,3,1,3,2,7,6,11,15,26,13,27,25,61,64,80,84,130,117,151,103,162,103,190,109,151,132,215,2,4,2,1]
["P4200800",348,237,111,0,0,0,0,0,2,2,3,2,1,9,2,12,3,17,10,31,14,37,16,45,21,43,12,17,12,22,15,1,0,0,1]
["P4200900",19832,7268,12564,0,1,7,7,7,19,27,48,47,94,103,214,211,386,424,897,697,1429,1004,1821,1250,2034,1251,1980,1062,1665,1178,1969,70,130,21,37]
["P4201100",1003,482,521,1,0,0,0,0,1,6,6,2,3,3,7,4,14,19,25,29,55,71,61,96,70,88,97,75,77,88,105,5,1,1,2]
["P4201200",925,450,475,0,0,0,0,0,1,1,2,1,18,4,7,4,8,22,17,25,42,64,62,97,70,84,84,74,78,74,86,2,3,0,1]
["P4201500",12787,4888,7899,14,23,41,43,34,101,75,141,155,316,273,535,501,915,862,1415,1292,2044,1641,2366,{"$nulls":8},59,164,53,96]
["P4201600",13390,5546,7844,{"$nulls":20},1514,2178,1500,2043,1250,1709,1282,1914,76,129,19,34]
["P4201700",11797,3298,8499,{"$nulls":20},1108,2877,927,2361,683,1666,580,1595,61,159,13,25]
["P4301010",30304,11122,19182,10,9,17,21,24,57,78,153,131,261,208,522,378,913,731,1626,1097,2301,1490,2655,1681,2700,1809,2576,1554,2275,1914,3113,24,56,27,52]
["P5180100",8969,3796,5173,1085,1658,1092,1556,899,1062,720,897,4,20,6,15]
["P5180200",7254,2869,4385,748,1321,794,1261,643,957,684,846,14,20,5,23]
["P5190200",2802,1140,1662,185,242,240,305,248,313,467,802,0,0,2,2]
["P5190300",8127,3591,4536,730,901,804,1009,844,922,1213,1704,3,5,2,4]
["P5190400",6556,2686,3870,704,1001,734,1010,615,792,633,1067,2,9,4,6]
["P5200100",5445,1577,3868,497,1272,470,1028,305,803,305,765,4,6,3,6]
["P5300100",2150,741,1409,81,129,111,206,134,271,415,803,1,3,1,3]
["P5300200",778,285,493,27,33,40,35,51,83,167,342,0,0,2,4]
["P5300400",67,25,42,7,14,6,12,5,9,7,7]
["P5300500",2857,1287,1570,358,502,375,493,301,304,253,271]
["P5300510",2939,1026,1913,145,239,163,307,219,375,499,992,3,3,6,8]
["P5300520",889,266,623,27,31,35,46,38,79,166,467,0,0,1,2]
["P5300530",1033,329,704,34,47,41,46,62,89,192,522,0,0,0,0]
["P5300540",5768,2323,3445,680,1215,721,1083,545,685,377,462]
["P5300550",2361,870,1491,169,353,215,401,203,329,283,408]
["P5300560",826,277,549,40,71,43,91,49,106,145,281]
["P5300570",3827,963,2864,171,664,196,678,226,699,221,456,149,367,2,2,0,0]
["P5300580",1570,406,1164,0,1,81,276,106,320,100,286,119,281,1,1,0,0]
["P5300590",464,124,340,0,0,10,24,22,57,23,78,69,181,1,0,0,0]
["P5300600",3428,2220,715,661,487]
["P5400100",6611,2786,3825,891,1396,840,1162,615,780,440,487]
["P5400200",4204,1542,2662,267,568,353,629,369,565,553,900]
["P6221000",30241,8877,21364,128,103,1306,894,1162,1337,916,1780,561,1400,497,1359,479,1364,467,1286,415,1330,419,1469,406,1581,424,1693,405,1533,417,1356,310,1139,254,792,311,948,235,963,35,87,38,135,525,1632]
["P6221100",1043,134,909,2,4,32,16,20,43,26,61,10,70,8,92,3,76,3,74,5,72,2,79,6,78,2,70,6,54,6,39,1,47,0,20,2,14,16,87,1,4,0,8,50,17]
["P6221200",284,215,69,0,0,0,0,0,1,4,1,12,5,29,12,27,8,26,8,28,8,22,13,23,6,9,1,14,2,12,1,4,3,2,0,3,0,3,5,1,1,0,0,2,3]
["P6221500",214,27,187,0,1,15,8,4,21,5,63,0,20,1,12,0,16,1,12,0,12,0,4,0,2,1,5,0,5,0,2,0,3,0,0,0,1,1,5,0,0,1,4,26,25]
["P6221600",2639,458,2181,0,0,9,9,28,79,60,186,30,164,32,123,22,118,19,106,17,117,20,142,20,168,37,193,31,190,39,195,38,145,24,119,32,127,46,100,6,9,4,16,18,103]
["P6221700",79,null,79,{"$nulls":5},1,null,3,null,13,null,24,null,22,null,10,null,4,null,2,null,0,null,0,{"$nulls":11},38,null,0,null,2,0,2]
["P6221800",275,68,207,0,0,0,0,0,2,6,7,6,16,7,20,5,17,7,18,7,18,6,30,8,11,5,21,6,24,1,8,2,11,2,2,0,2,0,12,1,1,0,2,2,6]
["P6221900",538,408,130,0,0,0,0,2,0,6,2,14,6,29,12,25,13,44,12,42,17,67,14,52,20,46,11,35,11,24,8,11,1,8,3,3,0,0,4,1,0,0,0,1,17]
["P6222000",361,240,121,0,0,0,0,1,1,32,7,25,11,26,12,42,8,27,9,22,13,22,11,9,6,8,13,15,7,3,5,2,7,2,4,4,7,1,4,1,0,0,0,4,10]
["P6222100",350,238,112,0,0,0,0,1,1,19,13,26,11,32,13,45,18,34,16,27,20,19,8,16,6,13,5,2,1,4,0,0,0,0,0,0,0,0,10,0,0,0,0,4,7]
["P6222300",196,77,119,1,0,0,0,0,3,1,0,0,0,0,1,0,0,0,0,0,0,0,1,2,4,3,1,7,5,6,5,14,13,12,25,31,61,null,null,0,0,1,1,0,6]
["P6222400",319,176,143,0,0,0,0,0,6,11,12,15,4,18,7,17,5,12,4,16,12,23,14,18,20,15,8,11,18,11,11,5,7,2,11,2,4,0,0,0,0,0,0,0,9]
["P6222500",166,22,144,1,0,4,4,1,27,9,49,4,19,1,9,0,7,0,7,1,7,1,3,0,5,0,2,0,3,0,1,0,1,0,0,0,0,0,4,0,0,0,2,3,6]
["P6222600",1134,812,322,15,4,337,148,352,115,96,50,10,4,2,0,0,0,0,0,0,1,0,0,0,0,0,0,0,0,0,0,0,0,0,0,0,0,0,null,4,0,1,1,44,135]
["P6222800",290,141,149,0,1,8,4,13,14,12,10,14,14,8,15,15,16,16,9,14,15,8,13,16,10,8,11,6,7,2,5,1,2,0,0,0,3,1,6,2,0,1,0,4,13]
["P6222900",1260,299,961,0,0,0,0,6,12,34,74,45,60,31,73,29,75,21,58,15,84,25,94,20,104,20,105,16,91,22,54,5,33,9,24,1,20,2,37,2,10,0,2,20,73]
["P6223060",173,112,61,5,1,55,25,36,28,14,6,1,0,0,0,0,0,0,0,0,1,0,0,0,0,0,0,0,0,0,0,1,0,0,0,0,0,0,null,1,0,0,1,17,8]
["P6223070",105,49,56,0,6,28,32,21,18,{"$nulls":28},0,null,0,0,0,0,4,7]
["P6223080",2122,1043,1079,41,21,464,348,366,439,167,261,5,10,{"$nulls":24},0,null,6,3,3,6,172,264]
["P6223090",4137,1622,2515,13,2,146,58,176,213,185,303,178,173,148,154,140,159,122,160,79,170,107,212,65,241,105,220,66,148,44,123,16,74,14,56,18,49,18,101,7,12,5,12,90,734]
["P6223100",243,31,212,0,1,6,2,5,12,12,25,4,13,0,11,0,9,0,15,1,7,1,59,0,24,1,19,1,8,0,3,0,3,0,1,0,0,1,15,0,1,0,2,20,23]
["P6223110",49,29,20,0,0,0,0,0,0,2,0,2,1,2,7,3,1,3,3,3,1,2,4,2,0,4,0,2,2,1,1,1,0,2,0,0,0,1,2,1,0,0,0,2,13]
["P6223140",73,9,64,0,0,0,2,2,10,3,20,2,8,1,5,0,4,0,6,0,3,0,4,0,1,0,0,0,0,1,0,0,1,0,0,0,0,1,6,0,0,1,0,11,21]
["P6223170",3402,1329,2073,7,2,131,49,163,154,166,245,123,144,106,132,101,129,97,128,67,139,90,178,55,196,89,182,48,127,40,104,15,66,14,49,17,49,17,95,7,12,5,12,87,721]
["P6223180",545,108,437,0,0,1,0,1,5,9,13,6,20,4,21,5,21,6,26,2,40,9,43,8,50,16,64,13,40,10,49,7,20,4,17,7,8,1,2,0,0,0,1,4,63]
["P6223190",313,53,260,0,0,0,6,3,11,15,35,7,13,8,16,0,16,3,18,2,21,3,24,2,25,2,27,4,18,2,11,2,6,0,4,0,9,1,22,0,2,0,0,2,14]
["P6223200",216,62,154,0,0,0,0,5,21,12,50,12,12,7,8,3,6,3,8,3,8,3,10,2,14,4,3,3,4,4,5,0,2,1,2,0,1,0,3,0,1,0,0,8,24]
["P6223210",5,null,5,{"$nulls":5},0,null,0,null,0,null,0,null,4,null,0,null,1,null,0,null,0,null,0,{"$nulls":11},2,null,0,null,0,0,0]
["P6223220",557,134,423,0,0,0,0,2,4,9,10,19,26,10,22,14,46,15,38,9,34,15,54,10,50,14,54,5,28,8,25,1,19,0,8,3,5,2,7,0,0,2,1,1,97]
["P6223230",71,46,25,0,0,0,0,0,0,1,0,1,2,1,0,3,1,4,2,3,2,5,6,8,3,11,5,4,1,3,2,2,1,0,0,0,0,0,1,1,0,0,0,0,21]
["P6223240",103,67,36,0,0,0,0,0,0,4,1,18,8,12,3,9,7,8,8,6,2,3,1,5,2,1,2,1,1,0,1,0,0,0,0,0,0,1,1,0,0,0,0,0,23]
["P6223250",105,65,40,0,0,0,0,2,0,5,1,9,6,10,6,8,1,10,6,6,10,6,3,2,3,6,4,1,0,0,0,0,0,0,0,0,0,1,1,0,0,1,0,3,31]
["P6223260",148,123,25,0,1,47,12,65,9,11,3,0,0,0,0,0,0,0,0,0,0,0,0,0,0,0,0,0,0,0,0,0,0,0,0,0,0,0,null,1,0,0,0,15,32]
["P6223270",14,11,3,0,0,2,0,7,3,2,0,0,0,0,0,0,0,0,0,0,0,0,0,0,0,0,0,0,0,0,0,0,0,0,0,0,0,0,null,0,0,0,0,6,0]
["P6223280",3,1,2,0,1,1,1,0,0,{"$nulls":28},0,null,0,0,0,0,0,1]
["P6223290",246,113,133,1,1,39,21,40,62,32,48,1,1,{"$nulls":24},0,null,0,0,0,0,24,36]
["P6223310",12,3,9,0,0,0,0,0,0,0,0,0,0,0,1,0,0,0,0,0,0,1,1,0,1,1,0,0,0,0,0,0,2,1,0,0,4,null,null,0,0,0,0,0,2]
["P6223330",843,566,277,0,0,0,0,0,3,10,6,78,13,84,21,72,27,72,21,54,20,65,27,38,30,47,37,19,31,17,17,2,8,7,11,1,5,1,1,0,0,0,1,1,184]
["P6223340",12,10,2,0,0,0,0,0,0,2,0,1,0,7,0,0,0,0,1,0,0,0,0,0,0,0,1,0,0,0,0,0,0,0,0,0,0,0,0,0,0,0,0,0,7]
["P6223350",52,7,45,0,0,1,4,1,8,4,14,0,8,0,3,0,2,0,3,0,1,0,0,1,1,0,0,0,0,0,0,0,0,0,1,0,0,1,1,0,0,0,0,0,6]
["P6223360",176,104,72,0,0,4,1,7,7,10,6,18,7,8,4,13,6,10,3,5,7,7,6,10,6,2,5,5,4,3,7,2,1,0,2,0,0,0,0,1,0,0,0,3,19]
["P6223370",701,144,557,0,0,1,4,4,11,10,47,14,49,16,41,15,44,20,40,11,35,15,65,11,58,16,64,6,35,3,31,2,19,0,10,0,4,5,6,0,1,0,2,11,134]
["P6227400",10,10,0,0,0,0,0,1,0,1,0,5,0,1,0,0,0,0,0,0,0,0,0,0,0,0,0,1,0,0,0,0,0,0,0,1,0,0,0,0,0,0,0,0,1]
["P6227500",5350,851,4499,1,0,4,4,25,108,110,258,85,217,51,237,37,226,45,258,39,311,40,338,60,452,73,502,72,454,71,394,66,325,30,191,42,224,32,169,3,16,9,19,23,147]
["P6227600",831,199,632,0,0,5,5,14,51,42,92,17,33,9,38,9,38,9,28,13,46,12,42,16,54,11,67,12,57,11,41,11,23,5,12,3,5,4,14,0,5,2,9,12,47]
["P6227601",29663,8675,20988,125,101,1300,875,1147,1323,897,1737,549,1367,476,1310,457,1332,448,1257,394,1292,405,1432,395,1567,412,1668,397,1518,407,1350,307,1127,250,781,309,951,208,854,35,81,37,132,514,1360]
["P6227602",5338,1626,3712,44,54,265,206,168,242,146,305,88,265,92,242,83,236,112,209,62,199,54,205,65,225,66,274,65,215,92,225,77,212,64,191,83,207,54,185,1,13,7,30,94,211]
["P6227603",716,288,428,2,1,8,7,15,23,19,35,38,36,25,20,32,29,24,31,14,34,22,35,14,48,27,28,17,42,12,26,6,13,5,9,8,11,1,19,0,2,0,1,9,101]
["P6230100",243,85,158,0,0,0,0,0,0,0,0,0,0,0,1,0,0,0,0,0,0,0,2,1,0,1,1,0,5,12,10,8,14,19,17,44,108,null,null,0,1,0,0,0,17]
["P6230200",75,30,45,0,0,0,0,0,0,0,0,0,1,2,1,0,0,0,2,1,0,0,0,1,0,1,1,2,0,3,1,5,4,4,6,11,29,null,null,0,0,0,0,0,12]
["P6230300",912,367,545,75,72,109,76,98,144,69,191,16,62,27,55]
["P6230400",60,19,41,0,0,0,0,0,0,0,0,0,0,1,0,0,0,0,0,0,1,0,0,2,0,2,2,0,2,2,5,4,8,4,5,4,18,null,null,0,1,0,0,0,6]
["P6230500",7,2,5,0,0,0,0,0,0,0,0,0,0,0,0,0,0,0,0,0,0,0,0,0,0,1,0,0,0,1,3,0,2,0,0,0,0,null,null,0,0,0,0,0,0]
["P6230800",515,138,377,0,0,0,1,6,40,41,65,16,40,11,24,5,27,6,27,5,20,4,19,7,31,9,23,11,20,5,18,9,9,0,8,3,5,0,21,0,2,1,1,12,76]
["P6230900",324,89,235,0,0,0,0,1,12,16,50,13,30,10,22,10,14,4,16,3,18,7,25,5,18,5,17,4,7,3,2,3,1,3,3,2,0,1,20,0,0,0,1,5,24]
["P6231000",384,116,268,1,0,36,35,9,18,18,33,4,24,3,23,2,11,10,11,1,20,5,19,4,16,2,17,7,14,7,11,4,7,2,3,1,6,0,6,0,0,0,2,10,32]
["P6231100",220,45,175,0,0,1,1,1,6,10,8,6,8,6,16,3,18,5,20,3,23,1,23,2,16,1,8,1,10,2,7,2,4,0,4,1,3,3,7,0,1,0,2,0,4]
["P6231200",977,195,782,0,0,1,4,10,35,14,83,22,71,18,70,23,78,12,73,16,65,17,63,13,54,24,55,10,49,6,34,6,22,2,14,1,12,3,43,0,2,5,4,5,18]
["P6231300",63,22,41,0,0,0,1,1,2,3,10,4,5,2,1,9,10,2,3,0,2,0,2,0,2,0,1,0,1,0,0,0,0,0,0,1,1,0,0,0,0,0,0,1,3]
["P6231400",1938,433,1505,1,1,9,10,26,38,40,92,40,97,27,90,31,142,36,104,28,103,24,131,25,125,30,118,27,111,39,116,11,104,19,74,20,49,7,43,3,7,4,8,7,31]
["P6231500",7023,1476,5547,0,2,74,98,101,196,163,405,127,420,104,413,81,417,89,413,97,382,89,436,75,427,91,469,107,422,90,362,69,320,62,188,57,177,98,336,9,31,4,42,51,138]
["P6231600",212,106,106,0,0,3,4,12,9,7,10,8,5,7,6,9,9,6,5,6,6,10,11,11,10,12,10,4,4,6,9,0,2,2,3,3,3,0,0,0,0,1,1,2,7]
["P6231900",76,17,59,0,0,0,0,3,7,2,14,4,4,2,8,0,4,0,3,0,3,3,8,1,1,0,2,0,2,2,2,0,0,0,1,0,0,0,5,0,0,0,0,2,22]
["P6232000",103,21,82,0,0,0,0,0,9,5,31,2,9,1,6,3,6,3,1,2,3,2,7,0,6,1,2,0,1,1,1,0,0,0,0,1,0,0,2,0,0,0,0,7,23]
["P6232100",92,20,72,0,0,0,1,1,8,3,9,2,6,2,6,3,2,1,3,1,7,1,9,0,4,4,7,0,3,2,3,0,4,0,0,0,0,0,4,0,0,0,1,4,11]
["P6232200",36,9,27,0,0,0,0,0,0,1,1,1,1,0,0,0,1,0,2,1,5,1,3,1,5,1,2,2,3,0,3,1,0,0,1,0,0,1,2,0,0,0,0,0,21]
["P6232300",37,7,30,0,0,0,0,0,2,2,1,1,3,0,1,0,4,1,4,0,2,1,5,0,5,1,2,0,0,1,0,0,1,0,0,0,0,0,4,0,0,1,0,0,7]
["P6232400",9,6,3,0,0,0,0,0,1,2,0,1,1,3,0,0,0,0,0,0,1,0,0,0,0,0,0,0,0,0,0,0,0,0,0,0,0,0,0,0,0,0,0,0,2]
["P6232500",161,48,113,0,0,0,0,4,5,2,13,5,7,7,4,11,6,2,7,3,10,5,13,1,11,2,6,2,14,2,5,0,7,1,4,1,1,0,2,1,0,0,1,1,16]
["P6232600",389,93,296,0,0,5,10,7,10,16,21,13,23,7,28,5,26,6,20,4,15,3,30,3,35,6,22,9,21,4,13,0,9,0,10,5,3,1,39,2,5,0,4,5,32]
["P6232700",28,14,14,0,0,0,1,1,0,0,1,2,0,1,1,2,1,0,0,3,2,2,0,1,3,1,4,0,0,0,1,0,0,0,0,1,0,0,0,0,0,0,0,0,0]
["P6241010",268,206,62,17,13,89,29,57,16,31,4,1,0,5,0,1,0,0,0,4,0,1,0,0,0,0,0,0,0,0,0,0,0,0,0,0,0,0,0,0,0,2,0,8,32]
["P6241020",92,77,15,1,0,24,6,22,3,14,5,8,1,5,0,2,0,1,0,0,0,0,0,0,0,0,0,0,0,0,0,0,0,0,0,0,0,0,0,3,0,0,0,2,10]
["P6241030",1,1,0,null,null,1,{"$nulls":31},0,0,0,0,0,0,0,0]
["P6241040",7,3,4,{"$nulls":5},1,1,{"$nulls":7},2,{"$nulls":6},1,null,1,{"$nulls":9},1,0,0,0,0,0,0,0,0]
["P6241050",94,60,34,2,0,21,4,21,4,7,9,1,3,1,2,3,1,1,1,1,1,0,1,1,5,0,0,0,1,1,1,0,1,0,0,0,0,0,0,0,0,0,0,1,8]
["P6241060",111,97,14,8,0,32,6,23,5,13,2,12,1,5,0,3,0,1,0,0,0,0,0,0,0,0,0,0,0,0,0,0,0,0,0,0,0,0,0,0,0,0,0,3,15]
["P6241070",15,14,1,0,0,3,0,5,0,3,1,2,0,1,0,0,0,0,0,0,0,0,0,0,0,0,0,0,0,0,0,0,0,0,0,0,0,0,0,1,0,0,0,0,5]
["P6241100",58,51,7,3,0,22,6,15,0,10,0,0,1,1,0,0,0,0,0,0,0,0,0,0,0,0,0,0,0,0,0,0,0,0,0,0,0,0,0,0,0,0,0,0,9]
["P7010100",104992,49096,40407,15489,0,0,0,0,0]
["P7010200",15372,8699,4922,1751,0,0,0,0,0]
["P7010300",9672,6310,2353,1009,0,0,0,0,0]
["P7010400",63064,52315,10665,70,8,6,0,0,0]
["P7010500",13303,12020,1256,27,0,0,0,0,0]
["P7010600",9591,8741,831,19,0,0,0,0,0]
["P7200100",3423,1675,1207,541,0,0,0,0,0]
["P7200200",1278,632,461,185,0,0,0,0,0]
["P7200300",2160,1847,308,5,0,0,0,0,0]
["P7200400",999,916,80,3,0,0,0,0,0]
["P7200500",9512,5564,2521,1427,0,0,0,0,0]
["P7200700",1834,835,703,296,0,0,0,0,0]
["P7200800",1086,478,453,155,0,0,0,0,0]
["P7200900",399,204,108,87]
["P7201000",180,85,75,20,0,0,0,0,0]
["P7201100",102,64,32,6]
["P7201300",8985,7921,750,314,0,0,0,0,0]
["P7201400",1700,1249,326,125,0,0,0,0,0]
["P7201500",655,514,130,11,0,0,0,0,0]
["P9100100",7300,2865,4435,3939,1780,2159,3361,1085,2276,354,147,207,109,42,67]
["P9100110",376,193,183,245,141,104,131,52,79,11,7,4,1,1,0]
["P9100120",1403,630,773,920,480,440,483,150,333,88,33,55,28,6,22]
["P9100130",1959,758,1201,1123,513,610,836,245,591,108,47,61,35,14,21]
["P9100140",242,129,113,127,63,64,115,66,49,13,9,4,6,5,1]
["P9100150",30,17,13,21,11,10,9,6,3,1,1,0,1,0,1]
["P9100160",2979,1088,1891,1425,555,870,1554,533,1021,118,46,72,42,17,25]
["P9100170",138,84,54,115,73,42,23,11,12,7,6,1,4,1,3]
["P9100180",602,319,283,462,259,203,140,60,80,36,21,15,9,4,5]
["P9100190",868,268,600,376,136,240,492,132,360,46,13,33,21,6,15]
["P9100200",157,51,106,61,22,39,96,29,67,8,3,5,0,0,0]
["P9100210",3828,1498,2330,2112,968,1144,1716,530,1186,181,74,107,45,20,25]
["P9100220",2773,960,1813,1352,528,824,1421,432,989,146,56,90,50,21,29]
["P9100230",1299,512,787,756,361,395,543,151,392,75,34,41,17,6,11]
["P9100240",1306,626,680,960,501,459,346,125,221,61,27,34,9,3,6]
["P9100250",238,131,107,127,67,60,111,64,47,12,9,3,5,4,1]
["P9100260",28,15,13,19,9,10,9,6,3,0,0,0,0,0,0]
["P9100270",1966,749,1217,1128,505,623,838,244,594,109,48,61,33,13,20]
["P9100280",1438,643,795,953,491,462,485,152,333,86,34,52,28,6,22]
["P9100290",346,171,175,225,126,99,121,45,76,12,7,5,1,1,0]
["P9100300",2943,1068,1875,1411,550,861,1532,518,1014,124,45,79,44,17,27]
["P9100310",1,1,0,1,1,0,0,0,0,1,1,0,0,0,0]
["P9100320",6865,2612,4253,3538,1526,2012,3327,1086,2241,321,131,190,105,40,65]
["P9100330",79,29,50,46,12,34,33,17,16,0,0,0,1,1,0]
["P9100340",20,14,6,20,14,6,0,null,null,2,0,2,2,1,1]
["P9100350",213,91,122,0,null,null,213,91,122,11,3,8,6,2,4]
["P9100370",3,1,2,0,0,0,3,1,2,0,0,0,0,0,0]
["P9100380",1645,396,1249,360,69,291,1285,327,958,26,11,15,17,5,12]
["P9100390",267,61,206,154,31,123,113,30,83,10,1,9,5,0,5]
["P9100400",104,20,84,68,14,54,36,6,30,11,0,11,5,1,4]
["P9100410",484,198,286,96,49,47,388,149,239,21,7,14,8,3,5]
["P9100420",3584,1530,2054,2095,1011,1084,1489,519,970,175,84,91,63,21,42]
["P9100430",1717,683,1034,1145,499,646,572,184,388,80,36,44,33,10,23]
["P9100440",4970,2215,2755,3476,1606,1870,1494,609,885,258,120,138,75,30,45]
["P9100450",545,224,321,74,32,42,471,192,279,14,6,8,7,4,3]
["P9100460",1435,379,1056,94,25,69,1341,354,987,59,14,45,16,4,12]
["P9100470",1236,131,1105,98,9,89,1138,122,1016,38,3,35,10,2,8]
["P9100480",551,105,446,29,8,21,522,97,425,18,3,15,1,0,1]
["P9100490",50,0,50,4,0,4,46,0,46,1,0,1,1,0,1]
["P9100500",6,0,6,0,0,0,6,0,6,0,0,0,0,0,0]
["P9100510",13,0,13,2,0,2,11,0,11,0,0,0,0,0,0]
["P9100520",35,4,31,6,3,3,29,1,28,1,0,1,0,0,0]
["P9100530",88,6,82,23,2,21,65,4,61,2,0,2,1,0,1]
["P9100570",2271,1016,1255,111,51,60,53,23,30,278,99,179]
["P9100580",2834,901,1933,161,25,136,33,12,21,1883,646,1237]
["P9100590",2509,1105,1404,117,59,58,69,33,36,293,108,185]
["P9100600",3352,1008,2344,164,30,134,46,11,35,1935,660,1275]
["P9100610",964,436,528,20,8,12,16,10,6,136,38,98]
["P9100620",1144,378,766,27,6,21,12,2,10,848,260,588]
["P9100630",953,422,531,17,8,9,16,10,6,182,69,113]
["P9100640",1610,512,1098,22,8,14,9,2,7,1229,344,885]
["P9100650",1309,502,807,73,27,46,29,14,15,245,93,152]
["P9100660",2494,498,1996,210,9,201,16,1,15,1538,372,1166]
["P9100670",912,309,603,40,9,31,18,8,10,185,53,132]
["P9100680",2789,384,2405,207,6,201,19,3,16,1444,292,1152]
["P9100690",936,344,592,51,10,41,18,10,8,262,86,176]
["P9100700",2568,479,2089,186,7,179,15,4,11,1946,403,1543]
["Total general",1956041,684686,890978,99652,63670,76156,82865,39096,53092,36311,33547,18814,17691,10506,24060,17262,32760,26074,52746,36675,73165,45933,81658,55687,88331,49904,79886,42918,67116,53371,86068,5235,12440,5423,10414,24666,14205,2582,3360,208,317,136,474,1972,7001,0]

{"sheet":"P1","index":1,"n_rows":148,"n_cols":114,"rows_kept":148,"merged":[[5,3,5,16],[6,1,6,7],[8,1,9,2],[8,3,9,3],[8,4,8,16],[8,17,9,17],[8,18,9,18],[8,19,9,19],[10,1,10,2],[12,1,16,1],[18,1,19,1],[20,1,21,1],[22,1,22,2],[23,1,23,2],[24,1,24,2],[25,1,25,2],[26,1,26,2],[27,1,27,2],[28,1,29,1],[30,1,31,1],[32,1,32,2],[33,1,33,6],[34,1,35,1],[34,2,35,2],[34,3,35,3],[34,4,35,4],[34,5,35,5],[34,6,35,6],[47,1,48,1],[47,2,48,2],[47,3,48,3],[54,1,54,12],[55,1,56,1],[55,2,56,2],[55,3,56,3],[55,4,55,12],[57,1,61,1],[62,1,66,1],[74,1,74,5],[81,1,81,2],[83,1,84,2],[83,3,84,3],[83,4,83,8],[83,9,84,9],[83,10,84,10],[85,1,85,2],[87,1,87,2],[88,1,88,2],[89,1,89,2],[90,1,90,2],[91,1,91,2],[105,1,106,1],[105,2,106,2],[105,3,106,3],[105,4,105,12],[107,1,111,1],[113,1,113,8]]}
[]
[]
[]
[]
[]
[{"$nulls":3},"REM-P1. POBLACIÓN EN CONTROL PROGRAMA DE SALUD DE LA MUJER"]
[null,"ATENCIÓN PRIMARIA DE SALUD"]
[null,"SECCION A: POBLACIÓN EN CONTROL SEGÚN MÉTODO DE REGULACIÓN DE FERTILIDAD Y SALUD SEXUAL"]
[null,"MÉTODOS",null,"TOTAL","GRUPO DE EDAD (en años)",{"$nulls":12},"Pueblos Originarios","Población Migrantes","PV-VIH (personas viviendo con VIH)"]
[{"$nulls":4},"Menor \nde 15 años","15 a 19 años","20 a 24 años","25 a 29 años","30 a 34 años","35 a 39 años","40 a 44 años","45 a 49 años","50 a 54 años","55 a 59 años","60 a 64 años","65 a 69 años","70 y mas años"]
["P1010100","D . I . U T con Cobre",null,{"$f":"IFERROR(VLOOKUP($A11,Filtros!$A$5:$AY$22116,2,FALSE),0)","v":6504},{"$f":"IFERROR(VLOOKUP($A11,Filtros!$A$5:$AY$22116,3,FALSE),0)","v":1},{"$f":"IFERROR(VLOOKUP($A11,Filtros!$A$5:$AY$22116,4,FALSE),0)","v":64},{"$f":"IFERROR(VLOOKUP($A11,Filtros!$A$5:$AY$22116,5,FALSE),0)","v":350},{"$f":"IFERROR(VLOOKUP($A11,Filtros!$A$5:$AY$22116,6,FALSE),0)","v":1052},{"$f":"IFERROR(VLOOKUP($A11,Filtros!$A$5:$AY$22116,7,FALSE),0)","v":1228},{"$f":"IFERROR(VLOOKUP($A11,Filtros!$A$5:$AY$22116,8,FALSE),0)","v":1256},{"$f":"IFERROR(VLOOKUP($A11,Filtros!$A$5:$AY$22116,9,FALSE),0)","v":1088},{"$f":"IFERROR(VLOOKUP($A11,Filtros!$A$5:$AY$22116,10,FALSE),0)","v":872},{"$f":"IFERROR(VLOOKUP($A11,Filtros!$A$5:$AY$22116,11,FALSE),0)","v":493},{"$f":"IFERROR(VLOOKUP($A11,Filtros!$A$5:$AY$22116,12,FALSE),0)","v":100},{"$f":"IFERROR(VLOOKUP($A11,Filtros!$A$5:$AY$22116,13,FALSE),0)","v":0},{"$f":"IFERROR(VLOOKUP($A11,Filtros!$A$5:$AY$22116,14,FALSE),0)","v":0},{"$f":"IFERROR(VLOOKUP($A11,Filtros!$A$5:$AY$22116,15,FALSE),0)","v":0},{"$f":"IFERROR(VLOOKUP($A11,Filtros!$A$5:$AY$22116,16,FALSE),0)","v":105},{"$f":"IFERROR(VLOOKUP($A11,Filtros!$A$5:$AY$22116,17,FALSE),0)","v":121},{"$f":"IFERROR(VLOOKUP($A11,Filtros!$A$5:$AY$22116,18,FALSE),0)","v":3},{"$nulls":60},{"$f":"IF($R11>$D11,\"* La celda 'Pueblos Originarios' debe ser menor o igual al Total en control. \",\"\")","v":""},{"$f":"IF($S11>$D11,\"* La celda 'Población Migrantes' debe ser menor o igual al Total en control. \",\"\")","v":""},{"$f":"IF($T11>$D11,\"* La celda 'Personas Viviendo con VIH' debe ser menor o igual al Total en control. \",\"\")","v":""},{"$f":"IF(AND($D11<>0,$R11=\"\"),\"* No olvide escribir en la celda de 'Pueblos Originarios' (Digite CERO si no tiene). \",\"\")","v":""},{"$f":"IF(AND($D11<>0,$S11=\"\"),\"* No olvide escribir en la celda de 'Población Migrantes' (Digite CERO si no tiene). \",\"\")","v":""},{"$f":"IF(AND($D11<>0,$T11=\"\"),\"* No olvide escribir en la celda de 'PV-VIH' (Digite CERO si no tiene). \",\"\")","v":""},{"$nulls":20},{"$f":"IF($R11>$D11,1,0)","v":0},{"$f":"IF($S11>$D11,1,0)","v":0},{"$f":"IF($T11>$D11,1,0)","v":0},{"$f":"IF(AND($D11<>0,$R11=\"\"),1,0)","v":0},{"$f":"IF(AND($D11<>0,$S11=\"\"),1,0)","v":0},{"$f":"IF(AND($D11<>0,$T11=\"\"),1,0)","v":0}]
["P1060124","D . I . U con Levonorgestrel",null,{"$f":"IFERROR(VLOOKUP($A12,Filtros!$A$5:$AY$22116,2,FALSE),0)","v":498},{"$f":"IFERROR(VLOOKUP($A12,Filtros!$A$5:$AY$22116,3,FALSE),0)","v":0},{"$f":"IFERROR(VLOOKUP($A12,Filtros!$A$5:$AY$22116,4,FALSE),0)","v":19},{"$f":"IFERROR(VLOOKUP($A12,Filtros!$A$5:$AY$22116,5,FALSE),0)","v":49},{"$f":"IFERROR(VLOOKUP($A12,Filtros!$A$5:$AY$22116,6,FALSE),0)","v":131},{"$f":"IFERROR(VLOOKUP($A12,Filtros!$A$5:$AY$22116,7,FALSE),0)","v":138},{"$f":"IFERROR(VLOOKUP($A12,Filtros!$A$5:$AY$22116,8,FALSE),0)","v":77},{"$f":"IFERROR(VLOOKUP($A12,Filtros!$A$5:$AY$22116,9,FALSE),0)","v":57},{"$f":"IFERROR(VLOOKUP($A12,Filtros!$A$5:$AY$22116,10,FALSE),0)","v":20},{"$f":"IFERROR(VLOOKUP($A12,Filtros!$A$5:$AY$22116,11,FALSE),0)","v":7},{"$f":"IFERROR(VLOOKUP($A12,Filtros!$A$5:$AY$22116,12,FALSE),0)","v":0},{"$f":"IFERROR(VLOOKUP($A12,Filtros!$A$5:$AY$22116,13,FALSE),0)","v":0},{"$f":"IFERROR(VLOOKUP($A12,Filtros!$A$5:$AY$22116,14,FALSE),0)","v":0},{"$f":"IFERROR(VLOOKUP($A12,Filtros!$A$5:$AY$22116,15,FALSE),0)","v":0},{"$f":"IFERROR(VLOOKUP($A12,Filtros!$A$5:$AY$22116,16,FALSE),0)","v":9},{"$f":"IFERROR(VLOOKUP($A12,Filtros!$A$5:$AY$22116,17,FALSE),0)","v":20},{"$f":"IFERROR(VLOOKUP($A12,Filtros!$A$5:$AY$22116,18,FALSE),0)","v":1},{"$nulls":60},"","","","","","",{"$nulls":20},0,0,0,0,0,0]
["P1010201","HORMONAL","Oral Combinado",{"$f":"IFERROR(VLOOKUP($A13,Filtros!$A$5:$AY$22116,2,FALSE),0)","v":13706},{"$f":"IFERROR(VLOOKUP($A13,Filtros!$A$5:$AY$22116,3,FALSE),0)","v":192},{"$f":"IFERROR(VLOOKUP($A13,Filtros!$A$5:$AY$22116,4,FALSE),0)","v":2300},{"$f":"IFERROR(VLOOKUP($A13,Filtros!$A$5:$AY$22116,5,FALSE),0)","v":2628},{"$f":"IFERROR(VLOOKUP($A13,Filtros!$A$5:$AY$22116,6,FALSE),0)","v":2367},{"$f":"IFERROR(VLOOKUP($A13,Filtros!$A$5:$AY$22116,7,FALSE),0)","v":2150},{"$f":"IFERROR(VLOOKUP($A13,Filtros!$A$5:$AY$22116,8,FALSE),0)","v":1794},{"$f":"IFERROR(VLOOKUP($A13,Filtros!$A$5:$AY$22116,9,FALSE),0)","v":1302},{"$f":"IFERROR(VLOOKUP($A13,Filtros!$A$5:$AY$22116,10,FALSE),0)","v":767},{"$f":"IFERROR(VLOOKUP($A13,Filtros!$A$5:$AY$22116,11,FALSE),0)","v":189},{"$f":"IFERROR(VLOOKUP($A13,Filtros!$A$5:$AY$22116,12,FALSE),0)","v":17},{"$f":"IFERROR(VLOOKUP($A13,Filtros!$A$5:$AY$22116,13,FALSE),0)","v":0},{"$f":"IFERROR(VLOOKUP($A13,Filtros!$A$5:$AY$22116,14,FALSE),0)","v":0},{"$f":"IFERROR(VLOOKUP($A13,Filtros!$A$5:$AY$22116,15,FALSE),0)","v":0},{"$f":"IFERROR(VLOOKUP($A13,Filtros!$A$5:$AY$22116,16,FALSE),0)","v":205},{"$f":"IFERROR(VLOOKUP($A13,Filtros!$A$5:$AY$22116,17,FALSE),0)","v":275},{"$f":"IFERROR(VLOOKUP($A13,Filtros!$A$5:$AY$22116,18,FALSE),0)","v":2},{"$nulls":60},"","","","","","",{"$nulls":20},0,0,0,0,0,0]
["P1010202",null,"Oral Progestágeno",{"$f":"IFERROR(VLOOKUP($A14,Filtros!$A$5:$AY$22116,2,FALSE),0)","v":4245},{"$f":"IFERROR(VLOOKUP($A14,Filtros!$A$5:$AY$22116,3,FALSE),0)","v":6},{"$f":"IFERROR(VLOOKUP($A14,Filtros!$A$5:$AY$22116,4,FALSE),0)","v":141},{"$f":"IFERROR(VLOOKUP($A14,Filtros!$A$5:$AY$22116,5,FALSE),0)","v":350},{"$f":"IFERROR(VLOOKUP($A14,Filtros!$A$5:$AY$22116,6,FALSE),0)","v":593},{"$f":"IFERROR(VLOOKUP($A14,Filtros!$A$5:$AY$22116,7,FALSE),0)","v":604},{"$f":"IFERROR(VLOOKUP($A14,Filtros!$A$5:$AY$22116,8,FALSE),0)","v":534},{"$f":"IFERROR(VLOOKUP($A14,Filtros!$A$5:$AY$22116,9,FALSE),0)","v":688},{"$f":"IFERROR(VLOOKUP($A14,Filtros!$A$5:$AY$22116,10,FALSE),0)","v":935},{"$f":"IFERROR(VLOOKUP($A14,Filtros!$A$5:$AY$22116,11,FALSE),0)","v":368},{"$f":"IFERROR(VLOOKUP($A14,Filtros!$A$5:$AY$22116,12,FALSE),0)","v":26},{"$f":"IFERROR(VLOOKUP($A14,Filtros!$A$5:$AY$22116,13,FALSE),0)","v":0},{"$f":"IFERROR(VLOOKUP($A14,Filtros!$A$5:$AY$22116,14,FALSE),0)","v":0},{"$f":"IFERROR(VLOOKUP($A14,Filtros!$A$5:$AY$22116,15,FALSE),0)","v":0},{"$f":"IFERROR(VLOOKUP($A14,Filtros!$A$5:$AY$22116,16,FALSE),0)","v":37},{"$f":"IFERROR(VLOOKUP($A14,Filtros!$A$5:$AY$22116,17,FALSE),0)","v":114},{"$f":"IFERROR(VLOOKUP($A14,Filtros!$A$5:$AY$22116,18,FALSE),0)","v":0},{"$nulls":60},"","","","","","",{"$nulls":20},0,0,0,0,0,0]
["P1010203",null,"Inyectable Combinado",{"$f":"IFERROR(VLOOKUP($A15,Filtros!$A$5:$AY$22116,2,FALSE),0)","v":6524},{"$f":"IFERROR(VLOOKUP($A15,Filtros!$A$5:$AY$22116,3,FALSE),0)","v":74},{"$f":"IFERROR(VLOOKUP($A15,Filtros!$A$5:$AY$22116,4,FALSE),0)","v":1142},{"$f":"IFERROR(VLOOKUP($A15,Filtros!$A$5:$AY$22116,5,FALSE),0)","v":1514},{"$f":"IFERROR(VLOOKUP($A15,Filtros!$A$5:$AY$22116,6,FALSE),0)","v":1393},{"$f":"IFERROR(VLOOKUP($A15,Filtros!$A$5:$AY$22116,7,FALSE),0)","v":1027},{"$f":"IFERROR(VLOOKUP($A15,Filtros!$A$5:$AY$22116,8,FALSE),0)","v":687},{"$f":"IFERROR(VLOOKUP($A15,Filtros!$A$5:$AY$22116,9,FALSE),0)","v":423},{"$f":"IFERROR(VLOOKUP($A15,Filtros!$A$5:$AY$22116,10,FALSE),0)","v":221},{"$f":"IFERROR(VLOOKUP($A15,Filtros!$A$5:$AY$22116,11,FALSE),0)","v":40},{"$f":"IFERROR(VLOOKUP($A15,Filtros!$A$5:$AY$22116,12,FALSE),0)","v":3},{"$f":"IFERROR(VLOOKUP($A15,Filtros!$A$5:$AY$22116,13,FALSE),0)","v":0},{"$f":"IFERROR(VLOOKUP($A15,Filtros!$A$5:$AY$22116,14,FALSE),0)","v":0},{"$f":"IFERROR(VLOOKUP($A15,Filtros!$A$5:$AY$22116,15,FALSE),0)","v":0},{"$f":"IFERROR(VLOOKUP($A15,Filtros!$A$5:$AY$22116,16,FALSE),0)","v":105},{"$f":"IFERROR(VLOOKUP($A15,Filtros!$A$5:$AY$22116,17,FALSE),0)","v":185},{"$f":"IFERROR(VLOOKUP($A15,Filtros!$A$5:$AY$22116,18,FALSE),0)","v":1},{"$nulls":60},"","","","","","",{"$nulls":20},0,0,0,0,0,0]
["P1040508",null,"Inyectable Progestágeno",{"$f":"IFERROR(VLOOKUP($A16,Filtros!$A$5:$AY$22116,2,FALSE),0)","v":10072},{"$f":"IFERROR(VLOOKUP($A16,Filtros!$A$5:$AY$22116,3,FALSE),0)","v":78},{"$f":"IFERROR(VLOOKUP($A16,Filtros!$A$5:$AY$22116,4,FALSE),0)","v":1096},{"$f":"IFERROR(VLOOKUP($A16,Filtros!$A$5:$AY$22116,5,FALSE),0)","v":1856},{"$f":"IFERROR(VLOOKUP($A16,Filtros!$A$5:$AY$22116,6,FALSE),0)","v":2160},{"$f":"IFERROR(VLOOKUP($A16,Filtros!$A$5:$AY$22116,7,FALSE),0)","v":1719},{"$f":"IFERROR(VLOOKUP($A16,Filtros!$A$5:$AY$22116,8,FALSE),0)","v":1229},{"$f":"IFERROR(VLOOKUP($A16,Filtros!$A$5:$AY$22116,9,FALSE),0)","v":910},{"$f":"IFERROR(VLOOKUP($A16,Filtros!$A$5:$AY$22116,10,FALSE),0)","v":767},{"$f":"IFERROR(VLOOKUP($A16,Filtros!$A$5:$AY$22116,11,FALSE),0)","v":248},{"$f":"IFERROR(VLOOKUP($A16,Filtros!$A$5:$AY$22116,12,FALSE),0)","v":9},{"$f":"IFERROR(VLOOKUP($A16,Filtros!$A$5:$AY$22116,13,FALSE),0)","v":0},{"$f":"IFERROR(VLOOKUP($A16,Filtros!$A$5:$AY$22116,14,FALSE),0)","v":0},{"$f":"IFERROR(VLOOKUP($A16,Filtros!$A$5:$AY$22116,15,FALSE),0)","v":0},{"$f":"IFERROR(VLOOKUP($A16,Filtros!$A$5:$AY$22116,16,FALSE),0)","v":169},{"$f":"IFERROR(VLOOKUP($A16,Filtros!$A$5:$AY$22116,17,FALSE),0)","v":597},{"$f":"IFERROR(VLOOKUP($A16,Filtros!$A$5:$AY$22116,18,FALSE),0)","v":5},{"$nulls":60},"","","","","","",{"$nulls":20},0,0,0,0,0,0]
["P1040500",null,"Implante Etonogestrel (3 años)",{"$f":"IFERROR(VLOOKUP($A17,Filtros!$A$5:$AY$22116,2,FALSE),0)","v":8454},{"$f":"IFERROR(VLOOKUP($A17,Filtros!$A$5:$AY$22116,3,FALSE),0)","v":131},{"$f":"IFERROR(VLOOKUP($A17,Filtros!$A$5:$AY$22116,4,FALSE),0)","v":1717},{"$f":"IFERROR(VLOOKUP($A17,Filtros!$A$5:$AY$22116,5,FALSE),0)","v":2177},{"$f":"IFERROR(VLOOKUP($A17,Filtros!$A$5:$AY$22116,6,FALSE),0)","v":1829},{"$f":"IFERROR(VLOOKUP($A17,Filtros!$A$5:$AY$22116,7,FALSE),0)","v":1306},{"$f":"IFERROR(VLOOKUP($A17,Filtros!$A$5:$AY$22116,8,FALSE),0)","v":755},{"$f":"IFERROR(VLOOKUP($A17,Filtros!$A$5:$AY$22116,9,FALSE),0)","v":378},{"$f":"IFERROR(VLOOKUP($A17,Filtros!$A$5:$AY$22116,10,FALSE),0)","v":145},{"$f":"IFERROR(VLOOKUP($A17,Filtros!$A$5:$AY$22116,11,FALSE),0)","v":15},{"$f":"IFERROR(VLOOKUP($A17,Filtros!$A$5:$AY$22116,12,FALSE),0)","v":1},{"$f":"IFERROR(VLOOKUP($A17,Filtros!$A$5:$AY$22116,13,FALSE),0)","v":0},{"$f":"IFERROR(VLOOKUP($A17,Filtros!$A$5:$AY$22116,14,FALSE),0)","v":0},{"$f":"IFERROR(VLOOKUP($A17,Filtros!$A$5:$AY$22116,15,FALSE),0)","v":0},{"$f":"IFERROR(VLOOKUP($A17,Filtros!$A$5:$AY$22116,16,FALSE),0)","v":70},{"$f":"IFERROR(VLOOKUP($A17,Filtros!$A$5:$AY$22116,17,FALSE),0)","v":421},{"$f":"IFERROR(VLOOKUP($A17,Filtros!$A$5:$AY$22116,18,FALSE),0)","v":4},{"$nulls":60},"","","","","","",{"$nulls":20},0,0,0,0,0,0]
["P1200190",null,"Implante Levonorgestrel (5 años)",{"$f":"IFERROR(VLOOKUP($A18,Filtros!$A$5:$AY$22116,2,FALSE),0)","v":2084},{"$f":"IFERROR(VLOOKUP($A18,Filtros!$A$5:$AY$22116,3,FALSE),0)","v":34},{"$f":"IFERROR(VLOOKUP($A18,Filtros!$A$5:$AY$22116,4,FALSE),0)","v":440},{"$f":"IFERROR(VLOOKUP($A18,Filtros!$A$5:$AY$22116,5,FALSE),0)","v":501},{"$f":"IFERROR(VLOOKUP($A18,Filtros!$A$5:$AY$22116,6,FALSE),0)","v":455},{"$f":"IFERROR(VLOOKUP($A18,Filtros!$A$5:$AY$22116,7,FALSE),0)","v":315},{"$f":"IFERROR(VLOOKUP($A18,Filtros!$A$5:$AY$22116,8,FALSE),0)","v":213},{"$f":"IFERROR(VLOOKUP($A18,Filtros!$A$5:$AY$22116,9,FALSE),0)","v":91},{"$f":"IFERROR(VLOOKUP($A18,Filtros!$A$5:$AY$22116,10,FALSE),0)","v":34},{"$f":"IFERROR(VLOOKUP($A18,Filtros!$A$5:$AY$22116,11,FALSE),0)","v":1},{"$f":"IFERROR(VLOOKUP($A18,Filtros!$A$5:$AY$22116,12,FALSE),0)","v":0},{"$f":"IFERROR(VLOOKUP($A18,Filtros!$A$5:$AY$22116,13,FALSE),0)","v":0},{"$f":"IFERROR(VLOOKUP($A18,Filtros!$A$5:$AY$22116,14,FALSE),0)","v":0},{"$f":"IFERROR(VLOOKUP($A18,Filtros!$A$5:$AY$22116,15,FALSE),0)","v":0},{"$f":"IFERROR(VLOOKUP($A18,Filtros!$A$5:$AY$22116,16,FALSE),0)","v":20},{"$f":"IFERROR(VLOOKUP($A18,Filtros!$A$5:$AY$22116,17,FALSE),0)","v":151},{"$f":"IFERROR(VLOOKUP($A18,Filtros!$A$5:$AY$22116,18,FALSE),0)","v":1},{"$nulls":60},"","","","","","",{"$nulls":20},0,0,0,0,0,0]
["P1010301","SÓLO PRESERVATIVO MAC","Mujer",{"$f":"IFERROR(VLOOKUP($A19,Filtros!$A$5:$AY$22116,2,FALSE),0)","v":1414},{"$f":"IFERROR(VLOOKUP($A19,Filtros!$A$5:$AY$22116,3,FALSE),0)","v":21},{"$f":"IFERROR(VLOOKUP($A19,Filtros!$A$5:$AY$22116,4,FALSE),0)","v":169},{"$f":"IFERROR(VLOOKUP($A19,Filtros!$A$5:$AY$22116,5,FALSE),0)","v":206},{"$f":"IFERROR(VLOOKUP($A19,Filtros!$A$5:$AY$22116,6,FALSE),0)","v":202},{"$f":"IFERROR(VLOOKUP($A19,Filtros!$A$5:$AY$22116,7,FALSE),0)","v":221},{"$f":"IFERROR(VLOOKUP($A19,Filtros!$A$5:$AY$22116,8,FALSE),0)","v":196},{"$f":"IFERROR(VLOOKUP($A19,Filtros!$A$5:$AY$22116,9,FALSE),0)","v":165},{"$f":"IFERROR(VLOOKUP($A19,Filtros!$A$5:$AY$22116,10,FALSE),0)","v":138},{"$f":"IFERROR(VLOOKUP($A19,Filtros!$A$5:$AY$22116,11,FALSE),0)","v":82},{"$f":"IFERROR(VLOOKUP($A19,Filtros!$A$5:$AY$22116,12,FALSE),0)","v":12},{"$f":"IFERROR(VLOOKUP($A19,Filtros!$A$5:$AY$22116,13,FALSE),0)","v":1},{"$f":"IFERROR(VLOOKUP($A19,Filtros!$A$5:$AY$22116,14,FALSE),0)","v":1},{"$f":"IFERROR(VLOOKUP($A19,Filtros!$A$5:$AY$22116,15,FALSE),0)","v":0},{"$f":"IFERROR(VLOOKUP($A19,Filtros!$A$5:$AY$22116,16,FALSE),0)","v":23},{"$f":"IFERROR(VLOOKUP($A19,Filtros!$A$5:$AY$22116,17,FALSE),0)","v":69},{"$f":"IFERROR(VLOOKUP($A19,Filtros!$A$5:$AY$22116,18,FALSE),0)","v":2},{"$nulls":60},"","","","","","",{"$nulls":20},0,0,0,0,0,0]
["P1010302",null,"Hombres",{"$f":"IFERROR(VLOOKUP($A20,Filtros!$A$5:$AY$22116,2,FALSE),0)","v":343},{"$f":"IFERROR(VLOOKUP($A20,Filtros!$A$5:$AY$22116,3,FALSE),0)","v":9},{"$f":"IFERROR(VLOOKUP($A20,Filtros!$A$5:$AY$22116,4,FALSE),0)","v":105},{"$f":"IFERROR(VLOOKUP($A20,Filtros!$A$5:$AY$22116,5,FALSE),0)","v":59},{"$f":"IFERROR(VLOOKUP($A20,Filtros!$A$5:$AY$22116,6,FALSE),0)","v":42},{"$f":"IFERROR(VLOOKUP($A20,Filtros!$A$5:$AY$22116,7,FALSE),0)","v":46},{"$f":"IFERROR(VLOOKUP($A20,Filtros!$A$5:$AY$22116,8,FALSE),0)","v":18},{"$f":"IFERROR(VLOOKUP($A20,Filtros!$A$5:$AY$22116,9,FALSE),0)","v":20},{"$f":"IFERROR(VLOOKUP($A20,Filtros!$A$5:$AY$22116,10,FALSE),0)","v":18},{"$f":"IFERROR(VLOOKUP($A20,Filtros!$A$5:$AY$22116,11,FALSE),0)","v":18},{"$f":"IFERROR(VLOOKUP($A20,Filtros!$A$5:$AY$22116,12,FALSE),0)","v":5},{"$f":"IFERROR(VLOOKUP($A20,Filtros!$A$5:$AY$22116,13,FALSE),0)","v":1},{"$f":"IFERROR(VLOOKUP($A20,Filtros!$A$5:$AY$22116,14,FALSE),0)","v":2},{"$f":"IFERROR(VLOOKUP($A20,Filtros!$A$5:$AY$22116,15,FALSE),0)","v":0},{"$f":"IFERROR(VLOOKUP($A20,Filtros!$A$5:$AY$22116,16,FALSE),0)","v":2},{"$f":"IFERROR(VLOOKUP($A20,Filtros!$A$5:$AY$22116,17,FALSE),0)","v":17},{"$f":"IFERROR(VLOOKUP($A20,Filtros!$A$5:$AY$22116,18,FALSE),0)","v":5},{"$nulls":60},"","","","","","",{"$nulls":20},0,0,0,0,0,0]
["P1200240","ESTERILIZACIÓN QUIRURGICA","Mujer",{"$f":"IFERROR(VLOOKUP($A21,Filtros!$A$5:$AY$22116,2,FALSE),0)","v":2474},{"$f":"IFERROR(VLOOKUP($A21,Filtros!$A$5:$AY$22116,3,FALSE),0)","v":0},{"$f":"IFERROR(VLOOKUP($A21,Filtros!$A$5:$AY$22116,4,FALSE),0)","v":0},{"$f":"IFERROR(VLOOKUP($A21,Filtros!$A$5:$AY$22116,5,FALSE),0)","v":24},{"$f":"IFERROR(VLOOKUP($A21,Filtros!$A$5:$AY$22116,6,FALSE),0)","v":104},{"$f":"IFERROR(VLOOKUP($A21,Filtros!$A$5:$AY$22116,7,FALSE),0)","v":313},{"$f":"IFERROR(VLOOKUP($A21,Filtros!$A$5:$AY$22116,8,FALSE),0)","v":507},{"$f":"IFERROR(VLOOKUP($A21,Filtros!$A$5:$AY$22116,9,FALSE),0)","v":603},{"$f":"IFERROR(VLOOKUP($A21,Filtros!$A$5:$AY$22116,10,FALSE),0)","v":487},{"$f":"IFERROR(VLOOKUP($A21,Filtros!$A$5:$AY$22116,11,FALSE),0)","v":306},{"$f":"IFERROR(VLOOKUP($A21,Filtros!$A$5:$AY$22116,12,FALSE),0)","v":130},{"$f":"IFERROR(VLOOKUP($A21,Filtros!$A$5:$AY$22116,13,FALSE),0)","v":0},{"$f":"IFERROR(VLOOKUP($A21,Filtros!$A$5:$AY$22116,14,FALSE),0)","v":0},{"$f":"IFERROR(VLOOKUP($A21,Filtros!$A$5:$AY$22116,15,FALSE),0)","v":0},{"$f":"IFERROR(VLOOKUP($A21,Filtros!$A$5:$AY$22116,16,FALSE),0)","v":32},{"$f":"IFERROR(VLOOKUP($A21,Filtros!$A$5:$AY$22116,17,FALSE),0)","v":77},{"$f":"IFERROR(VLOOKUP($A21,Filtros!$A$5:$AY$22116,18,FALSE),0)","v":3},{"$nulls":60},"","","","","","",{"$nulls":20},0,0,0,0,0,0]
["P1200250",null,"Hombres",{"$f":"IFERROR(VLOOKUP($A22,Filtros!$A$5:$AY$22116,2,FALSE),0)","v":1},{"$f":"IFERROR(VLOOKUP($A22,Filtros!$A$5:$AY$22116,3,FALSE),0)","v":0},{"$f":"IFERROR(VLOOKUP($A22,Filtros!$A$5:$AY$22116,4,FALSE),0)","v":0},{"$f":"IFERROR(VLOOKUP($A22,Filtros!$A$5:$AY$22116,5,FALSE),0)","v":0},{"$f":"IFERROR(VLOOKUP($A22,Filtros!$A$5:$AY$22116,6,FALSE),0)","v":1},{"$f":"IFERROR(VLOOKUP($A22,Filtros!$A$5:$AY$22116,7,FALSE),0)","v":0},{"$f":"IFERROR(VLOOKUP($A22,Filtros!$A$5:$AY$22116,8,FALSE),0)","v":0},{"$f":"IFERROR(VLOOKUP($A22,Filtros!$A$5:$AY$22116,9,FALSE),0)","v":0},{"$f":"IFERROR(VLOOKUP($A22,Filtros!$A$5:$AY$22116,10,FALSE),0)","v":0},{"$f":"IFERROR(VLOOKUP($A22,Filtros!$A$5:$AY$22116,11,FALSE),0)","v":0},{"$f":"IFERROR(VLOOKUP($A22,Filtros!$A$5:$AY$22116,12,FALSE),0)","v":0},{"$f":"IFERROR(VLOOKUP($A22,Filtros!$A$5:$AY$22116,13,FALSE),0)","v":0},{"$f":"IFERROR(VLOOKUP($A22,Filtros!$A$5:$AY$22116,14,FALSE),0)","v":0},{"$f":"IFERROR(VLOOKUP($A22,Filtros!$A$5:$AY$22116,15,FALSE),0)","v":0},{"$f":"IFERROR(VLOOKUP($A22,Filtros!$A$5:$AY$22116,16,FALSE),0)","v":0},{"$f":"IFERROR(VLOOKUP($A22,Filtros!$A$5:$AY$22116,17,FALSE),0)","v":0},{"$f":"IFERROR(VLOOKUP($A22,Filtros!$A$5:$AY$22116,18,FALSE),0)","v":0},{"$nulls":60},"","","","","","",{"$nulls":20},0,0,0,0,0,0]
[null," TOTAL",null,{"$f":"SUM(E23:Q23)","v":56819},{"$f":"SUM(E11:E22,E29:E30,E33)","v":562},{"$f":"SUM(F11:F22,F29:F30,F33)","v":7453},9843,10461,9153,7327,5756,{"$f":"SUM(L11:L22,L29:L30,L33)","v":4439},{"$f":"SUM(M11:M22,M29:M30,M33)","v":1803},{"$f":"SUM(N19:N20)","v":17},{"$f":"SUM(O19:O20)","v":2},{"$f":"SUM(P19:P20)","v":3},{"$f":"SUM(Q19:Q20)","v":0},{"$f":"SUM(R11:R22,R29:R30,R33)","v":783},2076,{"$f":"SUM(T11:T22,T29:T30,T33)","v":32}]
["P1060010"," Mujeres en control con enfermedad cardiovascular (DM-HTA)\n",null,{"$f":"IFERROR(VLOOKUP($A24,Filtros!$A$5:$AY$22116,2,FALSE),0)","v":2413},{"$f":"IFERROR(VLOOKUP($A24,Filtros!$A$5:$AY$22116,3,FALSE),0)","v":1},{"$f":"IFERROR(VLOOKUP($A24,Filtros!$A$5:$AY$22116,4,FALSE),0)","v":29},{"$f":"IFERROR(VLOOKUP($A24,Filtros!$A$5:$AY$22116,5,FALSE),0)","v":67},{"$f":"IFERROR(VLOOKUP($A24,Filtros!$A$5:$AY$22116,6,FALSE),0)","v":138},{"$f":"IFERROR(VLOOKUP($A24,Filtros!$A$5:$AY$22116,7,FALSE),0)","v":199},{"$f":"IFERROR(VLOOKUP($A24,Filtros!$A$5:$AY$22116,8,FALSE),0)","v":364},{"$f":"IFERROR(VLOOKUP($A24,Filtros!$A$5:$AY$22116,9,FALSE),0)","v":505},{"$f":"IFERROR(VLOOKUP($A24,Filtros!$A$5:$AY$22116,10,FALSE),0)","v":621},{"$f":"IFERROR(VLOOKUP($A24,Filtros!$A$5:$AY$22116,11,FALSE),0)","v":374},{"$f":"IFERROR(VLOOKUP($A24,Filtros!$A$5:$AY$22116,12,FALSE),0)","v":102},{"$f":"IFERROR(VLOOKUP($A24,Filtros!$A$5:$AY$22116,13,FALSE),0)","v":11},{"$f":"IFERROR(VLOOKUP($A24,Filtros!$A$5:$AY$22116,14,FALSE),0)","v":2},{"$f":"IFERROR(VLOOKUP($A24,Filtros!$A$5:$AY$22116,15,FALSE),0)","v":0},{"$f":"IFERROR(VLOOKUP($A24,Filtros!$A$5:$AY$22116,16,FALSE),0)","v":34},{"$f":"IFERROR(VLOOKUP($A24,Filtros!$A$5:$AY$22116,17,FALSE),0)","v":38},{"$f":"IFERROR(VLOOKUP($A24,Filtros!$A$5:$AY$22116,18,FALSE),0)","v":0},{"$nulls":60},{"$f":"IF($R24>$D24,\"* La celda 'Pueblos Originarios' debe ser menor o igual al Total en control. \",\"\")","v":""},{"$f":"IF($S24>$D24,\"* La celda 'Población Migrantes' debe ser menor o igual al Total en control. \",\"\")","v":""},{"$f":"IF($T24>$D24,\"* La celda 'Personas Viviendo con VIH' debe ser menor o igual al Total en control. \",\"\")","v":""},{"$f":"IF(AND($D24<>0,$R24=\"\"),\"* No olvide escribir en la celda de 'Pueblos Originarios' (Digite CERO si no tiene). \",\"\")","v":""},{"$f":"IF(AND($D24<>0,$S24=\"\"),\"* No olvide escribir en la celda de 'Población Migrantes' (Digite CERO si no tiene). \",\"\")","v":""},{"$f":"IF(AND($D24<>0,$T24=\"\"),\"* No olvide escribir en la celda de 'PV-VIH' (Digite CERO si no tiene). \",\"\")","v":""},{"$nulls":20},{"$f":"IF($R24>$D24,1,0)","v":0},{"$f":"IF($S24>$D24,1,0)","v":0},{"$f":"IF($T24>$D24,1,0)","v":0},{"$f":"IF(AND($D24<>0,$R24=\"\"),1,0)","v":0},{"$f":"IF(AND($D24<>0,$S24=\"\"),1,0)","v":0},{"$f":"IF(AND($D24<>0,$T24=\"\"),1,0)","v":0}]
["P1060020","Mujeres con Retiro de Implante Anticipado en el semestre (antes de los 3 años)",null,{"$f":"IFERROR(VLOOKUP($A25,Filtros!$A$5:$AY$22116,2,FALSE),0)","v":164},{"$f":"IFERROR(VLOOKUP($A25,Filtros!$A$5:$AY$22116,3,FALSE),0)","v":3},{"$f":"IFERROR(VLOOKUP($A25,Filtros!$A$5:$AY$22116,4,FALSE),0)","v":26},{"$f":"IFERROR(VLOOKUP($A25,Filtros!$A$5:$AY$22116,5,FALSE),0)","v":50},{"$f":"IFERROR(VLOOKUP($A25,Filtros!$A$5:$AY$22116,6,FALSE),0)","v":36},{"$f":"IFERROR(VLOOKUP($A25,Filtros!$A$5:$AY$22116,7,FALSE),0)","v":14},{"$f":"IFERROR(VLOOKUP($A25,Filtros!$A$5:$AY$22116,8,FALSE),0)","v":14},{"$f":"IFERROR(VLOOKUP($A25,Filtros!$A$5:$AY$22116,9,FALSE),0)","v":6},{"$f":"IFERROR(VLOOKUP($A25,Filtros!$A$5:$AY$22116,10,FALSE),0)","v":9},{"$f":"IFERROR(VLOOKUP($A25,Filtros!$A$5:$AY$22116,11,FALSE),0)","v":3},{"$f":"IFERROR(VLOOKUP($A25,Filtros!$A$5:$AY$22116,12,FALSE),0)","v":3},{"$f":"IFERROR(VLOOKUP($A25,Filtros!$A$5:$AY$22116,13,FALSE),0)","v":0},{"$f":"IFERROR(VLOOKUP($A25,Filtros!$A$5:$AY$22116,14,FALSE),0)","v":0},{"$f":"IFERROR(VLOOKUP($A25,Filtros!$A$5:$AY$22116,15,FALSE),0)","v":0},{"$f":"IFERROR(VLOOKUP($A25,Filtros!$A$5:$AY$22116,16,FALSE),0)","v":0},{"$f":"IFERROR(VLOOKUP($A25,Filtros!$A$5:$AY$22116,17,FALSE),0)","v":2},{"$f":"IFERROR(VLOOKUP($A25,Filtros!$A$5:$AY$22116,18,FALSE),0)","v":0},{"$nulls":60},"","","","","","",{"$nulls":20},0,0,0,0,0,0]
["P1200260","Mujeres con Retiro de Implante Anticipado en el semestre (antes de los 5 años)",null,{"$f":"IFERROR(VLOOKUP($A26,Filtros!$A$5:$AY$22116,2,FALSE),0)","v":78},{"$f":"IFERROR(VLOOKUP($A26,Filtros!$A$5:$AY$22116,3,FALSE),0)","v":0},{"$f":"IFERROR(VLOOKUP($A26,Filtros!$A$5:$AY$22116,4,FALSE),0)","v":16},{"$f":"IFERROR(VLOOKUP($A26,Filtros!$A$5:$AY$22116,5,FALSE),0)","v":27},{"$f":"IFERROR(VLOOKUP($A26,Filtros!$A$5:$AY$22116,6,FALSE),0)","v":17},{"$f":"IFERROR(VLOOKUP($A26,Filtros!$A$5:$AY$22116,7,FALSE),0)","v":8},{"$f":"IFERROR(VLOOKUP($A26,Filtros!$A$5:$AY$22116,8,FALSE),0)","v":8},{"$f":"IFERROR(VLOOKUP($A26,Filtros!$A$5:$AY$22116,9,FALSE),0)","v":2},{"$f":"IFERROR(VLOOKUP($A26,Filtros!$A$5:$AY$22116,10,FALSE),0)","v":0},{"$f":"IFERROR(VLOOKUP($A26,Filtros!$A$5:$AY$22116,11,FALSE),0)","v":0},{"$f":"IFERROR(VLOOKUP($A26,Filtros!$A$5:$AY$22116,12,FALSE),0)","v":0},{"$f":"IFERROR(VLOOKUP($A26,Filtros!$A$5:$AY$22116,13,FALSE),0)","v":0},{"$f":"IFERROR(VLOOKUP($A26,Filtros!$A$5:$AY$22116,14,FALSE),0)","v":0},{"$f":"IFERROR(VLOOKUP($A26,Filtros!$A$5:$AY$22116,15,FALSE),0)","v":0},{"$f":"IFERROR(VLOOKUP($A26,Filtros!$A$5:$AY$22116,16,FALSE),0)","v":0},{"$f":"IFERROR(VLOOKUP($A26,Filtros!$A$5:$AY$22116,17,FALSE),0)","v":0},{"$f":"IFERROR(VLOOKUP($A26,Filtros!$A$5:$AY$22116,18,FALSE),0)","v":0},{"$nulls":60},"","","","","","",{"$nulls":20},0,0,0,0,0,0]
["P1060090","Método de Regulación de Fertilidad más Preservativo",null,{"$f":"IFERROR(VLOOKUP($A27,Filtros!$A$5:$AY$22116,2,FALSE),0)","v":5168},{"$f":"IFERROR(VLOOKUP($A27,Filtros!$A$5:$AY$22116,3,FALSE),0)","v":131},{"$f":"IFERROR(VLOOKUP($A27,Filtros!$A$5:$AY$22116,4,FALSE),0)","v":1565},{"$f":"IFERROR(VLOOKUP($A27,Filtros!$A$5:$AY$22116,5,FALSE),0)","v":1145},{"$f":"IFERROR(VLOOKUP($A27,Filtros!$A$5:$AY$22116,6,FALSE),0)","v":913},{"$f":"IFERROR(VLOOKUP($A27,Filtros!$A$5:$AY$22116,7,FALSE),0)","v":611},{"$f":"IFERROR(VLOOKUP($A27,Filtros!$A$5:$AY$22116,8,FALSE),0)","v":418},{"$f":"IFERROR(VLOOKUP($A27,Filtros!$A$5:$AY$22116,9,FALSE),0)","v":208},{"$f":"IFERROR(VLOOKUP($A27,Filtros!$A$5:$AY$22116,10,FALSE),0)","v":135},{"$f":"IFERROR(VLOOKUP($A27,Filtros!$A$5:$AY$22116,11,FALSE),0)","v":37},{"$f":"IFERROR(VLOOKUP($A27,Filtros!$A$5:$AY$22116,12,FALSE),0)","v":5},{"$f":"IFERROR(VLOOKUP($A27,Filtros!$A$5:$AY$22116,13,FALSE),0)","v":0},{"$f":"IFERROR(VLOOKUP($A27,Filtros!$A$5:$AY$22116,14,FALSE),0)","v":0},{"$f":"IFERROR(VLOOKUP($A27,Filtros!$A$5:$AY$22116,15,FALSE),0)","v":0},{"$f":"IFERROR(VLOOKUP($A27,Filtros!$A$5:$AY$22116,16,FALSE),0)","v":32},{"$f":"IFERROR(VLOOKUP($A27,Filtros!$A$5:$AY$22116,17,FALSE),0)","v":89},{"$f":"IFERROR(VLOOKUP($A27,Filtros!$A$5:$AY$22116,18,FALSE),0)","v":5},{"$nulls":60},"","","","","","",{"$nulls":20},0,0,0,0,0,0]
["P1200270","Gestantes que reciben preservativo",null,{"$f":"IFERROR(VLOOKUP($A28,Filtros!$A$5:$AY$22116,2,FALSE),0)","v":286},{"$f":"IFERROR(VLOOKUP($A28,Filtros!$A$5:$AY$22116,3,FALSE),0)","v":2},{"$f":"IFERROR(VLOOKUP($A28,Filtros!$A$5:$AY$22116,4,FALSE),0)","v":33},{"$f":"IFERROR(VLOOKUP($A28,Filtros!$A$5:$AY$22116,5,FALSE),0)","v":81},{"$f":"IFERROR(VLOOKUP($A28,Filtros!$A$5:$AY$22116,6,FALSE),0)","v":75},{"$f":"IFERROR(VLOOKUP($A28,Filtros!$A$5:$AY$22116,7,FALSE),0)","v":64},{"$f":"IFERROR(VLOOKUP($A28,Filtros!$A$5:$AY$22116,8,FALSE),0)","v":21},{"$f":"IFERROR(VLOOKUP($A28,Filtros!$A$5:$AY$22116,9,FALSE),0)","v":10},{"$f":"IFERROR(VLOOKUP($A28,Filtros!$A$5:$AY$22116,10,FALSE),0)","v":0},{"$f":"IFERROR(VLOOKUP($A28,Filtros!$A$5:$AY$22116,11,FALSE),0)","v":0},{"$f":"IFERROR(VLOOKUP($A28,Filtros!$A$5:$AY$22116,12,FALSE),0)","v":0},{"$f":"IFERROR(VLOOKUP($A28,Filtros!$A$5:$AY$22116,13,FALSE),0)","v":0},{"$f":"IFERROR(VLOOKUP($A28,Filtros!$A$5:$AY$22116,14,FALSE),0)","v":0},{"$f":"IFERROR(VLOOKUP($A28,Filtros!$A$5:$AY$22116,15,FALSE),0)","v":0},{"$f":"IFERROR(VLOOKUP($A28,Filtros!$A$5:$AY$22116,16,FALSE),0)","v":2},{"$f":"IFERROR(VLOOKUP($A28,Filtros!$A$5:$AY$22116,17,FALSE),0)","v":5},{"$f":"IFERROR(VLOOKUP($A28,Filtros!$A$5:$AY$22116,18,FALSE),0)","v":1},{"$nulls":60},"","","","","","",{"$nulls":20},0,0,0,0,0,0]
["P1200200","PRESERVATIVO/PRACTICA SEXUAL SEGURA","Mujer",{"$f":"IFERROR(VLOOKUP($A29,Filtros!$A$5:$AY$22116,2,FALSE),0)","v":684},{"$f":"IFERROR(VLOOKUP($A29,Filtros!$A$5:$AY$22116,3,FALSE),0)","v":11},{"$f":"IFERROR(VLOOKUP($A29,Filtros!$A$5:$AY$22116,4,FALSE),0)","v":209},{"$f":"IFERROR(VLOOKUP($A29,Filtros!$A$5:$AY$22116,5,FALSE),0)","v":115},{"$f":"IFERROR(VLOOKUP($A29,Filtros!$A$5:$AY$22116,6,FALSE),0)","v":123},{"$f":"IFERROR(VLOOKUP($A29,Filtros!$A$5:$AY$22116,7,FALSE),0)","v":80},{"$f":"IFERROR(VLOOKUP($A29,Filtros!$A$5:$AY$22116,8,FALSE),0)","v":58},{"$f":"IFERROR(VLOOKUP($A29,Filtros!$A$5:$AY$22116,9,FALSE),0)","v":27},{"$f":"IFERROR(VLOOKUP($A29,Filtros!$A$5:$AY$22116,10,FALSE),0)","v":31},{"$f":"IFERROR(VLOOKUP($A29,Filtros!$A$5:$AY$22116,11,FALSE),0)","v":25},{"$f":"IFERROR(VLOOKUP($A29,Filtros!$A$5:$AY$22116,12,FALSE),0)","v":3},{"$f":"IFERROR(VLOOKUP($A29,Filtros!$A$5:$AY$22116,13,FALSE),0)","v":2},{"$f":"IFERROR(VLOOKUP($A29,Filtros!$A$5:$AY$22116,14,FALSE),0)","v":0},{"$f":"IFERROR(VLOOKUP($A29,Filtros!$A$5:$AY$22116,15,FALSE),0)","v":0},{"$f":"IFERROR(VLOOKUP($A29,Filtros!$A$5:$AY$22116,16,FALSE),0)","v":6},{"$f":"IFERROR(VLOOKUP($A29,Filtros!$A$5:$AY$22116,17,FALSE),0)","v":25},{"$f":"IFERROR(VLOOKUP($A29,Filtros!$A$5:$AY$22116,18,FALSE),0)","v":2},{"$nulls":60},"","","","","","",{"$nulls":20},0,0,0,0,0,0]
["P1200210",null,"Hombres",{"$f":"IFERROR(VLOOKUP($A30,Filtros!$A$5:$AY$22116,2,FALSE),0)","v":93},{"$f":"IFERROR(VLOOKUP($A30,Filtros!$A$5:$AY$22116,3,FALSE),0)","v":5},{"$f":"IFERROR(VLOOKUP($A30,Filtros!$A$5:$AY$22116,4,FALSE),0)","v":46},{"$f":"IFERROR(VLOOKUP($A30,Filtros!$A$5:$AY$22116,5,FALSE),0)","v":13},{"$f":"IFERROR(VLOOKUP($A30,Filtros!$A$5:$AY$22116,6,FALSE),0)","v":8},{"$f":"IFERROR(VLOOKUP($A30,Filtros!$A$5:$AY$22116,7,FALSE),0)","v":3},{"$f":"IFERROR(VLOOKUP($A30,Filtros!$A$5:$AY$22116,8,FALSE),0)","v":3},{"$f":"IFERROR(VLOOKUP($A30,Filtros!$A$5:$AY$22116,9,FALSE),0)","v":3},{"$f":"IFERROR(VLOOKUP($A30,Filtros!$A$5:$AY$22116,10,FALSE),0)","v":2},{"$f":"IFERROR(VLOOKUP($A30,Filtros!$A$5:$AY$22116,11,FALSE),0)","v":5},{"$f":"IFERROR(VLOOKUP($A30,Filtros!$A$5:$AY$22116,12,FALSE),0)","v":1},{"$f":"IFERROR(VLOOKUP($A30,Filtros!$A$5:$AY$22116,13,FALSE),0)","v":1},{"$f":"IFERROR(VLOOKUP($A30,Filtros!$A$5:$AY$22116,14,FALSE),0)","v":3},{"$f":"IFERROR(VLOOKUP($A30,Filtros!$A$5:$AY$22116,15,FALSE),0)","v":0},{"$f":"IFERROR(VLOOKUP($A30,Filtros!$A$5:$AY$22116,16,FALSE),0)","v":0},{"$f":"IFERROR(VLOOKUP($A30,Filtros!$A$5:$AY$22116,17,FALSE),0)","v":4},{"$f":"IFERROR(VLOOKUP($A30,Filtros!$A$5:$AY$22116,18,FALSE),0)","v":3},{"$nulls":60},"","","","","","",{"$nulls":20},0,0,0,0,0,0]
["P1200220","LUBRICANTES","Mujer",{"$f":"IFERROR(VLOOKUP($A31,Filtros!$A$5:$AY$22116,2,FALSE),0)","v":1198},{"$f":"IFERROR(VLOOKUP($A31,Filtros!$A$5:$AY$22116,3,FALSE),0)","v":0},{"$f":"IFERROR(VLOOKUP($A31,Filtros!$A$5:$AY$22116,4,FALSE),0)","v":34},{"$f":"IFERROR(VLOOKUP($A31,Filtros!$A$5:$AY$22116,5,FALSE),0)","v":39},{"$f":"IFERROR(VLOOKUP($A31,Filtros!$A$5:$AY$22116,6,FALSE),0)","v":52},{"$f":"IFERROR(VLOOKUP($A31,Filtros!$A$5:$AY$22116,7,FALSE),0)","v":59},{"$f":"IFERROR(VLOOKUP($A31,Filtros!$A$5:$AY$22116,8,FALSE),0)","v":77},{"$f":"IFERROR(VLOOKUP($A31,Filtros!$A$5:$AY$22116,9,FALSE),0)","v":101},{"$f":"IFERROR(VLOOKUP($A31,Filtros!$A$5:$AY$22116,10,FALSE),0)","v":190},{"$f":"IFERROR(VLOOKUP($A31,Filtros!$A$5:$AY$22116,11,FALSE),0)","v":256},{"$f":"IFERROR(VLOOKUP($A31,Filtros!$A$5:$AY$22116,12,FALSE),0)","v":225},{"$f":"IFERROR(VLOOKUP($A31,Filtros!$A$5:$AY$22116,13,FALSE),0)","v":92},{"$f":"IFERROR(VLOOKUP($A31,Filtros!$A$5:$AY$22116,14,FALSE),0)","v":49},{"$f":"IFERROR(VLOOKUP($A31,Filtros!$A$5:$AY$22116,15,FALSE),0)","v":24},{"$f":"IFERROR(VLOOKUP($A31,Filtros!$A$5:$AY$22116,16,FALSE),0)","v":10},{"$f":"IFERROR(VLOOKUP($A31,Filtros!$A$5:$AY$22116,17,FALSE),0)","v":14},{"$f":"IFERROR(VLOOKUP($A31,Filtros!$A$5:$AY$22116,18,FALSE),0)","v":1},{"$nulls":60},"","","","","","",{"$nulls":20},0,0,0,0,0,0]
["P1200230",null,"Hombres",{"$f":"IFERROR(VLOOKUP($A32,Filtros!$A$5:$AY$22116,2,FALSE),0)","v":20},{"$f":"IFERROR(VLOOKUP($A32,Filtros!$A$5:$AY$22116,3,FALSE),0)","v":0},{"$f":"IFERROR(VLOOKUP($A32,Filtros!$A$5:$AY$22116,4,FALSE),0)","v":0},{"$f":"IFERROR(VLOOKUP($A32,Filtros!$A$5:$AY$22116,5,FALSE),0)","v":1},{"$f":"IFERROR(VLOOKUP($A32,Filtros!$A$5:$AY$22116,6,FALSE),0)","v":4},{"$f":"IFERROR(VLOOKUP($A32,Filtros!$A$5:$AY$22116,7,FALSE),0)","v":5},{"$f":"IFERROR(VLOOKUP($A32,Filtros!$A$5:$AY$22116,8,FALSE),0)","v":0},{"$f":"IFERROR(VLOOKUP($A32,Filtros!$A$5:$AY$22116,9,FALSE),0)","v":0},{"$f":"IFERROR(VLOOKUP($A32,Filtros!$A$5:$AY$22116,10,FALSE),0)","v":0},{"$f":"IFERROR(VLOOKUP($A32,Filtros!$A$5:$AY$22116,11,FALSE),0)","v":2},{"$f":"IFERROR(VLOOKUP($A32,Filtros!$A$5:$AY$22116,12,FALSE),0)","v":3},{"$f":"IFERROR(VLOOKUP($A32,Filtros!$A$5:$AY$22116,13,FALSE),0)","v":3},{"$f":"IFERROR(VLOOKUP($A32,Filtros!$A$5:$AY$22116,14,FALSE),0)","v":1},{"$f":"IFERROR(VLOOKUP($A32,Filtros!$A$5:$AY$22116,15,FALSE),0)","v":1},{"$f":"IFERROR(VLOOKUP($A32,Filtros!$A$5:$AY$22116,16,FALSE),0)","v":0},{"$f":"IFERROR(VLOOKUP($A32,Filtros!$A$5:$AY$22116,17,FALSE),0)","v":0},{"$f":"IFERROR(VLOOKUP($A32,Filtros!$A$5:$AY$22116,18,FALSE),0)","v":0},{"$nulls":60},"","","","","","",{"$nulls":20},0,0,0,0,0,0]
["P1200350","CONDON FEMENINO",null,{"$f":"IFERROR(VLOOKUP($A33,Filtros!$A$5:$AY$22116,2,FALSE),0)","v":22},{"$f":"IFERROR(VLOOKUP($A33,Filtros!$A$5:$AY$22116,3,FALSE),0)","v":0},{"$f":"IFERROR(VLOOKUP($A33,Filtros!$A$5:$AY$22116,4,FALSE),0)","v":5},{"$f":"IFERROR(VLOOKUP($A33,Filtros!$A$5:$AY$22116,5,FALSE),0)","v":1},{"$f":"IFERROR(VLOOKUP($A33,Filtros!$A$5:$AY$22116,6,FALSE),0)","v":1},{"$f":"IFERROR(VLOOKUP($A33,Filtros!$A$5:$AY$22116,7,FALSE),0)","v":3},{"$f":"IFERROR(VLOOKUP($A33,Filtros!$A$5:$AY$22116,8,FALSE),0)","v":0},{"$f":"IFERROR(VLOOKUP($A33,Filtros!$A$5:$AY$22116,9,FALSE),0)","v":1},{"$f":"IFERROR(VLOOKUP($A33,Filtros!$A$5:$AY$22116,10,FALSE),0)","v":2},{"$f":"IFERROR(VLOOKUP($A33,Filtros!$A$5:$AY$22116,11,FALSE),0)","v":6},{"$f":"IFERROR(VLOOKUP($A33,Filtros!$A$5:$AY$22116,12,FALSE),0)","v":2},{"$f":"IFERROR(VLOOKUP($A33,Filtros!$A$5:$AY$22116,13,FALSE),0)","v":1},{"$f":"IFERROR(VLOOKUP($A33,Filtros!$A$5:$AY$22116,14,FALSE),0)","v":0},{"$f":"IFERROR(VLOOKUP($A33,Filtros!$A$5:$AY$22116,15,FALSE),0)","v":0},{"$f":"IFERROR(VLOOKUP($A33,Filtros!$A$5:$AY$22116,16,FALSE),0)","v":0},{"$f":"IFERROR(VLOOKUP($A33,Filtros!$A$5:$AY$22116,17,FALSE),0)","v":0},{"$f":"IFERROR(VLOOKUP($A33,Filtros!$A$5:$AY$22116,18,FALSE),0)","v":0},{"$nulls":60},"","","","","","",{"$nulls":20},0,0,0,0,0,0]
[null,"SECCION B: GESTANTES EN CONTROL CON EVALUACIÓN RIESGO BIOPSICOSOCIAL "]
[null,"GRUPOS DE EDAD","TOTAL DE GESTANTES EN CONTROL","EN RIESGO \nPSICO-\nSOCIAL","QUE PRESENTAN VIOLENCIA DE GÉNERO","GESTANTES QUE PRESENTAN ARO","POBLACION MIGRANTES"]
[]
["P1020100","Menos de 15 años",{"$f":"IFERROR(VLOOKUP($A37,Filtros!$A$5:$AY$22116,2,FALSE),0)","v":9},{"$f":"IFERROR(VLOOKUP($A37,Filtros!$A$5:$AY$22116,3,FALSE),0)","v":9},{"$f":"IFERROR(VLOOKUP($A37,Filtros!$A$5:$AY$22116,4,FALSE),0)","v":1},{"$f":"IFERROR(VLOOKUP($A37,Filtros!$A$5:$AY$22116,5,FALSE),0)","v":6},{"$f":"IFERROR(VLOOKUP($A37,Filtros!$A$5:$AY$22116,6,FALSE),0)","v":0},{"$f":"($CB37&$CC37&$CD37&$CE37&$CF37&$CG37&$CH37&$CI37&$CJ37&$CK37&$CM37&$CN37&$CO37&$CP37&$CQ37&$CR37&$CS37&$CT37&$CU37&$CV37&$CW37&$CX37&$CY37&$CZ37&$DA37)","v":""},{"$nulls":71},{"$f":"IF($D37<$E37,\"* Las Gestantes Menores de 15 años con violencia de género deben estar incluidas en las Gestantes con riesgo psicosocial. \",\"\")","v":""},{"$f":"IF($C37<$D37,\"* Las Gestantes Menores de 15 años con Riesgo Psicosocial deben estar incluidas en el Total de Gestantes en Control misma edad. \",\"\")","v":""},{"$f":"IF($C37<$F37,\"* Las Gestantes Menores de 15 años que presentan ARO deben estar incluidas en el Total de Gestantes en Control misma edad. \",\"\")","v":""},{"$f":"IF($C37<$G37,\"* Las Gestantes Menores de 15 años que pertenecen a 'Población Migrantes' deben estar incluidas en el Total de Gestantes en Control misma edad. \",\"\")","v":""},null,{"$f":"IF(AND(C37<>0,G37=\"\"),\"* No olvide escribir en la celda de 'Población Migrantes' (Digite CERO si no tiene). \",\"\")","v":""},{"$nulls":20},{"$f":"IF($D37<$E37,1,0)","v":0},{"$f":"IF($C37<$D37,1,0)","v":0},{"$f":"IF($C37<$F37,1,0)","v":0},{"$f":"IF($C37<$G37,1,0)","v":0},null,{"$f":"IF(AND(C37<>0,G37=\"\"),1,0)","v":0}]
["P1020200","15 a 19 años",{"$f":"IFERROR(VLOOKUP($A38,Filtros!$A$5:$AY$22116,2,FALSE),0)","v":221},{"$f":"IFERROR(VLOOKUP($A38,Filtros!$A$5:$AY$22116,3,FALSE),0)","v":105},{"$f":"IFERROR(VLOOKUP($A38,Filtros!$A$5:$AY$22116,4,FALSE),0)","v":11},{"$f":"IFERROR(VLOOKUP($A38,Filtros!$A$5:$AY$22116,5,FALSE),0)","v":65},{"$f":"IFERROR(VLOOKUP($A38,Filtros!$A$5:$AY$22116,6,FALSE),0)","v":23},"",{"$nulls":71},{"$f":"IF($D38<$E38,\"* Las Gestantes de 15 a 19 años con violencia de género deben estar incluidas en las Gestantes con riesgo psicosocial. \",\"\")","v":""},{"$f":"IF($C38<$D38,\"* Las Gestantes de 15 a 19 años con Riesgo Psicosocial deben estar incluidas en el Total de Gestantes en Control misma edad. \",\"\")","v":""},{"$f":"IF($C38<$F38,\"* Las Gestantes de 15 a 19 años que presentan ARO deben estar incluidas en el Total de Gestantes en Control misma edad. \",\"\")","v":""},{"$f":"IF($C38<$G38,\"* Las Gestantes de 15 a 19 años que pertenecen a 'Población Migrantes' deben estar incluidas en el Total de Gestantes en Control misma edad. \",\"\")","v":""},null,"",{"$nulls":20},0,0,0,0,null,0]
["P1040501","20 a 24 años",{"$f":"IFERROR(VLOOKUP($A39,Filtros!$A$5:$AY$22116,2,FALSE),0)","v":803},{"$f":"IFERROR(VLOOKUP($A39,Filtros!$A$5:$AY$22116,3,FALSE),0)","v":190},{"$f":"IFERROR(VLOOKUP($A39,Filtros!$A$5:$AY$22116,4,FALSE),0)","v":20},{"$f":"IFERROR(VLOOKUP($A39,Filtros!$A$5:$AY$22116,5,FALSE),0)","v":216},{"$f":"IFERROR(VLOOKUP($A39,Filtros!$A$5:$AY$22116,6,FALSE),0)","v":99},"",{"$nulls":71},{"$f":"IF($D39<$E39,\"* Las Gestantes de 20 a 24 años con violencia de género deben estar incluidas en las Gestantes con riesgo psicosocial. \",\"\")","v":""},{"$f":"IF($C39<$D39,\"* Las Gestantes de 20 a 24 años con Riesgo Psicosocial deben estar incluidas en el Total de Gestantes en Control misma edad. \",\"\")","v":""},{"$f":"IF($C39<$F39,\"* Las Gestantes de 20 a 24 años que presentan ARO deben estar incluidas en el Total de Gestantes en Control misma edad. \",\"\")","v":""},{"$f":"IF($C39<$G39,\"* Las Gestantes de 20 a 24 años que pertenecen a 'Población Migrantes' deben estar incluidas en el Total de Gestantes en Control misma edad. \",\"\")","v":""},null,"",{"$nulls":20},0,0,0,0,null,0]
["P1060100","25 a 29 años",{"$f":"IFERROR(VLOOKUP($A40,Filtros!$A$5:$AY$22116,2,FALSE),0)","v":1055},{"$f":"IFERROR(VLOOKUP($A40,Filtros!$A$5:$AY$22116,3,FALSE),0)","v":206},{"$f":"IFERROR(VLOOKUP($A40,Filtros!$A$5:$AY$22116,4,FALSE),0)","v":20},{"$f":"IFERROR(VLOOKUP($A40,Filtros!$A$5:$AY$22116,5,FALSE),0)","v":329},{"$f":"IFERROR(VLOOKUP($A40,Filtros!$A$5:$AY$22116,6,FALSE),0)","v":120},"",{"$nulls":71},{"$f":"IF($D40<$E40,\"* Las Gestantes de 25 a 29 años con violencia de género deben estar incluidas en las Gestantes con riesgo psicosocial. \",\"\")","v":""},{"$f":"IF($C40<$D40,\"* Las Gestantes de 25 a 29 años con Riesgo Psicosocial deben estar incluidas en el Total de Gestantes en Control misma edad. \",\"\")","v":""},{"$f":"IF($C40<$F40,\"* Las Gestantes de 25 a 29 años que presentan ARO deben estar incluidas en el Total de Gestantes en Control misma edad. \",\"\")","v":""},{"$f":"IF($C40<$G40,\"* Las Gestantes de 25 a 29 años que pertenecen a 'Población Migrantes' deben estar incluidas en el Total de Gestantes en Control misma edad. \",\"\")","v":""},null,"",{"$nulls":20},0,0,0,0,null,0]
["P1060101","30 a 34 años",{"$f":"IFERROR(VLOOKUP($A41,Filtros!$A$5:$AY$22116,2,FALSE),0)","v":902},{"$f":"IFERROR(VLOOKUP($A41,Filtros!$A$5:$AY$22116,3,FALSE),0)","v":191},{"$f":"IFERROR(VLOOKUP($A41,Filtros!$A$5:$AY$22116,4,FALSE),0)","v":14},{"$f":"IFERROR(VLOOKUP($A41,Filtros!$A$5:$AY$22116,5,FALSE),0)","v":337},{"$f":"IFERROR(VLOOKUP($A41,Filtros!$A$5:$AY$22116,6,FALSE),0)","v":137},"",{"$nulls":71},{"$f":"IF($D41<$E41,\"* Las Gestantes de 30 a 34 años con violencia de género deben estar incluidas en las Gestantes con riesgo psicosocial. \",\"\")","v":""},{"$f":"IF($C41<$D41,\"* Las Gestantes de 30 a 34 años con Riesgo Psicosocial deben estar incluidas en el Total de Gestantes en Control misma edad. \",\"\")","v":""},{"$f":"IF($C41<$F41,\"* Las Gestantes de 30 a 34 años que presentan ARO deben estar incluidas en el Total de Gestantes en Control misma edad. \",\"\")","v":""},{"$f":"IF($C41<$G41,\"* Las Gestantes de 30 a 34 años que pertenecen a 'Población Migrantes' deben estar incluidas en el Total de Gestantes en Control misma edad. \",\"\")","v":""},null,"",{"$nulls":20},0,0,0,0,null,0]
["P1060102","35 a 39 años",{"$f":"IFERROR(VLOOKUP($A42,Filtros!$A$5:$AY$22116,2,FALSE),0)","v":415},{"$f":"IFERROR(VLOOKUP($A42,Filtros!$A$5:$AY$22116,3,FALSE),0)","v":113},{"$f":"IFERROR(VLOOKUP($A42,Filtros!$A$5:$AY$22116,4,FALSE),0)","v":6},{"$f":"IFERROR(VLOOKUP($A42,Filtros!$A$5:$AY$22116,5,FALSE),0)","v":194},{"$f":"IFERROR(VLOOKUP($A42,Filtros!$A$5:$AY$22116,6,FALSE),0)","v":45},"",{"$nulls":71},{"$f":"IF($D42<$E42,\"* Las Gestantes de 35 a 39 años con violencia de género deben estar incluidas en las Gestantes con riesgo psicosocial. \",\"\")","v":""},{"$f":"IF($C42<$D42,\"* Las Gestantes de 35 a 39 años con Riesgo Psicosocial deben estar incluidas en el Total de Gestantes en Control misma edad. \",\"\")","v":""},{"$f":"IF($C42<$F42,\"* Las Gestantes de 35 a 39 años que presentan ARO deben estar incluidas en el Total de Gestantes en Control misma edad. \",\"\")","v":""},{"$f":"IF($C42<$G42,\"* Las Gestantes de 35 a 39 años que pertenecen a 'Población Migrantes' deben estar incluidas en el Total de Gestantes en Control misma edad. \",\"\")","v":""},null,"",{"$nulls":20},0,0,0,0,null,0]
["P1060103","40 a 44 años",{"$f":"IFERROR(VLOOKUP($A43,Filtros!$A$5:$AY$22116,2,FALSE),0)","v":112},{"$f":"IFERROR(VLOOKUP($A43,Filtros!$A$5:$AY$22116,3,FALSE),0)","v":35},{"$f":"IFERROR(VLOOKUP($A43,Filtros!$A$5:$AY$22116,4,FALSE),0)","v":5},{"$f":"IFERROR(VLOOKUP($A43,Filtros!$A$5:$AY$22116,5,FALSE),0)","v":73},{"$f":"IFERROR(VLOOKUP($A43,Filtros!$A$5:$AY$22116,6,FALSE),0)","v":14},"",{"$nulls":71},{"$f":"IF($D43<$E43,\"* Las Gestantes de 40 a 44 años con violencia de género deben estar incluidas en las Gestantes con riesgo psicosocial. \",\"\")","v":""},{"$f":"IF($C43<$D43,\"* Las Gestantes de 40 a 44 años con Riesgo Psicosocial deben estar incluidas en el Total de Gestantes en Control misma edad. \",\"\")","v":""},{"$f":"IF($C43<$F43,\"* Las Gestantes de 40 a 44 años que presentan ARO deben estar incluidas en el Total de Gestantes en Control misma edad. \",\"\")","v":""},{"$f":"IF($C43<$G43,\"* Las Gestantes de 40 a 44 años que pertenecen a 'Población Migrantes' deben estar incluidas en el Total de Gestantes en Control misma edad. \",\"\")","v":""},null,"",{"$nulls":20},0,0,0,0,null,0]
["P1060104","45 a 49 años",{"$f":"IFERROR(VLOOKUP($A44,Filtros!$A$5:$AY$22116,2,FALSE),0)","v":5},{"$f":"IFERROR(VLOOKUP($A44,Filtros!$A$5:$AY$22116,3,FALSE),0)","v":4},{"$f":"IFERROR(VLOOKUP($A44,Filtros!$A$5:$AY$22116,4,FALSE),0)","v":0},{"$f":"IFERROR(VLOOKUP($A44,Filtros!$A$5:$AY$22116,5,FALSE),0)","v":4},{"$f":"IFERROR(VLOOKUP($A44,Filtros!$A$5:$AY$22116,6,FALSE),0)","v":1},"",{"$nulls":71},{"$f":"IF($D44<$E44,\"* Las Gestantes de 45 a 49 años con violencia de género deben estar incluidas en las Gestantes con riesgo psicosocial. \",\"\")","v":""},{"$f":"IF($C44<$D44,\"* Las Gestantes de 45 a 49 años con Riesgo Psicosocial deben estar incluidas en el Total de Gestantes en Control misma edad. \",\"\")","v":""},{"$f":"IF($C44<$F44,\"* Las Gestantes de 45 a 49 años que presentan ARO deben estar incluidas en el Total de Gestantes en Control misma edad. \",\"\")","v":""},{"$f":"IF($C44<$G44,\"* Las Gestantes de 45 a 49 años que pertenecen a 'Población Migrantes' deben estar incluidas en el Total de Gestantes en Control misma edad. \",\"\")","v":""},null,"",{"$nulls":20},0,0,0,0,null,0]
["P1060105","50 a 54 años",{"$f":"IFERROR(VLOOKUP($A45,Filtros!$A$5:$AY$22116,2,FALSE),0)","v":0},{"$f":"IFERROR(VLOOKUP($A45,Filtros!$A$5:$AY$22116,3,FALSE),0)","v":0},{"$f":"IFERROR(VLOOKUP($A45,Filtros!$A$5:$AY$22116,4,FALSE),0)","v":0},{"$f":"IFERROR(VLOOKUP($A45,Filtros!$A$5:$AY$22116,5,FALSE),0)","v":0},{"$f":"IFERROR(VLOOKUP($A45,Filtros!$A$5:$AY$22116,6,FALSE),0)","v":0},"",{"$nulls":71},{"$f":"IF($D45<$E45,\"* Las Gestantes de 50 a 54 años con violencia de género deben estar incluidas en las Gestantes con riesgo psicosocial. \",\"\")","v":""},{"$f":"IF($C45<$D45,\"* Las Gestantes de 50 a 54 años con Riesgo Psicosocial deben estar incluidas en el Total de Gestantes en Control misma edad. \",\"\")","v":""},{"$f":"IF($C45<$F45,\"* Las Gestantes de 50 a 54 años que presentan ARO deben estar incluidas en el Total de Gestantes en Control misma edad. \",\"\")","v":""},{"$f":"IF($C45<$G45,\"* Las Gestantes de 50 a 54 años que pertenecen a 'Población Migrantes' deben estar incluidas en el Total de Gestantes en Control misma edad. \",\"\")","v":""},null,"",{"$nulls":20},0,0,0,0,null,0]
[null,"TOTAL",{"$f":"SUM(C37:C45)","v":3522},{"$f":"SUM(D37:D45)","v":853},{"$f":"SUM(E37:E45)","v":77},{"$f":"SUM(F37:F45)","v":1224},{"$f":"SUM(G37:G45)","v":439}]
[null,"SECCION C: GESTANTES EN RIESGO PSICOSOCIAL CON VISITA DOMICILIARIA INTEGRAL REALIZADA "]
[null,"N° VDI","N° Gestantes \ncon VDI","TOTAL de Visitas"]
[]
["P1040502","1 Visita",{"$f":"IFERROR(VLOOKUP($A50,Filtros!$A$5:$AY$22116,2,FALSE),0)","v":361},{"$f":"IFERROR(VLOOKUP($A50,Filtros!$A$5:$AY$22116,3,FALSE),0)","v":361},{"$f":"($CB50&$CC50&$CD50&$CE50&$CF50&$CG50&$CH50&$CI50&$CJ50&$CK50&$CM50&$CN50&$CO50&$CP50&$CQ50&$CR50&$CS50&$CT50&$CU50&$CV50&$CW50&$CX50&$CY50&$CZ50&$DA50)","v":""},{"$nulls":74},{"$f":"IF($D$50<>$C$50*1,\"* NO ALTERE LAS FÓRMULAS, el Total de Visitas equivale a 1 visita por gestante. \",\"\")","v":""},{"$nulls":25},{"$f":"IF($D$50<>$C$50*1,1,0)","v":0}]
["P1040503","2 Visitas",{"$f":"IFERROR(VLOOKUP($A51,Filtros!$A$5:$AY$22116,2,FALSE),0)","v":174},{"$f":"IFERROR(VLOOKUP($A51,Filtros!$A$5:$AY$22116,3,FALSE),0)","v":348},{"$f":"($CB51&$CC51&$CD51&$CE51&$CF51&$CG51&$CH51&$CI51&$CJ51&$CK51&$CM51&$CN51&$CO51&$CP51&$CQ51&$CR51&$CS51&$CT51&$CU51&$CV51&$CW51&$CX51&$CY51&$CZ51&$DA51)","v":""},{"$nulls":74},{"$f":"IF($D$51<>$C$51*2,\"* NO ALTERE LAS FÓRMULAS, el Total de Visitas equivale a 2 visitas por gestante. \",\"\")","v":""},{"$nulls":25},{"$f":"IF($D$51<>$C$51*2,1,0)","v":0}]
["P1040504","3 Visitas",{"$f":"IFERROR(VLOOKUP($A52,Filtros!$A$5:$AY$22116,2,FALSE),0)","v":126},{"$f":"IFERROR(VLOOKUP($A52,Filtros!$A$5:$AY$22116,3,FALSE),0)","v":378},{"$f":"($CB52&$CC52&$CD52&$CE52&$CF52&$CG52&$CH52&$CI52&$CJ52&$CK52&$CM52&$CN52&$CO52&$CP52&$CQ52&$CR52&$CS52&$CT52&$CU52&$CV52&$CW52&$CX52&$CY52&$CZ52&$DA52)","v":""},{"$nulls":74},{"$f":"IF($D$52<>$C$52*3,\"* NO ALTERE LAS FÓRMULAS, el Total de Visitas equivale a 3 visitas por gestante. \",\"\")","v":""},{"$nulls":25},{"$f":"IF($D$52<>$C$52*3,1,0)","v":0}]
["P1040505","4 y más visitas",{"$f":"IFERROR(VLOOKUP($A53,Filtros!$A$5:$AY$22116,2,FALSE),0)","v":96},{"$f":"IFERROR(VLOOKUP($A53,Filtros!$A$5:$AY$22116,3,FALSE),0)","v":312},{"$f":"($CB53&$CC53&$CD53&$CE53&$CF53&$CG53&$CH53&$CI53&$CJ53&$CK53&$CM53&$CN53&$CO53&$CP53&$CQ53&$CR53&$CS53&$CT53&$CU53&$CV53&$CW53&$CX53&$CY53&$CZ53&$DA53)","v":""}]
[null,"TOTAL",{"$f":"SUM(C50:C53)","v":757},{"$f":"SUM(D50:D53)","v":1399}]
[null,"SECCION D: GESTANTES Y MUJERES DE 8° MES POST-PARTO EN CONTROL, SEGÚN ESTADO NUTRICIONAL"]
[null,"POBLACION","ESTADO\nNUTRICIONAL","TOTAL","GRUPOS DE EDAD (en años)"]
[{"$nulls":4},"Menos 15 años","15 a 19 años","20 a 24 años","25 a 29 años","30 a 34 años","35 a 39 años","40 a 44 años","45 a 49 años","50 a 54 años"]
["P1030101","GESTANTES EN CONTROL\n(Información a la fecha de corte)","OBESA",{"$f":"IFERROR(VLOOKUP($A58,Filtros!$A$5:$AY$22116,2,FALSE),0)","v":1359},{"$f":"IFERROR(VLOOKUP($A58,Filtros!$A$5:$AY$22116,3,FALSE),0)","v":0},{"$f":"IFERROR(VLOOKUP($A58,Filtros!$A$5:$AY$22116,4,FALSE),0)","v":43},{"$f":"IFERROR(VLOOKUP($A58,Filtros!$A$5:$AY$22116,5,FALSE),0)","v":249},{"$f":"IFERROR(VLOOKUP($A58,Filtros!$A$5:$AY$22116,6,FALSE),0)","v":432},{"$f":"IFERROR(VLOOKUP($A58,Filtros!$A$5:$AY$22116,7,FALSE),0)","v":377},{"$f":"IFERROR(VLOOKUP($A58,Filtros!$A$5:$AY$22116,8,FALSE),0)","v":193},{"$f":"IFERROR(VLOOKUP($A58,Filtros!$A$5:$AY$22116,9,FALSE),0)","v":63},{"$f":"IFERROR(VLOOKUP($A58,Filtros!$A$5:$AY$22116,10,FALSE),0)","v":2},{"$f":"IFERROR(VLOOKUP($A58,Filtros!$A$5:$AY$22116,11,FALSE),0)","v":0}]
["P1030102",null,"SOBREPESO",{"$f":"IFERROR(VLOOKUP($A59,Filtros!$A$5:$AY$22116,2,FALSE),0)","v":1176},{"$f":"IFERROR(VLOOKUP($A59,Filtros!$A$5:$AY$22116,3,FALSE),0)","v":0},{"$f":"IFERROR(VLOOKUP($A59,Filtros!$A$5:$AY$22116,4,FALSE),0)","v":69},{"$f":"IFERROR(VLOOKUP($A59,Filtros!$A$5:$AY$22116,5,FALSE),0)","v":271},{"$f":"IFERROR(VLOOKUP($A59,Filtros!$A$5:$AY$22116,6,FALSE),0)","v":330},{"$f":"IFERROR(VLOOKUP($A59,Filtros!$A$5:$AY$22116,7,FALSE),0)","v":314},{"$f":"IFERROR(VLOOKUP($A59,Filtros!$A$5:$AY$22116,8,FALSE),0)","v":154},{"$f":"IFERROR(VLOOKUP($A59,Filtros!$A$5:$AY$22116,9,FALSE),0)","v":35},{"$f":"IFERROR(VLOOKUP($A59,Filtros!$A$5:$AY$22116,10,FALSE),0)","v":3},{"$f":"IFERROR(VLOOKUP($A59,Filtros!$A$5:$AY$22116,11,FALSE),0)","v":0}]
["P1030103",null,"NORMAL",{"$f":"IFERROR(VLOOKUP($A60,Filtros!$A$5:$AY$22116,2,FALSE),0)","v":926},{"$f":"IFERROR(VLOOKUP($A60,Filtros!$A$5:$AY$22116,3,FALSE),0)","v":6},{"$f":"IFERROR(VLOOKUP($A60,Filtros!$A$5:$AY$22116,4,FALSE),0)","v":95},{"$f":"IFERROR(VLOOKUP($A60,Filtros!$A$5:$AY$22116,5,FALSE),0)","v":259},{"$f":"IFERROR(VLOOKUP($A60,Filtros!$A$5:$AY$22116,6,FALSE),0)","v":280},{"$f":"IFERROR(VLOOKUP($A60,Filtros!$A$5:$AY$22116,7,FALSE),0)","v":205},{"$f":"IFERROR(VLOOKUP($A60,Filtros!$A$5:$AY$22116,8,FALSE),0)","v":68},{"$f":"IFERROR(VLOOKUP($A60,Filtros!$A$5:$AY$22116,9,FALSE),0)","v":13},{"$f":"IFERROR(VLOOKUP($A60,Filtros!$A$5:$AY$22116,10,FALSE),0)","v":0},{"$f":"IFERROR(VLOOKUP($A60,Filtros!$A$5:$AY$22116,11,FALSE),0)","v":0}]
["P1030104",null,"BAJO PESO",{"$f":"IFERROR(VLOOKUP($A61,Filtros!$A$5:$AY$22116,2,FALSE),0)","v":61},{"$f":"IFERROR(VLOOKUP($A61,Filtros!$A$5:$AY$22116,3,FALSE),0)","v":3},{"$f":"IFERROR(VLOOKUP($A61,Filtros!$A$5:$AY$22116,4,FALSE),0)","v":14},{"$f":"IFERROR(VLOOKUP($A61,Filtros!$A$5:$AY$22116,5,FALSE),0)","v":24},{"$f":"IFERROR(VLOOKUP($A61,Filtros!$A$5:$AY$22116,6,FALSE),0)","v":13},{"$f":"IFERROR(VLOOKUP($A61,Filtros!$A$5:$AY$22116,7,FALSE),0)","v":6},{"$f":"IFERROR(VLOOKUP($A61,Filtros!$A$5:$AY$22116,8,FALSE),0)","v":0},{"$f":"IFERROR(VLOOKUP($A61,Filtros!$A$5:$AY$22116,9,FALSE),0)","v":1},{"$f":"IFERROR(VLOOKUP($A61,Filtros!$A$5:$AY$22116,10,FALSE),0)","v":0},{"$f":"IFERROR(VLOOKUP($A61,Filtros!$A$5:$AY$22116,11,FALSE),0)","v":0}]
[null,null,"TOTAL",{"$f":"SUM(E62:M62)","v":3522},{"$f":"SUM(E58:E61)","v":9},{"$f":"SUM(F58:F61)","v":221},803,1055,902,415,112,5,0,{"$nulls":66},{"$f":"IF($C$37<>$E62,\"* Las Gestantes Menores de 15 años, según Estado Nutricional debe ser igual al Total de gestantes en Control de esa edad en Sección B. \",\"\")","v":""},{"$f":"IF($C$38<>$F62,\"* Las gestantes 15-19 años, según Estado Nutricional debe ser igual al Total de gestantes en Control de esa edad en Sección B. \",\"\")","v":""},{"$f":"IF($C$39<>$G62,\"* Las gestantes20-24 años, según Estado Nutricional debe ser igual al Total de gestantes en Control de esa edad en Sección B. \",\"\")","v":""},{"$f":"IF($C$40<>$H62,\"* Las gestantes 25-29 años, según Estado Nutricional debe ser igual al Total de gestantes en Control de esa edad en Sección B. \",\"\")","v":""},{"$f":"IF($C$41<>$I62,\"* Las gestantes30-34 años, según Estado Nutricional debe ser igual al Total de gestantes en Control de esa edad en Sección B. \",\"\")","v":""},{"$f":"IF($C$42<>$J62,\"* Las gestantes 35-39 años, según Estado Nutricional debe ser igual al Total de gestantes en Control de esa edad en Sección B. \",\"\")","v":""},{"$f":"IF($C$43<>$K62,\"* Las gestantes 40-44 años, según Estado Nutricional debe ser igual al Total de gestantes en Control de esa edad en Sección B. \",\"\")","v":""},{"$f":"IF($C$44<>$L62,\"* Las gestantes 45-49 años, según Estado Nutricional debe ser igual al Total de gestantes en Control de esa edad en Sección B. \",\"\")","v":""},{"$f":"IF($C$45<>$M62,\"* Las gestantes 50-54 años, según Estado Nutricional debe ser igual al Total de gestantes en Control de esa edad en Sección B. \",\"\")","v":""},{"$nulls":17},{"$f":"IF($C$37<>$E62,1,0)","v":0},{"$f":"IF($C$38<>$F62,1,0)","v":0},{"$f":"IF($C$39<>$G62,1,0)","v":0},{"$f":"IF($C$40<>$H62,1,0)","v":0},{"$f":"IF($C$41<>$I62,1,0)","v":0},{"$f":"IF($C$42<>$J62,1,0)","v":0},{"$f":"IF($C$43<>$K62,1,0)","v":0},{"$f":"IF($C$44<>$L62,1,0)","v":0},{"$f":"IF($C$45<>$M62,1,0)","v":0}]
["P1030201","CONTROL AL 8º MES POST-PARTO\n(Información del semestre)","OBESA",{"$f":"IFERROR(VLOOKUP($A63,Filtros!$A$5:$AY$22116,2,FALSE),0)","v":119},{"$f":"IFERROR(VLOOKUP($A63,Filtros!$A$5:$AY$22116,3,FALSE),0)","v":0},{"$f":"IFERROR(VLOOKUP($A63,Filtros!$A$5:$AY$22116,4,FALSE),0)","v":10},{"$f":"IFERROR(VLOOKUP($A63,Filtros!$A$5:$AY$22116,5,FALSE),0)","v":27},{"$f":"IFERROR(VLOOKUP($A63,Filtros!$A$5:$AY$22116,6,FALSE),0)","v":37},{"$f":"IFERROR(VLOOKUP($A63,Filtros!$A$5:$AY$22116,7,FALSE),0)","v":23},{"$f":"IFERROR(VLOOKUP($A63,Filtros!$A$5:$AY$22116,8,FALSE),0)","v":18},{"$f":"IFERROR(VLOOKUP($A63,Filtros!$A$5:$AY$22116,9,FALSE),0)","v":4},{"$f":"IFERROR(VLOOKUP($A63,Filtros!$A$5:$AY$22116,10,FALSE),0)","v":0},{"$f":"IFERROR(VLOOKUP($A63,Filtros!$A$5:$AY$22116,11,FALSE),0)","v":0}]
["P1030202",null,"SOBREPESO",{"$f":"IFERROR(VLOOKUP($A64,Filtros!$A$5:$AY$22116,2,FALSE),0)","v":121},{"$f":"IFERROR(VLOOKUP($A64,Filtros!$A$5:$AY$22116,3,FALSE),0)","v":0},{"$f":"IFERROR(VLOOKUP($A64,Filtros!$A$5:$AY$22116,4,FALSE),0)","v":7},{"$f":"IFERROR(VLOOKUP($A64,Filtros!$A$5:$AY$22116,5,FALSE),0)","v":34},{"$f":"IFERROR(VLOOKUP($A64,Filtros!$A$5:$AY$22116,6,FALSE),0)","v":46},{"$f":"IFERROR(VLOOKUP($A64,Filtros!$A$5:$AY$22116,7,FALSE),0)","v":24},{"$f":"IFERROR(VLOOKUP($A64,Filtros!$A$5:$AY$22116,8,FALSE),0)","v":9},{"$f":"IFERROR(VLOOKUP($A64,Filtros!$A$5:$AY$22116,9,FALSE),0)","v":1},{"$f":"IFERROR(VLOOKUP($A64,Filtros!$A$5:$AY$22116,10,FALSE),0)","v":0},{"$f":"IFERROR(VLOOKUP($A64,Filtros!$A$5:$AY$22116,11,FALSE),0)","v":0}]
["P1030203",null,"NORMAL",{"$f":"IFERROR(VLOOKUP($A65,Filtros!$A$5:$AY$22116,2,FALSE),0)","v":79},{"$f":"IFERROR(VLOOKUP($A65,Filtros!$A$5:$AY$22116,3,FALSE),0)","v":1},{"$f":"IFERROR(VLOOKUP($A65,Filtros!$A$5:$AY$22116,4,FALSE),0)","v":11},{"$f":"IFERROR(VLOOKUP($A65,Filtros!$A$5:$AY$22116,5,FALSE),0)","v":19},{"$f":"IFERROR(VLOOKUP($A65,Filtros!$A$5:$AY$22116,6,FALSE),0)","v":30},{"$f":"IFERROR(VLOOKUP($A65,Filtros!$A$5:$AY$22116,7,FALSE),0)","v":12},{"$f":"IFERROR(VLOOKUP($A65,Filtros!$A$5:$AY$22116,8,FALSE),0)","v":4},{"$f":"IFERROR(VLOOKUP($A65,Filtros!$A$5:$AY$22116,9,FALSE),0)","v":1},{"$f":"IFERROR(VLOOKUP($A65,Filtros!$A$5:$AY$22116,10,FALSE),0)","v":1},{"$f":"IFERROR(VLOOKUP($A65,Filtros!$A$5:$AY$22116,11,FALSE),0)","v":0}]
["P1030204",null,"BAJO PESO",{"$f":"IFERROR(VLOOKUP($A66,Filtros!$A$5:$AY$22116,2,FALSE),0)","v":3},{"$f":"IFERROR(VLOOKUP($A66,Filtros!$A$5:$AY$22116,3,FALSE),0)","v":0},{"$f":"IFERROR(VLOOKUP($A66,Filtros!$A$5:$AY$22116,4,FALSE),0)","v":0},{"$f":"IFERROR(VLOOKUP($A66,Filtros!$A$5:$AY$22116,5,FALSE),0)","v":2},{"$f":"IFERROR(VLOOKUP($A66,Filtros!$A$5:$AY$22116,6,FALSE),0)","v":0},{"$f":"IFERROR(VLOOKUP($A66,Filtros!$A$5:$AY$22116,7,FALSE),0)","v":0},{"$f":"IFERROR(VLOOKUP($A66,Filtros!$A$5:$AY$22116,8,FALSE),0)","v":1},{"$f":"IFERROR(VLOOKUP($A66,Filtros!$A$5:$AY$22116,9,FALSE),0)","v":0},{"$f":"IFERROR(VLOOKUP($A66,Filtros!$A$5:$AY$22116,10,FALSE),0)","v":0},{"$f":"IFERROR(VLOOKUP($A66,Filtros!$A$5:$AY$22116,11,FALSE),0)","v":0}]
[null,null,"TOTAL",{"$f":"SUM(E67:M67)","v":322},{"$f":"SUM(E63:E66)","v":1},{"$f":"SUM(F63:F66)","v":28},{"$f":"SUM(G63:G66)","v":82},{"$f":"SUM(H63:H66)","v":113},59,32,{"$f":"SUM(K63:K66)","v":6},1,0]
[null,"SECCION E: MUJERES Y GESTANTES EN CONTROL CON CONSULTA NUTRICIONAL "]
[null,"MUJERES","TOTAL"]
["P1050100","Gestantes con malnutrición por déficit (bajo peso)",{"$f":"IFERROR(VLOOKUP($A70,Filtros!$A$5:$AY$22116,2,FALSE),0)","v":27},{"$f":"($CB70&$CC70&$CD70&$CE70&$CF70&$CG70&$CH70&$CI70&$CJ70&$CK70&$CM70&$CN70&$CO70&$CP70&$CQ70&$CR70&$CS70&$CT70&$CU70&$CV70&$CW70&$CX70&$CY70&$CZ70&$DA70)","v":""},{"$nulls":75},{"$f":"IF($C$70<=$D$61,\"\",\"* Gestantes malnutricion no debe ser mayor que Gestantes en Control Bajo Peso (Seccion D). \")","v":""},{"$nulls":25},{"$f":"IF($C$70<=$D$61,0,1)","v":0}]
["P1050101","Gestantes con malnutrición por exceso - Obesa",{"$f":"IFERROR(VLOOKUP($A71,Filtros!$A$5:$AY$22116,2,FALSE),0)","v":773},{"$f":"($CB71&$CC71&$CD71&$CE71&$CF71&$CG71&$CH71&$CI71&$CJ71&$CK71&$CM71&$CN71&$CO71&$CP71&$CQ71&$CR71&$CS71&$CT71&$CU71&$CV71&$CW71&$CX71&$CY71&$CZ71&$DA71)","v":""},{"$nulls":75},{"$f":"IF($C$71<=$D$58,\"\",\"* Gestantes malnutricion no debe ser mayor que Gestantes en Control Obesa (Seccion D). \")","v":""},{"$nulls":25},{"$f":"IF($C$71<=$D$58,0,1)","v":0}]
["P1050102","Gestantes con malnutrición por exceso - Sobrepeso",{"$f":"IFERROR(VLOOKUP($A72,Filtros!$A$5:$AY$22116,2,FALSE),0)","v":569},{"$f":"($CB72&$CC72&$CD72&$CE72&$CF72&$CG72&$CH72&$CI72&$CJ72&$CK72&$CM72&$CN72&$CO72&$CP72&$CQ72&$CR72&$CS72&$CT72&$CU72&$CV72&$CW72&$CX72&$CY72&$CZ72&$DA72)","v":""},{"$nulls":75},{"$f":"IF($C$72<=$D$59,\"\",\"* Gestantes malnutricion no debe ser mayor que Gestantes en Control Sobrepeso (Seccion D). \")","v":""},{"$nulls":25},{"$f":"IF($C$72<=$D$59,0,1)","v":0}]
["P1050103","En 3º mes post parto",{"$f":"IFERROR(VLOOKUP($A73,Filtros!$A$5:$AY$22116,2,FALSE),0)","v":64},{"$f":"($CB73&$CC73&$CD73&$CE73&$CF73&$CG73&$CH73&$CI73&$CJ73&$CK73&$CM73&$CN73&$CO73&$CP73&$CQ73&$CR73&$CS73&$CT73&$CU73&$CV73&$CW73&$CX73&$CY73&$CZ73&$DA73)","v":""}]
["P1050104","En 6º mes post parto",{"$f":"IFERROR(VLOOKUP($A74,Filtros!$A$5:$AY$22116,2,FALSE),0)","v":174},{"$f":"($CB74&$CC74&$CD74&$CE74&$CF74&$CG74&$CH74&$CI74&$CJ74&$CK74&$CM74&$CN74&$CO74&$CP74&$CQ74&$CR74&$CS74&$CT74&$CU74&$CV74&$CW74&$CX74&$CY74&$CZ74&$DA74)","v":""}]
[null,"SECCION F: MUJERES EN CONTROL DE CLIMATERIO "]
[null,"Población","45 a 64 años"]
["P1030301","Población en Control",{"$f":"IFERROR(VLOOKUP($A77,Filtros!$A$5:$AY$22116,2,FALSE),0)","v":8440},{"$f":"($CB77&$CC77&$CD77&$CE77&$CF77&$CG77&$CH77&$CI77&$CJ77&$CK77&$CM77&$CN77&$CO77&$CP77&$CQ77&$CR77&$CS77&$CT77&$CU77&$CV77&$CW77&$CX77&$CY77&$CZ77&$DA77)","v":""}]
["P1060040","Mujeres con pauta aplicada MRS*",{"$f":"IFERROR(VLOOKUP($A78,Filtros!$A$5:$AY$22116,2,FALSE),0)","v":2207},{"$f":"($CB78&$CC78&$CD78&$CE78&$CF78&$CG78&$CH78&$CI78&$CJ78&$CK78&$CM78&$CN78&$CO78&$CP78&$CQ78&$CR78&$CS78&$CT78&$CU78&$CV78&$CW78&$CX78&$CY78&$CZ78&$DA78)","v":""},{"$nulls":75},{"$f":"IF($C78>$C77,\"* El Nº de mujeres con pauta aplicada MRS no debe ser mayor a la población de mujeres en control por climaterio. \",\"\")","v":""},{"$nulls":25},{"$f":"IF($C78>$C77,1,0)","v":0}]
["P1060050","Mujeres con MRS elevado*",{"$f":"IFERROR(VLOOKUP($A79,Filtros!$A$5:$AY$22116,2,FALSE),0)","v":875},{"$f":"($CB79&$CC79&$CD79&$CE79&$CF79&$CG79&$CH79&$CI79&$CJ79&$CK79&$CM79&$CN79&$CO79&$CP79&$CQ79&$CR79&$CS79&$CT79&$CU79&$CV79&$CW79&$CX79&$CY79&$CZ79&$DA79)","v":""},{"$nulls":75},{"$f":"IF($C79>$C78,\"* El Nº de mujeres con puntaje elevado de MRS no debe ser mayor al Nº de mujeres con pauta aplicada MRS. \",\"\")","v":""},{"$nulls":25},{"$f":"IF($C79>$C78,1,0)","v":0}]
["P1060060","Mujeres con aplicación de terapia hormonal de reemplazo según MRS*",{"$f":"IFERROR(VLOOKUP($A80,Filtros!$A$5:$AY$22116,2,FALSE),0)","v":378},{"$f":"($CB80&$CC80&$CD80&$CE80&$CF80&$CG80&$CH80&$CI80&$CJ80&$CK80&$CM80&$CN80&$CO80&$CP80&$CQ80&$CR80&$CS80&$CT80&$CU80&$CV80&$CW80&$CX80&$CY80&$CZ80&$DA80)","v":""},{"$nulls":75},{"$f":"IF($C80>$C79,\"* El Nº de mujeres con aplicación de terapia hormonal de reemplazo según MRS no debe ser mayor que el numero de mujeres con puntaje elevado de MRS. \",\"\")","v":""},{"$nulls":25},{"$f":"IF($C80>$C79,1,0)","v":0}]
["P1200340","Talleres educativos",{"$f":"IFERROR(VLOOKUP($A81,Filtros!$A$5:$AY$22116,2,FALSE),0)","v":30},{"$f":"($CB81&$CC81&$CD81&$CE81&$CF81&$CG81&$CH81&$CI81&$CJ81&$CK81&$CM81&$CN81&$CO81&$CP81&$CQ81&$CR81&$CS81&$CT81&$CU81&$CV81&$CW81&$CX81&$CY81&$CZ81&$DA81)","v":""}]
[null,"* MRS: Menopause Rating Scale"]
[null,"SECCION F.1: POBLACIÓN EN CONTROL CLIMATERIO SEGÚN TIPO TERAPIA REEMPLAZO HORMONAL"]
[null,"MÉTODOS",null,"TOTAL","GRUPO DE EDAD (en años)",{"$nulls":4},"Pueblos Originarios","Población Migrantes"]
[{"$nulls":4},"Menor \nde 45 años","45 a 49 años","50 a 54 años","55 a 60 años","60 a 64 años"]
["P1200280","Estradiol Micronizado 1mg",null,{"$f":"IFERROR(VLOOKUP($A86,Filtros!$A$5:$AY$22116,2,FALSE),0)","v":45},{"$f":"IFERROR(VLOOKUP($A86,Filtros!$A$5:$AY$22116,3,FALSE),0)","v":4},{"$f":"IFERROR(VLOOKUP($A86,Filtros!$A$5:$AY$22116,4,FALSE),0)","v":13},{"$f":"IFERROR(VLOOKUP($A86,Filtros!$A$5:$AY$22116,5,FALSE),0)","v":15},{"$f":"IFERROR(VLOOKUP($A86,Filtros!$A$5:$AY$22116,6,FALSE),0)","v":11},{"$f":"IFERROR(VLOOKUP($A86,Filtros!$A$5:$AY$22116,7,FALSE),0)","v":2},{"$f":"IFERROR(VLOOKUP($A86,Filtros!$A$5:$AY$22116,8,FALSE),0)","v":0},{"$f":"IFERROR(VLOOKUP($A86,Filtros!$A$5:$AY$22116,9,FALSE),0)","v":2},{"$f":"($CB86&$CC86&$CD86&$CE86&$CF86&$CG86&$CH86&$CI86&$CJ86&$CK86&$CM86&$CN86&$CO86&$CP86&$CQ86&$CR86&$CS86&$CT86&$CU86&$CV86&$CW86&$CX86&$CY86&$CZ86&$DA86)","v":""},{"$nulls":67},{"$f":"IF($J86>$D86,\"* La celda 'Pueblos Originarios' debe ser menor o igual al Total en control. \",\"\")","v":""},{"$f":"IF($K86>$D86,\"* La celda 'Población Migrantes' debe ser menor o igual al Total en control. \",\"\")","v":""},{"$f":"IF(AND($D86<>0,$J86=\"\"),\"* No olvide escribir en la celda de 'Pueblos Originarios' (Digite CERO si no tiene). \",\"\")","v":""},{"$f":"IF(AND($D86<>0,$K86=\"\"),\"* No olvide escribir en la celda de 'Población Migrantes' (Digite CERO si no tiene). \",\"\")","v":""},{"$nulls":22},{"$f":"IF($J86>$D86,1,0)","v":0},{"$f":"IF($K86>$D86,1,0)","v":0},{"$f":"IF(AND($D86<>0,$J86=\"\"),1,0)","v":0},{"$f":"IF(AND($D86<>0,$K86=\"\"),1,0)","v":0}]
["P1200290","Estradiol Gel",null,{"$f":"IFERROR(VLOOKUP($A87,Filtros!$A$5:$AY$22116,2,FALSE),0)","v":118},{"$f":"IFERROR(VLOOKUP($A87,Filtros!$A$5:$AY$22116,3,FALSE),0)","v":3},{"$f":"IFERROR(VLOOKUP($A87,Filtros!$A$5:$AY$22116,4,FALSE),0)","v":26},{"$f":"IFERROR(VLOOKUP($A87,Filtros!$A$5:$AY$22116,5,FALSE),0)","v":46},{"$f":"IFERROR(VLOOKUP($A87,Filtros!$A$5:$AY$22116,6,FALSE),0)","v":32},{"$f":"IFERROR(VLOOKUP($A87,Filtros!$A$5:$AY$22116,7,FALSE),0)","v":11},{"$f":"IFERROR(VLOOKUP($A87,Filtros!$A$5:$AY$22116,8,FALSE),0)","v":0},{"$f":"IFERROR(VLOOKUP($A87,Filtros!$A$5:$AY$22116,9,FALSE),0)","v":1},"",{"$nulls":67},"","","","",{"$nulls":22},0,0,0,0]
["P1200300","Progesterona Micronizada 100mg",null,{"$f":"IFERROR(VLOOKUP($A88,Filtros!$A$5:$AY$22116,2,FALSE),0)","v":26},{"$f":"IFERROR(VLOOKUP($A88,Filtros!$A$5:$AY$22116,3,FALSE),0)","v":1},{"$f":"IFERROR(VLOOKUP($A88,Filtros!$A$5:$AY$22116,4,FALSE),0)","v":7},{"$f":"IFERROR(VLOOKUP($A88,Filtros!$A$5:$AY$22116,5,FALSE),0)","v":9},{"$f":"IFERROR(VLOOKUP($A88,Filtros!$A$5:$AY$22116,6,FALSE),0)","v":6},{"$f":"IFERROR(VLOOKUP($A88,Filtros!$A$5:$AY$22116,7,FALSE),0)","v":3},{"$f":"IFERROR(VLOOKUP($A88,Filtros!$A$5:$AY$22116,8,FALSE),0)","v":0},{"$f":"IFERROR(VLOOKUP($A88,Filtros!$A$5:$AY$22116,9,FALSE),0)","v":0},"",{"$nulls":67},"","","","",{"$nulls":22},0,0,0,0]
["P1200310","Progesterona Micronizada 200mg",null,{"$f":"IFERROR(VLOOKUP($A89,Filtros!$A$5:$AY$22116,2,FALSE),0)","v":18},{"$f":"IFERROR(VLOOKUP($A89,Filtros!$A$5:$AY$22116,3,FALSE),0)","v":0},{"$f":"IFERROR(VLOOKUP($A89,Filtros!$A$5:$AY$22116,4,FALSE),0)","v":5},{"$f":"IFERROR(VLOOKUP($A89,Filtros!$A$5:$AY$22116,5,FALSE),0)","v":6},{"$f":"IFERROR(VLOOKUP($A89,Filtros!$A$5:$AY$22116,6,FALSE),0)","v":5},{"$f":"IFERROR(VLOOKUP($A89,Filtros!$A$5:$AY$22116,7,FALSE),0)","v":2},{"$f":"IFERROR(VLOOKUP($A89,Filtros!$A$5:$AY$22116,8,FALSE),0)","v":0},{"$f":"IFERROR(VLOOKUP($A89,Filtros!$A$5:$AY$22116,9,FALSE),0)","v":0},"",{"$nulls":67},"","","","",{"$nulls":22},0,0,0,0]
["P1200320","Nomegestrol 5mg comp.",null,{"$f":"IFERROR(VLOOKUP($A90,Filtros!$A$5:$AY$22116,2,FALSE),0)","v":0},{"$f":"IFERROR(VLOOKUP($A90,Filtros!$A$5:$AY$22116,3,FALSE),0)","v":0},{"$f":"IFERROR(VLOOKUP($A90,Filtros!$A$5:$AY$22116,4,FALSE),0)","v":0},{"$f":"IFERROR(VLOOKUP($A90,Filtros!$A$5:$AY$22116,5,FALSE),0)","v":0},{"$f":"IFERROR(VLOOKUP($A90,Filtros!$A$5:$AY$22116,6,FALSE),0)","v":0},{"$f":"IFERROR(VLOOKUP($A90,Filtros!$A$5:$AY$22116,7,FALSE),0)","v":0},{"$f":"IFERROR(VLOOKUP($A90,Filtros!$A$5:$AY$22116,8,FALSE),0)","v":0},{"$f":"IFERROR(VLOOKUP($A90,Filtros!$A$5:$AY$22116,9,FALSE),0)","v":0},"",{"$nulls":67},"","","","",{"$nulls":22},0,0,0,0]
["P1200330","Tibolona 2,5mg comp.",null,{"$f":"IFERROR(VLOOKUP($A91,Filtros!$A$5:$AY$22116,2,FALSE),0)","v":274},{"$f":"IFERROR(VLOOKUP($A91,Filtros!$A$5:$AY$22116,3,FALSE),0)","v":6},{"$f":"IFERROR(VLOOKUP($A91,Filtros!$A$5:$AY$22116,4,FALSE),0)","v":52},{"$f":"IFERROR(VLOOKUP($A91,Filtros!$A$5:$AY$22116,5,FALSE),0)","v":124},{"$f":"IFERROR(VLOOKUP($A91,Filtros!$A$5:$AY$22116,6,FALSE),0)","v":79},{"$f":"IFERROR(VLOOKUP($A91,Filtros!$A$5:$AY$22116,7,FALSE),0)","v":13},{"$f":"IFERROR(VLOOKUP($A91,Filtros!$A$5:$AY$22116,8,FALSE),0)","v":3},{"$f":"IFERROR(VLOOKUP($A91,Filtros!$A$5:$AY$22116,9,FALSE),0)","v":2},"",{"$nulls":67},"","","","",{"$nulls":22},0,0,0,0]
[null,"Total",null,{"$f":"SUM(E92:I92)","v":481},{"$f":"SUM(E86:E91)","v":14},{"$f":"SUM(F86:F91)","v":103},200,133,31,3,5]
[null,"SECCION G: GESTANTES EN CONTROL CON ECOGRAFÍA POR TRIMESTRE DE GESTACION (EN EL SEMESTRE)"]
[null,"Población","Primer trimestre","Segundo trimestre","Tercer trimestre","Total de Gestantes con Ecografías del extrasistema"]
["P1060106","Menor de 15",{"$f":"IFERROR(VLOOKUP($A95,Filtros!$A$5:$AY$22116,2,FALSE),0)","v":7},{"$f":"IFERROR(VLOOKUP($A95,Filtros!$A$5:$AY$22116,3,FALSE),0)","v":4},{"$f":"IFERROR(VLOOKUP($A95,Filtros!$A$5:$AY$22116,4,FALSE),0)","v":2},{"$f":"IFERROR(VLOOKUP($A95,Filtros!$A$5:$AY$22116,5,FALSE),0)","v":2},{"$f":"CB95","v":""},{"$nulls":72},{"$f":"IF($F95>$C95+$D95+$E95, \"* El total de ecografías realizadas en el extrasistema en menores de 15 años, no puede ser mayor al nº de ecografias realizadas en los tres trimestres. \", \"\")","v":""},{"$nulls":25},{"$f":"IF($F95>$C95+$D95+$E95, 1,0)","v":0}]
["P1060107","15 - 19 ",{"$f":"IFERROR(VLOOKUP($A96,Filtros!$A$5:$AY$22116,2,FALSE),0)","v":169},{"$f":"IFERROR(VLOOKUP($A96,Filtros!$A$5:$AY$22116,3,FALSE),0)","v":107},{"$f":"IFERROR(VLOOKUP($A96,Filtros!$A$5:$AY$22116,4,FALSE),0)","v":51},{"$f":"IFERROR(VLOOKUP($A96,Filtros!$A$5:$AY$22116,5,FALSE),0)","v":55},{"$f":"CB96","v":""},{"$nulls":72},{"$f":"IF($F96>$C96+$D96+$E96, \"* El total de ecografías realizadas en el extrasistema en menores de 15-19 años, no puede ser mayor al nº de ecografias realizadas en los tres trimestres. \", \"\")","v":""},{"$nulls":25},{"$f":"IF($F96>$C96+$D96+$E96, 1,0)","v":0}]
["P1060108","20 - 24",{"$f":"IFERROR(VLOOKUP($A97,Filtros!$A$5:$AY$22116,2,FALSE),0)","v":631},{"$f":"IFERROR(VLOOKUP($A97,Filtros!$A$5:$AY$22116,3,FALSE),0)","v":387},{"$f":"IFERROR(VLOOKUP($A97,Filtros!$A$5:$AY$22116,4,FALSE),0)","v":216},{"$f":"IFERROR(VLOOKUP($A97,Filtros!$A$5:$AY$22116,5,FALSE),0)","v":265},"",{"$nulls":72},{"$f":"IF($F97>$C97+$D97+$E97, \"* El total de ecografías realizadas en el extrasistema en menores de 20-24 años, no puede ser mayor al nº de ecografias realizadas en los tres trimestres. \", \"\")","v":""},{"$nulls":25},0]
["P1060109","25 - 29",{"$f":"IFERROR(VLOOKUP($A98,Filtros!$A$5:$AY$22116,2,FALSE),0)","v":801},{"$f":"IFERROR(VLOOKUP($A98,Filtros!$A$5:$AY$22116,3,FALSE),0)","v":509},{"$f":"IFERROR(VLOOKUP($A98,Filtros!$A$5:$AY$22116,4,FALSE),0)","v":254},{"$f":"IFERROR(VLOOKUP($A98,Filtros!$A$5:$AY$22116,5,FALSE),0)","v":364},"",{"$nulls":72},{"$f":"IF($F98>$C98+$D98+$E98, \"* El total de ecografías realizadas en el extrasistema en menores de 28-29 años, no puede ser mayor al nº de ecografias realizadas en los tres trimestres. \", \"\")","v":""},{"$nulls":25},0]
["P1060110","30 - 34",{"$f":"IFERROR(VLOOKUP($A99,Filtros!$A$5:$AY$22116,2,FALSE),0)","v":700},{"$f":"IFERROR(VLOOKUP($A99,Filtros!$A$5:$AY$22116,3,FALSE),0)","v":484},{"$f":"IFERROR(VLOOKUP($A99,Filtros!$A$5:$AY$22116,4,FALSE),0)","v":224},{"$f":"IFERROR(VLOOKUP($A99,Filtros!$A$5:$AY$22116,5,FALSE),0)","v":310},"",{"$nulls":72},{"$f":"IF($F99>$C99+$D99+$E99, \"* El total de ecografías realizadas en el extrasistema en menores de 30-34 años, no puede ser mayor al nº de ecografias realizadas en los tres trimestres. \", \"\")","v":""},{"$nulls":25},0]
["P1060111","35 - 39",{"$f":"IFERROR(VLOOKUP($A100,Filtros!$A$5:$AY$22116,2,FALSE),0)","v":334},{"$f":"IFERROR(VLOOKUP($A100,Filtros!$A$5:$AY$22116,3,FALSE),0)","v":220},{"$f":"IFERROR(VLOOKUP($A100,Filtros!$A$5:$AY$22116,4,FALSE),0)","v":109},{"$f":"IFERROR(VLOOKUP($A100,Filtros!$A$5:$AY$22116,5,FALSE),0)","v":152},"",{"$nulls":72},{"$f":"IF($F100>$C100+$D100+$E100, \"* El total de ecografías realizadas en el extrasistema en menores de 35-39 años, no puede ser mayor al nº de ecografias realizadas en los tres trimestres. \", \"\")","v":""},{"$nulls":25},0]
["P1060112","40 - 44",{"$f":"IFERROR(VLOOKUP($A101,Filtros!$A$5:$AY$22116,2,FALSE),0)","v":68},{"$f":"IFERROR(VLOOKUP($A101,Filtros!$A$5:$AY$22116,3,FALSE),0)","v":59},{"$f":"IFERROR(VLOOKUP($A101,Filtros!$A$5:$AY$22116,4,FALSE),0)","v":22},{"$f":"IFERROR(VLOOKUP($A101,Filtros!$A$5:$AY$22116,5,FALSE),0)","v":27},"",{"$nulls":72},{"$f":"IF($F101>$C101+$D101+$E101, \"* El total de ecografías realizadas en el extrasistema en menores de 40-44 años, no puede ser mayor al nº de ecografias realizadas en los tres trimestres. \", \"\")","v":""},{"$nulls":25},0]
["P1060113","45 - 49",{"$f":"IFERROR(VLOOKUP($A102,Filtros!$A$5:$AY$22116,2,FALSE),0)","v":5},{"$f":"IFERROR(VLOOKUP($A102,Filtros!$A$5:$AY$22116,3,FALSE),0)","v":2},{"$f":"IFERROR(VLOOKUP($A102,Filtros!$A$5:$AY$22116,4,FALSE),0)","v":0},{"$f":"IFERROR(VLOOKUP($A102,Filtros!$A$5:$AY$22116,5,FALSE),0)","v":2},"",{"$nulls":72},{"$f":"IF($F102>$C102+$D102+$E102, \"* El total de ecografías realizadas en el extrasistema en menores de 45-49 años, no puede ser mayor al nº de ecografias realizadas en los tres trimestres. \", \"\")","v":""},{"$nulls":25},0]
["P1060114","50 - 54",{"$f":"IFERROR(VLOOKUP($A103,Filtros!$A$5:$AY$22116,2,FALSE),0)","v":0},{"$f":"IFERROR(VLOOKUP($A103,Filtros!$A$5:$AY$22116,3,FALSE),0)","v":0},{"$f":"IFERROR(VLOOKUP($A103,Filtros!$A$5:$AY$22116,4,FALSE),0)","v":0},{"$f":"IFERROR(VLOOKUP($A103,Filtros!$A$5:$AY$22116,5,FALSE),0)","v":0},"",{"$nulls":72},{"$f":"IF($F103>$C103+$D103+$E103, \"* El total de ecografías realizadas en el extrasistema en menores de 50-54 años, no puede ser mayor al nº de ecografias realizadas en los tres trimestres. \", \"\")","v":""},{"$nulls":25},0]
[null,"TOTAL",{"$f":"SUM(C95:C103)","v":2715},{"$f":"SUM(D95:D103)","v":1772},{"$f":"SUM(E95:E103)","v":878},{"$f":"SUM(F95:F103)","v":1177}]
[null,"SECCION H: MUJERES BAJO CONTROL DE REGULACIÓN DE FERTILIDAD SEGÚN ESTADO NUTRICIONAL "]
[null,"POBLACION","ESTADO\nNUTRICIONAL","TOTAL","GRUPOS DE EDAD (en años)"]
[{"$nulls":4},"Menos 15 años","15 a 19 años","20 a 24 años","25 a 29 años","30 a 34 años","35 a 39 años","40 a 44 años","45 a 49 años","50 a 54 años"]
["P1600100","MUJERES BAJO CONTROL DE REGULACIÓN DE FERTILIDAD SEGÚN ESTADO NUTRICIONAL ","OBESA",{"$f":"IFERROR(VLOOKUP($A108,Filtros!$A$5:$AY$22116,2,FALSE),0)","v":14392},{"$f":"IFERROR(VLOOKUP($A108,Filtros!$A$5:$AY$22116,3,FALSE),0)","v":50},{"$f":"IFERROR(VLOOKUP($A108,Filtros!$A$5:$AY$22116,4,FALSE),0)","v":1108},{"$f":"IFERROR(VLOOKUP($A108,Filtros!$A$5:$AY$22116,5,FALSE),0)","v":2020},{"$f":"IFERROR(VLOOKUP($A108,Filtros!$A$5:$AY$22116,6,FALSE),0)","v":2524},{"$f":"IFERROR(VLOOKUP($A108,Filtros!$A$5:$AY$22116,7,FALSE),0)","v":2615},{"$f":"IFERROR(VLOOKUP($A108,Filtros!$A$5:$AY$22116,8,FALSE),0)","v":2216},{"$f":"IFERROR(VLOOKUP($A108,Filtros!$A$5:$AY$22116,9,FALSE),0)","v":1874},{"$f":"IFERROR(VLOOKUP($A108,Filtros!$A$5:$AY$22116,10,FALSE),0)","v":1381},{"$f":"IFERROR(VLOOKUP($A108,Filtros!$A$5:$AY$22116,11,FALSE),0)","v":604}]
["P1600101",null,"SOBREPESO",{"$f":"IFERROR(VLOOKUP($A109,Filtros!$A$5:$AY$22116,2,FALSE),0)","v":14522},{"$f":"IFERROR(VLOOKUP($A109,Filtros!$A$5:$AY$22116,3,FALSE),0)","v":77},{"$f":"IFERROR(VLOOKUP($A109,Filtros!$A$5:$AY$22116,4,FALSE),0)","v":1587},{"$f":"IFERROR(VLOOKUP($A109,Filtros!$A$5:$AY$22116,5,FALSE),0)","v":2248},{"$f":"IFERROR(VLOOKUP($A109,Filtros!$A$5:$AY$22116,6,FALSE),0)","v":2619},{"$f":"IFERROR(VLOOKUP($A109,Filtros!$A$5:$AY$22116,7,FALSE),0)","v":2474},{"$f":"IFERROR(VLOOKUP($A109,Filtros!$A$5:$AY$22116,8,FALSE),0)","v":2047},{"$f":"IFERROR(VLOOKUP($A109,Filtros!$A$5:$AY$22116,9,FALSE),0)","v":1588},{"$f":"IFERROR(VLOOKUP($A109,Filtros!$A$5:$AY$22116,10,FALSE),0)","v":1302},{"$f":"IFERROR(VLOOKUP($A109,Filtros!$A$5:$AY$22116,11,FALSE),0)","v":580}]
["P1600102",null,"NORMAL",{"$f":"IFERROR(VLOOKUP($A110,Filtros!$A$5:$AY$22116,2,FALSE),0)","v":12951},{"$f":"IFERROR(VLOOKUP($A110,Filtros!$A$5:$AY$22116,3,FALSE),0)","v":175},{"$f":"IFERROR(VLOOKUP($A110,Filtros!$A$5:$AY$22116,4,FALSE),0)","v":2158},{"$f":"IFERROR(VLOOKUP($A110,Filtros!$A$5:$AY$22116,5,FALSE),0)","v":2860},{"$f":"IFERROR(VLOOKUP($A110,Filtros!$A$5:$AY$22116,6,FALSE),0)","v":2633},{"$f":"IFERROR(VLOOKUP($A110,Filtros!$A$5:$AY$22116,7,FALSE),0)","v":1856},{"$f":"IFERROR(VLOOKUP($A110,Filtros!$A$5:$AY$22116,8,FALSE),0)","v":1354},{"$f":"IFERROR(VLOOKUP($A110,Filtros!$A$5:$AY$22116,9,FALSE),0)","v":952},{"$f":"IFERROR(VLOOKUP($A110,Filtros!$A$5:$AY$22116,10,FALSE),0)","v":680},{"$f":"IFERROR(VLOOKUP($A110,Filtros!$A$5:$AY$22116,11,FALSE),0)","v":283}]
["P1600103",null,"BAJO PESO",{"$f":"IFERROR(VLOOKUP($A111,Filtros!$A$5:$AY$22116,2,FALSE),0)","v":752},{"$f":"IFERROR(VLOOKUP($A111,Filtros!$A$5:$AY$22116,3,FALSE),0)","v":14},{"$f":"IFERROR(VLOOKUP($A111,Filtros!$A$5:$AY$22116,4,FALSE),0)","v":175},{"$f":"IFERROR(VLOOKUP($A111,Filtros!$A$5:$AY$22116,5,FALSE),0)","v":249},{"$f":"IFERROR(VLOOKUP($A111,Filtros!$A$5:$AY$22116,6,FALSE),0)","v":138},{"$f":"IFERROR(VLOOKUP($A111,Filtros!$A$5:$AY$22116,7,FALSE),0)","v":87},{"$f":"IFERROR(VLOOKUP($A111,Filtros!$A$5:$AY$22116,8,FALSE),0)","v":33},{"$f":"IFERROR(VLOOKUP($A111,Filtros!$A$5:$AY$22116,9,FALSE),0)","v":17},{"$f":"IFERROR(VLOOKUP($A111,Filtros!$A$5:$AY$22116,10,FALSE),0)","v":26},{"$f":"IFERROR(VLOOKUP($A111,Filtros!$A$5:$AY$22116,11,FALSE),0)","v":13}]
[null,null,"TOTAL",{"$f":"SUM(E112:M112)","v":42617},{"$f":"SUM(E108:E111)","v":316},{"$f":"SUM(F108:F111)","v":5028},7377,7914,7032,5650,4431,3389,1480]
[null,"NIVEL SECUNDARIO"]
[null,"SECCIÓN I POBLACIÓN EN CONTROL POR PATOLOGÍAS DE ALTO RIESGO OBSTÉTRICO"]
[null,"PATOLOGÍA","TOTAL"]
["P1030303","Preeclampsia (PE) ",{"$f":"IFERROR(VLOOKUP($A116,Filtros!$A$5:$AY$22116,2,FALSE),0)","v":17},{"$f":"($CB107&$CC107&$CD107&$CE107&$CF107&$CG107&$CH107&$CI107&$CJ107&$CK107&$CM107&$CN107&$CO107&$CP107&$CQ107&$CR107&$CS107&$CT107&$CU107&$CV107&$CW107&$CX107&$CY107&$CZ107&$DA107)","v":""}]
["P1060070","Sindrome Hipertensivo del Embarazo (SHE)",{"$f":"IFERROR(VLOOKUP($A117,Filtros!$A$5:$AY$22116,2,FALSE),0)","v":45},""]
["P1030304","Factores de riesgo y condicionantes de Parto Prematuro",{"$f":"IFERROR(VLOOKUP($A118,Filtros!$A$5:$AY$22116,2,FALSE),0)","v":101},""]
["P1030401","Retardo Crecimiento Intrauterino (RCIU )",{"$f":"IFERROR(VLOOKUP($A119,Filtros!$A$5:$AY$22116,2,FALSE),0)","v":19},""]
["P1040506","SÍFILIS",{"$f":"IFERROR(VLOOKUP($A120,Filtros!$A$5:$AY$22116,2,FALSE),0)","v":22},""]
["P1040507","VIH",{"$f":"IFERROR(VLOOKUP($A121,Filtros!$A$5:$AY$22116,2,FALSE),0)","v":1},""]
["P1060115","Diabetes Pre Gestacional",{"$f":"IFERROR(VLOOKUP($A122,Filtros!$A$5:$AY$22116,2,FALSE),0)","v":50},""]
["P1060116","Diabetes Gestacional",{"$f":"IFERROR(VLOOKUP($A123,Filtros!$A$5:$AY$22116,2,FALSE),0)","v":219},""]
["P1030403","Cesárea anterior",{"$f":"IFERROR(VLOOKUP($A124,Filtros!$A$5:$AY$22116,2,FALSE),0)","v":401},""]
["P1060080","Malformación Congénita",{"$f":"IFERROR(VLOOKUP($A125,Filtros!$A$5:$AY$22116,2,FALSE),0)","v":16},""]
["P1060117","Anemia",{"$f":"IFERROR(VLOOKUP($A126,Filtros!$A$5:$AY$22116,2,FALSE),0)","v":24},""]
["P1060118","Cardiopatías",{"$f":"IFERROR(VLOOKUP($A127,Filtros!$A$5:$AY$22116,2,FALSE),0)","v":12},""]
["P1060119","Pielonefritis",{"$f":"IFERROR(VLOOKUP($A128,Filtros!$A$5:$AY$22116,2,FALSE),0)","v":1},""]
["P1060120","Rh(-) sensibilizada",{"$f":"IFERROR(VLOOKUP($A129,Filtros!$A$5:$AY$22116,2,FALSE),0)","v":16},""]
["P1060121","Placenta previa",{"$f":"IFERROR(VLOOKUP($A130,Filtros!$A$5:$AY$22116,2,FALSE),0)","v":5},""]
["P1060122","Chagas",{"$f":"IFERROR(VLOOKUP($A131,Filtros!$A$5:$AY$22116,2,FALSE),0)","v":15},""]
["P1060123","Colestasia Intrahépatica de Embarazo",{"$f":"IFERROR(VLOOKUP($A132,Filtros!$A$5:$AY$22116,2,FALSE),0)","v":18},""]
["P1030404","Otras patologías del embarazo",{"$f":"IFERROR(VLOOKUP($A133,Filtros!$A$5:$AY$22116,2,FALSE),0)","v":843},""]
[null,"TOTAL",{"$f":"SUM(C116:C133)","v":1825}]
[]
[]
[]
[]
["CODIGOS ELIMINADOS"]
["P1200100"]
["P1200110"]
["P1200120"]
["P1200130"]
["P1200140"]
["P1200150"]
["P1200160",{"$f":"SUM(D11:T33,C37:G46,C50:D54,D58:M67,C70:C74,C77:C81,D86:K92,C95:F104,#REF!,C116:C134,E108:M111)","v":{"$error":"#REF!"}},"datos"]
["P1200170",{"$f":"SUM(DB$10:EA136)","v":0},"errores"]
["P1200180"]

{"sheet":"P2","index":2,"n_rows":162,"n_cols":117,"rows_kept":162,"merged":[[5,1,5,24],[7,1,9,2],[7,3,8,5],[7,6,7,33],[7,34,8,35],[7,36,8,37],[8,6,8,7],[8,8,8,9],[8,10,8,11],[8,12,8,13],[8,14,8,15],[8,16,8,17],[8,18,8,19],[8,20,8,21],[8,22,8,23],[8,24,8,25],[8,26,8,27],[8,28,8,29],[8,30,8,31],[8,32,8,33],[10,1,10,2],[11,1,16,1],[17,1,22,1],[23,1,29,1],[30,1,37,1],[38,1,38,13],[39,1,41,2],[39,3,40,5],[39,6,39,13],[40,6,40,7],[40,8,40,9],[40,10,40,11],[40,12,40,13],[42,1,42,2],[43,1,50,1],[51,1,57,1],[58,1,61,1],[62,1,70,1],[71,1,71,20],[73,1,73,2],[74,1,78,1],[79,1,83,1],[85,1,86,2],[85,3,86,3],[85,4,86,4],[85,5,86,5],[85,6,86,6],[85,7,86,7],[85,8,86,8],[85,9,86,9],[85,10,86,10],[85,11,86,11],[85,12,86,12],[87,1,90,1],[92,1,93,2],[92,3,93,3],[94,1,94,2],[95,1,95,2],[97,1,98,2],[97,3,98,3],[99,1,99,2],[100,1,100,2],[101,1,101,2],[102,1,102,2],[103,1,103,2],[104,1,104,2],[105,1,105,2],[106,1,106,2],[107,1,107,2],[108,1,108,2],[110,1,112,2],[110,3,111,5],[110,6,110,11],[110,12,112,12],[111,6,111,7],[111,8,111,9],[111,10,111,11],[113,1,113,2],[114,1,114,2],[115,1,115,2],[116,1,116,2],[117,1,117,2],[119,1,120,2],[119,3,120,3],[119,4,119,9],[121,1,121,2],[122,1,122,2],[123,1,123,2],[125,1,127,2],[125,3,126,5],[125,6,125,43],[125,44,126,45],[125,46,126,47],[126,6,126,7],[126,8,126,9],[126,10,126,11],[126,12,126,13],[126,14,126,15],[126,16,126,17],[126,18,126,19],[126,20,126,21],[126,22,126,23],[126,24,126,25],[126,26,126,27],[126,28,126,29],[126,30,126,31],[126,32,126,33],[126,34,126,35],[126,36,126,37],[126,38,126,39],[126,40,126,41],[126,42,126,43],[128,1,128,2],[129,1,129,2],[130,1,130,2],[131,1,131,2],[132,1,132,2],[133,1,133,2],[134,1,134,2],[135,1,135,2],[136,1,136,2],[137,1,137,2],[138,1,138,2],[139,1,139,2],[140,1,140,2],[141,1,141,2],[142,1,142,2],[143,1,143,2],[144,1,144,2],[145,1,145,2]]}
[]
[]
[]
[]
[]
[null,"REM-P2. POBLACIÓN EN CONTROL PROGRAMA NACIONAL  DE SALUD DE LA INFANCIA "]
[null,"SECCION A: POBLACIÓN EN CONTROL, SEGÚN ESTADO NUTRICIONAL PARA NIÑOS MENOR DE UN MES-59 MESES"]
[null,"INDICADOR NUTRICIONAL\nY\nPARÁMETROS DE MEDICIÓN",null,"TOTAL",null,null,"GRUPOS DE EDAD (en meses - años) Y SEXO",{"$nulls":27},"Pueblos Originarios",null,"Población Migrantes"]
[{"$nulls":6},"Menor de 1 mes",null,"1 mes",null,"2 meses",null,"3 meses",null,"4 meses",null,"5 meses",null,"6 meses",null,"7 a 11 meses",null,"12 a 17 meses",null,"18 a 23 meses",null,"24 a 35 meses",null,"36 a 41 meses",null,"42 a 47 meses",null,"48 a 59 meses"]
[{"$nulls":3},"Ambos sexos","Hombres","Mujeres","Hombres","Mujeres","Hombres","Mujeres","Hombres","Mujeres","Hombres","Mujeres","Hombres","Mujeres","Hombres","Mujeres","Hombres","Mujeres","Hombres","Mujeres","Hombres","Mujeres","Hombres","Mujeres","Hombres","Mujeres","Hombres","Mujeres","Hombres","Mujeres","Hombres","Mujeres","Hombres","Mujeres","Hombres","Mujeres"]
["P2060000","TOTAL DE NIÑOS EN CONTROL",null,{"$f":"IFERROR(VLOOKUP($A11,Filtros!$A$5:$AY$22116,2,FALSE),0)","v":26393},{"$f":"IFERROR(VLOOKUP($A11,Filtros!$A$5:$AY$22116,3,FALSE),0)","v":13432},{"$f":"IFERROR(VLOOKUP($A11,Filtros!$A$5:$AY$22116,4,FALSE),0)","v":12961},{"$f":"IFERROR(VLOOKUP($A11,Filtros!$A$5:$AY$22116,5,FALSE),0)","v":188},{"$f":"IFERROR(VLOOKUP($A11,Filtros!$A$5:$AY$22116,6,FALSE),0)","v":131},{"$f":"IFERROR(VLOOKUP($A11,Filtros!$A$5:$AY$22116,7,FALSE),0)","v":208},{"$f":"IFERROR(VLOOKUP($A11,Filtros!$A$5:$AY$22116,8,FALSE),0)","v":215},{"$f":"IFERROR(VLOOKUP($A11,Filtros!$A$5:$AY$22116,9,FALSE),0)","v":260},{"$f":"IFERROR(VLOOKUP($A11,Filtros!$A$5:$AY$22116,10,FALSE),0)","v":265},{"$f":"IFERROR(VLOOKUP($A11,Filtros!$A$5:$AY$22116,11,FALSE),0)","v":255},{"$f":"IFERROR(VLOOKUP($A11,Filtros!$A$5:$AY$22116,12,FALSE),0)","v":233},{"$f":"IFERROR(VLOOKUP($A11,Filtros!$A$5:$AY$22116,13,FALSE),0)","v":254},{"$f":"IFERROR(VLOOKUP($A11,Filtros!$A$5:$AY$22116,14,FALSE),0)","v":266},{"$f":"IFERROR(VLOOKUP($A11,Filtros!$A$5:$AY$22116,15,FALSE),0)","v":252},{"$f":"IFERROR(VLOOKUP($A11,Filtros!$A$5:$AY$22116,16,FALSE),0)","v":259},{"$f":"IFERROR(VLOOKUP($A11,Filtros!$A$5:$AY$22116,17,FALSE),0)","v":306},{"$f":"IFERROR(VLOOKUP($A11,Filtros!$A$5:$AY$22116,18,FALSE),0)","v":319},{"$f":"IFERROR(VLOOKUP($A11,Filtros!$A$5:$AY$22116,19,FALSE),0)","v":1153},{"$f":"IFERROR(VLOOKUP($A11,Filtros!$A$5:$AY$22116,20,FALSE),0)","v":1170},{"$f":"IFERROR(VLOOKUP($A11,Filtros!$A$5:$AY$22116,21,FALSE),0)","v":1520},{"$f":"IFERROR(VLOOKUP($A11,Filtros!$A$5:$AY$22116,22,FALSE),0)","v":1471},{"$f":"IFERROR(VLOOKUP($A11,Filtros!$A$5:$AY$22116,23,FALSE),0)","v":1506},{"$f":"IFERROR(VLOOKUP($A11,Filtros!$A$5:$AY$22116,24,FALSE),0)","v":1508},{"$f":"IFERROR(VLOOKUP($A11,Filtros!$A$5:$AY$22116,25,FALSE),0)","v":2802},{"$f":"IFERROR(VLOOKUP($A11,Filtros!$A$5:$AY$22116,26,FALSE),0)","v":2623},{"$f":"IFERROR(VLOOKUP($A11,Filtros!$A$5:$AY$22116,27,FALSE),0)","v":1493},{"$f":"IFERROR(VLOOKUP($A11,Filtros!$A$5:$AY$22116,28,FALSE),0)","v":1380},{"$f":"IFERROR(VLOOKUP($A11,Filtros!$A$5:$AY$22116,29,FALSE),0)","v":1101},{"$f":"IFERROR(VLOOKUP($A11,Filtros!$A$5:$AY$22116,30,FALSE),0)","v":1108},{"$f":"IFERROR(VLOOKUP($A11,Filtros!$A$5:$AY$22116,31,FALSE),0)","v":2134},{"$f":"IFERROR(VLOOKUP($A11,Filtros!$A$5:$AY$22116,32,FALSE),0)","v":2013},{"$f":"IFERROR(VLOOKUP($A11,Filtros!$A$5:$AY$22116,33,FALSE),0)","v":73},{"$f":"IFERROR(VLOOKUP($A11,Filtros!$A$5:$AY$22116,34,FALSE),0)","v":86},{"$f":"IFERROR(VLOOKUP($A11,Filtros!$A$5:$AY$22116,35,FALSE),0)","v":141},{"$f":"IFERROR(VLOOKUP($A11,Filtros!$A$5:$AY$22116,36,FALSE),0)","v":140},{"$nulls":42},{"$f":"IF($I$11+$J$11<>$I$38+$J$38,\"* El Total de niños (as) en Control de 1 mes debe ser igual al Total de niños(as) según Diagnóstico Nutricional Integrado. \",\"\")","v":"* El Total de niños (as) en Control de 1 mes debe ser igual al Total de niños(as) según Diagnóstico Nutricional Integrado. "},{"$f":"IF($K$11+$L$11<>$K$38+$L$38,\"* El Total de niños (as) en Control de 2 meses debe ser igual al Total de niños(as) según Diagnóstico Nutricional Integrado. \",\"\")","v":"* El Total de niños (as) en Control de 2 meses debe ser igual al Total de niños(as) según Diagnóstico Nutricional Integrado. "},{"$f":"IF($M$11+$N$11<>$M$38+$N$38,\"* El Total de niños (as) en Control de 3 meses debe ser igual al Total de niños(as) según Diagnóstico Nutricional Integrado. \",\"\")","v":"* El Total de niños (as) en Control de 3 meses debe ser igual al Total de niños(as) según Diagnóstico Nutricional Integrado. "},{"$f":"IF($O$11+$P$11<>$O$38+$P$38,\"* El Total de niños (as) en Control de 4 meses debe ser igual al Total de niños(as) según Diagnóstico Nutricional Integrado. \",\"\")","v":"* El Total de niños (as) en Control de 4 meses debe ser igual al Total de niños(as) según Diagnóstico Nutricional Integrado. "},{"$f":"IF($Q$11+$R$11<>$Q$38+$R$38,\"* El Total de niños (as) en Control de 5 meses debe ser igual al Total de niños(as) según Diagnóstico Nutricional Integrado. \",\"\")","v":"* El Total de niños (as) en Control de 5 meses debe ser igual al Total de niños(as) según Diagnóstico Nutricional Integrado. "},{"$f":"IF($S$11+$T$11<>$S$38+$T$38,\"* El Total de niños (as) en Control de 6 meses debe ser igual al Total de niños(as) según Diagnóstico Nutricional Integrado. \",\"\")","v":"* El Total de niños (as) en Control de 6 meses debe ser igual al Total de niños(as) según Diagnóstico Nutricional Integrado. "},{"$f":"IF($U$11+$V$11<>$U$38+$V$38,\"* El Total de niños (as) en Control de 7 a 11 meses debe ser igual al Total de niños(as) según Diagnóstico Nutricional Integrado. \",\"\")","v":"* El Total de niños (as) en Control de 7 a 11 meses debe ser igual al Total de niños(as) según Diagnóstico Nutricional Integrado. "},{"$f":"IF($W$11+$X$11<>$W$38+$X$38,\"* El Total de niños (as) en Control de 12 a 17 meses debe ser igual al Total de niños(as) según Diagnóstico Nutricional Integrado. \",\"\")","v":"* El Total de niños (as) en Control de 12 a 17 meses debe ser igual al Total de niños(as) según Diagnóstico Nutricional Integrado. "},{"$nulls":17},{"$f":"IF($I$11+$J$11<>$I$38+$J$38,1,0)","v":1},{"$f":"IF($K$11+$L$11<>$K$38+$L$38,1,0)","v":1},{"$f":"IF($M$11+$N$11<>$M$38+$N$38,1,0)","v":1},{"$f":"IF($O$11+$P$11<>$O$38+$P$38,1,0)","v":1},{"$f":"IF($Q$11+$R$11<>$Q$38+$R$38,1,0)","v":1},{"$f":"IF($S$11+$T$11<>$S$38+$T$38,1,0)","v":1},{"$f":"IF($U$11+$V$11<>$U$38+$V$38,1,0)","v":1},{"$f":"IF($W$11+$X$11<>$W$38+$X$38,1,0)","v":1}]
["P2400100","INDICADOR PESO/EDAD","+ 2 D.S. (>= +2.0)",{"$f":"IFERROR(VLOOKUP($A12,Filtros!$A$5:$AY$22116,2,FALSE),0)","v":3098},{"$f":"IFERROR(VLOOKUP($A12,Filtros!$A$5:$AY$22116,3,FALSE),0)","v":1636},{"$f":"IFERROR(VLOOKUP($A12,Filtros!$A$5:$AY$22116,4,FALSE),0)","v":1462},{"$f":"IFERROR(VLOOKUP($A12,Filtros!$A$5:$AY$22116,5,FALSE),0)","v":0},{"$f":"IFERROR(VLOOKUP($A12,Filtros!$A$5:$AY$22116,6,FALSE),0)","v":0},{"$f":"IFERROR(VLOOKUP($A12,Filtros!$A$5:$AY$22116,7,FALSE),0)","v":6},{"$f":"IFERROR(VLOOKUP($A12,Filtros!$A$5:$AY$22116,8,FALSE),0)","v":3},{"$f":"IFERROR(VLOOKUP($A12,Filtros!$A$5:$AY$22116,9,FALSE),0)","v":10},{"$f":"IFERROR(VLOOKUP($A12,Filtros!$A$5:$AY$22116,10,FALSE),0)","v":5},{"$f":"IFERROR(VLOOKUP($A12,Filtros!$A$5:$AY$22116,11,FALSE),0)","v":12},{"$f":"IFERROR(VLOOKUP($A12,Filtros!$A$5:$AY$22116,12,FALSE),0)","v":10},{"$f":"IFERROR(VLOOKUP($A12,Filtros!$A$5:$AY$22116,13,FALSE),0)","v":16},{"$f":"IFERROR(VLOOKUP($A12,Filtros!$A$5:$AY$22116,14,FALSE),0)","v":9},{"$f":"IFERROR(VLOOKUP($A12,Filtros!$A$5:$AY$22116,15,FALSE),0)","v":18},{"$f":"IFERROR(VLOOKUP($A12,Filtros!$A$5:$AY$22116,16,FALSE),0)","v":18},{"$f":"IFERROR(VLOOKUP($A12,Filtros!$A$5:$AY$22116,17,FALSE),0)","v":27},{"$f":"IFERROR(VLOOKUP($A12,Filtros!$A$5:$AY$22116,18,FALSE),0)","v":34},{"$f":"IFERROR(VLOOKUP($A12,Filtros!$A$5:$AY$22116,19,FALSE),0)","v":104},{"$f":"IFERROR(VLOOKUP($A12,Filtros!$A$5:$AY$22116,20,FALSE),0)","v":103},{"$f":"IFERROR(VLOOKUP($A12,Filtros!$A$5:$AY$22116,21,FALSE),0)","v":164},{"$f":"IFERROR(VLOOKUP($A12,Filtros!$A$5:$AY$22116,22,FALSE),0)","v":148},{"$f":"IFERROR(VLOOKUP($A12,Filtros!$A$5:$AY$22116,23,FALSE),0)","v":172},{"$f":"IFERROR(VLOOKUP($A12,Filtros!$A$5:$AY$22116,24,FALSE),0)","v":172},{"$f":"IFERROR(VLOOKUP($A12,Filtros!$A$5:$AY$22116,25,FALSE),0)","v":345},{"$f":"IFERROR(VLOOKUP($A12,Filtros!$A$5:$AY$22116,26,FALSE),0)","v":346},{"$f":"IFERROR(VLOOKUP($A12,Filtros!$A$5:$AY$22116,27,FALSE),0)","v":253},{"$f":"IFERROR(VLOOKUP($A12,Filtros!$A$5:$AY$22116,28,FALSE),0)","v":182},{"$f":"IFERROR(VLOOKUP($A12,Filtros!$A$5:$AY$22116,29,FALSE),0)","v":165},{"$f":"IFERROR(VLOOKUP($A12,Filtros!$A$5:$AY$22116,30,FALSE),0)","v":142},{"$f":"IFERROR(VLOOKUP($A12,Filtros!$A$5:$AY$22116,31,FALSE),0)","v":344},{"$f":"IFERROR(VLOOKUP($A12,Filtros!$A$5:$AY$22116,32,FALSE),0)","v":290},{"$f":"IFERROR(VLOOKUP($A12,Filtros!$A$5:$AY$22116,33,FALSE),0)","v":2},{"$f":"IFERROR(VLOOKUP($A12,Filtros!$A$5:$AY$22116,34,FALSE),0)","v":9},{"$f":"IFERROR(VLOOKUP($A12,Filtros!$A$5:$AY$22116,35,FALSE),0)","v":9},{"$f":"IFERROR(VLOOKUP($A12,Filtros!$A$5:$AY$22116,36,FALSE),0)","v":11},{"$f":"CF14 & CG14","v":""},{"$nulls":41},{"$f":"IF($Y$11+$Z$11<>$Y$38+$Z$38,\"* El Total de niños (as) en Control de 18 a 23 meses debe ser igual al Total de niños(as) según Diagnóstico Nutricional Integrado. \",\"\")","v":"* El Total de niños (as) en Control de 18 a 23 meses debe ser igual al Total de niños(as) según Diagnóstico Nutricional Integrado. "},{"$f":"IF($AA$11+$AB$11<>$AA$38+$AB$38,\"* El Total de niños (as) en Control de 24 a 35 meses debe ser igual al Total de niños(as) según Diagnóstico Nutricional Integrado. \",\"\")","v":"* El Total de niños (as) en Control de 24 a 35 meses debe ser igual al Total de niños(as) según Diagnóstico Nutricional Integrado. "},{"$f":"IF($AC$11+$AD$11<>$AC$38+$AD$38,\"* El Total de niños (as) en Control de 36 a 41 meses debe ser igual al Total de niños(as) según Diagnóstico Nutricional Integrado. \",\"\")","v":"* El Total de niños (as) en Control de 36 a 41 meses debe ser igual al Total de niños(as) según Diagnóstico Nutricional Integrado. "},{"$f":"IF($AE$11+$AF$11<>$AE$38+$AF$38,\"* El Total de niños (as) en Control de 42 a 47 meses debe ser igual al Total de niños(as) según Diagnóstico Nutricional Integrado. \",\"\")","v":"* El Total de niños (as) en Control de 42 a 47 meses debe ser igual al Total de niños(as) según Diagnóstico Nutricional Integrado. "},{"$f":"IF($AG$11+$AH$11<>$AG$38+$AH$38,\"* El Total de niños (as) en Control de 48 a 59 meses debe ser igual al Total de niños(as) según Diagnóstico Nutricional Integrado. \",\"\")","v":"* El Total de niños (as) en Control de 48 a 59 meses debe ser igual al Total de niños(as) según Diagnóstico Nutricional Integrado. "},{"$f":"IF($D11>=$AI11+$AJ11,\"\",\"* El Total de Pueblos Originarios no debe ser mayor al total de niños en control. \")","v":""},{"$f":"IF($D11>=$AK11+$AL11,\"\",\"* El Total de Población Migrantes no debe ser mayor al total de niños en control. \")","v":""},{"$f":"IF($AI$11+$AJ$11<>$AI$38+$AJ$38,\"* El Total de niños (as) en Control de Pueblos Originarios debe ser igual al Total de niños(as) según Diagnóstico Nutricional Integrado. \",\"\")","v":"* El Total de niños (as) en Control de Pueblos Originarios debe ser igual al Total de niños(as) según Diagnóstico Nutricional Integrado. "},{"$f":"IF($AK$11+$AL$11<>$AK$38+$AL$38,\"* El Total de niños (as) en Control de Población Migrantes debe ser igual al Total de niños(as) según Diagnóstico Nutricional Integrado. \",\"\")","v":"* El Total de niños (as) en Control de Población Migrantes debe ser igual al Total de niños(as) según Diagnóstico Nutricional Integrado. "},{"$nulls":16},{"$f":"IF($Y$11+$Z$11<>$Y$38+$Z$38,1,0)","v":1},{"$f":"IF($AA$11+$AB$11<>$AA$38+$AB$38,1,0)","v":1},{"$f":"IF($AC$11+$AD$11<>$AC$38+$AD$38,1,0)","v":1},{"$f":"IF($AE$11+$AF$11<>$AE$38+$AF$38,1,0)","v":1},{"$f":"IF($AG$11+$AH$11<>$AG$38+$AH$38,1,0)","v":1},{"$f":"IF($D11>=$AI11+$AJ11,0,1)","v":0},{"$f":"IF($D11>=$AK11+$AL11,0,1)","v":0},{"$f":"IF($AI$11+$AJ$11<>$AI$38+$AJ$38,1,0)","v":1},{"$f":"IF($AK$11+$AL$11<>$AK$38+$AL$38,1,0)","v":1}]
["P2400110",null,"+ 1 D.S. (+1.0 a +1.9)",{"$f":"IFERROR(VLOOKUP($A13,Filtros!$A$5:$AY$22116,2,FALSE),0)","v":5558},{"$f":"IFERROR(VLOOKUP($A13,Filtros!$A$5:$AY$22116,3,FALSE),0)","v":2752},{"$f":"IFERROR(VLOOKUP($A13,Filtros!$A$5:$AY$22116,4,FALSE),0)","v":2806},{"$f":"IFERROR(VLOOKUP($A13,Filtros!$A$5:$AY$22116,5,FALSE),0)","v":0},{"$f":"IFERROR(VLOOKUP($A13,Filtros!$A$5:$AY$22116,6,FALSE),0)","v":0},{"$f":"IFERROR(VLOOKUP($A13,Filtros!$A$5:$AY$22116,7,FALSE),0)","v":20},{"$f":"IFERROR(VLOOKUP($A13,Filtros!$A$5:$AY$22116,8,FALSE),0)","v":29},{"$f":"IFERROR(VLOOKUP($A13,Filtros!$A$5:$AY$22116,9,FALSE),0)","v":48},{"$f":"IFERROR(VLOOKUP($A13,Filtros!$A$5:$AY$22116,10,FALSE),0)","v":35},{"$f":"IFERROR(VLOOKUP($A13,Filtros!$A$5:$AY$22116,11,FALSE),0)","v":51},{"$f":"IFERROR(VLOOKUP($A13,Filtros!$A$5:$AY$22116,12,FALSE),0)","v":38},{"$f":"IFERROR(VLOOKUP($A13,Filtros!$A$5:$AY$22116,13,FALSE),0)","v":50},{"$f":"IFERROR(VLOOKUP($A13,Filtros!$A$5:$AY$22116,14,FALSE),0)","v":51},{"$f":"IFERROR(VLOOKUP($A13,Filtros!$A$5:$AY$22116,15,FALSE),0)","v":48},{"$f":"IFERROR(VLOOKUP($A13,Filtros!$A$5:$AY$22116,16,FALSE),0)","v":58},{"$f":"IFERROR(VLOOKUP($A13,Filtros!$A$5:$AY$22116,17,FALSE),0)","v":71},{"$f":"IFERROR(VLOOKUP($A13,Filtros!$A$5:$AY$22116,18,FALSE),0)","v":70},{"$f":"IFERROR(VLOOKUP($A13,Filtros!$A$5:$AY$22116,19,FALSE),0)","v":265},{"$f":"IFERROR(VLOOKUP($A13,Filtros!$A$5:$AY$22116,20,FALSE),0)","v":226},{"$f":"IFERROR(VLOOKUP($A13,Filtros!$A$5:$AY$22116,21,FALSE),0)","v":318},{"$f":"IFERROR(VLOOKUP($A13,Filtros!$A$5:$AY$22116,22,FALSE),0)","v":350},{"$f":"IFERROR(VLOOKUP($A13,Filtros!$A$5:$AY$22116,23,FALSE),0)","v":335},{"$f":"IFERROR(VLOOKUP($A13,Filtros!$A$5:$AY$22116,24,FALSE),0)","v":340},{"$f":"IFERROR(VLOOKUP($A13,Filtros!$A$5:$AY$22116,25,FALSE),0)","v":601},{"$f":"IFERROR(VLOOKUP($A13,Filtros!$A$5:$AY$22116,26,FALSE),0)","v":653},{"$f":"IFERROR(VLOOKUP($A13,Filtros!$A$5:$AY$22116,27,FALSE),0)","v":291},{"$f":"IFERROR(VLOOKUP($A13,Filtros!$A$5:$AY$22116,28,FALSE),0)","v":312},{"$f":"IFERROR(VLOOKUP($A13,Filtros!$A$5:$AY$22116,29,FALSE),0)","v":214},{"$f":"IFERROR(VLOOKUP($A13,Filtros!$A$5:$AY$22116,30,FALSE),0)","v":232},{"$f":"IFERROR(VLOOKUP($A13,Filtros!$A$5:$AY$22116,31,FALSE),0)","v":440},{"$f":"IFERROR(VLOOKUP($A13,Filtros!$A$5:$AY$22116,32,FALSE),0)","v":412},{"$f":"IFERROR(VLOOKUP($A13,Filtros!$A$5:$AY$22116,33,FALSE),0)","v":10},{"$f":"IFERROR(VLOOKUP($A13,Filtros!$A$5:$AY$22116,34,FALSE),0)","v":14},{"$f":"IFERROR(VLOOKUP($A13,Filtros!$A$5:$AY$22116,35,FALSE),0)","v":15},{"$f":"IFERROR(VLOOKUP($A13,Filtros!$A$5:$AY$22116,36,FALSE),0)","v":20},{"$f":"CH14 & CI14","v":""},{"$nulls":48},{"$f":"IF(AND(E11<>0,AI11=\"\"), \"* No olvide escribir en la celda de Pueblos Originarios (Digite CERO si no tiene). \",IF(AND(F11<>0,AJ11=\"\"), \"* No olvide escribir en la celda de Pueblos Originarios (Digite CERO si no tiene). \",\"\"))","v":""},{"$f":"IF(AND(E11<>0,AK11=\"\"), \"* No olvide escribir en la celda de Población Migrantes (Digite CERO si no tiene). \",IF(AND(F11<>0,AL11=\"\"), \"* No olvide escribir en la celda de Población Migrantes (Digite CERO si no tiene). \",\"\"))","v":""},{"$nulls":23},{"$f":"IF(AND(E11<>0,AI11=\"\"), 1,IF(AND(F11<>0,AJ11=\"\"), 1,0))","v":0},{"$f":"IF(AND(E11<>0,AK11=\"\"), 1,IF(AND(F11<>0,AL11=\"\"), 1,0))","v":0}]
[null,null,"TOTAL",{"$f":"SUM(E14:F14)","v":8656},{"$f":"+I14+K14+M14+O14+Q14+S14+U14+W14+Y14+AA14+AC14+AE14+AG14","v":4388},{"$f":"+J14+L14+N14+P14+R14+T14+V14+X14+Z14+AB14+AD14+AF14+AH14","v":4268},null,null,{"$f":"+SUM(I12:I13)","v":26},{"$f":"+SUM(J12:J13)","v":32},58,40,63,48,66,60,66,76,98,104,369,{"$f":"+SUM(V12:V13)","v":329},{"$f":"SUM(W12:W13)","v":482},{"$f":"SUM(X12:X13)","v":498},{"$f":"SUM(Y12:Y13)","v":507},512,946,999,544,494,379,374,784,702,{"$f":"+SUM(AI12:AI13)","v":12},{"$f":"+SUM(AJ12:AJ13)","v":23},{"$f":"+SUM(AK12:AK13)","v":24},{"$f":"+SUM(AL12:AL13)","v":31},{"$f":"\"\" & CC14 & CD14","v":""},{"$nulls":41},{"$f":"IF($D14>=$AI14+$AJ14,\"\",\"* El Total de Pueblos Originarios no debe ser mayor al Total Indicador peso/edad\")","v":""},{"$f":"IF($D14>=$AK14+$AL14,\"\",\"* El Total de Población Migrante no debe ser mayor al Total Indicador peso/edad\")","v":""},null,{"$f":"IF(AND(E12<>0,AI12=\"\"), \"* No olvide escribir en la celda de Pueblos Originarios (Digite CERO si no tiene). \",IF(AND(F12<>0,AJ12=\"\"), \"* No olvide escribir en la celda de Pueblos Originarios (Digite CERO si no tiene). \",\"\"))","v":""},{"$f":"IF(AND(E12<>0,AK12=\"\"), \"* No olvide escribir en la celda de Población Migrantes (Digite CERO si no tiene). \",IF(AND(F12<>0,AL12=\"\"), \"* No olvide escribir en la celda de Población Migrantes (Digite CERO si no tiene). \",\"\"))","v":""},{"$f":"IF(AND(E13<>0,AI13=\"\"), \"* No olvide escribir en la celda de Pueblos Originarios (Digite CERO si no tiene). \",IF(AND(F13<>0,AJ13=\"\"), \"* No olvide escribir en la celda de Pueblos Originarios (Digite CERO si no tiene). \",\"\"))","v":""},{"$f":"IF(AND(E13<>0,AK13=\"\"), \"* No olvide escribir en la celda de Población Migrantes (Digite CERO si no tiene). \",IF(AND(F13<>0,AL13=\"\"), \"* No olvide escribir en la celda de Población Migrantes (Digite CERO si no tiene). \",\"\"))","v":""},{"$nulls":18},{"$f":"IF($D14>=$AI14+$AJ14,0,1)","v":0},{"$f":"IF($D14>=$AK14+$AL14,0,1)","v":0},null,null,{"$f":"IF(AND(E12<>0,AI12=\"\"), 1,IF(AND(F12<>0,AJ12=\"\"), 1,0))","v":0},{"$f":"IF(AND(E12<>0,AK12=\"\"), 1,IF(AND(F12<>0,AL12=\"\"), 1,0))","v":0},{"$f":"IF(AND(E13<>0,AK13=\"\"), 1,IF(AND(F13<>0,AL13=\"\"), 1,0))","v":0},{"$f":"IF(AND(E13<>0,AK13=\"\"), 1,IF(AND(F13<>0,AL13=\"\"), 1,0))","v":0}]
["P2070101",null,"- 1 D.S. (-1.0 a -1.9)",{"$f":"IFERROR(VLOOKUP($A15,Filtros!$A$5:$AY$22116,2,FALSE),0)","v":1147},{"$f":"IFERROR(VLOOKUP($A15,Filtros!$A$5:$AY$22116,3,FALSE),0)","v":624},{"$f":"IFERROR(VLOOKUP($A15,Filtros!$A$5:$AY$22116,4,FALSE),0)","v":523},{"$f":"IFERROR(VLOOKUP($A15,Filtros!$A$5:$AY$22116,5,FALSE),0)","v":0},{"$f":"IFERROR(VLOOKUP($A15,Filtros!$A$5:$AY$22116,6,FALSE),0)","v":0},{"$f":"IFERROR(VLOOKUP($A15,Filtros!$A$5:$AY$22116,7,FALSE),0)","v":13},{"$f":"IFERROR(VLOOKUP($A15,Filtros!$A$5:$AY$22116,8,FALSE),0)","v":10},{"$f":"IFERROR(VLOOKUP($A15,Filtros!$A$5:$AY$22116,9,FALSE),0)","v":30},{"$f":"IFERROR(VLOOKUP($A15,Filtros!$A$5:$AY$22116,10,FALSE),0)","v":19},{"$f":"IFERROR(VLOOKUP($A15,Filtros!$A$5:$AY$22116,11,FALSE),0)","v":14},{"$f":"IFERROR(VLOOKUP($A15,Filtros!$A$5:$AY$22116,12,FALSE),0)","v":16},{"$f":"IFERROR(VLOOKUP($A15,Filtros!$A$5:$AY$22116,13,FALSE),0)","v":15},{"$f":"IFERROR(VLOOKUP($A15,Filtros!$A$5:$AY$22116,14,FALSE),0)","v":12},{"$f":"IFERROR(VLOOKUP($A15,Filtros!$A$5:$AY$22116,15,FALSE),0)","v":20},{"$f":"IFERROR(VLOOKUP($A15,Filtros!$A$5:$AY$22116,16,FALSE),0)","v":16},{"$f":"IFERROR(VLOOKUP($A15,Filtros!$A$5:$AY$22116,17,FALSE),0)","v":11},{"$f":"IFERROR(VLOOKUP($A15,Filtros!$A$5:$AY$22116,18,FALSE),0)","v":22},{"$f":"IFERROR(VLOOKUP($A15,Filtros!$A$5:$AY$22116,19,FALSE),0)","v":47},{"$f":"IFERROR(VLOOKUP($A15,Filtros!$A$5:$AY$22116,20,FALSE),0)","v":57},{"$f":"IFERROR(VLOOKUP($A15,Filtros!$A$5:$AY$22116,21,FALSE),0)","v":70},{"$f":"IFERROR(VLOOKUP($A15,Filtros!$A$5:$AY$22116,22,FALSE),0)","v":48},{"$f":"IFERROR(VLOOKUP($A15,Filtros!$A$5:$AY$22116,23,FALSE),0)","v":73},{"$f":"IFERROR(VLOOKUP($A15,Filtros!$A$5:$AY$22116,24,FALSE),0)","v":50},{"$f":"IFERROR(VLOOKUP($A15,Filtros!$A$5:$AY$22116,25,FALSE),0)","v":132},{"$f":"IFERROR(VLOOKUP($A15,Filtros!$A$5:$AY$22116,26,FALSE),0)","v":77},{"$f":"IFERROR(VLOOKUP($A15,Filtros!$A$5:$AY$22116,27,FALSE),0)","v":67},{"$f":"IFERROR(VLOOKUP($A15,Filtros!$A$5:$AY$22116,28,FALSE),0)","v":69},{"$f":"IFERROR(VLOOKUP($A15,Filtros!$A$5:$AY$22116,29,FALSE),0)","v":53},{"$f":"IFERROR(VLOOKUP($A15,Filtros!$A$5:$AY$22116,30,FALSE),0)","v":54},{"$f":"IFERROR(VLOOKUP($A15,Filtros!$A$5:$AY$22116,31,FALSE),0)","v":79},{"$f":"IFERROR(VLOOKUP($A15,Filtros!$A$5:$AY$22116,32,FALSE),0)","v":73},{"$f":"IFERROR(VLOOKUP($A15,Filtros!$A$5:$AY$22116,33,FALSE),0)","v":4},{"$f":"IFERROR(VLOOKUP($A15,Filtros!$A$5:$AY$22116,34,FALSE),0)","v":5},{"$f":"IFERROR(VLOOKUP($A15,Filtros!$A$5:$AY$22116,35,FALSE),0)","v":10},{"$f":"IFERROR(VLOOKUP($A15,Filtros!$A$5:$AY$22116,36,FALSE),0)","v":11},{"$f":"CJ15 & CK15","v":""},{"$nulls":41},{"$f":"IF($D17>=$AI17+$AJ17,\"\",\"* El Total de Pueblos Originarios no debe ser mayor al Total Indicador peso/edad\")","v":""},{"$f":"IF($D17>=$AK17+$AL17,\"\",\"* El Total de Población Migrante no debe ser mayor al Total Indicador peso/edad\")","v":""},{"$nulls":5},{"$f":"IF(AND(E15<>0,AI15=\"\"), \"* No olvide escribir en la celda de Pueblos Originarios (Digite CERO si no tiene). \",IF(AND(F15<>0,AJ15=\"\"), \"* No olvide escribir en la celda de Pueblos Originarios (Digite CERO si no tiene). \",\"\"))","v":""},{"$f":"IF(AND(E15<>0,AK15=\"\"), \"* No olvide escribir en la celda de Población Migrantes (Digite CERO si no tiene). \",IF(AND(F15<>0,AL15=\"\"), \"* No olvide escribir en la celda de Población Migrantes (Digite CERO si no tiene). \",\"\"))","v":""},{"$nulls":16},{"$f":"IF($D17>=$AI17+$AJ17,0,1)","v":0},{"$f":"IF($D17>=$AK17+$AL17,0,1)","v":0},{"$nulls":5},{"$f":"IF(AND(E15<>0,AI15=\"\"), 1,IF(AND(F15<>0,AJ15=\"\"), 1,0))","v":0},{"$f":"IF(AND(E15<>0,AK15=\"\"), 1,IF(AND(F15<>0,AL15=\"\"), 1,0))","v":0}]
["P2070102",null,"- 2 D.S. (<= -2.0)",{"$f":"IFERROR(VLOOKUP($A16,Filtros!$A$5:$AY$22116,2,FALSE),0)","v":195},{"$f":"IFERROR(VLOOKUP($A16,Filtros!$A$5:$AY$22116,3,FALSE),0)","v":117},{"$f":"IFERROR(VLOOKUP($A16,Filtros!$A$5:$AY$22116,4,FALSE),0)","v":78},{"$f":"IFERROR(VLOOKUP($A16,Filtros!$A$5:$AY$22116,5,FALSE),0)","v":0},{"$f":"IFERROR(VLOOKUP($A16,Filtros!$A$5:$AY$22116,6,FALSE),0)","v":0},{"$f":"IFERROR(VLOOKUP($A16,Filtros!$A$5:$AY$22116,7,FALSE),0)","v":5},{"$f":"IFERROR(VLOOKUP($A16,Filtros!$A$5:$AY$22116,8,FALSE),0)","v":4},{"$f":"IFERROR(VLOOKUP($A16,Filtros!$A$5:$AY$22116,9,FALSE),0)","v":0},{"$f":"IFERROR(VLOOKUP($A16,Filtros!$A$5:$AY$22116,10,FALSE),0)","v":5},{"$f":"IFERROR(VLOOKUP($A16,Filtros!$A$5:$AY$22116,11,FALSE),0)","v":3},{"$f":"IFERROR(VLOOKUP($A16,Filtros!$A$5:$AY$22116,12,FALSE),0)","v":3},{"$f":"IFERROR(VLOOKUP($A16,Filtros!$A$5:$AY$22116,13,FALSE),0)","v":3},{"$f":"IFERROR(VLOOKUP($A16,Filtros!$A$5:$AY$22116,14,FALSE),0)","v":1},{"$f":"IFERROR(VLOOKUP($A16,Filtros!$A$5:$AY$22116,15,FALSE),0)","v":1},{"$f":"IFERROR(VLOOKUP($A16,Filtros!$A$5:$AY$22116,16,FALSE),0)","v":2},{"$f":"IFERROR(VLOOKUP($A16,Filtros!$A$5:$AY$22116,17,FALSE),0)","v":0},{"$f":"IFERROR(VLOOKUP($A16,Filtros!$A$5:$AY$22116,18,FALSE),0)","v":1},{"$f":"IFERROR(VLOOKUP($A16,Filtros!$A$5:$AY$22116,19,FALSE),0)","v":11},{"$f":"IFERROR(VLOOKUP($A16,Filtros!$A$5:$AY$22116,20,FALSE),0)","v":7},{"$f":"IFERROR(VLOOKUP($A16,Filtros!$A$5:$AY$22116,21,FALSE),0)","v":17},{"$f":"IFERROR(VLOOKUP($A16,Filtros!$A$5:$AY$22116,22,FALSE),0)","v":7},{"$f":"IFERROR(VLOOKUP($A16,Filtros!$A$5:$AY$22116,23,FALSE),0)","v":17},{"$f":"IFERROR(VLOOKUP($A16,Filtros!$A$5:$AY$22116,24,FALSE),0)","v":7},{"$f":"IFERROR(VLOOKUP($A16,Filtros!$A$5:$AY$22116,25,FALSE),0)","v":23},{"$f":"IFERROR(VLOOKUP($A16,Filtros!$A$5:$AY$22116,26,FALSE),0)","v":16},{"$f":"IFERROR(VLOOKUP($A16,Filtros!$A$5:$AY$22116,27,FALSE),0)","v":14},{"$f":"IFERROR(VLOOKUP($A16,Filtros!$A$5:$AY$22116,28,FALSE),0)","v":6},{"$f":"IFERROR(VLOOKUP($A16,Filtros!$A$5:$AY$22116,29,FALSE),0)","v":9},{"$f":"IFERROR(VLOOKUP($A16,Filtros!$A$5:$AY$22116,30,FALSE),0)","v":8},{"$f":"IFERROR(VLOOKUP($A16,Filtros!$A$5:$AY$22116,31,FALSE),0)","v":14},{"$f":"IFERROR(VLOOKUP($A16,Filtros!$A$5:$AY$22116,32,FALSE),0)","v":11},{"$f":"IFERROR(VLOOKUP($A16,Filtros!$A$5:$AY$22116,33,FALSE),0)","v":0},{"$f":"IFERROR(VLOOKUP($A16,Filtros!$A$5:$AY$22116,34,FALSE),0)","v":0},{"$f":"IFERROR(VLOOKUP($A16,Filtros!$A$5:$AY$22116,35,FALSE),0)","v":2},{"$f":"IFERROR(VLOOKUP($A16,Filtros!$A$5:$AY$22116,36,FALSE),0)","v":2},{"$f":"CJ16 & CK16","v":""},{"$nulls":48},{"$f":"IF(AND(E16<>0,AI16=\"\"), \"* No olvide escribir en la celda de Pueblos Originarios (Digite CERO si no tiene). \",IF(AND(F16<>0,AJ16=\"\"), \"* No olvide escribir en la celda de Pueblos Originarios (Digite CERO si no tiene). \",\"\"))","v":""},{"$f":"IF(AND(E16<>0,AK16=\"\"), \"* No olvide escribir en la celda de Población Migrantes (Digite CERO si no tiene). \",IF(AND(F16<>0,AL16=\"\"), \"* No olvide escribir en la celda de Población Migrantes (Digite CERO si no tiene). \",\"\"))","v":""},{"$nulls":23},{"$f":"IF(AND(E16<>0,AI16=\"\"), 1,IF(AND(F16<>0,AJ16=\"\"), 1,0))","v":0},{"$f":"IF(AND(E16<>0,AK16=\"\"), 1,IF(AND(F16<>0,AL16=\"\"), 1,0))","v":0}]
[null,null,"TOTAL",1342,741,601,null,null,{"$f":"SUM(I15:I16)","v":18},{"$f":"SUM(J15:J16)","v":14},30,24,17,19,18,13,21,18,11,23,58,64,{"$f":"SUM(W15:W16)","v":87},{"$f":"SUM(X15:X16)","v":55},90,57,155,93,81,75,62,62,{"$f":"SUM(AG15:AG16)","v":93},84,{"$f":"SUM(AI15:AI16)","v":4},{"$f":"SUM(AJ15:AJ16)","v":5},{"$f":"SUM(AK15:AK16)","v":12},{"$f":"SUM(AL15:AL16)","v":13},{"$f":"\"\" & CC15 & CD15","v":""}]
["P2070201","INDICADOR PESO/TALLA","+ 2 D.S. (>= +2.0)",{"$f":"IFERROR(VLOOKUP($A18,Filtros!$A$5:$AY$22116,2,FALSE),0)","v":4165},{"$f":"IFERROR(VLOOKUP($A18,Filtros!$A$5:$AY$22116,3,FALSE),0)","v":2179},{"$f":"IFERROR(VLOOKUP($A18,Filtros!$A$5:$AY$22116,4,FALSE),0)","v":1986},{"$f":"IFERROR(VLOOKUP($A18,Filtros!$A$5:$AY$22116,5,FALSE),0)","v":0},{"$f":"IFERROR(VLOOKUP($A18,Filtros!$A$5:$AY$22116,6,FALSE),0)","v":0},{"$f":"IFERROR(VLOOKUP($A18,Filtros!$A$5:$AY$22116,7,FALSE),0)","v":8},{"$f":"IFERROR(VLOOKUP($A18,Filtros!$A$5:$AY$22116,8,FALSE),0)","v":4},{"$f":"IFERROR(VLOOKUP($A18,Filtros!$A$5:$AY$22116,9,FALSE),0)","v":22},{"$f":"IFERROR(VLOOKUP($A18,Filtros!$A$5:$AY$22116,10,FALSE),0)","v":15},{"$f":"IFERROR(VLOOKUP($A18,Filtros!$A$5:$AY$22116,11,FALSE),0)","v":28},{"$f":"IFERROR(VLOOKUP($A18,Filtros!$A$5:$AY$22116,12,FALSE),0)","v":19},{"$f":"IFERROR(VLOOKUP($A18,Filtros!$A$5:$AY$22116,13,FALSE),0)","v":22},{"$f":"IFERROR(VLOOKUP($A18,Filtros!$A$5:$AY$22116,14,FALSE),0)","v":25},{"$f":"IFERROR(VLOOKUP($A18,Filtros!$A$5:$AY$22116,15,FALSE),0)","v":24},{"$f":"IFERROR(VLOOKUP($A18,Filtros!$A$5:$AY$22116,16,FALSE),0)","v":20},{"$f":"IFERROR(VLOOKUP($A18,Filtros!$A$5:$AY$22116,17,FALSE),0)","v":52},{"$f":"IFERROR(VLOOKUP($A18,Filtros!$A$5:$AY$22116,18,FALSE),0)","v":36},{"$f":"IFERROR(VLOOKUP($A18,Filtros!$A$5:$AY$22116,19,FALSE),0)","v":188},{"$f":"IFERROR(VLOOKUP($A18,Filtros!$A$5:$AY$22116,20,FALSE),0)","v":152},{"$f":"IFERROR(VLOOKUP($A18,Filtros!$A$5:$AY$22116,21,FALSE),0)","v":224},{"$f":"IFERROR(VLOOKUP($A18,Filtros!$A$5:$AY$22116,22,FALSE),0)","v":224},{"$f":"IFERROR(VLOOKUP($A18,Filtros!$A$5:$AY$22116,23,FALSE),0)","v":213},{"$f":"IFERROR(VLOOKUP($A18,Filtros!$A$5:$AY$22116,24,FALSE),0)","v":228},{"$f":"IFERROR(VLOOKUP($A18,Filtros!$A$5:$AY$22116,25,FALSE),0)","v":435},{"$f":"IFERROR(VLOOKUP($A18,Filtros!$A$5:$AY$22116,26,FALSE),0)","v":403},{"$f":"IFERROR(VLOOKUP($A18,Filtros!$A$5:$AY$22116,27,FALSE),0)","v":293},{"$f":"IFERROR(VLOOKUP($A18,Filtros!$A$5:$AY$22116,28,FALSE),0)","v":233},{"$f":"IFERROR(VLOOKUP($A18,Filtros!$A$5:$AY$22116,29,FALSE),0)","v":216},{"$f":"IFERROR(VLOOKUP($A18,Filtros!$A$5:$AY$22116,30,FALSE),0)","v":210},{"$f":"IFERROR(VLOOKUP($A18,Filtros!$A$5:$AY$22116,31,FALSE),0)","v":454},{"$f":"IFERROR(VLOOKUP($A18,Filtros!$A$5:$AY$22116,32,FALSE),0)","v":417},{"$f":"IFERROR(VLOOKUP($A18,Filtros!$A$5:$AY$22116,33,FALSE),0)","v":7},{"$f":"IFERROR(VLOOKUP($A18,Filtros!$A$5:$AY$22116,34,FALSE),0)","v":17},{"$f":"IFERROR(VLOOKUP($A18,Filtros!$A$5:$AY$22116,35,FALSE),0)","v":11},{"$f":"IFERROR(VLOOKUP($A18,Filtros!$A$5:$AY$22116,36,FALSE),0)","v":11},{"$f":"CJ18 & CK18","v":""},{"$nulls":48},{"$f":"IF(AND(E18<>0,AI18=\"\"), \"* No olvide escribir en la celda de Pueblos Originarios (Digite CERO si no tiene). \",IF(AND(F18<>0,AJ18=\"\"), \"* No olvide escribir en la celda de Pueblos Originarios (Digite CERO si no tiene). \",\"\"))","v":""},{"$f":"IF(AND(E18<>0,AK18=\"\"), \"* No olvide escribir en la celda de Población Migrantes (Digite CERO si no tiene). \",IF(AND(F18<>0,AL18=\"\"), \"* No olvide escribir en la celda de Población Migrantes (Digite CERO si no tiene). \",\"\"))","v":""},{"$nulls":23},{"$f":"IF(AND(E18<>0,AI18=\"\"), 1,IF(AND(F18<>0,AJ18=\"\"), 1,0))","v":0},{"$f":"IF(AND(E18<>0,AK18=\"\"), 1,IF(AND(F18<>0,AL18=\"\"), 1,0))","v":0}]
["P2070202",null,"+ 1 D.S. (+1.0 a +1.9)",{"$f":"IFERROR(VLOOKUP($A19,Filtros!$A$5:$AY$22116,2,FALSE),0)","v":6571},{"$f":"IFERROR(VLOOKUP($A19,Filtros!$A$5:$AY$22116,3,FALSE),0)","v":3265},{"$f":"IFERROR(VLOOKUP($A19,Filtros!$A$5:$AY$22116,4,FALSE),0)","v":3306},{"$f":"IFERROR(VLOOKUP($A19,Filtros!$A$5:$AY$22116,5,FALSE),0)","v":0},{"$f":"IFERROR(VLOOKUP($A19,Filtros!$A$5:$AY$22116,6,FALSE),0)","v":0},{"$f":"IFERROR(VLOOKUP($A19,Filtros!$A$5:$AY$22116,7,FALSE),0)","v":23},{"$f":"IFERROR(VLOOKUP($A19,Filtros!$A$5:$AY$22116,8,FALSE),0)","v":34},{"$f":"IFERROR(VLOOKUP($A19,Filtros!$A$5:$AY$22116,9,FALSE),0)","v":48},{"$f":"IFERROR(VLOOKUP($A19,Filtros!$A$5:$AY$22116,10,FALSE),0)","v":43},{"$f":"IFERROR(VLOOKUP($A19,Filtros!$A$5:$AY$22116,11,FALSE),0)","v":61},{"$f":"IFERROR(VLOOKUP($A19,Filtros!$A$5:$AY$22116,12,FALSE),0)","v":54},{"$f":"IFERROR(VLOOKUP($A19,Filtros!$A$5:$AY$22116,13,FALSE),0)","v":67},{"$f":"IFERROR(VLOOKUP($A19,Filtros!$A$5:$AY$22116,14,FALSE),0)","v":54},{"$f":"IFERROR(VLOOKUP($A19,Filtros!$A$5:$AY$22116,15,FALSE),0)","v":65},{"$f":"IFERROR(VLOOKUP($A19,Filtros!$A$5:$AY$22116,16,FALSE),0)","v":80},{"$f":"IFERROR(VLOOKUP($A19,Filtros!$A$5:$AY$22116,17,FALSE),0)","v":76},{"$f":"IFERROR(VLOOKUP($A19,Filtros!$A$5:$AY$22116,18,FALSE),0)","v":83},{"$f":"IFERROR(VLOOKUP($A19,Filtros!$A$5:$AY$22116,19,FALSE),0)","v":332},{"$f":"IFERROR(VLOOKUP($A19,Filtros!$A$5:$AY$22116,20,FALSE),0)","v":322},{"$f":"IFERROR(VLOOKUP($A19,Filtros!$A$5:$AY$22116,21,FALSE),0)","v":397},{"$f":"IFERROR(VLOOKUP($A19,Filtros!$A$5:$AY$22116,22,FALSE),0)","v":421},{"$f":"IFERROR(VLOOKUP($A19,Filtros!$A$5:$AY$22116,23,FALSE),0)","v":403},{"$f":"IFERROR(VLOOKUP($A19,Filtros!$A$5:$AY$22116,24,FALSE),0)","v":404},{"$f":"IFERROR(VLOOKUP($A19,Filtros!$A$5:$AY$22116,25,FALSE),0)","v":685},{"$f":"IFERROR(VLOOKUP($A19,Filtros!$A$5:$AY$22116,26,FALSE),0)","v":691},{"$f":"IFERROR(VLOOKUP($A19,Filtros!$A$5:$AY$22116,27,FALSE),0)","v":340},{"$f":"IFERROR(VLOOKUP($A19,Filtros!$A$5:$AY$22116,28,FALSE),0)","v":354},{"$f":"IFERROR(VLOOKUP($A19,Filtros!$A$5:$AY$22116,29,FALSE),0)","v":268},{"$f":"IFERROR(VLOOKUP($A19,Filtros!$A$5:$AY$22116,30,FALSE),0)","v":289},{"$f":"IFERROR(VLOOKUP($A19,Filtros!$A$5:$AY$22116,31,FALSE),0)","v":500},{"$f":"IFERROR(VLOOKUP($A19,Filtros!$A$5:$AY$22116,32,FALSE),0)","v":477},{"$f":"IFERROR(VLOOKUP($A19,Filtros!$A$5:$AY$22116,33,FALSE),0)","v":15},{"$f":"IFERROR(VLOOKUP($A19,Filtros!$A$5:$AY$22116,34,FALSE),0)","v":17},{"$f":"IFERROR(VLOOKUP($A19,Filtros!$A$5:$AY$22116,35,FALSE),0)","v":18},{"$f":"IFERROR(VLOOKUP($A19,Filtros!$A$5:$AY$22116,36,FALSE),0)","v":26},{"$f":"CJ19 & CK19","v":""},{"$nulls":48},{"$f":"IF(AND(E19<>0,AI19=\"\"), \"* No olvide escribir en la celda de Pueblos Originarios (Digite CERO si no tiene). \",IF(AND(F19<>0,AJ19=\"\"), \"* No olvide escribir en la celda de Pueblos Originarios (Digite CERO si no tiene). \",\"\"))","v":""},{"$f":"IF(AND(E19<>0,AK19=\"\"), \"* No olvide escribir en la celda de Población Migrantes (Digite CERO si no tiene). \",IF(AND(F19<>0,AL19=\"\"), \"* No olvide escribir en la celda de Población Migrantes (Digite CERO si no tiene). \",\"\"))","v":""},{"$nulls":23},{"$f":"IF(AND(E19<>0,AI19=\"\"), 1,IF(AND(F19<>0,AJ19=\"\"), 1,0))","v":0},{"$f":"IF(AND(E19<>0,AK19=\"\"), 1,IF(AND(F19<>0,AL19=\"\"), 1,0))","v":0}]
[null,null,"TOTAL",10736,5444,5292,null,null,{"$f":"+SUM(I18:I19)","v":31},{"$f":"+SUM(J18:J19)","v":38},{"$f":"+SUM(K18:K19)","v":70},58,89,73,89,79,89,100,128,119,520,474,621,645,616,632,1120,1094,633,587,484,499,954,894,22,34,29,37,{"$f":"\"\" & CC20 & CD20","v":""},{"$nulls":41},{"$f":"IF($D20>=$AI20+$AJ20,\"\",\"* El Total de Pueblos Originarios no debe ser mayor al Total Indicador peso/talla\")","v":""},{"$f":"IF($D20>=$AK20+$AL20,\"\",\"* El Total de Población Migrante no debe ser mayor al Total Indicador peso/talla\")","v":""},{"$nulls":23},{"$f":"IF($D20>=$AI20+$AJ20,0,1)","v":0},{"$f":"IF($D20>=$AK20+$AL20,0,1)","v":0}]
["P2070301",null,"- 1 D.S. (-1.0 a -1.9)",{"$f":"IFERROR(VLOOKUP($A21,Filtros!$A$5:$AY$22116,2,FALSE),0)","v":727},{"$f":"IFERROR(VLOOKUP($A21,Filtros!$A$5:$AY$22116,3,FALSE),0)","v":399},{"$f":"IFERROR(VLOOKUP($A21,Filtros!$A$5:$AY$22116,4,FALSE),0)","v":328},{"$f":"IFERROR(VLOOKUP($A21,Filtros!$A$5:$AY$22116,5,FALSE),0)","v":0},{"$f":"IFERROR(VLOOKUP($A21,Filtros!$A$5:$AY$22116,6,FALSE),0)","v":0},{"$f":"IFERROR(VLOOKUP($A21,Filtros!$A$5:$AY$22116,7,FALSE),0)","v":8},{"$f":"IFERROR(VLOOKUP($A21,Filtros!$A$5:$AY$22116,8,FALSE),0)","v":13},{"$f":"IFERROR(VLOOKUP($A21,Filtros!$A$5:$AY$22116,9,FALSE),0)","v":7},{"$f":"IFERROR(VLOOKUP($A21,Filtros!$A$5:$AY$22116,10,FALSE),0)","v":9},{"$f":"IFERROR(VLOOKUP($A21,Filtros!$A$5:$AY$22116,11,FALSE),0)","v":12},{"$f":"IFERROR(VLOOKUP($A21,Filtros!$A$5:$AY$22116,12,FALSE),0)","v":11},{"$f":"IFERROR(VLOOKUP($A21,Filtros!$A$5:$AY$22116,13,FALSE),0)","v":13},{"$f":"IFERROR(VLOOKUP($A21,Filtros!$A$5:$AY$22116,14,FALSE),0)","v":14},{"$f":"IFERROR(VLOOKUP($A21,Filtros!$A$5:$AY$22116,15,FALSE),0)","v":9},{"$f":"IFERROR(VLOOKUP($A21,Filtros!$A$5:$AY$22116,16,FALSE),0)","v":7},{"$f":"IFERROR(VLOOKUP($A21,Filtros!$A$5:$AY$22116,17,FALSE),0)","v":8},{"$f":"IFERROR(VLOOKUP($A21,Filtros!$A$5:$AY$22116,18,FALSE),0)","v":13},{"$f":"IFERROR(VLOOKUP($A21,Filtros!$A$5:$AY$22116,19,FALSE),0)","v":37},{"$f":"IFERROR(VLOOKUP($A21,Filtros!$A$5:$AY$22116,20,FALSE),0)","v":25},{"$f":"IFERROR(VLOOKUP($A21,Filtros!$A$5:$AY$22116,21,FALSE),0)","v":53},{"$f":"IFERROR(VLOOKUP($A21,Filtros!$A$5:$AY$22116,22,FALSE),0)","v":39},{"$f":"IFERROR(VLOOKUP($A21,Filtros!$A$5:$AY$22116,23,FALSE),0)","v":37},{"$f":"IFERROR(VLOOKUP($A21,Filtros!$A$5:$AY$22116,24,FALSE),0)","v":34},{"$f":"IFERROR(VLOOKUP($A21,Filtros!$A$5:$AY$22116,25,FALSE),0)","v":96},{"$f":"IFERROR(VLOOKUP($A21,Filtros!$A$5:$AY$22116,26,FALSE),0)","v":54},{"$f":"IFERROR(VLOOKUP($A21,Filtros!$A$5:$AY$22116,27,FALSE),0)","v":50},{"$f":"IFERROR(VLOOKUP($A21,Filtros!$A$5:$AY$22116,28,FALSE),0)","v":41},{"$f":"IFERROR(VLOOKUP($A21,Filtros!$A$5:$AY$22116,29,FALSE),0)","v":22},{"$f":"IFERROR(VLOOKUP($A21,Filtros!$A$5:$AY$22116,30,FALSE),0)","v":23},{"$f":"IFERROR(VLOOKUP($A21,Filtros!$A$5:$AY$22116,31,FALSE),0)","v":47},{"$f":"IFERROR(VLOOKUP($A21,Filtros!$A$5:$AY$22116,32,FALSE),0)","v":45},{"$f":"IFERROR(VLOOKUP($A21,Filtros!$A$5:$AY$22116,33,FALSE),0)","v":0},{"$f":"IFERROR(VLOOKUP($A21,Filtros!$A$5:$AY$22116,34,FALSE),0)","v":2},{"$f":"IFERROR(VLOOKUP($A21,Filtros!$A$5:$AY$22116,35,FALSE),0)","v":4},{"$f":"IFERROR(VLOOKUP($A21,Filtros!$A$5:$AY$22116,36,FALSE),0)","v":5},{"$f":"CJ21 & CK21","v":""},{"$nulls":48},{"$f":"IF(AND(E21<>0,AI21=\"\"), \"* No olvide escribir en la celda de Pueblos Originarios (Digite CERO si no tiene). \",IF(AND(F21<>0,AJ21=\"\"), \"* No olvide escribir en la celda de Pueblos Originarios (Digite CERO si no tiene). \",\"\"))","v":""},{"$f":"IF(AND(E21<>0,AK21=\"\"), \"* No olvide escribir en la celda de Población Migrantes (Digite CERO si no tiene). \",IF(AND(F21<>0,AL21=\"\"), \"* No olvide escribir en la celda de Población Migrantes (Digite CERO si no tiene). \",\"\"))","v":""},{"$nulls":23},{"$f":"IF(AND(E21<>0,AI21=\"\"), 1,IF(AND(F21<>0,AJ21=\"\"), 1,0))","v":0},{"$f":"IF(AND(E21<>0,AK21=\"\"), 1,IF(AND(F21<>0,AL21=\"\"), 1,0))","v":0}]
["P2070302",null,"- 2 D.S. (<= -2.0)",{"$f":"IFERROR(VLOOKUP($A22,Filtros!$A$5:$AY$22116,2,FALSE),0)","v":116},{"$f":"IFERROR(VLOOKUP($A22,Filtros!$A$5:$AY$22116,3,FALSE),0)","v":66},{"$f":"IFERROR(VLOOKUP($A22,Filtros!$A$5:$AY$22116,4,FALSE),0)","v":50},{"$f":"IFERROR(VLOOKUP($A22,Filtros!$A$5:$AY$22116,5,FALSE),0)","v":0},{"$f":"IFERROR(VLOOKUP($A22,Filtros!$A$5:$AY$22116,6,FALSE),0)","v":0},{"$f":"IFERROR(VLOOKUP($A22,Filtros!$A$5:$AY$22116,7,FALSE),0)","v":2},{"$f":"IFERROR(VLOOKUP($A22,Filtros!$A$5:$AY$22116,8,FALSE),0)","v":2},{"$f":"IFERROR(VLOOKUP($A22,Filtros!$A$5:$AY$22116,9,FALSE),0)","v":2},{"$f":"IFERROR(VLOOKUP($A22,Filtros!$A$5:$AY$22116,10,FALSE),0)","v":3},{"$f":"IFERROR(VLOOKUP($A22,Filtros!$A$5:$AY$22116,11,FALSE),0)","v":0},{"$f":"IFERROR(VLOOKUP($A22,Filtros!$A$5:$AY$22116,12,FALSE),0)","v":1},{"$f":"IFERROR(VLOOKUP($A22,Filtros!$A$5:$AY$22116,13,FALSE),0)","v":2},{"$f":"IFERROR(VLOOKUP($A22,Filtros!$A$5:$AY$22116,14,FALSE),0)","v":1},{"$f":"IFERROR(VLOOKUP($A22,Filtros!$A$5:$AY$22116,15,FALSE),0)","v":1},{"$f":"IFERROR(VLOOKUP($A22,Filtros!$A$5:$AY$22116,16,FALSE),0)","v":4},{"$f":"IFERROR(VLOOKUP($A22,Filtros!$A$5:$AY$22116,17,FALSE),0)","v":1},{"$f":"IFERROR(VLOOKUP($A22,Filtros!$A$5:$AY$22116,18,FALSE),0)","v":1},{"$f":"IFERROR(VLOOKUP($A22,Filtros!$A$5:$AY$22116,19,FALSE),0)","v":5},{"$f":"IFERROR(VLOOKUP($A22,Filtros!$A$5:$AY$22116,20,FALSE),0)","v":1},{"$f":"IFERROR(VLOOKUP($A22,Filtros!$A$5:$AY$22116,21,FALSE),0)","v":6},{"$f":"IFERROR(VLOOKUP($A22,Filtros!$A$5:$AY$22116,22,FALSE),0)","v":5},{"$f":"IFERROR(VLOOKUP($A22,Filtros!$A$5:$AY$22116,23,FALSE),0)","v":10},{"$f":"IFERROR(VLOOKUP($A22,Filtros!$A$5:$AY$22116,24,FALSE),0)","v":4},{"$f":"IFERROR(VLOOKUP($A22,Filtros!$A$5:$AY$22116,25,FALSE),0)","v":16},{"$f":"IFERROR(VLOOKUP($A22,Filtros!$A$5:$AY$22116,26,FALSE),0)","v":10},{"$f":"IFERROR(VLOOKUP($A22,Filtros!$A$5:$AY$22116,27,FALSE),0)","v":5},{"$f":"IFERROR(VLOOKUP($A22,Filtros!$A$5:$AY$22116,28,FALSE),0)","v":5},{"$f":"IFERROR(VLOOKUP($A22,Filtros!$A$5:$AY$22116,29,FALSE),0)","v":5},{"$f":"IFERROR(VLOOKUP($A22,Filtros!$A$5:$AY$22116,30,FALSE),0)","v":6},{"$f":"IFERROR(VLOOKUP($A22,Filtros!$A$5:$AY$22116,31,FALSE),0)","v":11},{"$f":"IFERROR(VLOOKUP($A22,Filtros!$A$5:$AY$22116,32,FALSE),0)","v":7},{"$f":"IFERROR(VLOOKUP($A22,Filtros!$A$5:$AY$22116,33,FALSE),0)","v":0},{"$f":"IFERROR(VLOOKUP($A22,Filtros!$A$5:$AY$22116,34,FALSE),0)","v":0},{"$f":"IFERROR(VLOOKUP($A22,Filtros!$A$5:$AY$22116,35,FALSE),0)","v":0},{"$f":"IFERROR(VLOOKUP($A22,Filtros!$A$5:$AY$22116,36,FALSE),0)","v":2},{"$f":"CJ22 & CK22","v":""},{"$nulls":48},{"$f":"IF(AND(E22<>0,AI22=\"\"), \"* No olvide escribir en la celda de Pueblos Originarios (Digite CERO si no tiene). \",IF(AND(F22<>0,AJ22=\"\"), \"* No olvide escribir en la celda de Pueblos Originarios (Digite CERO si no tiene). \",\"\"))","v":""},{"$f":"IF(AND(E22<>0,AK22=\"\"), \"* No olvide escribir en la celda de Población Migrantes (Digite CERO si no tiene). \",IF(AND(F22<>0,AL22=\"\"), \"* No olvide escribir en la celda de Población Migrantes (Digite CERO si no tiene). \",\"\"))","v":""},{"$nulls":23},{"$f":"IF(AND(E22<>0,AI22=\"\"), 1,IF(AND(F22<>0,AJ22=\"\"), 1,0))","v":0},{"$f":"IF(AND(E22<>0,AK22=\"\"), 1,IF(AND(F22<>0,AL22=\"\"), 1,0))","v":0}]
[null,null,"TOTAL",843,465,378,null,null,{"$f":"SUM(I21:I22)","v":10},{"$f":"SUM(J21:J22)","v":15},{"$f":"SUM(K21:K22)","v":9},12,12,12,15,15,10,11,9,14,42,26,59,44,47,38,112,64,55,46,27,29,58,52,0,2,4,7,{"$f":"\"\" & CC23 & CD23","v":""},{"$nulls":41},{"$f":"IF($D23>=$AI23+$AJ23,\"\",\"* El Total de Pueblos Originarios no debe ser mayor al Total Indicador peso/talla. \")","v":""},{"$f":"IF($D23>=$AK23+$AL23,\"\",\"* El Total de Población Migrantes no debe ser mayor al Total Indicador peso/talla. \")","v":""},{"$nulls":23},{"$f":"IF($D23>=$AI23+$AJ23,0,1)","v":0},{"$f":"IF($D23>=$AK23+$AL23,0,1)","v":0}]
["P2400120","INDICADOR TALLA/EDAD","+ 2 D.S. (>= +2.0)",{"$f":"IFERROR(VLOOKUP($A24,Filtros!$A$5:$AY$22116,2,FALSE),0)","v":866},{"$f":"IFERROR(VLOOKUP($A24,Filtros!$A$5:$AY$22116,3,FALSE),0)","v":471},{"$f":"IFERROR(VLOOKUP($A24,Filtros!$A$5:$AY$22116,4,FALSE),0)","v":395},{"$f":"IFERROR(VLOOKUP($A24,Filtros!$A$5:$AY$22116,5,FALSE),0)","v":0},{"$f":"IFERROR(VLOOKUP($A24,Filtros!$A$5:$AY$22116,6,FALSE),0)","v":0},{"$f":"IFERROR(VLOOKUP($A24,Filtros!$A$5:$AY$22116,7,FALSE),0)","v":4},{"$f":"IFERROR(VLOOKUP($A24,Filtros!$A$5:$AY$22116,8,FALSE),0)","v":3},{"$f":"IFERROR(VLOOKUP($A24,Filtros!$A$5:$AY$22116,9,FALSE),0)","v":3},{"$f":"IFERROR(VLOOKUP($A24,Filtros!$A$5:$AY$22116,10,FALSE),0)","v":5},{"$f":"IFERROR(VLOOKUP($A24,Filtros!$A$5:$AY$22116,11,FALSE),0)","v":8},{"$f":"IFERROR(VLOOKUP($A24,Filtros!$A$5:$AY$22116,12,FALSE),0)","v":8},{"$f":"IFERROR(VLOOKUP($A24,Filtros!$A$5:$AY$22116,13,FALSE),0)","v":5},{"$f":"IFERROR(VLOOKUP($A24,Filtros!$A$5:$AY$22116,14,FALSE),0)","v":3},{"$f":"IFERROR(VLOOKUP($A24,Filtros!$A$5:$AY$22116,15,FALSE),0)","v":3},{"$f":"IFERROR(VLOOKUP($A24,Filtros!$A$5:$AY$22116,16,FALSE),0)","v":8},{"$f":"IFERROR(VLOOKUP($A24,Filtros!$A$5:$AY$22116,17,FALSE),0)","v":8},{"$f":"IFERROR(VLOOKUP($A24,Filtros!$A$5:$AY$22116,18,FALSE),0)","v":12},{"$f":"IFERROR(VLOOKUP($A24,Filtros!$A$5:$AY$22116,19,FALSE),0)","v":33},{"$f":"IFERROR(VLOOKUP($A24,Filtros!$A$5:$AY$22116,20,FALSE),0)","v":27},{"$f":"IFERROR(VLOOKUP($A24,Filtros!$A$5:$AY$22116,21,FALSE),0)","v":54},{"$f":"IFERROR(VLOOKUP($A24,Filtros!$A$5:$AY$22116,22,FALSE),0)","v":34},{"$f":"IFERROR(VLOOKUP($A24,Filtros!$A$5:$AY$22116,23,FALSE),0)","v":53},{"$f":"IFERROR(VLOOKUP($A24,Filtros!$A$5:$AY$22116,24,FALSE),0)","v":35},{"$f":"IFERROR(VLOOKUP($A24,Filtros!$A$5:$AY$22116,25,FALSE),0)","v":127},{"$f":"IFERROR(VLOOKUP($A24,Filtros!$A$5:$AY$22116,26,FALSE),0)","v":123},{"$f":"IFERROR(VLOOKUP($A24,Filtros!$A$5:$AY$22116,27,FALSE),0)","v":55},{"$f":"IFERROR(VLOOKUP($A24,Filtros!$A$5:$AY$22116,28,FALSE),0)","v":37},{"$f":"IFERROR(VLOOKUP($A24,Filtros!$A$5:$AY$22116,29,FALSE),0)","v":38},{"$f":"IFERROR(VLOOKUP($A24,Filtros!$A$5:$AY$22116,30,FALSE),0)","v":40},{"$f":"IFERROR(VLOOKUP($A24,Filtros!$A$5:$AY$22116,31,FALSE),0)","v":80},{"$f":"IFERROR(VLOOKUP($A24,Filtros!$A$5:$AY$22116,32,FALSE),0)","v":60},{"$f":"IFERROR(VLOOKUP($A24,Filtros!$A$5:$AY$22116,33,FALSE),0)","v":10},{"$f":"IFERROR(VLOOKUP($A24,Filtros!$A$5:$AY$22116,34,FALSE),0)","v":4},{"$f":"IFERROR(VLOOKUP($A24,Filtros!$A$5:$AY$22116,35,FALSE),0)","v":4},{"$f":"IFERROR(VLOOKUP($A24,Filtros!$A$5:$AY$22116,36,FALSE),0)","v":7},{"$f":"CJ24 & CK24","v":""},{"$nulls":48},{"$f":"IF(AND(E24<>0,AI24=\"\"), \"* No olvide escribir en la celda de Pueblos Originarios (Digite CERO si no tiene). \",IF(AND(F24<>0,AJ24=\"\"), \"* No olvide escribir en la celda de Pueblos Originarios (Digite CERO si no tiene). \",\"\"))","v":""},{"$f":"IF(AND(E24<>0,AK24=\"\"), \"* No olvide escribir en la celda de Población Migrantes (Digite CERO si no tiene). \",IF(AND(F24<>0,AL24=\"\"), \"* No olvide escribir en la celda de Población Migrantes (Digite CERO si no tiene). \",\"\"))","v":""},{"$nulls":23},{"$f":"IF(AND(E24<>0,AI24=\"\"), 1,IF(AND(F24<>0,AJ24=\"\"), 1,0))","v":0},{"$f":"IF(AND(E24<>0,AK24=\"\"), 1,IF(AND(F24<>0,AL24=\"\"), 1,0))","v":0}]
["P2400130",null,"+ 1 D.S. (+1.0 a +1.9)",{"$f":"IFERROR(VLOOKUP($A25,Filtros!$A$5:$AY$22116,2,FALSE),0)","v":3405},{"$f":"IFERROR(VLOOKUP($A25,Filtros!$A$5:$AY$22116,3,FALSE),0)","v":1760},{"$f":"IFERROR(VLOOKUP($A25,Filtros!$A$5:$AY$22116,4,FALSE),0)","v":1645},{"$f":"IFERROR(VLOOKUP($A25,Filtros!$A$5:$AY$22116,5,FALSE),0)","v":0},{"$f":"IFERROR(VLOOKUP($A25,Filtros!$A$5:$AY$22116,6,FALSE),0)","v":0},{"$f":"IFERROR(VLOOKUP($A25,Filtros!$A$5:$AY$22116,7,FALSE),0)","v":18},{"$f":"IFERROR(VLOOKUP($A25,Filtros!$A$5:$AY$22116,8,FALSE),0)","v":26},{"$f":"IFERROR(VLOOKUP($A25,Filtros!$A$5:$AY$22116,9,FALSE),0)","v":22},{"$f":"IFERROR(VLOOKUP($A25,Filtros!$A$5:$AY$22116,10,FALSE),0)","v":22},{"$f":"IFERROR(VLOOKUP($A25,Filtros!$A$5:$AY$22116,11,FALSE),0)","v":20},{"$f":"IFERROR(VLOOKUP($A25,Filtros!$A$5:$AY$22116,12,FALSE),0)","v":24},{"$f":"IFERROR(VLOOKUP($A25,Filtros!$A$5:$AY$22116,13,FALSE),0)","v":23},{"$f":"IFERROR(VLOOKUP($A25,Filtros!$A$5:$AY$22116,14,FALSE),0)","v":27},{"$f":"IFERROR(VLOOKUP($A25,Filtros!$A$5:$AY$22116,15,FALSE),0)","v":30},{"$f":"IFERROR(VLOOKUP($A25,Filtros!$A$5:$AY$22116,16,FALSE),0)","v":31},{"$f":"IFERROR(VLOOKUP($A25,Filtros!$A$5:$AY$22116,17,FALSE),0)","v":43},{"$f":"IFERROR(VLOOKUP($A25,Filtros!$A$5:$AY$22116,18,FALSE),0)","v":47},{"$f":"IFERROR(VLOOKUP($A25,Filtros!$A$5:$AY$22116,19,FALSE),0)","v":143},{"$f":"IFERROR(VLOOKUP($A25,Filtros!$A$5:$AY$22116,20,FALSE),0)","v":114},{"$f":"IFERROR(VLOOKUP($A25,Filtros!$A$5:$AY$22116,21,FALSE),0)","v":205},{"$f":"IFERROR(VLOOKUP($A25,Filtros!$A$5:$AY$22116,22,FALSE),0)","v":198},{"$f":"IFERROR(VLOOKUP($A25,Filtros!$A$5:$AY$22116,23,FALSE),0)","v":213},{"$f":"IFERROR(VLOOKUP($A25,Filtros!$A$5:$AY$22116,24,FALSE),0)","v":213},{"$f":"IFERROR(VLOOKUP($A25,Filtros!$A$5:$AY$22116,25,FALSE),0)","v":390},{"$f":"IFERROR(VLOOKUP($A25,Filtros!$A$5:$AY$22116,26,FALSE),0)","v":382},{"$f":"IFERROR(VLOOKUP($A25,Filtros!$A$5:$AY$22116,27,FALSE),0)","v":217},{"$f":"IFERROR(VLOOKUP($A25,Filtros!$A$5:$AY$22116,28,FALSE),0)","v":176},{"$f":"IFERROR(VLOOKUP($A25,Filtros!$A$5:$AY$22116,29,FALSE),0)","v":148},{"$f":"IFERROR(VLOOKUP($A25,Filtros!$A$5:$AY$22116,30,FALSE),0)","v":126},{"$f":"IFERROR(VLOOKUP($A25,Filtros!$A$5:$AY$22116,31,FALSE),0)","v":288},{"$f":"IFERROR(VLOOKUP($A25,Filtros!$A$5:$AY$22116,32,FALSE),0)","v":259},{"$f":"IFERROR(VLOOKUP($A25,Filtros!$A$5:$AY$22116,33,FALSE),0)","v":4},{"$f":"IFERROR(VLOOKUP($A25,Filtros!$A$5:$AY$22116,34,FALSE),0)","v":4},{"$f":"IFERROR(VLOOKUP($A25,Filtros!$A$5:$AY$22116,35,FALSE),0)","v":11},{"$f":"IFERROR(VLOOKUP($A25,Filtros!$A$5:$AY$22116,36,FALSE),0)","v":21},{"$f":"CJ25 & CK25","v":""},{"$nulls":48},{"$f":"IF(AND(E25<>0,AI25=\"\"), \"* No olvide escribir en la celda de Pueblos Originarios (Digite CERO si no tiene). \",IF(AND(F25<>0,AJ25=\"\"), \"* No olvide escribir en la celda de Pueblos Originarios (Digite CERO si no tiene). \",\"\"))","v":""},{"$f":"IF(AND(E25<>0,AK25=\"\"), \"* No olvide escribir en la celda de Población Migrantes (Digite CERO si no tiene). \",IF(AND(F25<>0,AL25=\"\"), \"* No olvide escribir en la celda de Población Migrantes (Digite CERO si no tiene). \",\"\"))","v":""},{"$nulls":23},{"$f":"IF(AND(E25<>0,AI25=\"\"), 1,IF(AND(F25<>0,AJ25=\"\"), 1,0))","v":0},{"$f":"IF(AND(E25<>0,AK25=\"\"), 1,IF(AND(F25<>0,AL25=\"\"), 1,0))","v":0}]
[null,null,"TOTAL",4271,2231,2040,null,null,{"$f":"SUM(I24:I25)","v":22},{"$f":"SUM(J24:J25)","v":29},25,27,28,32,28,30,33,39,51,59,176,141,259,232,266,248,517,505,272,213,186,166,368,319,14,8,15,28,{"$f":"\"\" & CC26 & CD26","v":""},{"$nulls":41},{"$f":"IF($D26>=$AI26+$AJ26,\"\",\"* El Total de Pueblos Originarios no debe ser mayor al Total Indicador peso/talla. \")","v":""},{"$f":"IF($D26>=$AK26+$AL26,\"\",\"* El Total de Población Migrantes no debe ser mayor al Total Indicador peso/talla. \")","v":""},{"$nulls":23},{"$f":"IF($D26>=$AI26+$AJ26,0,1)","v":0},{"$f":"IF($D26>=$AK26+$AL26,0,1)","v":0}]
["P2070401",null,"- 1 D.S. (-1.0 a -1.9)",{"$f":"IFERROR(VLOOKUP($A27,Filtros!$A$5:$AY$22116,2,FALSE),0)","v":2881},{"$f":"IFERROR(VLOOKUP($A27,Filtros!$A$5:$AY$22116,3,FALSE),0)","v":1576},{"$f":"IFERROR(VLOOKUP($A27,Filtros!$A$5:$AY$22116,4,FALSE),0)","v":1305},{"$f":"IFERROR(VLOOKUP($A27,Filtros!$A$5:$AY$22116,5,FALSE),0)","v":0},{"$f":"IFERROR(VLOOKUP($A27,Filtros!$A$5:$AY$22116,6,FALSE),0)","v":0},{"$f":"IFERROR(VLOOKUP($A27,Filtros!$A$5:$AY$22116,7,FALSE),0)","v":21},{"$f":"IFERROR(VLOOKUP($A27,Filtros!$A$5:$AY$22116,8,FALSE),0)","v":23},{"$f":"IFERROR(VLOOKUP($A27,Filtros!$A$5:$AY$22116,9,FALSE),0)","v":39},{"$f":"IFERROR(VLOOKUP($A27,Filtros!$A$5:$AY$22116,10,FALSE),0)","v":36},{"$f":"IFERROR(VLOOKUP($A27,Filtros!$A$5:$AY$22116,11,FALSE),0)","v":25},{"$f":"IFERROR(VLOOKUP($A27,Filtros!$A$5:$AY$22116,12,FALSE),0)","v":29},{"$f":"IFERROR(VLOOKUP($A27,Filtros!$A$5:$AY$22116,13,FALSE),0)","v":34},{"$f":"IFERROR(VLOOKUP($A27,Filtros!$A$5:$AY$22116,14,FALSE),0)","v":26},{"$f":"IFERROR(VLOOKUP($A27,Filtros!$A$5:$AY$22116,15,FALSE),0)","v":30},{"$f":"IFERROR(VLOOKUP($A27,Filtros!$A$5:$AY$22116,16,FALSE),0)","v":29},{"$f":"IFERROR(VLOOKUP($A27,Filtros!$A$5:$AY$22116,17,FALSE),0)","v":42},{"$f":"IFERROR(VLOOKUP($A27,Filtros!$A$5:$AY$22116,18,FALSE),0)","v":35},{"$f":"IFERROR(VLOOKUP($A27,Filtros!$A$5:$AY$22116,19,FALSE),0)","v":141},{"$f":"IFERROR(VLOOKUP($A27,Filtros!$A$5:$AY$22116,20,FALSE),0)","v":153},{"$f":"IFERROR(VLOOKUP($A27,Filtros!$A$5:$AY$22116,21,FALSE),0)","v":183},{"$f":"IFERROR(VLOOKUP($A27,Filtros!$A$5:$AY$22116,22,FALSE),0)","v":156},{"$f":"IFERROR(VLOOKUP($A27,Filtros!$A$5:$AY$22116,23,FALSE),0)","v":167},{"$f":"IFERROR(VLOOKUP($A27,Filtros!$A$5:$AY$22116,24,FALSE),0)","v":144},{"$f":"IFERROR(VLOOKUP($A27,Filtros!$A$5:$AY$22116,25,FALSE),0)","v":361},{"$f":"IFERROR(VLOOKUP($A27,Filtros!$A$5:$AY$22116,26,FALSE),0)","v":208},{"$f":"IFERROR(VLOOKUP($A27,Filtros!$A$5:$AY$22116,27,FALSE),0)","v":174},{"$f":"IFERROR(VLOOKUP($A27,Filtros!$A$5:$AY$22116,28,FALSE),0)","v":137},{"$f":"IFERROR(VLOOKUP($A27,Filtros!$A$5:$AY$22116,29,FALSE),0)","v":145},{"$f":"IFERROR(VLOOKUP($A27,Filtros!$A$5:$AY$22116,30,FALSE),0)","v":135},{"$f":"IFERROR(VLOOKUP($A27,Filtros!$A$5:$AY$22116,31,FALSE),0)","v":214},{"$f":"IFERROR(VLOOKUP($A27,Filtros!$A$5:$AY$22116,32,FALSE),0)","v":194},{"$f":"IFERROR(VLOOKUP($A27,Filtros!$A$5:$AY$22116,33,FALSE),0)","v":5},{"$f":"IFERROR(VLOOKUP($A27,Filtros!$A$5:$AY$22116,34,FALSE),0)","v":4},{"$f":"IFERROR(VLOOKUP($A27,Filtros!$A$5:$AY$22116,35,FALSE),0)","v":11},{"$f":"IFERROR(VLOOKUP($A27,Filtros!$A$5:$AY$22116,36,FALSE),0)","v":18},{"$f":"CJ27 & CK27","v":""},{"$nulls":48},{"$f":"IF(AND(E27<>0,AI27=\"\"), \"* No olvide escribir en la celda de Pueblos Originarios (Digite CERO si no tiene). \",IF(AND(F27<>0,AJ27=\"\"), \"* No olvide escribir en la celda de Pueblos Originarios (Digite CERO si no tiene). \",\"\"))","v":""},{"$f":"IF(AND(E27<>0,AK27=\"\"), \"* No olvide escribir en la celda de Población Migrantes (Digite CERO si no tiene). \",IF(AND(F27<>0,AL27=\"\"), \"* No olvide escribir en la celda de Población Migrantes (Digite CERO si no tiene). \",\"\"))","v":""},{"$nulls":23},{"$f":"IF(AND(E27<>0,AI27=\"\"), 1,IF(AND(F27<>0,AJ27=\"\"), 1,0))","v":0},{"$f":"IF(AND(E27<>0,AK27=\"\"), 1,IF(AND(F27<>0,AL27=\"\"), 1,0))","v":0}]
["P2070402",null,"- 2 D.S. (<= -2.0)",{"$f":"IFERROR(VLOOKUP($A28,Filtros!$A$5:$AY$22116,2,FALSE),0)","v":555},{"$f":"IFERROR(VLOOKUP($A28,Filtros!$A$5:$AY$22116,3,FALSE),0)","v":323},{"$f":"IFERROR(VLOOKUP($A28,Filtros!$A$5:$AY$22116,4,FALSE),0)","v":232},{"$f":"IFERROR(VLOOKUP($A28,Filtros!$A$5:$AY$22116,5,FALSE),0)","v":0},{"$f":"IFERROR(VLOOKUP($A28,Filtros!$A$5:$AY$22116,6,FALSE),0)","v":0},{"$f":"IFERROR(VLOOKUP($A28,Filtros!$A$5:$AY$22116,7,FALSE),0)","v":4},{"$f":"IFERROR(VLOOKUP($A28,Filtros!$A$5:$AY$22116,8,FALSE),0)","v":5},{"$f":"IFERROR(VLOOKUP($A28,Filtros!$A$5:$AY$22116,9,FALSE),0)","v":11},{"$f":"IFERROR(VLOOKUP($A28,Filtros!$A$5:$AY$22116,10,FALSE),0)","v":8},{"$f":"IFERROR(VLOOKUP($A28,Filtros!$A$5:$AY$22116,11,FALSE),0)","v":9},{"$f":"IFERROR(VLOOKUP($A28,Filtros!$A$5:$AY$22116,12,FALSE),0)","v":11},{"$f":"IFERROR(VLOOKUP($A28,Filtros!$A$5:$AY$22116,13,FALSE),0)","v":8},{"$f":"IFERROR(VLOOKUP($A28,Filtros!$A$5:$AY$22116,14,FALSE),0)","v":4},{"$f":"IFERROR(VLOOKUP($A28,Filtros!$A$5:$AY$22116,15,FALSE),0)","v":12},{"$f":"IFERROR(VLOOKUP($A28,Filtros!$A$5:$AY$22116,16,FALSE),0)","v":2},{"$f":"IFERROR(VLOOKUP($A28,Filtros!$A$5:$AY$22116,17,FALSE),0)","v":14},{"$f":"IFERROR(VLOOKUP($A28,Filtros!$A$5:$AY$22116,18,FALSE),0)","v":7},{"$f":"IFERROR(VLOOKUP($A28,Filtros!$A$5:$AY$22116,19,FALSE),0)","v":34},{"$f":"IFERROR(VLOOKUP($A28,Filtros!$A$5:$AY$22116,20,FALSE),0)","v":26},{"$f":"IFERROR(VLOOKUP($A28,Filtros!$A$5:$AY$22116,21,FALSE),0)","v":52},{"$f":"IFERROR(VLOOKUP($A28,Filtros!$A$5:$AY$22116,22,FALSE),0)","v":26},{"$f":"IFERROR(VLOOKUP($A28,Filtros!$A$5:$AY$22116,23,FALSE),0)","v":45},{"$f":"IFERROR(VLOOKUP($A28,Filtros!$A$5:$AY$22116,24,FALSE),0)","v":29},{"$f":"IFERROR(VLOOKUP($A28,Filtros!$A$5:$AY$22116,25,FALSE),0)","v":52},{"$f":"IFERROR(VLOOKUP($A28,Filtros!$A$5:$AY$22116,26,FALSE),0)","v":39},{"$f":"IFERROR(VLOOKUP($A28,Filtros!$A$5:$AY$22116,27,FALSE),0)","v":26},{"$f":"IFERROR(VLOOKUP($A28,Filtros!$A$5:$AY$22116,28,FALSE),0)","v":26},{"$f":"IFERROR(VLOOKUP($A28,Filtros!$A$5:$AY$22116,29,FALSE),0)","v":19},{"$f":"IFERROR(VLOOKUP($A28,Filtros!$A$5:$AY$22116,30,FALSE),0)","v":17},{"$f":"IFERROR(VLOOKUP($A28,Filtros!$A$5:$AY$22116,31,FALSE),0)","v":37},{"$f":"IFERROR(VLOOKUP($A28,Filtros!$A$5:$AY$22116,32,FALSE),0)","v":32},{"$f":"IFERROR(VLOOKUP($A28,Filtros!$A$5:$AY$22116,33,FALSE),0)","v":1},{"$f":"IFERROR(VLOOKUP($A28,Filtros!$A$5:$AY$22116,34,FALSE),0)","v":2},{"$f":"IFERROR(VLOOKUP($A28,Filtros!$A$5:$AY$22116,35,FALSE),0)","v":4},{"$f":"IFERROR(VLOOKUP($A28,Filtros!$A$5:$AY$22116,36,FALSE),0)","v":1},{"$f":"CJ28 & CK28","v":""},{"$nulls":48},{"$f":"IF(AND(E28<>0,AI28=\"\"), \"* No olvide escribir en la celda de Pueblos Originarios (Digite CERO si no tiene). \",IF(AND(F28<>0,AJ28=\"\"), \"* No olvide escribir en la celda de Pueblos Originarios (Digite CERO si no tiene). \",\"\"))","v":""},{"$f":"IF(AND(E28<>0,AK28=\"\"), \"* No olvide escribir en la celda de Población Migrantes (Digite CERO si no tiene). \",IF(AND(F28<>0,AL28=\"\"), \"* No olvide escribir en la celda de Población Migrantes (Digite CERO si no tiene). \",\"\"))","v":""},{"$nulls":23},{"$f":"IF(AND(E28<>0,AI28=\"\"), 1,IF(AND(F28<>0,AJ28=\"\"), 1,0))","v":0},{"$f":"IF(AND(E28<>0,AK28=\"\"), 1,IF(AND(F28<>0,AL28=\"\"), 1,0))","v":0}]
[null,null,"TOTAL",3436,1899,1537,null,null,{"$f":"SUM(I27:I28)","v":25},{"$f":"SUM(J27:J28)","v":28},50,44,34,40,42,30,42,31,56,42,175,179,235,182,212,173,413,247,200,163,164,152,251,226,6,6,15,19,{"$f":"\"\" & CC29 & CD29","v":""},{"$nulls":41},{"$f":"IF($D29>=$AI29+$AJ29,\"\",\"* El Total de Pueblos Originarios no debe ser mayor al Total Indicador peso/talla. \")","v":""},{"$f":"IF($D29>=$AK29+$AL29,\"\",\"* El Total de Población Migrantes no debe ser mayor al Total Indicador peso/talla. \")","v":""},{"$nulls":23},{"$f":"IF($D29>=$AI29+$AJ29,0,1)","v":0},{"$f":"IF($D29>=$AK29+$AL29,0,1)","v":0}]
["P2400140",null,"PROMEDIO (-0,9 A + 0,9)",{"$f":"IFERROR(VLOOKUP($A30,Filtros!$A$5:$AY$22116,2,FALSE),0)","v":13889},{"$f":"IFERROR(VLOOKUP($A30,Filtros!$A$5:$AY$22116,3,FALSE),0)","v":6873},{"$f":"IFERROR(VLOOKUP($A30,Filtros!$A$5:$AY$22116,4,FALSE),0)","v":7016},{"$f":"IFERROR(VLOOKUP($A30,Filtros!$A$5:$AY$22116,5,FALSE),0)","v":0},{"$f":"IFERROR(VLOOKUP($A30,Filtros!$A$5:$AY$22116,6,FALSE),0)","v":0},{"$f":"IFERROR(VLOOKUP($A30,Filtros!$A$5:$AY$22116,7,FALSE),0)","v":133},{"$f":"IFERROR(VLOOKUP($A30,Filtros!$A$5:$AY$22116,8,FALSE),0)","v":121},{"$f":"IFERROR(VLOOKUP($A30,Filtros!$A$5:$AY$22116,9,FALSE),0)","v":157},{"$f":"IFERROR(VLOOKUP($A30,Filtros!$A$5:$AY$22116,10,FALSE),0)","v":159},{"$f":"IFERROR(VLOOKUP($A30,Filtros!$A$5:$AY$22116,11,FALSE),0)","v":147},{"$f":"IFERROR(VLOOKUP($A30,Filtros!$A$5:$AY$22116,12,FALSE),0)","v":131},{"$f":"IFERROR(VLOOKUP($A30,Filtros!$A$5:$AY$22116,13,FALSE),0)","v":143},{"$f":"IFERROR(VLOOKUP($A30,Filtros!$A$5:$AY$22116,14,FALSE),0)","v":166},{"$f":"IFERROR(VLOOKUP($A30,Filtros!$A$5:$AY$22116,15,FALSE),0)","v":134},{"$f":"IFERROR(VLOOKUP($A30,Filtros!$A$5:$AY$22116,16,FALSE),0)","v":153},{"$f":"IFERROR(VLOOKUP($A30,Filtros!$A$5:$AY$22116,17,FALSE),0)","v":163},{"$f":"IFERROR(VLOOKUP($A30,Filtros!$A$5:$AY$22116,18,FALSE),0)","v":182},{"$f":"IFERROR(VLOOKUP($A30,Filtros!$A$5:$AY$22116,19,FALSE),0)","v":629},{"$f":"IFERROR(VLOOKUP($A30,Filtros!$A$5:$AY$22116,20,FALSE),0)","v":670},{"$f":"IFERROR(VLOOKUP($A30,Filtros!$A$5:$AY$22116,21,FALSE),0)","v":775},{"$f":"IFERROR(VLOOKUP($A30,Filtros!$A$5:$AY$22116,22,FALSE),0)","v":861},{"$f":"IFERROR(VLOOKUP($A30,Filtros!$A$5:$AY$22116,23,FALSE),0)","v":789},{"$f":"IFERROR(VLOOKUP($A30,Filtros!$A$5:$AY$22116,24,FALSE),0)","v":871},{"$f":"IFERROR(VLOOKUP($A30,Filtros!$A$5:$AY$22116,25,FALSE),0)","v":1412},{"$f":"IFERROR(VLOOKUP($A30,Filtros!$A$5:$AY$22116,26,FALSE),0)","v":1394},{"$f":"IFERROR(VLOOKUP($A30,Filtros!$A$5:$AY$22116,27,FALSE),0)","v":756},{"$f":"IFERROR(VLOOKUP($A30,Filtros!$A$5:$AY$22116,28,FALSE),0)","v":690},{"$f":"IFERROR(VLOOKUP($A30,Filtros!$A$5:$AY$22116,29,FALSE),0)","v":575},{"$f":"IFERROR(VLOOKUP($A30,Filtros!$A$5:$AY$22116,30,FALSE),0)","v":597},{"$f":"IFERROR(VLOOKUP($A30,Filtros!$A$5:$AY$22116,31,FALSE),0)","v":1060},{"$f":"IFERROR(VLOOKUP($A30,Filtros!$A$5:$AY$22116,32,FALSE),0)","v":1021},{"$f":"IFERROR(VLOOKUP($A30,Filtros!$A$5:$AY$22116,33,FALSE),0)","v":20},{"$f":"IFERROR(VLOOKUP($A30,Filtros!$A$5:$AY$22116,34,FALSE),0)","v":24},{"$f":"IFERROR(VLOOKUP($A30,Filtros!$A$5:$AY$22116,35,FALSE),0)","v":71},{"$f":"IFERROR(VLOOKUP($A30,Filtros!$A$5:$AY$22116,36,FALSE),0)","v":57},{"$f":"CJ30 & CK30","v":""},{"$nulls":48},{"$f":"IF(AND(E30<>0,AI30=\"\"), \"* No olvide escribir en la celda de Pueblos Originarios (Digite CERO si no tiene). \",IF(AND(F30<>0,AJ30=\"\"), \"* No olvide escribir en la celda de Pueblos Originarios (Digite CERO si no tiene). \",\"\"))","v":""},{"$f":"IF(AND(E30<>0,AK30=\"\"), \"* No olvide escribir en la celda de Población Migrantes (Digite CERO si no tiene). \",IF(AND(F30<>0,AL30=\"\"), \"* No olvide escribir en la celda de Población Migrantes (Digite CERO si no tiene). \",\"\"))","v":""},{"$nulls":23},{"$f":"IF(AND(E30<>0,AI30=\"\"), 1,IF(AND(F30<>0,AJ30=\"\"), 1,0))","v":0},{"$f":"IF(AND(E30<>0,AK30=\"\"), 1,IF(AND(F30<>0,AL30=\"\"), 1,0))","v":0}]
["P2070501","DIAGNOSTICO NUTRICIONAL INTEGRADO","RIESGO DE DESNUTRIR/ DEFICIT PONDERAL*",{"$f":"IFERROR(VLOOKUP($A31,Filtros!$A$5:$AY$22116,2,FALSE),0)","v":720},{"$f":"IFERROR(VLOOKUP($A31,Filtros!$A$5:$AY$22116,3,FALSE),0)","v":403},{"$f":"IFERROR(VLOOKUP($A31,Filtros!$A$5:$AY$22116,4,FALSE),0)","v":317},{"$f":"IFERROR(VLOOKUP($A31,Filtros!$A$5:$AY$22116,5,FALSE),0)","v":0},{"$f":"IFERROR(VLOOKUP($A31,Filtros!$A$5:$AY$22116,6,FALSE),0)","v":0},{"$f":"IFERROR(VLOOKUP($A31,Filtros!$A$5:$AY$22116,7,FALSE),0)","v":13},{"$f":"IFERROR(VLOOKUP($A31,Filtros!$A$5:$AY$22116,8,FALSE),0)","v":7},{"$f":"IFERROR(VLOOKUP($A31,Filtros!$A$5:$AY$22116,9,FALSE),0)","v":23},{"$f":"IFERROR(VLOOKUP($A31,Filtros!$A$5:$AY$22116,10,FALSE),0)","v":8},{"$f":"IFERROR(VLOOKUP($A31,Filtros!$A$5:$AY$22116,11,FALSE),0)","v":13},{"$f":"IFERROR(VLOOKUP($A31,Filtros!$A$5:$AY$22116,12,FALSE),0)","v":13},{"$f":"IFERROR(VLOOKUP($A31,Filtros!$A$5:$AY$22116,13,FALSE),0)","v":10},{"$f":"IFERROR(VLOOKUP($A31,Filtros!$A$5:$AY$22116,14,FALSE),0)","v":8},{"$f":"IFERROR(VLOOKUP($A31,Filtros!$A$5:$AY$22116,15,FALSE),0)","v":18},{"$f":"IFERROR(VLOOKUP($A31,Filtros!$A$5:$AY$22116,16,FALSE),0)","v":15},{"$f":"IFERROR(VLOOKUP($A31,Filtros!$A$5:$AY$22116,17,FALSE),0)","v":11},{"$f":"IFERROR(VLOOKUP($A31,Filtros!$A$5:$AY$22116,18,FALSE),0)","v":19},{"$f":"IFERROR(VLOOKUP($A31,Filtros!$A$5:$AY$22116,19,FALSE),0)","v":41},{"$f":"IFERROR(VLOOKUP($A31,Filtros!$A$5:$AY$22116,20,FALSE),0)","v":41},{"$f":"IFERROR(VLOOKUP($A31,Filtros!$A$5:$AY$22116,21,FALSE),0)","v":53},{"$f":"IFERROR(VLOOKUP($A31,Filtros!$A$5:$AY$22116,22,FALSE),0)","v":37},{"$f":"IFERROR(VLOOKUP($A31,Filtros!$A$5:$AY$22116,23,FALSE),0)","v":32},{"$f":"IFERROR(VLOOKUP($A31,Filtros!$A$5:$AY$22116,24,FALSE),0)","v":26},{"$f":"IFERROR(VLOOKUP($A31,Filtros!$A$5:$AY$22116,25,FALSE),0)","v":88},{"$f":"IFERROR(VLOOKUP($A31,Filtros!$A$5:$AY$22116,26,FALSE),0)","v":47},{"$f":"IFERROR(VLOOKUP($A31,Filtros!$A$5:$AY$22116,27,FALSE),0)","v":44},{"$f":"IFERROR(VLOOKUP($A31,Filtros!$A$5:$AY$22116,28,FALSE),0)","v":39},{"$f":"IFERROR(VLOOKUP($A31,Filtros!$A$5:$AY$22116,29,FALSE),0)","v":20},{"$f":"IFERROR(VLOOKUP($A31,Filtros!$A$5:$AY$22116,30,FALSE),0)","v":19},{"$f":"IFERROR(VLOOKUP($A31,Filtros!$A$5:$AY$22116,31,FALSE),0)","v":37},{"$f":"IFERROR(VLOOKUP($A31,Filtros!$A$5:$AY$22116,32,FALSE),0)","v":38},{"$f":"IFERROR(VLOOKUP($A31,Filtros!$A$5:$AY$22116,33,FALSE),0)","v":0},{"$f":"IFERROR(VLOOKUP($A31,Filtros!$A$5:$AY$22116,34,FALSE),0)","v":2},{"$f":"IFERROR(VLOOKUP($A31,Filtros!$A$5:$AY$22116,35,FALSE),0)","v":6},{"$f":"IFERROR(VLOOKUP($A31,Filtros!$A$5:$AY$22116,36,FALSE),0)","v":5},"",{"$nulls":48},"","",{"$nulls":23},0,0]
["P2070502",null,"DESNUTRIDO",{"$f":"IFERROR(VLOOKUP($A32,Filtros!$A$5:$AY$22116,2,FALSE),0)","v":66},{"$f":"IFERROR(VLOOKUP($A32,Filtros!$A$5:$AY$22116,3,FALSE),0)","v":35},{"$f":"IFERROR(VLOOKUP($A32,Filtros!$A$5:$AY$22116,4,FALSE),0)","v":31},{"$f":"IFERROR(VLOOKUP($A32,Filtros!$A$5:$AY$22116,5,FALSE),0)","v":0},{"$f":"IFERROR(VLOOKUP($A32,Filtros!$A$5:$AY$22116,6,FALSE),0)","v":0},{"$f":"IFERROR(VLOOKUP($A32,Filtros!$A$5:$AY$22116,7,FALSE),0)","v":1},{"$f":"IFERROR(VLOOKUP($A32,Filtros!$A$5:$AY$22116,8,FALSE),0)","v":2},{"$f":"IFERROR(VLOOKUP($A32,Filtros!$A$5:$AY$22116,9,FALSE),0)","v":0},{"$f":"IFERROR(VLOOKUP($A32,Filtros!$A$5:$AY$22116,10,FALSE),0)","v":2},{"$f":"IFERROR(VLOOKUP($A32,Filtros!$A$5:$AY$22116,11,FALSE),0)","v":0},{"$f":"IFERROR(VLOOKUP($A32,Filtros!$A$5:$AY$22116,12,FALSE),0)","v":0},{"$f":"IFERROR(VLOOKUP($A32,Filtros!$A$5:$AY$22116,13,FALSE),0)","v":1},{"$f":"IFERROR(VLOOKUP($A32,Filtros!$A$5:$AY$22116,14,FALSE),0)","v":1},{"$f":"IFERROR(VLOOKUP($A32,Filtros!$A$5:$AY$22116,15,FALSE),0)","v":1},{"$f":"IFERROR(VLOOKUP($A32,Filtros!$A$5:$AY$22116,16,FALSE),0)","v":1},{"$f":"IFERROR(VLOOKUP($A32,Filtros!$A$5:$AY$22116,17,FALSE),0)","v":0},{"$f":"IFERROR(VLOOKUP($A32,Filtros!$A$5:$AY$22116,18,FALSE),0)","v":0},{"$f":"IFERROR(VLOOKUP($A32,Filtros!$A$5:$AY$22116,19,FALSE),0)","v":6},{"$f":"IFERROR(VLOOKUP($A32,Filtros!$A$5:$AY$22116,20,FALSE),0)","v":6},{"$f":"IFERROR(VLOOKUP($A32,Filtros!$A$5:$AY$22116,21,FALSE),0)","v":2},{"$f":"IFERROR(VLOOKUP($A32,Filtros!$A$5:$AY$22116,22,FALSE),0)","v":1},{"$f":"IFERROR(VLOOKUP($A32,Filtros!$A$5:$AY$22116,23,FALSE),0)","v":4},{"$f":"IFERROR(VLOOKUP($A32,Filtros!$A$5:$AY$22116,24,FALSE),0)","v":2},{"$f":"IFERROR(VLOOKUP($A32,Filtros!$A$5:$AY$22116,25,FALSE),0)","v":9},{"$f":"IFERROR(VLOOKUP($A32,Filtros!$A$5:$AY$22116,26,FALSE),0)","v":6},{"$f":"IFERROR(VLOOKUP($A32,Filtros!$A$5:$AY$22116,27,FALSE),0)","v":4},{"$f":"IFERROR(VLOOKUP($A32,Filtros!$A$5:$AY$22116,28,FALSE),0)","v":1},{"$f":"IFERROR(VLOOKUP($A32,Filtros!$A$5:$AY$22116,29,FALSE),0)","v":0},{"$f":"IFERROR(VLOOKUP($A32,Filtros!$A$5:$AY$22116,30,FALSE),0)","v":5},{"$f":"IFERROR(VLOOKUP($A32,Filtros!$A$5:$AY$22116,31,FALSE),0)","v":7},{"$f":"IFERROR(VLOOKUP($A32,Filtros!$A$5:$AY$22116,32,FALSE),0)","v":4},{"$f":"IFERROR(VLOOKUP($A32,Filtros!$A$5:$AY$22116,33,FALSE),0)","v":0},{"$f":"IFERROR(VLOOKUP($A32,Filtros!$A$5:$AY$22116,34,FALSE),0)","v":0},{"$f":"IFERROR(VLOOKUP($A32,Filtros!$A$5:$AY$22116,35,FALSE),0)","v":0},{"$f":"IFERROR(VLOOKUP($A32,Filtros!$A$5:$AY$22116,36,FALSE),0)","v":1},"",{"$nulls":48},"","",{"$nulls":23},0,0]
["P2070503",null,"SOBREPESO / RIESGO OBESIDAD",{"$f":"IFERROR(VLOOKUP($A33,Filtros!$A$5:$AY$22116,2,FALSE),0)","v":6641},{"$f":"IFERROR(VLOOKUP($A33,Filtros!$A$5:$AY$22116,3,FALSE),0)","v":3308},{"$f":"IFERROR(VLOOKUP($A33,Filtros!$A$5:$AY$22116,4,FALSE),0)","v":3333},{"$f":"IFERROR(VLOOKUP($A33,Filtros!$A$5:$AY$22116,5,FALSE),0)","v":0},{"$f":"IFERROR(VLOOKUP($A33,Filtros!$A$5:$AY$22116,6,FALSE),0)","v":0},{"$f":"IFERROR(VLOOKUP($A33,Filtros!$A$5:$AY$22116,7,FALSE),0)","v":27},{"$f":"IFERROR(VLOOKUP($A33,Filtros!$A$5:$AY$22116,8,FALSE),0)","v":34},{"$f":"IFERROR(VLOOKUP($A33,Filtros!$A$5:$AY$22116,9,FALSE),0)","v":52},{"$f":"IFERROR(VLOOKUP($A33,Filtros!$A$5:$AY$22116,10,FALSE),0)","v":44},{"$f":"IFERROR(VLOOKUP($A33,Filtros!$A$5:$AY$22116,11,FALSE),0)","v":61},{"$f":"IFERROR(VLOOKUP($A33,Filtros!$A$5:$AY$22116,12,FALSE),0)","v":56},{"$f":"IFERROR(VLOOKUP($A33,Filtros!$A$5:$AY$22116,13,FALSE),0)","v":72},{"$f":"IFERROR(VLOOKUP($A33,Filtros!$A$5:$AY$22116,14,FALSE),0)","v":58},{"$f":"IFERROR(VLOOKUP($A33,Filtros!$A$5:$AY$22116,15,FALSE),0)","v":68},{"$f":"IFERROR(VLOOKUP($A33,Filtros!$A$5:$AY$22116,16,FALSE),0)","v":80},{"$f":"IFERROR(VLOOKUP($A33,Filtros!$A$5:$AY$22116,17,FALSE),0)","v":80},{"$f":"IFERROR(VLOOKUP($A33,Filtros!$A$5:$AY$22116,18,FALSE),0)","v":84},{"$f":"IFERROR(VLOOKUP($A33,Filtros!$A$5:$AY$22116,19,FALSE),0)","v":323},{"$f":"IFERROR(VLOOKUP($A33,Filtros!$A$5:$AY$22116,20,FALSE),0)","v":324},{"$f":"IFERROR(VLOOKUP($A33,Filtros!$A$5:$AY$22116,21,FALSE),0)","v":400},{"$f":"IFERROR(VLOOKUP($A33,Filtros!$A$5:$AY$22116,22,FALSE),0)","v":428},{"$f":"IFERROR(VLOOKUP($A33,Filtros!$A$5:$AY$22116,23,FALSE),0)","v":411},{"$f":"IFERROR(VLOOKUP($A33,Filtros!$A$5:$AY$22116,24,FALSE),0)","v":400},{"$f":"IFERROR(VLOOKUP($A33,Filtros!$A$5:$AY$22116,25,FALSE),0)","v":705},{"$f":"IFERROR(VLOOKUP($A33,Filtros!$A$5:$AY$22116,26,FALSE),0)","v":700},{"$f":"IFERROR(VLOOKUP($A33,Filtros!$A$5:$AY$22116,27,FALSE),0)","v":340},{"$f":"IFERROR(VLOOKUP($A33,Filtros!$A$5:$AY$22116,28,FALSE),0)","v":364},{"$f":"IFERROR(VLOOKUP($A33,Filtros!$A$5:$AY$22116,29,FALSE),0)","v":260},{"$f":"IFERROR(VLOOKUP($A33,Filtros!$A$5:$AY$22116,30,FALSE),0)","v":278},{"$f":"IFERROR(VLOOKUP($A33,Filtros!$A$5:$AY$22116,31,FALSE),0)","v":509},{"$f":"IFERROR(VLOOKUP($A33,Filtros!$A$5:$AY$22116,32,FALSE),0)","v":483},{"$f":"IFERROR(VLOOKUP($A33,Filtros!$A$5:$AY$22116,33,FALSE),0)","v":17},{"$f":"IFERROR(VLOOKUP($A33,Filtros!$A$5:$AY$22116,34,FALSE),0)","v":17},{"$f":"IFERROR(VLOOKUP($A33,Filtros!$A$5:$AY$22116,35,FALSE),0)","v":32},{"$f":"IFERROR(VLOOKUP($A33,Filtros!$A$5:$AY$22116,36,FALSE),0)","v":27},"",{"$nulls":48},"","",{"$nulls":23},0,0]
["P2070504",null,"OBESO",{"$f":"IFERROR(VLOOKUP($A34,Filtros!$A$5:$AY$22116,2,FALSE),0)","v":4061},{"$f":"IFERROR(VLOOKUP($A34,Filtros!$A$5:$AY$22116,3,FALSE),0)","v":2121},{"$f":"IFERROR(VLOOKUP($A34,Filtros!$A$5:$AY$22116,4,FALSE),0)","v":1940},{"$f":"IFERROR(VLOOKUP($A34,Filtros!$A$5:$AY$22116,5,FALSE),0)","v":0},{"$f":"IFERROR(VLOOKUP($A34,Filtros!$A$5:$AY$22116,6,FALSE),0)","v":0},{"$f":"IFERROR(VLOOKUP($A34,Filtros!$A$5:$AY$22116,7,FALSE),0)","v":9},{"$f":"IFERROR(VLOOKUP($A34,Filtros!$A$5:$AY$22116,8,FALSE),0)","v":3},{"$f":"IFERROR(VLOOKUP($A34,Filtros!$A$5:$AY$22116,9,FALSE),0)","v":19},{"$f":"IFERROR(VLOOKUP($A34,Filtros!$A$5:$AY$22116,10,FALSE),0)","v":16},{"$f":"IFERROR(VLOOKUP($A34,Filtros!$A$5:$AY$22116,11,FALSE),0)","v":26},{"$f":"IFERROR(VLOOKUP($A34,Filtros!$A$5:$AY$22116,12,FALSE),0)","v":17},{"$f":"IFERROR(VLOOKUP($A34,Filtros!$A$5:$AY$22116,13,FALSE),0)","v":22},{"$f":"IFERROR(VLOOKUP($A34,Filtros!$A$5:$AY$22116,14,FALSE),0)","v":17},{"$f":"IFERROR(VLOOKUP($A34,Filtros!$A$5:$AY$22116,15,FALSE),0)","v":24},{"$f":"IFERROR(VLOOKUP($A34,Filtros!$A$5:$AY$22116,16,FALSE),0)","v":19},{"$f":"IFERROR(VLOOKUP($A34,Filtros!$A$5:$AY$22116,17,FALSE),0)","v":48},{"$f":"IFERROR(VLOOKUP($A34,Filtros!$A$5:$AY$22116,18,FALSE),0)","v":38},{"$f":"IFERROR(VLOOKUP($A34,Filtros!$A$5:$AY$22116,19,FALSE),0)","v":182},{"$f":"IFERROR(VLOOKUP($A34,Filtros!$A$5:$AY$22116,20,FALSE),0)","v":142},{"$f":"IFERROR(VLOOKUP($A34,Filtros!$A$5:$AY$22116,21,FALSE),0)","v":213},{"$f":"IFERROR(VLOOKUP($A34,Filtros!$A$5:$AY$22116,22,FALSE),0)","v":222},{"$f":"IFERROR(VLOOKUP($A34,Filtros!$A$5:$AY$22116,23,FALSE),0)","v":212},{"$f":"IFERROR(VLOOKUP($A34,Filtros!$A$5:$AY$22116,24,FALSE),0)","v":226},{"$f":"IFERROR(VLOOKUP($A34,Filtros!$A$5:$AY$22116,25,FALSE),0)","v":419},{"$f":"IFERROR(VLOOKUP($A34,Filtros!$A$5:$AY$22116,26,FALSE),0)","v":402},{"$f":"IFERROR(VLOOKUP($A34,Filtros!$A$5:$AY$22116,27,FALSE),0)","v":299},{"$f":"IFERROR(VLOOKUP($A34,Filtros!$A$5:$AY$22116,28,FALSE),0)","v":231},{"$f":"IFERROR(VLOOKUP($A34,Filtros!$A$5:$AY$22116,29,FALSE),0)","v":209},{"$f":"IFERROR(VLOOKUP($A34,Filtros!$A$5:$AY$22116,30,FALSE),0)","v":199},{"$f":"IFERROR(VLOOKUP($A34,Filtros!$A$5:$AY$22116,31,FALSE),0)","v":439},{"$f":"IFERROR(VLOOKUP($A34,Filtros!$A$5:$AY$22116,32,FALSE),0)","v":408},{"$f":"IFERROR(VLOOKUP($A34,Filtros!$A$5:$AY$22116,33,FALSE),0)","v":6},{"$f":"IFERROR(VLOOKUP($A34,Filtros!$A$5:$AY$22116,34,FALSE),0)","v":17},{"$f":"IFERROR(VLOOKUP($A34,Filtros!$A$5:$AY$22116,35,FALSE),0)","v":9},{"$f":"IFERROR(VLOOKUP($A34,Filtros!$A$5:$AY$22116,36,FALSE),0)","v":10},"",{"$nulls":48},"","",{"$nulls":23},0,0]
["P2070505",null,"NORMAL",{"$f":"IFERROR(VLOOKUP($A35,Filtros!$A$5:$AY$22116,2,FALSE),0)","v":16105},{"$f":"IFERROR(VLOOKUP($A35,Filtros!$A$5:$AY$22116,3,FALSE),0)","v":8085},{"$f":"IFERROR(VLOOKUP($A35,Filtros!$A$5:$AY$22116,4,FALSE),0)","v":8020},{"$f":"IFERROR(VLOOKUP($A35,Filtros!$A$5:$AY$22116,5,FALSE),0)","v":0},{"$f":"IFERROR(VLOOKUP($A35,Filtros!$A$5:$AY$22116,6,FALSE),0)","v":0},{"$f":"IFERROR(VLOOKUP($A35,Filtros!$A$5:$AY$22116,7,FALSE),0)","v":181},{"$f":"IFERROR(VLOOKUP($A35,Filtros!$A$5:$AY$22116,8,FALSE),0)","v":184},{"$f":"IFERROR(VLOOKUP($A35,Filtros!$A$5:$AY$22116,9,FALSE),0)","v":194},{"$f":"IFERROR(VLOOKUP($A35,Filtros!$A$5:$AY$22116,10,FALSE),0)","v":208},{"$f":"IFERROR(VLOOKUP($A35,Filtros!$A$5:$AY$22116,11,FALSE),0)","v":162},{"$f":"IFERROR(VLOOKUP($A35,Filtros!$A$5:$AY$22116,12,FALSE),0)","v":158},{"$f":"IFERROR(VLOOKUP($A35,Filtros!$A$5:$AY$22116,13,FALSE),0)","v":177},{"$f":"IFERROR(VLOOKUP($A35,Filtros!$A$5:$AY$22116,14,FALSE),0)","v":200},{"$f":"IFERROR(VLOOKUP($A35,Filtros!$A$5:$AY$22116,15,FALSE),0)","v":169},{"$f":"IFERROR(VLOOKUP($A35,Filtros!$A$5:$AY$22116,16,FALSE),0)","v":160},{"$f":"IFERROR(VLOOKUP($A35,Filtros!$A$5:$AY$22116,17,FALSE),0)","v":206},{"$f":"IFERROR(VLOOKUP($A35,Filtros!$A$5:$AY$22116,18,FALSE),0)","v":208},{"$f":"IFERROR(VLOOKUP($A35,Filtros!$A$5:$AY$22116,19,FALSE),0)","v":649},{"$f":"IFERROR(VLOOKUP($A35,Filtros!$A$5:$AY$22116,20,FALSE),0)","v":712},{"$f":"IFERROR(VLOOKUP($A35,Filtros!$A$5:$AY$22116,21,FALSE),0)","v":932},{"$f":"IFERROR(VLOOKUP($A35,Filtros!$A$5:$AY$22116,22,FALSE),0)","v":882},{"$f":"IFERROR(VLOOKUP($A35,Filtros!$A$5:$AY$22116,23,FALSE),0)","v":930},{"$f":"IFERROR(VLOOKUP($A35,Filtros!$A$5:$AY$22116,24,FALSE),0)","v":935},{"$f":"IFERROR(VLOOKUP($A35,Filtros!$A$5:$AY$22116,25,FALSE),0)","v":1695},{"$f":"IFERROR(VLOOKUP($A35,Filtros!$A$5:$AY$22116,26,FALSE),0)","v":1662},{"$f":"IFERROR(VLOOKUP($A35,Filtros!$A$5:$AY$22116,27,FALSE),0)","v":886},{"$f":"IFERROR(VLOOKUP($A35,Filtros!$A$5:$AY$22116,28,FALSE),0)","v":857},{"$f":"IFERROR(VLOOKUP($A35,Filtros!$A$5:$AY$22116,29,FALSE),0)","v":651},{"$f":"IFERROR(VLOOKUP($A35,Filtros!$A$5:$AY$22116,30,FALSE),0)","v":640},{"$f":"IFERROR(VLOOKUP($A35,Filtros!$A$5:$AY$22116,31,FALSE),0)","v":1253},{"$f":"IFERROR(VLOOKUP($A35,Filtros!$A$5:$AY$22116,32,FALSE),0)","v":1214},{"$f":"IFERROR(VLOOKUP($A35,Filtros!$A$5:$AY$22116,33,FALSE),0)","v":52},{"$f":"IFERROR(VLOOKUP($A35,Filtros!$A$5:$AY$22116,34,FALSE),0)","v":53},{"$f":"IFERROR(VLOOKUP($A35,Filtros!$A$5:$AY$22116,35,FALSE),0)","v":96},{"$f":"IFERROR(VLOOKUP($A35,Filtros!$A$5:$AY$22116,36,FALSE),0)","v":101},"",{"$nulls":48},"","",{"$nulls":23},0,0]
[null,null,"SUBTOTAL",{"$f":"SUM(E36:F36)","v":27593},{"$f":"+I36+K36+M36+O36+Q36+S36+U36+W36+Y36+AA36+AC36+AE36+AG36","v":13952},13641,null,null,{"$f":"SUM(I31:I35)","v":231},230,288,278,262,244,282,284,280,275,345,349,1201,1225,1600,1570,1589,1589,2916,2817,1573,1492,1140,1141,2245,2147,75,89,143,144,{"$f":"\"\" & CC36 & CD36","v":""},{"$nulls":41},{"$f":"IF($D36>=$AI36+$AJ36,\"\",\"* El Total de Pueblos Originarios no debe ser mayor al Total Indicador peso/talla. \")","v":""},{"$f":"IF($D36>=$AK36+$AL36,\"\",\"* El Total de Población Migrantes no debe ser mayor al Total Indicador peso/talla. \")","v":""},{"$nulls":23},{"$f":"IF($D36>=$AI36+$AJ36,0,1)","v":0},{"$f":"IF($D36>=$AK36+$AL36,0,1)","v":0}]
["P2070506",null,"DESNUTRICIÓN \nSECUNDARIA",{"$f":"IFERROR(VLOOKUP($A37,Filtros!$A$5:$AY$22116,2,FALSE),0)","v":24},{"$f":"IFERROR(VLOOKUP($A37,Filtros!$A$5:$AY$22116,3,FALSE),0)","v":14},{"$f":"IFERROR(VLOOKUP($A37,Filtros!$A$5:$AY$22116,4,FALSE),0)","v":10},{"$f":"IFERROR(VLOOKUP($A37,Filtros!$A$5:$AY$22116,5,FALSE),0)","v":0},{"$f":"IFERROR(VLOOKUP($A37,Filtros!$A$5:$AY$22116,6,FALSE),0)","v":0},{"$f":"IFERROR(VLOOKUP($A37,Filtros!$A$5:$AY$22116,7,FALSE),0)","v":0},{"$f":"IFERROR(VLOOKUP($A37,Filtros!$A$5:$AY$22116,8,FALSE),0)","v":1},{"$f":"IFERROR(VLOOKUP($A37,Filtros!$A$5:$AY$22116,9,FALSE),0)","v":0},{"$f":"IFERROR(VLOOKUP($A37,Filtros!$A$5:$AY$22116,10,FALSE),0)","v":1},{"$f":"IFERROR(VLOOKUP($A37,Filtros!$A$5:$AY$22116,11,FALSE),0)","v":1},{"$f":"IFERROR(VLOOKUP($A37,Filtros!$A$5:$AY$22116,12,FALSE),0)","v":0},{"$f":"IFERROR(VLOOKUP($A37,Filtros!$A$5:$AY$22116,13,FALSE),0)","v":1},{"$f":"IFERROR(VLOOKUP($A37,Filtros!$A$5:$AY$22116,14,FALSE),0)","v":0},{"$f":"IFERROR(VLOOKUP($A37,Filtros!$A$5:$AY$22116,15,FALSE),0)","v":0},{"$f":"IFERROR(VLOOKUP($A37,Filtros!$A$5:$AY$22116,16,FALSE),0)","v":0},{"$f":"IFERROR(VLOOKUP($A37,Filtros!$A$5:$AY$22116,17,FALSE),0)","v":0},{"$f":"IFERROR(VLOOKUP($A37,Filtros!$A$5:$AY$22116,18,FALSE),0)","v":0},{"$f":"IFERROR(VLOOKUP($A37,Filtros!$A$5:$AY$22116,19,FALSE),0)","v":2},{"$f":"IFERROR(VLOOKUP($A37,Filtros!$A$5:$AY$22116,20,FALSE),0)","v":1},{"$f":"IFERROR(VLOOKUP($A37,Filtros!$A$5:$AY$22116,21,FALSE),0)","v":2},{"$f":"IFERROR(VLOOKUP($A37,Filtros!$A$5:$AY$22116,22,FALSE),0)","v":1},{"$f":"IFERROR(VLOOKUP($A37,Filtros!$A$5:$AY$22116,23,FALSE),0)","v":1},{"$f":"IFERROR(VLOOKUP($A37,Filtros!$A$5:$AY$22116,24,FALSE),0)","v":2},{"$f":"IFERROR(VLOOKUP($A37,Filtros!$A$5:$AY$22116,25,FALSE),0)","v":1},{"$f":"IFERROR(VLOOKUP($A37,Filtros!$A$5:$AY$22116,26,FALSE),0)","v":1},{"$f":"IFERROR(VLOOKUP($A37,Filtros!$A$5:$AY$22116,27,FALSE),0)","v":1},{"$f":"IFERROR(VLOOKUP($A37,Filtros!$A$5:$AY$22116,28,FALSE),0)","v":1},{"$f":"IFERROR(VLOOKUP($A37,Filtros!$A$5:$AY$22116,29,FALSE),0)","v":2},{"$f":"IFERROR(VLOOKUP($A37,Filtros!$A$5:$AY$22116,30,FALSE),0)","v":1},{"$f":"IFERROR(VLOOKUP($A37,Filtros!$A$5:$AY$22116,31,FALSE),0)","v":3},{"$f":"IFERROR(VLOOKUP($A37,Filtros!$A$5:$AY$22116,32,FALSE),0)","v":1},{"$f":"IFERROR(VLOOKUP($A37,Filtros!$A$5:$AY$22116,33,FALSE),0)","v":0},{"$f":"IFERROR(VLOOKUP($A37,Filtros!$A$5:$AY$22116,34,FALSE),0)","v":0},{"$f":"IFERROR(VLOOKUP($A37,Filtros!$A$5:$AY$22116,35,FALSE),0)","v":0},{"$f":"IFERROR(VLOOKUP($A37,Filtros!$A$5:$AY$22116,36,FALSE),0)","v":1},{"$f":"CJ37 & CK37","v":""},{"$nulls":48},{"$f":"IF(AND(E37<>0,AI37=\"\"), \"* No olvide escribir en la celda de Pueblos Originarios (Digite CERO si no tiene). \",IF(AND(F37<>0,AJ37=\"\"), \"* No olvide escribir en la celda de Pueblos Originarios (Digite CERO si no tiene). \",\"\"))","v":""},{"$f":"IF(AND(E37<>0,AK37=\"\"), \"* No olvide escribir en la celda de Población Migrantes (Digite CERO si no tiene). \",IF(AND(F37<>0,AL37=\"\"), \"* No olvide escribir en la celda de Población Migrantes (Digite CERO si no tiene). \",\"\"))","v":""},{"$nulls":23},{"$f":"IF(AND(E37<>0,AI37=\"\"), 1,IF(AND(F37<>0,AJ37=\"\"), 1,0))","v":0},{"$f":"IF(AND(E37<>0,AK37=\"\"), 1,IF(AND(F37<>0,AL37=\"\"), 1,0))","v":0}]
[null,null,"T O T A L",{"$f":"SUM(E38:F38)","v":27617},13966,13651,null,null,{"$f":"SUM(I31:I35)+I37","v":231},231,288,279,263,244,283,284,280,275,345,349,1203,1226,1602,1571,1590,1591,2917,2818,1574,1493,1142,1142,2248,2148,75,89,143,145,{"$f":"\"\" & CC38 & CD38","v":""},{"$nulls":41},{"$f":"IF($D38>=$AI38+$AJ38,\"\",\"* El Total de Pueblos Originarios no debe ser mayor al Total Indicador peso/talla. \")","v":""},{"$f":"IF($D38>=$AK38+$AL38,\"\",\"* El Total de Población Migrantes no debe ser mayor al Total Indicador peso/talla. \")","v":""},{"$nulls":23},{"$f":"IF($D38>=$AI38+$AJ38,0,1)","v":0},{"$f":"IF($D38>=$AK38+$AL38,0,1)","v":0}]
[null,"SECCION A.1: POBLACIÓN EN CONTROL, SEGÚN ESTADO NUTRICIONAL PARA NIÑOS DE 60 MESES-9 AÑOS 11 MESES"]
[null,"INDICADOR NUTRICIONAL\nY\nPARÁMETROS DE MEDICIÓN",null,"TOTAL",null,null,"GRUPOS DE EDAD (en meses - años) Y SEXO"]
[{"$nulls":6},"60 a 71 meses",null,"6 a 9 años 11 meses",null,"Pueblos Originarios",null,"Población Migrantes"]
[{"$nulls":3},"Ambos sexos","Hombres","Mujeres","Hombres","Mujeres","Hombres","Mujeres","Hombres","Mujeres","Hombres","Mujeres"]
["P2400150","TOTAL DE NIÑOS EN CONTROL",null,{"$f":"IFERROR(VLOOKUP($A43,Filtros!$A$5:$AY$22116,2,FALSE),0)","v":13299},{"$f":"IFERROR(VLOOKUP($A43,Filtros!$A$5:$AY$22116,3,FALSE),0)","v":6859},{"$f":"IFERROR(VLOOKUP($A43,Filtros!$A$5:$AY$22116,4,FALSE),0)","v":6440},{"$f":"IFERROR(VLOOKUP($A43,Filtros!$A$5:$AY$22116,5,FALSE),0)","v":2143},{"$f":"IFERROR(VLOOKUP($A43,Filtros!$A$5:$AY$22116,6,FALSE),0)","v":1981},{"$f":"IFERROR(VLOOKUP($A43,Filtros!$A$5:$AY$22116,7,FALSE),0)","v":4716},{"$f":"IFERROR(VLOOKUP($A43,Filtros!$A$5:$AY$22116,8,FALSE),0)","v":4459},{"$f":"IFERROR(VLOOKUP($A43,Filtros!$A$5:$AY$22116,9,FALSE),0)","v":32},{"$f":"IFERROR(VLOOKUP($A43,Filtros!$A$5:$AY$22116,10,FALSE),0)","v":14},{"$f":"IFERROR(VLOOKUP($A43,Filtros!$A$5:$AY$22116,11,FALSE),0)","v":115},{"$f":"IFERROR(VLOOKUP($A43,Filtros!$A$5:$AY$22116,12,FALSE),0)","v":98},{"$f":"CC43 & CD43 & CE43 & CF43 & CG43 & CH43 & CJ43 & CK43","v":""},{"$nulls":65},{"$f":"IF(G43<>G71,\"* El Total de niños en control no debe ser distinto al total del Diagnóstico Nutricional Integrado. \",\"\")","v":""},{"$f":"IF(H43<>H71,\"* El Total de niñas en control no debe ser distinto al total del Diagnóstico Nutricional Integrado. \",\"\")","v":""},{"$f":"IF(I43<>I71,\"* El Total de niños en control no debe ser distinto al total del Diagnóstico Nutricional Integrado. \",\"\")","v":""},{"$f":"IF(J43<>J71,\"* El Total de niñas en control no debe ser distinto al total del Diagnóstico Nutricional Integrado. \",\"\")","v":""},{"$f":"IF($D43>=$K43+$L43,\"\",\"* El Total de Pueblos Originarios no debe ser mayor al total de niños en control. \")","v":""},{"$f":"IF($D43>=$M43+$N43,\"\",\"* El Total de Pueblación Migrantes no debe ser mayor al total de niños en control. \")","v":""},null,{"$f":"IF(AND(E43<>0,K43=\"\"), \"* No olvide escribir en la celda de Pueblos Originarios (Digite CERO si no tiene). \",IF(AND(F43<>0,L43=\"\"), \"* No olvide escribir en la celda de Pueblos Originarios (Digite CERO si no tiene). \",\"\"))","v":""},{"$f":"IF(AND(E43<>0,M43=\"\"), \"* No olvide escribir en la celda de Población Migrantes (Digite CERO si no tiene). \",IF(AND(F43<>0,N43=\"\"), \"* No olvide escribir en la celda de Población Migrantes (Digite CERO si no tiene). \",\"\"))","v":""},{"$nulls":16},{"$f":"IF(G43<>G71,1,0)","v":0},{"$f":"IF(H43<>H71,1,0)","v":0},{"$f":"IF(I43<>I71,1,0)","v":0},{"$f":"IF(J43<>J71,1,0)","v":0},{"$f":"IF($D43>=$K43+$L43,0,1)","v":0},{"$f":"IF($D43>=$M43+$N43,0,1)","v":0},null,{"$f":"IF(AND(E43<>0,K43=\"\"), 1,IF(AND(F43<>0,L43=\"\"), 1,0))","v":0},{"$f":"IF(AND(E43<>0,M43=\"\"), 1,IF(AND(F43<>0,N43=\"\"), 1,0))","v":0}]
["P2400160","INDICADOR IMC / EDAD","+ 3 D.S. (>= 3 )",{"$f":"IFERROR(VLOOKUP($A44,Filtros!$A$5:$AY$22116,2,FALSE),0)","v":990},{"$f":"IFERROR(VLOOKUP($A44,Filtros!$A$5:$AY$22116,3,FALSE),0)","v":649},{"$f":"IFERROR(VLOOKUP($A44,Filtros!$A$5:$AY$22116,4,FALSE),0)","v":341},{"$f":"IFERROR(VLOOKUP($A44,Filtros!$A$5:$AY$22116,5,FALSE),0)","v":122},{"$f":"IFERROR(VLOOKUP($A44,Filtros!$A$5:$AY$22116,6,FALSE),0)","v":78},{"$f":"IFERROR(VLOOKUP($A44,Filtros!$A$5:$AY$22116,7,FALSE),0)","v":527},{"$f":"IFERROR(VLOOKUP($A44,Filtros!$A$5:$AY$22116,8,FALSE),0)","v":263},{"$f":"IFERROR(VLOOKUP($A44,Filtros!$A$5:$AY$22116,9,FALSE),0)","v":6},{"$f":"IFERROR(VLOOKUP($A44,Filtros!$A$5:$AY$22116,10,FALSE),0)","v":0},{"$f":"IFERROR(VLOOKUP($A44,Filtros!$A$5:$AY$22116,11,FALSE),0)","v":2},{"$f":"IFERROR(VLOOKUP($A44,Filtros!$A$5:$AY$22116,12,FALSE),0)","v":3},{"$f":"CJ44 & CK44","v":""},{"$nulls":72},{"$f":"IF(AND(E44<>0,K44=\"\"), \"* No olvide escribir en la celda de Pueblos Originarios (Digite CERO si no tiene). \",IF(AND(F44<>0,L44=\"\"), \"* No olvide escribir en la celda de Pueblos Originarios (Digite CERO si no tiene). \",\"\"))","v":""},{"$f":"IF(AND(E44<>0,M44=\"\"), \"* No olvide escribir en la celda de Población Migrantes (Digite CERO si no tiene). \",IF(AND(F44<>0,N44=\"\"), \"* No olvide escribir en la celda de Población Migrantes (Digite CERO si no tiene). \",\"\"))","v":""},{"$nulls":23},{"$f":"IF(AND(E44<>0,K44=\"\"), 1,IF(AND(F44<>0,L44=\"\"), 1,0))","v":0},{"$f":"IF(AND(E44<>0,M44=\"\"), 1,IF(AND(F44<>0,N44=\"\"), 1,0))","v":0}]
["P2400170",null,"+ 2 D.S. (>= +2.0 a +2.9)",{"$f":"IFERROR(VLOOKUP($A45,Filtros!$A$5:$AY$22116,2,FALSE),0)","v":2368},{"$f":"IFERROR(VLOOKUP($A45,Filtros!$A$5:$AY$22116,3,FALSE),0)","v":1168},{"$f":"IFERROR(VLOOKUP($A45,Filtros!$A$5:$AY$22116,4,FALSE),0)","v":1200},{"$f":"IFERROR(VLOOKUP($A45,Filtros!$A$5:$AY$22116,5,FALSE),0)","v":342},{"$f":"IFERROR(VLOOKUP($A45,Filtros!$A$5:$AY$22116,6,FALSE),0)","v":358},{"$f":"IFERROR(VLOOKUP($A45,Filtros!$A$5:$AY$22116,7,FALSE),0)","v":826},{"$f":"IFERROR(VLOOKUP($A45,Filtros!$A$5:$AY$22116,8,FALSE),0)","v":842},{"$f":"IFERROR(VLOOKUP($A45,Filtros!$A$5:$AY$22116,9,FALSE),0)","v":8},{"$f":"IFERROR(VLOOKUP($A45,Filtros!$A$5:$AY$22116,10,FALSE),0)","v":3},{"$f":"IFERROR(VLOOKUP($A45,Filtros!$A$5:$AY$22116,11,FALSE),0)","v":14},{"$f":"IFERROR(VLOOKUP($A45,Filtros!$A$5:$AY$22116,12,FALSE),0)","v":15},{"$f":"CJ45 & CK45","v":""},{"$nulls":72},{"$f":"IF(AND(E45<>0,K45=\"\"), \"* No olvide escribir en la celda de Pueblos Originarios (Digite CERO si no tiene). \",IF(AND(F45<>0,L45=\"\"), \"* No olvide escribir en la celda de Pueblos Originarios (Digite CERO si no tiene). \",\"\"))","v":""},{"$f":"IF(AND(E45<>0,M45=\"\"), \"* No olvide escribir en la celda de Población Migrantes (Digite CERO si no tiene). \",IF(AND(F45<>0,N45=\"\"), \"* No olvide escribir en la celda de Población Migrantes (Digite CERO si no tiene). \",\"\"))","v":""},{"$nulls":23},{"$f":"IF(AND(E45<>0,K45=\"\"), 1,IF(AND(F45<>0,L45=\"\"), 1,0))","v":0},{"$f":"IF(AND(E45<>0,M45=\"\"), 1,IF(AND(F45<>0,N45=\"\"), 1,0))","v":0}]
["P2400180",null,"+ 1 D.S. (>= +1.0 a +1.9)",{"$f":"IFERROR(VLOOKUP($A46,Filtros!$A$5:$AY$22116,2,FALSE),0)","v":2807},{"$f":"IFERROR(VLOOKUP($A46,Filtros!$A$5:$AY$22116,3,FALSE),0)","v":1371},{"$f":"IFERROR(VLOOKUP($A46,Filtros!$A$5:$AY$22116,4,FALSE),0)","v":1436},{"$f":"IFERROR(VLOOKUP($A46,Filtros!$A$5:$AY$22116,5,FALSE),0)","v":441},{"$f":"IFERROR(VLOOKUP($A46,Filtros!$A$5:$AY$22116,6,FALSE),0)","v":426},{"$f":"IFERROR(VLOOKUP($A46,Filtros!$A$5:$AY$22116,7,FALSE),0)","v":930},{"$f":"IFERROR(VLOOKUP($A46,Filtros!$A$5:$AY$22116,8,FALSE),0)","v":1010},{"$f":"IFERROR(VLOOKUP($A46,Filtros!$A$5:$AY$22116,9,FALSE),0)","v":1},{"$f":"IFERROR(VLOOKUP($A46,Filtros!$A$5:$AY$22116,10,FALSE),0)","v":2},{"$f":"IFERROR(VLOOKUP($A46,Filtros!$A$5:$AY$22116,11,FALSE),0)","v":21},{"$f":"IFERROR(VLOOKUP($A46,Filtros!$A$5:$AY$22116,12,FALSE),0)","v":21},{"$f":"CJ46 & CK46","v":""},{"$nulls":72},{"$f":"IF(AND(E46<>0,K46=\"\"), \"* No olvide escribir en la celda de Pueblos Originarios (Digite CERO si no tiene). \",IF(AND(F46<>0,L46=\"\"), \"* No olvide escribir en la celda de Pueblos Originarios (Digite CERO si no tiene). \",\"\"))","v":""},{"$f":"IF(AND(E46<>0,M46=\"\"), \"* No olvide escribir en la celda de Población Migrantes (Digite CERO si no tiene). \",IF(AND(F46<>0,N46=\"\"), \"* No olvide escribir en la celda de Población Migrantes (Digite CERO si no tiene). \",\"\"))","v":""},{"$nulls":23},{"$f":"IF(AND(E46<>0,K46=\"\"), 1,IF(AND(F46<>0,L46=\"\"), 1,0))","v":0},{"$f":"IF(AND(E46<>0,M46=\"\"), 1,IF(AND(F46<>0,N46=\"\"), 1,0))","v":0}]
[null,null,"TOTAL",{"$f":"+E47+F47","v":6165},{"$f":"+G47+I47","v":3188},{"$f":"+H47+J47","v":2977},{"$f":"SUM(G44:G46)","v":905},{"$f":"SUM(H44:H46)","v":862},2283,2115,15,5,37,39,{"$f":" CG47 & CH47","v":""},{"$nulls":69},{"$f":"IF($D47>=$K47+$L47,\"\",\"* El Total de Pueblos Originarios no debe ser mayor al total de niños en control. \")","v":""},{"$f":"IF($D47>=$M47+$N47,\"\",\"* El Total de Pueblación Migrantes no debe ser mayor al total de niños en control. \")","v":""},{"$nulls":23},{"$f":"IF($D47>=$K47+$L47,0,1)","v":0},{"$f":"IF($D47>=$M47+$N47,0,1)","v":0}]
["P2400190",null,"- 1 D.S. (<= -1.0 a -1.9)",{"$f":"IFERROR(VLOOKUP($A48,Filtros!$A$5:$AY$22116,2,FALSE),0)","v":291},{"$f":"IFERROR(VLOOKUP($A48,Filtros!$A$5:$AY$22116,3,FALSE),0)","v":136},{"$f":"IFERROR(VLOOKUP($A48,Filtros!$A$5:$AY$22116,4,FALSE),0)","v":155},{"$f":"IFERROR(VLOOKUP($A48,Filtros!$A$5:$AY$22116,5,FALSE),0)","v":48},{"$f":"IFERROR(VLOOKUP($A48,Filtros!$A$5:$AY$22116,6,FALSE),0)","v":45},{"$f":"IFERROR(VLOOKUP($A48,Filtros!$A$5:$AY$22116,7,FALSE),0)","v":88},{"$f":"IFERROR(VLOOKUP($A48,Filtros!$A$5:$AY$22116,8,FALSE),0)","v":110},{"$f":"IFERROR(VLOOKUP($A48,Filtros!$A$5:$AY$22116,9,FALSE),0)","v":0},{"$f":"IFERROR(VLOOKUP($A48,Filtros!$A$5:$AY$22116,10,FALSE),0)","v":0},{"$f":"IFERROR(VLOOKUP($A48,Filtros!$A$5:$AY$22116,11,FALSE),0)","v":3},{"$f":"IFERROR(VLOOKUP($A48,Filtros!$A$5:$AY$22116,12,FALSE),0)","v":5},{"$f":"CJ48 & CK48","v":""},{"$nulls":72},{"$f":"IF(AND(E48<>0,K48=\"\"), \"* No olvide escribir en la celda de Pueblos Originarios (Digite CERO si no tiene). \",IF(AND(F48<>0,L48=\"\"), \"* No olvide escribir en la celda de Pueblos Originarios (Digite CERO si no tiene). \",\"\"))","v":""},{"$f":"IF(AND(E48<>0,M48=\"\"), \"* No olvide escribir en la celda de Población Migrantes (Digite CERO si no tiene). \",IF(AND(F48<>0,N48=\"\"), \"* No olvide escribir en la celda de Población Migrantes (Digite CERO si no tiene). \",\"\"))","v":""},{"$nulls":23},{"$f":"IF(AND(E48<>0,K48=\"\"), 1,IF(AND(F48<>0,L48=\"\"), 1,0))","v":0},{"$f":"IF(AND(E48<>0,M48=\"\"), 1,IF(AND(F48<>0,N48=\"\"), 1,0))","v":0}]
["P2400200",null,"- 2 D.S. (<= -2.0)",{"$f":"IFERROR(VLOOKUP($A49,Filtros!$A$5:$AY$22116,2,FALSE),0)","v":35},{"$f":"IFERROR(VLOOKUP($A49,Filtros!$A$5:$AY$22116,3,FALSE),0)","v":22},{"$f":"IFERROR(VLOOKUP($A49,Filtros!$A$5:$AY$22116,4,FALSE),0)","v":13},{"$f":"IFERROR(VLOOKUP($A49,Filtros!$A$5:$AY$22116,5,FALSE),0)","v":6},{"$f":"IFERROR(VLOOKUP($A49,Filtros!$A$5:$AY$22116,6,FALSE),0)","v":3},{"$f":"IFERROR(VLOOKUP($A49,Filtros!$A$5:$AY$22116,7,FALSE),0)","v":16},{"$f":"IFERROR(VLOOKUP($A49,Filtros!$A$5:$AY$22116,8,FALSE),0)","v":10},{"$f":"IFERROR(VLOOKUP($A49,Filtros!$A$5:$AY$22116,9,FALSE),0)","v":0},{"$f":"IFERROR(VLOOKUP($A49,Filtros!$A$5:$AY$22116,10,FALSE),0)","v":0},{"$f":"IFERROR(VLOOKUP($A49,Filtros!$A$5:$AY$22116,11,FALSE),0)","v":0},{"$f":"IFERROR(VLOOKUP($A49,Filtros!$A$5:$AY$22116,12,FALSE),0)","v":0},{"$f":"CJ49 & CK49","v":""},{"$nulls":72},{"$f":"IF(AND(E49<>0,K49=\"\"), \"* No olvide escribir en la celda de Pueblos Originarios (Digite CERO si no tiene). \",IF(AND(F49<>0,L49=\"\"), \"* No olvide escribir en la celda de Pueblos Originarios (Digite CERO si no tiene). \",\"\"))","v":""},{"$f":"IF(AND(E49<>0,M49=\"\"), \"* No olvide escribir en la celda de Población Migrantes (Digite CERO si no tiene). \",IF(AND(F49<>0,N49=\"\"), \"* No olvide escribir en la celda de Población Migrantes (Digite CERO si no tiene). \",\"\"))","v":""},{"$nulls":23},{"$f":"IF(AND(E49<>0,K49=\"\"), 1,IF(AND(F49<>0,L49=\"\"), 1,0))","v":0},{"$f":"IF(AND(E49<>0,M49=\"\"), 1,IF(AND(F49<>0,N49=\"\"), 1,0))","v":0}]
[null,null,"TOTAL",326,158,168,{"$f":"SUM(G48:G49)","v":54},{"$f":"SUM(H48:H49)","v":48},104,120,0,0,3,5,{"$f":" CG50 & CH50","v":""},{"$nulls":69},{"$f":"IF($D50>=$K50+$L50,\"\",\"* El Total de Pueblos Originarios no debe ser mayor al total de niños en control. \")","v":""},{"$f":"IF($D50>=$M50+$N50,\"\",\"* El Total de Pueblación Migrantes no debe ser mayor al total de niños en control. \")","v":""},{"$nulls":23},{"$f":"IF($D50>=$K50+$L50,0,1)","v":0},{"$f":"IF($D50>=$M50+$N50,0,1)","v":0}]
["P2400210",null,"PROMEDIO (-0,9 A + 0,9)",0,0,0,{"$nulls":8},{"$f":"CJ51 & CK51","v":""},{"$nulls":72},{"$f":"IF(AND(E51<>0,K51=\"\"), \"* No olvide escribir en la celda de Pueblos Originarios (Digite CERO si no tiene). \",IF(AND(F51<>0,L51=\"\"), \"* No olvide escribir en la celda de Pueblos Originarios (Digite CERO si no tiene). \",\"\"))","v":""},{"$f":"IF(AND(E51<>0,M51=\"\"), \"* No olvide escribir en la celda de Población Migrantes (Digite CERO si no tiene). \",IF(AND(F51<>0,N51=\"\"), \"* No olvide escribir en la celda de Población Migrantes (Digite CERO si no tiene). \",\"\"))","v":""},{"$nulls":23},{"$f":"IF(AND(E51<>0,K51=\"\"), 1,IF(AND(F51<>0,L51=\"\"), 1,0))","v":0},{"$f":"IF(AND(E51<>0,M51=\"\"), 1,IF(AND(F51<>0,N51=\"\"), 1,0))","v":0}]
["P2400220","INDICADOR TALLA/EDAD","+ 2 D.S. (>= +2.0)",{"$f":"IFERROR(VLOOKUP($A52,Filtros!$A$5:$AY$22116,2,FALSE),0)","v":502},{"$f":"IFERROR(VLOOKUP($A52,Filtros!$A$5:$AY$22116,3,FALSE),0)","v":275},{"$f":"IFERROR(VLOOKUP($A52,Filtros!$A$5:$AY$22116,4,FALSE),0)","v":227},{"$f":"IFERROR(VLOOKUP($A52,Filtros!$A$5:$AY$22116,5,FALSE),0)","v":82},{"$f":"IFERROR(VLOOKUP($A52,Filtros!$A$5:$AY$22116,6,FALSE),0)","v":69},{"$f":"IFERROR(VLOOKUP($A52,Filtros!$A$5:$AY$22116,7,FALSE),0)","v":193},{"$f":"IFERROR(VLOOKUP($A52,Filtros!$A$5:$AY$22116,8,FALSE),0)","v":158},{"$f":"IFERROR(VLOOKUP($A52,Filtros!$A$5:$AY$22116,9,FALSE),0)","v":2},{"$f":"IFERROR(VLOOKUP($A52,Filtros!$A$5:$AY$22116,10,FALSE),0)","v":0},{"$f":"IFERROR(VLOOKUP($A52,Filtros!$A$5:$AY$22116,11,FALSE),0)","v":3},{"$f":"IFERROR(VLOOKUP($A52,Filtros!$A$5:$AY$22116,12,FALSE),0)","v":1},{"$f":"CJ52 & CK52","v":""},{"$nulls":72},{"$f":"IF(AND(E52<>0,K52=\"\"), \"* No olvide escribir en la celda de Pueblos Originarios (Digite CERO si no tiene). \",IF(AND(F52<>0,L52=\"\"), \"* No olvide escribir en la celda de Pueblos Originarios (Digite CERO si no tiene). \",\"\"))","v":""},{"$f":"IF(AND(E52<>0,M52=\"\"), \"* No olvide escribir en la celda de Población Migrantes (Digite CERO si no tiene). \",IF(AND(F52<>0,N52=\"\"), \"* No olvide escribir en la celda de Población Migrantes (Digite CERO si no tiene). \",\"\"))","v":""},{"$nulls":23},{"$f":"IF(AND(E52<>0,K52=\"\"), 1,IF(AND(F52<>0,L52=\"\"), 1,0))","v":0},{"$f":"IF(AND(E52<>0,M52=\"\"), 1,IF(AND(F52<>0,N52=\"\"), 1,0))","v":0}]
["P2400230",null,"+ 1 D.S. (+1.0 a +1.9)",{"$f":"IFERROR(VLOOKUP($A53,Filtros!$A$5:$AY$22116,2,FALSE),0)","v":1730},{"$f":"IFERROR(VLOOKUP($A53,Filtros!$A$5:$AY$22116,3,FALSE),0)","v":914},{"$f":"IFERROR(VLOOKUP($A53,Filtros!$A$5:$AY$22116,4,FALSE),0)","v":816},{"$f":"IFERROR(VLOOKUP($A53,Filtros!$A$5:$AY$22116,5,FALSE),0)","v":294},{"$f":"IFERROR(VLOOKUP($A53,Filtros!$A$5:$AY$22116,6,FALSE),0)","v":246},{"$f":"IFERROR(VLOOKUP($A53,Filtros!$A$5:$AY$22116,7,FALSE),0)","v":620},{"$f":"IFERROR(VLOOKUP($A53,Filtros!$A$5:$AY$22116,8,FALSE),0)","v":570},{"$f":"IFERROR(VLOOKUP($A53,Filtros!$A$5:$AY$22116,9,FALSE),0)","v":5},{"$f":"IFERROR(VLOOKUP($A53,Filtros!$A$5:$AY$22116,10,FALSE),0)","v":0},{"$f":"IFERROR(VLOOKUP($A53,Filtros!$A$5:$AY$22116,11,FALSE),0)","v":5},{"$f":"IFERROR(VLOOKUP($A53,Filtros!$A$5:$AY$22116,12,FALSE),0)","v":10},{"$f":"CJ53 & CK53","v":""},{"$nulls":72},{"$f":"IF(AND(E53<>0,K53=\"\"), \"* No olvide escribir en la celda de Pueblos Originarios (Digite CERO si no tiene). \",IF(AND(F53<>0,L53=\"\"), \"* No olvide escribir en la celda de Pueblos Originarios (Digite CERO si no tiene). \",\"\"))","v":""},{"$f":"IF(AND(E53<>0,M53=\"\"), \"* No olvide escribir en la celda de Población Migrantes (Digite CERO si no tiene). \",IF(AND(F53<>0,N53=\"\"), \"* No olvide escribir en la celda de Población Migrantes (Digite CERO si no tiene). \",\"\"))","v":""},{"$nulls":23},{"$f":"IF(AND(E53<>0,K53=\"\"), 1,IF(AND(F53<>0,L53=\"\"), 1,0))","v":0},{"$f":"IF(AND(E53<>0,M53=\"\"), 1,IF(AND(F53<>0,N53=\"\"), 1,0))","v":0}]
[null,null,"TOTAL",2232,1189,1043,{"$f":"SUM(G52:G53)","v":376},{"$f":"SUM(H52:H53)","v":315},813,728,7,0,8,11,{"$f":" CG54 & CH54","v":""},{"$nulls":69},{"$f":"IF($D54>=$K54+$L54,\"\",\"* El Total de Pueblos Originarios no debe ser mayor al total de niños en control. \")","v":""},{"$f":"IF($D54>=$M54+$N54,\"\",\"* El Total de Pueblación Migrantes no debe ser mayor al total de niños en control. \")","v":""},{"$nulls":23},{"$f":"IF($D54>=$K54+$L54,0,1)","v":0},{"$f":"IF($D54>=$M54+$N54,0,1)","v":0}]
["P2400240",null,"- 1 D.S. (-1.0 a -1.9)",{"$f":"IFERROR(VLOOKUP($A55,Filtros!$A$5:$AY$22116,2,FALSE),0)","v":1023},{"$f":"IFERROR(VLOOKUP($A55,Filtros!$A$5:$AY$22116,3,FALSE),0)","v":542},{"$f":"IFERROR(VLOOKUP($A55,Filtros!$A$5:$AY$22116,4,FALSE),0)","v":481},{"$f":"IFERROR(VLOOKUP($A55,Filtros!$A$5:$AY$22116,5,FALSE),0)","v":200},{"$f":"IFERROR(VLOOKUP($A55,Filtros!$A$5:$AY$22116,6,FALSE),0)","v":164},{"$f":"IFERROR(VLOOKUP($A55,Filtros!$A$5:$AY$22116,7,FALSE),0)","v":342},{"$f":"IFERROR(VLOOKUP($A55,Filtros!$A$5:$AY$22116,8,FALSE),0)","v":317},{"$f":"IFERROR(VLOOKUP($A55,Filtros!$A$5:$AY$22116,9,FALSE),0)","v":2},{"$f":"IFERROR(VLOOKUP($A55,Filtros!$A$5:$AY$22116,10,FALSE),0)","v":3},{"$f":"IFERROR(VLOOKUP($A55,Filtros!$A$5:$AY$22116,11,FALSE),0)","v":3},{"$f":"IFERROR(VLOOKUP($A55,Filtros!$A$5:$AY$22116,12,FALSE),0)","v":4},{"$f":"CJ55 & CK55","v":""},{"$nulls":72},{"$f":"IF(AND(E55<>0,K55=\"\"), \"* No olvide escribir en la celda de Pueblos Originarios (Digite CERO si no tiene). \",IF(AND(F55<>0,L55=\"\"), \"* No olvide escribir en la celda de Pueblos Originarios (Digite CERO si no tiene). \",\"\"))","v":""},{"$f":"IF(AND(E55<>0,M55=\"\"), \"* No olvide escribir en la celda de Población Migrantes (Digite CERO si no tiene). \",IF(AND(F55<>0,N55=\"\"), \"* No olvide escribir en la celda de Población Migrantes (Digite CERO si no tiene). \",\"\"))","v":""},{"$nulls":23},{"$f":"IF(AND(E55<>0,K55=\"\"), 1,IF(AND(F55<>0,L55=\"\"), 1,0))","v":0},{"$f":"IF(AND(E55<>0,M55=\"\"), 1,IF(AND(F55<>0,N55=\"\"), 1,0))","v":0}]
["P2400250",null,"- 2 D.S. (<= -2.0)",{"$f":"IFERROR(VLOOKUP($A56,Filtros!$A$5:$AY$22116,2,FALSE),0)","v":131},{"$f":"IFERROR(VLOOKUP($A56,Filtros!$A$5:$AY$22116,3,FALSE),0)","v":74},{"$f":"IFERROR(VLOOKUP($A56,Filtros!$A$5:$AY$22116,4,FALSE),0)","v":57},{"$f":"IFERROR(VLOOKUP($A56,Filtros!$A$5:$AY$22116,5,FALSE),0)","v":24},{"$f":"IFERROR(VLOOKUP($A56,Filtros!$A$5:$AY$22116,6,FALSE),0)","v":10},{"$f":"IFERROR(VLOOKUP($A56,Filtros!$A$5:$AY$22116,7,FALSE),0)","v":50},{"$f":"IFERROR(VLOOKUP($A56,Filtros!$A$5:$AY$22116,8,FALSE),0)","v":47},{"$f":"IFERROR(VLOOKUP($A56,Filtros!$A$5:$AY$22116,9,FALSE),0)","v":0},{"$f":"IFERROR(VLOOKUP($A56,Filtros!$A$5:$AY$22116,10,FALSE),0)","v":0},{"$f":"IFERROR(VLOOKUP($A56,Filtros!$A$5:$AY$22116,11,FALSE),0)","v":0},{"$f":"IFERROR(VLOOKUP($A56,Filtros!$A$5:$AY$22116,12,FALSE),0)","v":1},{"$f":"CJ56 & CK56","v":""},{"$nulls":72},{"$f":"IF(AND(E56<>0,K56=\"\"), \"* No olvide escribir en la celda de Pueblos Originarios (Digite CERO si no tiene). \",IF(AND(F56<>0,L56=\"\"), \"* No olvide escribir en la celda de Pueblos Originarios (Digite CERO si no tiene). \",\"\"))","v":""},{"$f":"IF(AND(E56<>0,M56=\"\"), \"* No olvide escribir en la celda de Población Migrantes (Digite CERO si no tiene). \",IF(AND(F56<>0,N56=\"\"), \"* No olvide escribir en la celda de Población Migrantes (Digite CERO si no tiene). \",\"\"))","v":""},{"$nulls":23},{"$f":"IF(AND(E56<>0,K56=\"\"), 1,IF(AND(F56<>0,L56=\"\"), 1,0))","v":0},{"$f":"IF(AND(E56<>0,M56=\"\"), 1,IF(AND(F56<>0,N56=\"\"), 1,0))","v":0}]
[null,null,"TOTAL",1154,616,538,{"$f":"SUM(G55:G56)","v":224},{"$f":"SUM(H55:H56)","v":174},392,364,2,3,3,5,{"$f":" CG57 & CH57","v":""},{"$nulls":69},{"$f":"IF($D57>=$K57+$L57,\"\",\"* El Total de Pueblos Originarios no debe ser mayor al total de niños en control. \")","v":""},{"$f":"IF($D57>=$M57+$N57,\"\",\"* El Total de Pueblación Migrantes no debe ser mayor al total de niños en control. \")","v":""},{"$nulls":23},{"$f":"IF($D57>=$K57+$L57,0,1)","v":0},{"$f":"IF($D57>=$M57+$N57,0,1)","v":0}]
["P2400260",null,"PROMEDIO (-0,9 A + 0,9)",{"$f":"IFERROR(VLOOKUP($A58,Filtros!$A$5:$AY$22116,2,FALSE),0)","v":6252},{"$f":"IFERROR(VLOOKUP($A58,Filtros!$A$5:$AY$22116,3,FALSE),0)","v":3236},{"$f":"IFERROR(VLOOKUP($A58,Filtros!$A$5:$AY$22116,4,FALSE),0)","v":3016},{"$f":"IFERROR(VLOOKUP($A58,Filtros!$A$5:$AY$22116,5,FALSE),0)","v":933},{"$f":"IFERROR(VLOOKUP($A58,Filtros!$A$5:$AY$22116,6,FALSE),0)","v":923},{"$f":"IFERROR(VLOOKUP($A58,Filtros!$A$5:$AY$22116,7,FALSE),0)","v":2303},{"$f":"IFERROR(VLOOKUP($A58,Filtros!$A$5:$AY$22116,8,FALSE),0)","v":2093},{"$f":"IFERROR(VLOOKUP($A58,Filtros!$A$5:$AY$22116,9,FALSE),0)","v":12},{"$f":"IFERROR(VLOOKUP($A58,Filtros!$A$5:$AY$22116,10,FALSE),0)","v":4},{"$f":"IFERROR(VLOOKUP($A58,Filtros!$A$5:$AY$22116,11,FALSE),0)","v":52},{"$f":"IFERROR(VLOOKUP($A58,Filtros!$A$5:$AY$22116,12,FALSE),0)","v":36},{"$f":"CJ58 & CK58","v":""},{"$nulls":72},{"$f":"IF(AND(E58<>0,K58=\"\"), \"* No olvide escribir en la celda de Pueblos Originarios (Digite CERO si no tiene). \",IF(AND(F58<>0,L58=\"\"), \"* No olvide escribir en la celda de Pueblos Originarios (Digite CERO si no tiene). \",\"\"))","v":""},{"$f":"IF(AND(E58<>0,M58=\"\"), \"* No olvide escribir en la celda de Población Migrantes (Digite CERO si no tiene). \",IF(AND(F58<>0,N58=\"\"), \"* No olvide escribir en la celda de Población Migrantes (Digite CERO si no tiene). \",\"\"))","v":""},{"$nulls":23},{"$f":"IF(AND(E58<>0,K58=\"\"), 1,IF(AND(F58<>0,L58=\"\"), 1,0))","v":0},{"$f":"IF(AND(E58<>0,M58=\"\"), 1,IF(AND(F58<>0,N58=\"\"), 1,0))","v":0}]
["P2400270","INDICADOR PERIMETRO DE CINTURA / EDAD","NORMAL (<p75)",{"$f":"IFERROR(VLOOKUP($A59,Filtros!$A$5:$AY$22116,2,FALSE),0)","v":5369},{"$f":"IFERROR(VLOOKUP($A59,Filtros!$A$5:$AY$22116,3,FALSE),0)","v":2719},{"$f":"IFERROR(VLOOKUP($A59,Filtros!$A$5:$AY$22116,4,FALSE),0)","v":2650},{"$f":"IFERROR(VLOOKUP($A59,Filtros!$A$5:$AY$22116,5,FALSE),0)","v":814},{"$f":"IFERROR(VLOOKUP($A59,Filtros!$A$5:$AY$22116,6,FALSE),0)","v":808},{"$f":"IFERROR(VLOOKUP($A59,Filtros!$A$5:$AY$22116,7,FALSE),0)","v":1905},{"$f":"IFERROR(VLOOKUP($A59,Filtros!$A$5:$AY$22116,8,FALSE),0)","v":1842},{"$f":"IFERROR(VLOOKUP($A59,Filtros!$A$5:$AY$22116,9,FALSE),0)","v":8},{"$f":"IFERROR(VLOOKUP($A59,Filtros!$A$5:$AY$22116,10,FALSE),0)","v":3},{"$f":"IFERROR(VLOOKUP($A59,Filtros!$A$5:$AY$22116,11,FALSE),0)","v":13},{"$f":"IFERROR(VLOOKUP($A59,Filtros!$A$5:$AY$22116,12,FALSE),0)","v":24},{"$f":"CJ59 & CK59","v":""},{"$nulls":72},{"$f":"IF(AND(E59<>0,K59=\"\"), \"* No olvide escribir en la celda de Pueblos Originarios (Digite CERO si no tiene). \",IF(AND(F59<>0,L59=\"\"), \"* No olvide escribir en la celda de Pueblos Originarios (Digite CERO si no tiene). \",\"\"))","v":""},{"$f":"IF(AND(E59<>0,M59=\"\"), \"* No olvide escribir en la celda de Población Migrantes (Digite CERO si no tiene). \",IF(AND(F59<>0,N59=\"\"), \"* No olvide escribir en la celda de Población Migrantes (Digite CERO si no tiene). \",\"\"))","v":""},{"$nulls":23},{"$f":"IF(AND(E59<>0,K59=\"\"), 1,IF(AND(F59<>0,L59=\"\"), 1,0))","v":0},{"$f":"IF(AND(E59<>0,M59=\"\"), 1,IF(AND(F59<>0,N59=\"\"), 1,0))","v":0}]
["P2400280",null,"RIESGO DE OBESIDAD ABDOMINAL (75<p<90)",{"$f":"IFERROR(VLOOKUP($A60,Filtros!$A$5:$AY$22116,2,FALSE),0)","v":1675},{"$f":"IFERROR(VLOOKUP($A60,Filtros!$A$5:$AY$22116,3,FALSE),0)","v":869},{"$f":"IFERROR(VLOOKUP($A60,Filtros!$A$5:$AY$22116,4,FALSE),0)","v":806},{"$f":"IFERROR(VLOOKUP($A60,Filtros!$A$5:$AY$22116,5,FALSE),0)","v":226},{"$f":"IFERROR(VLOOKUP($A60,Filtros!$A$5:$AY$22116,6,FALSE),0)","v":217},{"$f":"IFERROR(VLOOKUP($A60,Filtros!$A$5:$AY$22116,7,FALSE),0)","v":643},{"$f":"IFERROR(VLOOKUP($A60,Filtros!$A$5:$AY$22116,8,FALSE),0)","v":589},{"$f":"IFERROR(VLOOKUP($A60,Filtros!$A$5:$AY$22116,9,FALSE),0)","v":4},{"$f":"IFERROR(VLOOKUP($A60,Filtros!$A$5:$AY$22116,10,FALSE),0)","v":1},{"$f":"IFERROR(VLOOKUP($A60,Filtros!$A$5:$AY$22116,11,FALSE),0)","v":1},{"$f":"IFERROR(VLOOKUP($A60,Filtros!$A$5:$AY$22116,12,FALSE),0)","v":1},{"$f":"CJ60 & CK60","v":""},{"$nulls":72},{"$f":"IF(AND(E60<>0,K60=\"\"), \"* No olvide escribir en la celda de Pueblos Originarios (Digite CERO si no tiene). \",IF(AND(F60<>0,L60=\"\"), \"* No olvide escribir en la celda de Pueblos Originarios (Digite CERO si no tiene). \",\"\"))","v":""},{"$f":"IF(AND(E60<>0,M60=\"\"), \"* No olvide escribir en la celda de Población Migrantes (Digite CERO si no tiene). \",IF(AND(F60<>0,N60=\"\"), \"* No olvide escribir en la celda de Población Migrantes (Digite CERO si no tiene). \",\"\"))","v":""},{"$nulls":23},{"$f":"IF(AND(E60<>0,K60=\"\"), 1,IF(AND(F60<>0,L60=\"\"), 1,0))","v":0},{"$f":"IF(AND(E60<>0,M60=\"\"), 1,IF(AND(F60<>0,N60=\"\"), 1,0))","v":0}]
["P2400290",null,"OBESIDAD ABDOMINAL (>p90)",{"$f":"IFERROR(VLOOKUP($A61,Filtros!$A$5:$AY$22116,2,FALSE),0)","v":1866},{"$f":"IFERROR(VLOOKUP($A61,Filtros!$A$5:$AY$22116,3,FALSE),0)","v":1023},{"$f":"IFERROR(VLOOKUP($A61,Filtros!$A$5:$AY$22116,4,FALSE),0)","v":843},{"$f":"IFERROR(VLOOKUP($A61,Filtros!$A$5:$AY$22116,5,FALSE),0)","v":240},{"$f":"IFERROR(VLOOKUP($A61,Filtros!$A$5:$AY$22116,6,FALSE),0)","v":243},{"$f":"IFERROR(VLOOKUP($A61,Filtros!$A$5:$AY$22116,7,FALSE),0)","v":783},{"$f":"IFERROR(VLOOKUP($A61,Filtros!$A$5:$AY$22116,8,FALSE),0)","v":600},{"$f":"IFERROR(VLOOKUP($A61,Filtros!$A$5:$AY$22116,9,FALSE),0)","v":8},{"$f":"IFERROR(VLOOKUP($A61,Filtros!$A$5:$AY$22116,10,FALSE),0)","v":2},{"$f":"IFERROR(VLOOKUP($A61,Filtros!$A$5:$AY$22116,11,FALSE),0)","v":3},{"$f":"IFERROR(VLOOKUP($A61,Filtros!$A$5:$AY$22116,12,FALSE),0)","v":3},{"$f":"CJ61 & CK61","v":""},{"$nulls":72},{"$f":"IF(AND(E61<>0,K61=\"\"), \"* No olvide escribir en la celda de Pueblos Originarios (Digite CERO si no tiene). \",IF(AND(F61<>0,L61=\"\"), \"* No olvide escribir en la celda de Pueblos Originarios (Digite CERO si no tiene). \",\"\"))","v":""},{"$f":"IF(AND(E61<>0,M61=\"\"), \"* No olvide escribir en la celda de Población Migrantes (Digite CERO si no tiene). \",IF(AND(F61<>0,N61=\"\"), \"* No olvide escribir en la celda de Población Migrantes (Digite CERO si no tiene). \",\"\"))","v":""},{"$nulls":23},{"$f":"IF(AND(E61<>0,K61=\"\"), 1,IF(AND(F61<>0,L61=\"\"), 1,0))","v":0},{"$f":"IF(AND(E61<>0,M61=\"\"), 1,IF(AND(F61<>0,N61=\"\"), 1,0))","v":0}]
[null,null,"TOTAL",{"$f":"+E62+F62","v":8910},{"$f":"+G62+I62","v":4611},4299,{"$f":"SUM(G59:G61)","v":1280},{"$f":"SUM(H59:H61)","v":1268},3331,3031,20,6,17,28,{"$f":" CG62 & CH62","v":""},{"$nulls":69},{"$f":"IF($D62>=$K62+$L62,\"\",\"* El Total de Pueblos Originarios no debe ser mayor al total de niños en control. \")","v":""},{"$f":"IF($D62>=$M62+$N62,\"\",\"* El Total de Pueblación Migrantes no debe ser mayor al total de niños en control. \")","v":""},{"$nulls":23},{"$f":"IF($D62>=$K62+$L62,0,1)","v":0},{"$f":"IF($D62>=$M62+$N62,0,1)","v":0}]
["P2400300","DIAGNOSTICO NUTRICIONAL INTEGRADO","RIESGO DE DESNUTRIR/ DEFICIT PONDERAL*",{"$f":"IFERROR(VLOOKUP($A63,Filtros!$A$5:$AY$22116,2,FALSE),0)","v":249},{"$f":"IFERROR(VLOOKUP($A63,Filtros!$A$5:$AY$22116,3,FALSE),0)","v":118},{"$f":"IFERROR(VLOOKUP($A63,Filtros!$A$5:$AY$22116,4,FALSE),0)","v":131},{"$f":"IFERROR(VLOOKUP($A63,Filtros!$A$5:$AY$22116,5,FALSE),0)","v":42},{"$f":"IFERROR(VLOOKUP($A63,Filtros!$A$5:$AY$22116,6,FALSE),0)","v":38},{"$f":"IFERROR(VLOOKUP($A63,Filtros!$A$5:$AY$22116,7,FALSE),0)","v":76},{"$f":"IFERROR(VLOOKUP($A63,Filtros!$A$5:$AY$22116,8,FALSE),0)","v":93},{"$f":"IFERROR(VLOOKUP($A63,Filtros!$A$5:$AY$22116,9,FALSE),0)","v":0},{"$f":"IFERROR(VLOOKUP($A63,Filtros!$A$5:$AY$22116,10,FALSE),0)","v":0},{"$f":"IFERROR(VLOOKUP($A63,Filtros!$A$5:$AY$22116,11,FALSE),0)","v":3},{"$f":"IFERROR(VLOOKUP($A63,Filtros!$A$5:$AY$22116,12,FALSE),0)","v":5},{"$f":"CJ63 & CK63","v":""},{"$nulls":72},{"$f":"IF(AND(E63<>0,K63=\"\"), \"* No olvide escribir en la celda de Pueblos Originarios (Digite CERO si no tiene). \",IF(AND(F63<>0,L63=\"\"), \"* No olvide escribir en la celda de Pueblos Originarios (Digite CERO si no tiene). \",\"\"))","v":""},{"$f":"IF(AND(E63<>0,M63=\"\"), \"* No olvide escribir en la celda de Población Migrantes (Digite CERO si no tiene). \",IF(AND(F63<>0,N63=\"\"), \"* No olvide escribir en la celda de Población Migrantes (Digite CERO si no tiene). \",\"\"))","v":""},{"$nulls":23},{"$f":"IF(AND(E63<>0,K63=\"\"), 1,IF(AND(F63<>0,L63=\"\"), 1,0))","v":0},{"$f":"IF(AND(E63<>0,M63=\"\"), 1,IF(AND(F63<>0,N63=\"\"), 1,0))","v":0}]
["P2400310",null,"DESNUTRIDO",{"$f":"IFERROR(VLOOKUP($A64,Filtros!$A$5:$AY$22116,2,FALSE),0)","v":30},{"$f":"IFERROR(VLOOKUP($A64,Filtros!$A$5:$AY$22116,3,FALSE),0)","v":16},{"$f":"IFERROR(VLOOKUP($A64,Filtros!$A$5:$AY$22116,4,FALSE),0)","v":14},{"$f":"IFERROR(VLOOKUP($A64,Filtros!$A$5:$AY$22116,5,FALSE),0)","v":4},{"$f":"IFERROR(VLOOKUP($A64,Filtros!$A$5:$AY$22116,6,FALSE),0)","v":4},{"$f":"IFERROR(VLOOKUP($A64,Filtros!$A$5:$AY$22116,7,FALSE),0)","v":12},{"$f":"IFERROR(VLOOKUP($A64,Filtros!$A$5:$AY$22116,8,FALSE),0)","v":10},{"$f":"IFERROR(VLOOKUP($A64,Filtros!$A$5:$AY$22116,9,FALSE),0)","v":0},{"$f":"IFERROR(VLOOKUP($A64,Filtros!$A$5:$AY$22116,10,FALSE),0)","v":0},{"$f":"IFERROR(VLOOKUP($A64,Filtros!$A$5:$AY$22116,11,FALSE),0)","v":0},{"$f":"IFERROR(VLOOKUP($A64,Filtros!$A$5:$AY$22116,12,FALSE),0)","v":0},"",{"$nulls":72},"","",{"$nulls":23},0,0]
["P2400320",null,"SOBREPESO / RIESGO OBESIDAD",{"$f":"IFERROR(VLOOKUP($A65,Filtros!$A$5:$AY$22116,2,FALSE),0)","v":2894},{"$f":"IFERROR(VLOOKUP($A65,Filtros!$A$5:$AY$22116,3,FALSE),0)","v":1411},{"$f":"IFERROR(VLOOKUP($A65,Filtros!$A$5:$AY$22116,4,FALSE),0)","v":1483},{"$f":"IFERROR(VLOOKUP($A65,Filtros!$A$5:$AY$22116,5,FALSE),0)","v":462},{"$f":"IFERROR(VLOOKUP($A65,Filtros!$A$5:$AY$22116,6,FALSE),0)","v":445},{"$f":"IFERROR(VLOOKUP($A65,Filtros!$A$5:$AY$22116,7,FALSE),0)","v":949},{"$f":"IFERROR(VLOOKUP($A65,Filtros!$A$5:$AY$22116,8,FALSE),0)","v":1038},{"$f":"IFERROR(VLOOKUP($A65,Filtros!$A$5:$AY$22116,9,FALSE),0)","v":4},{"$f":"IFERROR(VLOOKUP($A65,Filtros!$A$5:$AY$22116,10,FALSE),0)","v":4},{"$f":"IFERROR(VLOOKUP($A65,Filtros!$A$5:$AY$22116,11,FALSE),0)","v":15},{"$f":"IFERROR(VLOOKUP($A65,Filtros!$A$5:$AY$22116,12,FALSE),0)","v":15},"",{"$nulls":72},"","",{"$nulls":23},0,0]
["P2400330",null,"OBESO",{"$f":"IFERROR(VLOOKUP($A66,Filtros!$A$5:$AY$22116,2,FALSE),0)","v":2435},{"$f":"IFERROR(VLOOKUP($A66,Filtros!$A$5:$AY$22116,3,FALSE),0)","v":1207},{"$f":"IFERROR(VLOOKUP($A66,Filtros!$A$5:$AY$22116,4,FALSE),0)","v":1228},{"$f":"IFERROR(VLOOKUP($A66,Filtros!$A$5:$AY$22116,5,FALSE),0)","v":355},{"$f":"IFERROR(VLOOKUP($A66,Filtros!$A$5:$AY$22116,6,FALSE),0)","v":363},{"$f":"IFERROR(VLOOKUP($A66,Filtros!$A$5:$AY$22116,7,FALSE),0)","v":852},{"$f":"IFERROR(VLOOKUP($A66,Filtros!$A$5:$AY$22116,8,FALSE),0)","v":865},{"$f":"IFERROR(VLOOKUP($A66,Filtros!$A$5:$AY$22116,9,FALSE),0)","v":5},{"$f":"IFERROR(VLOOKUP($A66,Filtros!$A$5:$AY$22116,10,FALSE),0)","v":3},{"$f":"IFERROR(VLOOKUP($A66,Filtros!$A$5:$AY$22116,11,FALSE),0)","v":8},{"$f":"IFERROR(VLOOKUP($A66,Filtros!$A$5:$AY$22116,12,FALSE),0)","v":10},"",{"$nulls":72},"","",{"$nulls":23},0,0]
["P2400340",null,"OBESO SEVERO",{"$f":"IFERROR(VLOOKUP($A67,Filtros!$A$5:$AY$22116,2,FALSE),0)","v":965},{"$f":"IFERROR(VLOOKUP($A67,Filtros!$A$5:$AY$22116,3,FALSE),0)","v":634},{"$f":"IFERROR(VLOOKUP($A67,Filtros!$A$5:$AY$22116,4,FALSE),0)","v":331},{"$f":"IFERROR(VLOOKUP($A67,Filtros!$A$5:$AY$22116,5,FALSE),0)","v":119},{"$f":"IFERROR(VLOOKUP($A67,Filtros!$A$5:$AY$22116,6,FALSE),0)","v":71},{"$f":"IFERROR(VLOOKUP($A67,Filtros!$A$5:$AY$22116,7,FALSE),0)","v":515},{"$f":"IFERROR(VLOOKUP($A67,Filtros!$A$5:$AY$22116,8,FALSE),0)","v":260},{"$f":"IFERROR(VLOOKUP($A67,Filtros!$A$5:$AY$22116,9,FALSE),0)","v":6},{"$f":"IFERROR(VLOOKUP($A67,Filtros!$A$5:$AY$22116,10,FALSE),0)","v":0},{"$f":"IFERROR(VLOOKUP($A67,Filtros!$A$5:$AY$22116,11,FALSE),0)","v":2},{"$f":"IFERROR(VLOOKUP($A67,Filtros!$A$5:$AY$22116,12,FALSE),0)","v":4},"",{"$nulls":72},"","",{"$nulls":23},0,0]
["P2400350",null,"NORMAL",{"$f":"IFERROR(VLOOKUP($A68,Filtros!$A$5:$AY$22116,2,FALSE),0)","v":6722},{"$f":"IFERROR(VLOOKUP($A68,Filtros!$A$5:$AY$22116,3,FALSE),0)","v":3469},{"$f":"IFERROR(VLOOKUP($A68,Filtros!$A$5:$AY$22116,4,FALSE),0)","v":3253},{"$f":"IFERROR(VLOOKUP($A68,Filtros!$A$5:$AY$22116,5,FALSE),0)","v":1160},{"$f":"IFERROR(VLOOKUP($A68,Filtros!$A$5:$AY$22116,6,FALSE),0)","v":1060},{"$f":"IFERROR(VLOOKUP($A68,Filtros!$A$5:$AY$22116,7,FALSE),0)","v":2309},{"$f":"IFERROR(VLOOKUP($A68,Filtros!$A$5:$AY$22116,8,FALSE),0)","v":2193},{"$f":"IFERROR(VLOOKUP($A68,Filtros!$A$5:$AY$22116,9,FALSE),0)","v":16},{"$f":"IFERROR(VLOOKUP($A68,Filtros!$A$5:$AY$22116,10,FALSE),0)","v":7},{"$f":"IFERROR(VLOOKUP($A68,Filtros!$A$5:$AY$22116,11,FALSE),0)","v":88},{"$f":"IFERROR(VLOOKUP($A68,Filtros!$A$5:$AY$22116,12,FALSE),0)","v":67},"",{"$nulls":72},"","",{"$nulls":23},0,0]
[null,null,"SUBTOTAL",{"$f":"+E69+F69","v":13295},6855,6440,{"$f":"SUM(G63:G68)","v":2142},{"$f":"SUM(H63:H68)","v":1981},4713,4459,31,14,116,101,{"$f":" CG69 & CH69","v":""},{"$nulls":69},{"$f":"IF($D69>=$K69+$L69,\"\",\"* El Total de Pueblos Originarios no debe ser mayor al total de niños en control. \")","v":""},{"$f":"IF($D69>=$M69+$N69,\"\",\"* El Total de Pueblación Migrantes no debe ser mayor al total de niños en control. \")","v":""},{"$nulls":23},{"$f":"IF($D69>=$K69+$L69,0,1)","v":0},{"$f":"IF($D69>=$M69+$N69,0,1)","v":0}]
["P2400360",null,"DESNUTRICIÓN \nSECUNDARIA",{"$f":"IFERROR(VLOOKUP($A70,Filtros!$A$5:$AY$22116,2,FALSE),0)","v":4},{"$f":"IFERROR(VLOOKUP($A70,Filtros!$A$5:$AY$22116,3,FALSE),0)","v":4},{"$f":"IFERROR(VLOOKUP($A70,Filtros!$A$5:$AY$22116,4,FALSE),0)","v":0},{"$f":"IFERROR(VLOOKUP($A70,Filtros!$A$5:$AY$22116,5,FALSE),0)","v":1},{"$f":"IFERROR(VLOOKUP($A70,Filtros!$A$5:$AY$22116,6,FALSE),0)","v":0},{"$f":"IFERROR(VLOOKUP($A70,Filtros!$A$5:$AY$22116,7,FALSE),0)","v":3},{"$f":"IFERROR(VLOOKUP($A70,Filtros!$A$5:$AY$22116,8,FALSE),0)","v":0},{"$f":"IFERROR(VLOOKUP($A70,Filtros!$A$5:$AY$22116,9,FALSE),0)","v":0},{"$f":"IFERROR(VLOOKUP($A70,Filtros!$A$5:$AY$22116,10,FALSE),0)","v":0},{"$f":"IFERROR(VLOOKUP($A70,Filtros!$A$5:$AY$22116,11,FALSE),0)","v":0},{"$f":"IFERROR(VLOOKUP($A70,Filtros!$A$5:$AY$22116,12,FALSE),0)","v":0},{"$f":"CJ70 & CK70","v":""},{"$nulls":72},{"$f":"IF(AND(E70<>0,K70=\"\"), \"* No olvide escribir en la celda de Pueblos Originarios (Digite CERO si no tiene). \",IF(AND(F70<>0,L70=\"\"), \"* No olvide escribir en la celda de Pueblos Originarios (Digite CERO si no tiene). \",\"\"))","v":""},{"$f":"IF(AND(E70<>0,M70=\"\"), \"* No olvide escribir en la celda de Población Migrantes (Digite CERO si no tiene). \",IF(AND(F70<>0,N70=\"\"), \"* No olvide escribir en la celda de Población Migrantes (Digite CERO si no tiene). \",\"\"))","v":""},{"$nulls":23},{"$f":"IF(AND(E70<>0,K70=\"\"), 1,IF(AND(F70<>0,L70=\"\"), 1,0))","v":0},{"$f":"IF(AND(E70<>0,M70=\"\"), 1,IF(AND(F70<>0,N70=\"\"), 1,0))","v":0}]
[null,null,"T O T A L",{"$f":"SUM(D63:D68)+D70","v":13299},6859,6440,2143,1981,4716,4459,31,14,116,101,{"$f":" CG71 & CH71","v":""},{"$nulls":69},{"$f":"IF($D71>=$K71+$L71,\"\",\"* El Total de Pueblos Originarios no debe ser mayor al total de niños en control. \")","v":""},{"$f":"IF($D71>=$M71+$N71,\"\",\"* El Total de Pueblación Migrantes no debe ser mayor al total de niños en control. \")","v":""},{"$nulls":23},{"$f":"IF($D71>=$K71+$L71,0,1)","v":0},{"$f":"IF($D71>=$M71+$N71,0,1)","v":0}]
[null,"NOTA(*): El Diagnóstico Nutricional Integrado de Déficit para los niños (as) 5 años y más denomina Déficit Ponderal al Riesgo de Desnutrir."]
[null,"SECCION B: POBLACION EN CONTROL SEGÚN RESULTADO DE EVALUACIÓN DEL DESARROLLO PSICOMOTOR"]
[null,"RESULTADO Y\nGRUPOS DE EDAD",null,"TOTAL","Hombres","Mujeres"]
["P2100200","RIESGO","Menor de 12 meses",{"$f":"IFERROR(VLOOKUP($A75,Filtros!$A$5:$AY$22116,2,FALSE),0)","v":87},{"$f":"IFERROR(VLOOKUP($A75,Filtros!$A$5:$AY$22116,3,FALSE),0)","v":56},{"$f":"IFERROR(VLOOKUP($A75,Filtros!$A$5:$AY$22116,4,FALSE),0)","v":31},{"$f":" CG75 & CH75","v":""},{"$nulls":77},{"$f":"IF($G11+$I11+$K11+$M11+$O11+$Q11+$S11+$U11<$E75+$E80,\"* La suma de Población Masculina Menor de 12 meses según resultado de 'Riesgo y Retraso' no puede ser mayor que la Población Masculina bajo control de la sección A. \",\"\")","v":""},{"$f":"IF($H11+$J11+$L11+$N11+$P11+$R11+$T11+$V11<$F75+$F80,\"* La suma de Población Femenina de Menor de 12 meses según resultado de 'Riesgo y Retraso' no puede ser mayor que la Población Femenina bajo control de la sección A. \",\"\")","v":""},{"$nulls":23},{"$f":"IF($G11+$I11+$K11+$M11+$O11+$Q11+$S11+$U11<$E75+$E80,1,0)","v":0},{"$f":"IF($H11+$J11+$L11+$N11+$P11+$R11+$T11+$V11<$F75+$F80,1,0)","v":0}]
["P2300100",null,"12 a 17 meses",{"$f":"IFERROR(VLOOKUP($A76,Filtros!$A$5:$AY$22116,2,FALSE),0)","v":36},{"$f":"IFERROR(VLOOKUP($A76,Filtros!$A$5:$AY$22116,3,FALSE),0)","v":19},{"$f":"IFERROR(VLOOKUP($A76,Filtros!$A$5:$AY$22116,4,FALSE),0)","v":17},{"$f":" CG76 & CH76","v":""},{"$nulls":77},{"$f":"IF($W$11<$E$76+$E$81,\"* La suma de Población Masculina de 12 a 17 meses según resultado de 'Riesgo y Retraso' no puede ser mayor que la Población Masculina bajo control de la sección A. \",\"\")","v":""},{"$f":"IF($X$11<$F$76+$F$81,\"* La suma de Población Femenina de 12 a 17 meses según resultado de 'Riesgo y Retraso' no puede ser mayor que la Población Femenina bajo control de la sección A. \",\"\")","v":""},{"$nulls":23},{"$f":"IF($W$11<$E$76+$E$81,1,0)","v":0},{"$f":"IF($X$11<$F$76+$F$81,1,0)","v":0}]
["P2300200",null,"18 a 23 meses",{"$f":"IFERROR(VLOOKUP($A77,Filtros!$A$5:$AY$22116,2,FALSE),0)","v":236},{"$f":"IFERROR(VLOOKUP($A77,Filtros!$A$5:$AY$22116,3,FALSE),0)","v":135},{"$f":"IFERROR(VLOOKUP($A77,Filtros!$A$5:$AY$22116,4,FALSE),0)","v":101},{"$f":" CG77 & CH77","v":""},{"$nulls":77},{"$f":"IF($Y$11<$E$77+$E$82,\"* La suma de Población Masculina de 18 a 23 meses según resultado de 'Riesgo y Retraso' no puede ser mayor que la Población Masculina bajo control de la sección A. \",\"\")","v":""},{"$f":"IF($Z$11<$F$77+$F$82,\"* La suma de Población Femenina de 18 a 23 meses según resultado de 'Riesgo y Retraso' no puede ser mayor que la Población Femenina bajo control de la sección A. \",\"\")","v":""},{"$nulls":23},{"$f":"IF($Y$11<$E$77+$E$82,1,0)","v":0},{"$f":"IF($Z$11<$F$77+$F$82,1,0)","v":0}]
["P2100400",null,"24 a 47 meses",{"$f":"IFERROR(VLOOKUP($A78,Filtros!$A$5:$AY$22116,2,FALSE),0)","v":234},{"$f":"IFERROR(VLOOKUP($A78,Filtros!$A$5:$AY$22116,3,FALSE),0)","v":175},{"$f":"IFERROR(VLOOKUP($A78,Filtros!$A$5:$AY$22116,4,FALSE),0)","v":59},{"$f":" CG78 & CH78","v":""},{"$nulls":77},{"$f":"IF($AA11+$AE11+$AC11<$E78+$E83,\"* La suma de Población Masculina de 24 a 47 meses según resultado de 'Riesgo y Retraso' no puede ser mayor que la Población Masculina bajo control de la sección A. \",\"\")","v":""},{"$f":"IF($AB11+$AF11+$AD11<$F78+$F83,\"* La suma de Población Femenina de 24 a 47 meses según resultado de 'Riesgo y Retraso' no puede ser mayor que la Población Femenina bajo control de la sección A. \",\"\")","v":""},{"$nulls":23},{"$f":"IF($AA11+$AE11+$AC11<$E78+$E83,1,0)","v":0},{"$f":"IF($AB11+$AF11+$AD11<$F78+$F83,1,0)","v":0}]
["P2100500",null,"48 a 59 meses",{"$f":"IFERROR(VLOOKUP($A79,Filtros!$A$5:$AY$22116,2,FALSE),0)","v":16},{"$f":"IFERROR(VLOOKUP($A79,Filtros!$A$5:$AY$22116,3,FALSE),0)","v":14},{"$f":"IFERROR(VLOOKUP($A79,Filtros!$A$5:$AY$22116,4,FALSE),0)","v":2},{"$f":" CG79 & CH79","v":""},{"$nulls":77},{"$f":"IF($AG$11<$E$79+$E$84,\"* La suma de Población Masculina de 48 a 59 meses según resultado de 'Riesgo y Retraso' no puede ser mayor que la Población Masculina bajo control de la sección A. \",\"\")","v":""},{"$f":"IF($AH$11<$F$79+$F$84,\"* La suma de Población Femenina de 48 a 59 meses según resultado de 'Riesgo y Retraso' no puede ser mayor que la Población Femenina bajo control de la sección A. \",\"\")","v":""},{"$nulls":23},{"$f":"IF($AG$11<$E$79+$E$84,1,0)","v":0},{"$f":"IF($AH$11<$F$79+$F$84,1,0)","v":0}]
["P2100600","RETRASO","Menor de 12 meses",{"$f":"IFERROR(VLOOKUP($A80,Filtros!$A$5:$AY$22116,2,FALSE),0)","v":21},{"$f":"IFERROR(VLOOKUP($A80,Filtros!$A$5:$AY$22116,3,FALSE),0)","v":13},{"$f":"IFERROR(VLOOKUP($A80,Filtros!$A$5:$AY$22116,4,FALSE),0)","v":8}]
["P2300300",null,"12 a 17 meses",{"$f":"IFERROR(VLOOKUP($A81,Filtros!$A$5:$AY$22116,2,FALSE),0)","v":13},{"$f":"IFERROR(VLOOKUP($A81,Filtros!$A$5:$AY$22116,3,FALSE),0)","v":8},{"$f":"IFERROR(VLOOKUP($A81,Filtros!$A$5:$AY$22116,4,FALSE),0)","v":5}]
["P2300400",null,"18 a 23 meses",{"$f":"IFERROR(VLOOKUP($A82,Filtros!$A$5:$AY$22116,2,FALSE),0)","v":86},{"$f":"IFERROR(VLOOKUP($A82,Filtros!$A$5:$AY$22116,3,FALSE),0)","v":55},{"$f":"IFERROR(VLOOKUP($A82,Filtros!$A$5:$AY$22116,4,FALSE),0)","v":31}]
["P2200900",null,"24 a 47 meses",{"$f":"IFERROR(VLOOKUP($A83,Filtros!$A$5:$AY$22116,2,FALSE),0)","v":79},{"$f":"IFERROR(VLOOKUP($A83,Filtros!$A$5:$AY$22116,3,FALSE),0)","v":53},{"$f":"IFERROR(VLOOKUP($A83,Filtros!$A$5:$AY$22116,4,FALSE),0)","v":26}]
["P2300000",null,"48 a 59 meses",{"$f":"IFERROR(VLOOKUP($A84,Filtros!$A$5:$AY$22116,2,FALSE),0)","v":12},{"$f":"IFERROR(VLOOKUP($A84,Filtros!$A$5:$AY$22116,3,FALSE),0)","v":10},{"$f":"IFERROR(VLOOKUP($A84,Filtros!$A$5:$AY$22116,4,FALSE),0)","v":2}]
[null,"SECCION C: POBLACIÓN MENOR DE 1 AÑO EN CONTROL, SEGÚN SCORE RIESGO EN IRA Y VISITA DOMICILIARIA INTEGRAL "]
[null,"RESULTADO",null,"TOTAL","Diada, menor de 10 días","1 mes","2 meses","3 meses","4 meses","5 meses","6 meses","7 a 12 meses","Total de Niños y Niñas que han recibido VDI"]
[]
["P2090300","SCORE \nDE RIESGO","LEVE",{"$f":"IFERROR(VLOOKUP($A88,Filtros!$A$5:$AY$22116,2,FALSE),0)","v":6078},{"$f":"IFERROR(VLOOKUP($A88,Filtros!$A$5:$AY$22116,3,FALSE),0)","v":398},{"$f":"IFERROR(VLOOKUP($A88,Filtros!$A$5:$AY$22116,4,FALSE),0)","v":657},{"$f":"IFERROR(VLOOKUP($A88,Filtros!$A$5:$AY$22116,5,FALSE),0)","v":743},{"$f":"IFERROR(VLOOKUP($A88,Filtros!$A$5:$AY$22116,6,FALSE),0)","v":473},{"$f":"IFERROR(VLOOKUP($A88,Filtros!$A$5:$AY$22116,7,FALSE),0)","v":667},{"$f":"IFERROR(VLOOKUP($A88,Filtros!$A$5:$AY$22116,8,FALSE),0)","v":522},{"$f":"IFERROR(VLOOKUP($A88,Filtros!$A$5:$AY$22116,9,FALSE),0)","v":723},{"$f":"IFERROR(VLOOKUP($A88,Filtros!$A$5:$AY$22116,10,FALSE),0)","v":1895},{"$f":"IFERROR(VLOOKUP($A88,Filtros!$A$5:$AY$22116,11,FALSE),0)","v":0}]
["P2090400",null,"MODERADO",{"$f":"IFERROR(VLOOKUP($A89,Filtros!$A$5:$AY$22116,2,FALSE),0)","v":876},{"$f":"IFERROR(VLOOKUP($A89,Filtros!$A$5:$AY$22116,3,FALSE),0)","v":24},{"$f":"IFERROR(VLOOKUP($A89,Filtros!$A$5:$AY$22116,4,FALSE),0)","v":63},{"$f":"IFERROR(VLOOKUP($A89,Filtros!$A$5:$AY$22116,5,FALSE),0)","v":91},{"$f":"IFERROR(VLOOKUP($A89,Filtros!$A$5:$AY$22116,6,FALSE),0)","v":65},{"$f":"IFERROR(VLOOKUP($A89,Filtros!$A$5:$AY$22116,7,FALSE),0)","v":103},{"$f":"IFERROR(VLOOKUP($A89,Filtros!$A$5:$AY$22116,8,FALSE),0)","v":72},{"$f":"IFERROR(VLOOKUP($A89,Filtros!$A$5:$AY$22116,9,FALSE),0)","v":111},{"$f":"IFERROR(VLOOKUP($A89,Filtros!$A$5:$AY$22116,10,FALSE),0)","v":347},{"$f":"IFERROR(VLOOKUP($A89,Filtros!$A$5:$AY$22116,11,FALSE),0)","v":175},{"$f":" CH89","v":""},{"$nulls":71},{"$f":"IF($D89<$M89, \"* Niños visitados no puede ser mayor que el total Score Moderado. \",\"\")","v":""},{"$nulls":23},{"$f":"IF($D89<$M89, 1,0)","v":0}]
["P2100100",null,"GRAVE",{"$f":"IFERROR(VLOOKUP($A90,Filtros!$A$5:$AY$22116,2,FALSE),0)","v":338},{"$f":"IFERROR(VLOOKUP($A90,Filtros!$A$5:$AY$22116,3,FALSE),0)","v":3},{"$f":"IFERROR(VLOOKUP($A90,Filtros!$A$5:$AY$22116,4,FALSE),0)","v":27},{"$f":"IFERROR(VLOOKUP($A90,Filtros!$A$5:$AY$22116,5,FALSE),0)","v":44},{"$f":"IFERROR(VLOOKUP($A90,Filtros!$A$5:$AY$22116,6,FALSE),0)","v":28},{"$f":"IFERROR(VLOOKUP($A90,Filtros!$A$5:$AY$22116,7,FALSE),0)","v":39},{"$f":"IFERROR(VLOOKUP($A90,Filtros!$A$5:$AY$22116,8,FALSE),0)","v":38},{"$f":"IFERROR(VLOOKUP($A90,Filtros!$A$5:$AY$22116,9,FALSE),0)","v":46},{"$f":"IFERROR(VLOOKUP($A90,Filtros!$A$5:$AY$22116,10,FALSE),0)","v":113},{"$f":"IFERROR(VLOOKUP($A90,Filtros!$A$5:$AY$22116,11,FALSE),0)","v":103},{"$f":" CH90","v":""},{"$nulls":71},{"$f":"IF($D90<$M90, \"* Niños visitados no puede ser mayor que el total Score Grave. \",\"\")","v":""},{"$nulls":23},{"$f":"IF($D90<$M90,1,0)","v":0}]
[null,null,"TOTAL",{"$f":"SUM(E91:K91)","v":4937},{"$f":"SUM(E88:E90)","v":425},747,878,566,809,632,880,{"$f":"SUM(L88:L90)","v":2355},{"$f":"SUM(M89:M90)","v":278}]
[null,"SECCION D: POBLACIÓN EN CONTROL EN EL SEMESTRE CON CONSULTA NUTRICIONAL, SEGÚN ESTRATEGIA"]
[null,"NIÑO/A CON CONSULTA NUTRICIONAL EN",null,"TOTAL"]
[]
["P2200700","Del 5to mes",null,{"$f":"IFERROR(VLOOKUP($A95,Filtros!$A$5:$AY$22116,2,FALSE),0)","v":1957}]
["P2200800","De los 3 años y 6 meses",null,{"$f":"IFERROR(VLOOKUP($A96,Filtros!$A$5:$AY$22116,2,FALSE),0)","v":1081}]
[null,"SECCION E: POBLACIÓN INASISTENTE A CONTROL DEL NIÑO SANO (AL CORTE)"]
[null,"EDAD",null,"TOTAL"]
[]
["P2300410","Menor de 6 meses",null,{"$f":"IFERROR(VLOOKUP($A100,Filtros!$A$5:$AY$22116,2,FALSE),0)","v":369}]
["P2300420","De 6 a 11 meses",null,{"$f":"IFERROR(VLOOKUP($A101,Filtros!$A$5:$AY$22116,2,FALSE),0)","v":509}]
["P2300460","12 - 17 meses",null,{"$f":"IFERROR(VLOOKUP($A102,Filtros!$A$5:$AY$22116,2,FALSE),0)","v":602}]
["P2300470","18 - 23 meses",null,{"$f":"IFERROR(VLOOKUP($A103,Filtros!$A$5:$AY$22116,2,FALSE),0)","v":700}]
["P2300480","24 - 35 meses",null,{"$f":"IFERROR(VLOOKUP($A104,Filtros!$A$5:$AY$22116,2,FALSE),0)","v":2028}]
["P2300490","36 - 47 meses",null,{"$f":"IFERROR(VLOOKUP($A105,Filtros!$A$5:$AY$22116,2,FALSE),0)","v":2118}]
["P2300500","48 - 59 meses",null,{"$f":"IFERROR(VLOOKUP($A106,Filtros!$A$5:$AY$22116,2,FALSE),0)","v":2514}]
["P2300510","60 - 71 meses",null,{"$f":"IFERROR(VLOOKUP($A107,Filtros!$A$5:$AY$22116,2,FALSE),0)","v":2900}]
["P2300520","De 6 a 9 años",null,{"$f":"IFERROR(VLOOKUP($A108,Filtros!$A$5:$AY$22116,2,FALSE),0)","v":10895}]
[null,"TOTAL",null,{"$f":"SUM(D100:D108)","v":22635}]
[null,"SECCION F: POBLACIÓN INFANTIL SEGÚN DIAGNÓSTICO DE PRESIÓN ARTERIAL (Incluida en sección A y A1)"]
[null,"CLASIFICACIÓN",null,"Total",null,null,"GRUPOS DE EDAD (en meses)",{"$nulls":5},"Derivación Nivel Secundario"]
[{"$nulls":6},"36 a 47 meses",null,"48 a 71 meses",null,"6-9 años"]
[{"$nulls":3},"Total","Hombres","Mujeres","Hombres","Mujeres","Hombres","Mujeres","Hombres","Mujeres"]
["P2300530","NORMAL (PA menor al percentil 90)",null,{"$f":"IFERROR(VLOOKUP($A114,Filtros!$A$5:$AY$22116,2,FALSE),0)","v":7524},{"$f":"IFERROR(VLOOKUP($A114,Filtros!$A$5:$AY$22116,3,FALSE),0)","v":3743},{"$f":"IFERROR(VLOOKUP($A114,Filtros!$A$5:$AY$22116,4,FALSE),0)","v":3781},{"$f":"IFERROR(VLOOKUP($A114,Filtros!$A$5:$AY$22116,5,FALSE),0)","v":490},{"$f":"IFERROR(VLOOKUP($A114,Filtros!$A$5:$AY$22116,6,FALSE),0)","v":490},{"$f":"IFERROR(VLOOKUP($A114,Filtros!$A$5:$AY$22116,7,FALSE),0)","v":1248},{"$f":"IFERROR(VLOOKUP($A114,Filtros!$A$5:$AY$22116,8,FALSE),0)","v":1307},{"$f":"IFERROR(VLOOKUP($A114,Filtros!$A$5:$AY$22116,9,FALSE),0)","v":2005},{"$f":"IFERROR(VLOOKUP($A114,Filtros!$A$5:$AY$22116,10,FALSE),0)","v":1984},{"$f":"IFERROR(VLOOKUP($A114,Filtros!$A$5:$AY$22116,11,FALSE),0)","v":1},{"$nulls":79},{"$f":"IF($G114<=SUM($AC$11:$AF$11),\"\",\"* Niños(as) de 36 a 47 ms clasificados debe ser menor o igual al Total de la población de niños bajo control de en sección A misma edad. \")","v":""},{"$f":"IF($J114<=SUM($AG$11:$AH$11,$G$43:$H$43),\"\",\"* Niños(as) de 48 a 71 meses clasificados debe ser menor o igual al Total de la población de niños bajo control de en sección A y A1 de la misma edad. \")","v":""},{"$f":"IF($L114<=SUM($I$43:$J$43),\"\",\"* Niños(as) de 6 a 9 años clasificados debe ser menor o igual al Total de la población de niños bajo control de en sección A1 misma edad \")","v":""},{"$nulls":19},{"$f":"IF($G114<=SUM($AC$11:$AF$11),0,1)","v":0},{"$f":"IF($J114<=SUM($AG$11:$AH$11,$G$43:$H$43),0,1)","v":0},{"$f":"IF($L114<=SUM($I$43:$J$43),0,1)","v":0}]
["P2300540","PRESIÓN ARTERIAL ELEVADA",null,{"$f":"IFERROR(VLOOKUP($A115,Filtros!$A$5:$AY$22116,2,FALSE),0)","v":454},{"$f":"IFERROR(VLOOKUP($A115,Filtros!$A$5:$AY$22116,3,FALSE),0)","v":240},{"$f":"IFERROR(VLOOKUP($A115,Filtros!$A$5:$AY$22116,4,FALSE),0)","v":214},{"$f":"IFERROR(VLOOKUP($A115,Filtros!$A$5:$AY$22116,5,FALSE),0)","v":25},{"$f":"IFERROR(VLOOKUP($A115,Filtros!$A$5:$AY$22116,6,FALSE),0)","v":24},{"$f":"IFERROR(VLOOKUP($A115,Filtros!$A$5:$AY$22116,7,FALSE),0)","v":74},{"$f":"IFERROR(VLOOKUP($A115,Filtros!$A$5:$AY$22116,8,FALSE),0)","v":74},{"$f":"IFERROR(VLOOKUP($A115,Filtros!$A$5:$AY$22116,9,FALSE),0)","v":141},{"$f":"IFERROR(VLOOKUP($A115,Filtros!$A$5:$AY$22116,10,FALSE),0)","v":116},{"$f":"IFERROR(VLOOKUP($A115,Filtros!$A$5:$AY$22116,11,FALSE),0)","v":0},{"$nulls":79},{"$f":"IF($G115<=SUM($AC$11:$AF$11),\"\",\"* Niños(as) de 36 a 47 ms clasificados debe ser menor o igual al Total de la población de niños bajo control de en sección A misma edad. \")","v":""},{"$f":"IF($J115<=SUM($AG$11:$AH$11,$G$43:$H$43),\"\",\"* Niños(as) de 48 a 71 meses clasificados debe ser menor o igual al Total de la población de niños bajo control de en sección A y A1 de la misma edad. \")","v":""},{"$f":"IF($L115<=SUM($I$43:$J$43),\"\",\"* Niños(as) de 6 a 9 años clasificados debe ser menor o igual al Total de la población de niños bajo control de en sección A1 misma edad \")","v":""},{"$nulls":19},{"$f":"IF($G115<=SUM($AC$11:$AF$11),0,1)","v":0},{"$f":"IF($J115<=SUM($AG$11:$AH$11,$G$43:$H$43),0,1)","v":0},{"$f":"IF($L115<=SUM($I$43:$J$43),0,1)","v":0}]
["P2300550","HTA ESTADIO I ",null,{"$f":"IFERROR(VLOOKUP($A116,Filtros!$A$5:$AY$22116,2,FALSE),0)","v":162},{"$f":"IFERROR(VLOOKUP($A116,Filtros!$A$5:$AY$22116,3,FALSE),0)","v":80},{"$f":"IFERROR(VLOOKUP($A116,Filtros!$A$5:$AY$22116,4,FALSE),0)","v":82},{"$f":"IFERROR(VLOOKUP($A116,Filtros!$A$5:$AY$22116,5,FALSE),0)","v":9},{"$f":"IFERROR(VLOOKUP($A116,Filtros!$A$5:$AY$22116,6,FALSE),0)","v":12},{"$f":"IFERROR(VLOOKUP($A116,Filtros!$A$5:$AY$22116,7,FALSE),0)","v":23},{"$f":"IFERROR(VLOOKUP($A116,Filtros!$A$5:$AY$22116,8,FALSE),0)","v":27},{"$f":"IFERROR(VLOOKUP($A116,Filtros!$A$5:$AY$22116,9,FALSE),0)","v":48},{"$f":"IFERROR(VLOOKUP($A116,Filtros!$A$5:$AY$22116,10,FALSE),0)","v":43},{"$f":"IFERROR(VLOOKUP($A116,Filtros!$A$5:$AY$22116,11,FALSE),0)","v":3},{"$nulls":79},{"$f":"IF($G116<=SUM($AC$11:$AF$11),\"\",\"* Niños(as) de 36 a 47 ms clasificados debe ser menor o igual al Total de la población de niños bajo control de en sección A misma edad. \")","v":""},{"$f":"IF($J116<=SUM($AG$11:$AH$11,$G$43:$H$43),\"\",\"* Niños(as) de 48 a 71 meses clasificados debe ser menor o igual al Total de la población de niños bajo control de en sección A y A1 de la misma edad. \")","v":""},{"$f":"IF($L116<=SUM($I$43:$J$43),\"\",\"* Niños(as) de 6 a 9 años clasificados debe ser menor o igual al Total de la población de niños bajo control de en sección A1 misma edad \")","v":""},{"$nulls":19},{"$f":"IF($G116<=SUM($AC$11:$AF$11),0,1)","v":0},{"$f":"IF($J116<=SUM($AG$11:$AH$11,$G$43:$H$43),0,1)","v":0},{"$f":"IF($L116<=SUM($I$43:$J$43),0,1)","v":0}]
["P2300560","HTA ESTADIO II",null,{"$f":"IFERROR(VLOOKUP($A117,Filtros!$A$5:$AY$22116,2,FALSE),0)","v":51},{"$f":"IFERROR(VLOOKUP($A117,Filtros!$A$5:$AY$22116,3,FALSE),0)","v":23},{"$f":"IFERROR(VLOOKUP($A117,Filtros!$A$5:$AY$22116,4,FALSE),0)","v":28},{"$f":"IFERROR(VLOOKUP($A117,Filtros!$A$5:$AY$22116,5,FALSE),0)","v":1},{"$f":"IFERROR(VLOOKUP($A117,Filtros!$A$5:$AY$22116,6,FALSE),0)","v":4},{"$f":"IFERROR(VLOOKUP($A117,Filtros!$A$5:$AY$22116,7,FALSE),0)","v":6},{"$f":"IFERROR(VLOOKUP($A117,Filtros!$A$5:$AY$22116,8,FALSE),0)","v":7},{"$f":"IFERROR(VLOOKUP($A117,Filtros!$A$5:$AY$22116,9,FALSE),0)","v":16},{"$f":"IFERROR(VLOOKUP($A117,Filtros!$A$5:$AY$22116,10,FALSE),0)","v":17},{"$f":"IFERROR(VLOOKUP($A117,Filtros!$A$5:$AY$22116,11,FALSE),0)","v":4},{"$nulls":79},{"$f":"IF($G117<=SUM($AC$11:$AF$11),\"\",\"* Niños(as) de 36 a 47 ms clasificados debe ser menor o igual al Total de la población de niños bajo control de en sección A misma edad. \")","v":""},{"$f":"IF($J117<=SUM($AG$11:$AH$11,$G$43:$H$43),\"\",\"* Niños(as) de 48 a 71 meses clasificados debe ser menor o igual al Total de la población de niños bajo control de en sección A y A1 de la misma edad. \")","v":""},{"$f":"IF($L117<=SUM($I$43:$J$43),\"\",\"* Niños(as) de 6 a 9 años clasificados debe ser menor o igual al Total de la población de niños bajo control de en sección A1 misma edad \")","v":""},{"$nulls":19},{"$f":"IF($G117<=SUM($AC$11:$AF$11),0,1)","v":0},{"$f":"IF($J117<=SUM($AG$11:$AH$11,$G$43:$H$43),0,1)","v":0},{"$f":"IF($L117<=SUM($I$43:$J$43),0,1)","v":0}]
[null," ",null,{"$f":"SUM(E118:F118)","v":8191},{"$f":"+G118+I118+K118","v":4086},{"$f":"+H118+J118+L118","v":4105},{"$f":"SUM(G114:G117)","v":525},{"$f":"SUM(H114:H117)","v":530},{"$f":"SUM(I114:I117)","v":1351},1415,2210,{"$f":"SUM(L114:L117)","v":2160},{"$f":"SUM(M114:M117)","v":8},{"$nulls":79},{"$f":"IF($G118<=SUM(AC11:AF11),\"\",\"* Niños(as) de 36 a 47 ms clasificados debe ser menor o igual al Total de la población de niños bajo control de en sección A misma edad. \")","v":""},{"$f":"IF($J118<=SUM($AG$11:$AH$11,$G$43:$H$43),\"\",\"* Niños(as) de 48 a 71 meses clasificados debe ser menor o igual al Total de la población de niños bajo control de en sección A y A1 de la misma edad. \")","v":""},{"$f":"IF($L118<=SUM($I$43:$J$43),\"\",\"* Niños(as) de 6 a 9 años clasificados debe ser menor o igual al Total de la población de niños bajo control de en sección A1 misma edad \")","v":""},{"$nulls":19},{"$f":"IF($G118<=SUM($AC$11:$AF$11),0,1)","v":0},{"$f":"IF($J118<=SUM($AG$11:$AH$11,$G$43:$H$43),0,1)","v":0},{"$f":"IF($L118<=SUM($I$43:$J$43),0,1)","v":0}]
[null,"SECCION G: POBLACIÓN INFANTIL EUTRÓFICA, SEGÚN RIESGO DE MALNUTRICIÓN POR EXCESO (Incluida en sección A y A1)"]
[null,"RESULTADO",null,"TOTAL","GRUPOS DE EDAD (en meses)"]
[{"$nulls":4},"4 a 11 meses","12 a 23 meses","24 a 35 meses","36 a 47 meses","48 a 59 meses","60 a 71 meses"]
["P2300570","SIN RIESGO",null,{"$f":"IFERROR(VLOOKUP($A122,Filtros!$A$5:$AY$22116,2,FALSE),0)","v":5628},{"$f":"IFERROR(VLOOKUP($A122,Filtros!$A$5:$AY$22116,3,FALSE),0)","v":891},{"$f":"IFERROR(VLOOKUP($A122,Filtros!$A$5:$AY$22116,4,FALSE),0)","v":1177},{"$f":"IFERROR(VLOOKUP($A122,Filtros!$A$5:$AY$22116,5,FALSE),0)","v":1091},{"$f":"IFERROR(VLOOKUP($A122,Filtros!$A$5:$AY$22116,6,FALSE),0)","v":930},{"$f":"IFERROR(VLOOKUP($A122,Filtros!$A$5:$AY$22116,7,FALSE),0)","v":857},{"$f":"IFERROR(VLOOKUP($A122,Filtros!$A$5:$AY$22116,8,FALSE),0)","v":682},{"$nulls":74},{"$f":"IF($E122<=SUM($O$35:$V$35),\"\",\"* Niños(as) de 4 a 11 ms clasificados debe ser menor o igual al Total niños diagnostidos en NORMAL sección A misma edad. \")","v":""},{"$f":"IF($F122<=SUM($W$35:$Z$35),\"\",\"* Niños(as) de 12 a 23 ms clasificados debe ser menor o igual al Total niños diagnosticados en NORMAL en sección A misma edad. \")","v":""},{"$f":"IF($G122<=SUM($AA$35:$AB$35),\"\",\"* Niños(as) de 24 a 35 ms clasificados debe ser menor o igual al Total niños diagnosticados en NORMAL en sección A misma edad. \")","v":""},{"$f":"IF($H122<=SUM($AC$35:$AF$35),\"\",\"* Niños(as) de 36 a 47 ms clasificados debe ser menor o igual al Total niños diagnosticos en NORMAL en sección A misma edad. \")","v":""},{"$f":"IF($I122<=SUM($AG$35:$AH$35),\"\",\"* Niños(as) de 48 a 59 ms clasificados debe ser menor o igual al Total niños diagnosticados en NORMAL en sección A misma edad. \")","v":""},{"$f":"IF($J122<=SUM($G$68:$H$68),\"\",\"* Niños(as) de 60 a 71 ms clasificados debe ser menor o igual al Total niños diagnosticados en NORMAL en sección A1 misma edad. \")","v":""},{"$nulls":19},{"$f":"IF($E122<=SUM($O$35:$V$35),0,1)","v":0},{"$f":"IF($F122<=SUM($W$35:$Z$35),0,1)","v":0},{"$f":"IF($G122<=SUM($AA$35:$AB$35),0,1)","v":0},{"$f":"IF($H122<=SUM($AC$35:$AF$35),0,1)","v":0},{"$f":"IF($I122<=SUM($AG$35:$AH$35),0,1)","v":0},{"$f":"IF($J122<=SUM($G$68:$H$68),0,1)","v":0}]
["P2300580","CON RIESGO",null,{"$f":"IFERROR(VLOOKUP($A123,Filtros!$A$5:$AY$22116,2,FALSE),0)","v":2734},{"$f":"IFERROR(VLOOKUP($A123,Filtros!$A$5:$AY$22116,3,FALSE),0)","v":501},{"$f":"IFERROR(VLOOKUP($A123,Filtros!$A$5:$AY$22116,4,FALSE),0)","v":592},{"$f":"IFERROR(VLOOKUP($A123,Filtros!$A$5:$AY$22116,5,FALSE),0)","v":525},{"$f":"IFERROR(VLOOKUP($A123,Filtros!$A$5:$AY$22116,6,FALSE),0)","v":399},{"$f":"IFERROR(VLOOKUP($A123,Filtros!$A$5:$AY$22116,7,FALSE),0)","v":414},{"$f":"IFERROR(VLOOKUP($A123,Filtros!$A$5:$AY$22116,8,FALSE),0)","v":303},{"$nulls":74},{"$f":"IF($E123<=SUM($O$35:$V$35),\"\",\"* Niños(as) de 4 a 11 ms clasificados debe ser menor o igual al Total niños diagnostidos en NORMAL sección A misma edad. \")","v":""},{"$f":"IF($F123<=SUM($W$35:$Z$35),\"\",\"* Niños(as) de 12 a 23 ms clasificados debe ser menor o igual al Total niños diagnosticados en NORMAL en sección A misma edad. \")","v":""},{"$f":"IF($G123<=SUM($AA$35:$AB$35),\"\",\"* Niños(as) de 24 a 35 ms clasificados debe ser menor o igual al Total niños diagnosticados en NORMAL en sección A misma edad. \")","v":""},{"$f":"IF($H123<=SUM($AC$35:$AF$35),\"\",\"* Niños(as) de 36 a 47 ms clasificados debe ser menor o igual al Total niños diagnosticos en NORMAL en sección A misma edad. \")","v":""},{"$f":"IF($I123<=SUM($AG$35:$AH$35),\"\",\"* Niños(as) de 48 a 59 ms clasificados debe ser menor o igual al Total niños diagnosticados en NORMAL en sección A misma edad. \")","v":""},{"$f":"IF($J123<=SUM($G$68:$H$68),\"\",\"* Niños(as) de 60 a 71 ms clasificados debe ser menor o igual al Total niños diagnosticados en NORMAL en sección A1 misma edad. \")","v":""},{"$nulls":19},{"$f":"IF($E123<=SUM($O$35:$V$35),0,1)","v":0},{"$f":"IF($F123<=SUM($W$35:$Z$35),0,1)","v":0},{"$f":"IF($G123<=SUM($AA$35:$AB$35),0,1)","v":0},{"$f":"IF($H123<=SUM($AC$35:$AF$35),0,1)","v":0},{"$f":"IF($I123<=SUM($AG$35:$AH$35),0,1)","v":0},{"$f":"IF($J123<=SUM($G$68:$H$68),0,1)","v":0}]
[null,"TOTAL",null,{"$f":"SUM(E124:J124)","v":8362},{"$f":"SUM(E122:E123)","v":1392},1769,1616,1329,1271,985,{"$f":" CG124 & CH124 & CI124 & CJ124 & CK124 & CL124","v":""},{"$nulls":73},{"$f":"IF($E124<=SUM($O$35:$V$35),\"\",\"* Niños(as) de 4 a 11 ms clasificados debe ser menor o igual al Total niños diagnostidos en NORMAL sección A misma edad. \")","v":""},{"$f":"IF($F124<=SUM($W$35:$Z$35),\"\",\"* Niños(as) de 12 a 23 ms clasificados debe ser menor o igual al Total niños diagnosticados en NORMAL en sección A misma edad. \")","v":""},{"$f":"IF($G124<=SUM($AA$35:$AB$35),\"\",\"* Niños(as) de 24 a 35 ms clasificados debe ser menor o igual al Total niños diagnosticados en NORMAL en sección A misma edad. \")","v":""},{"$f":"IF($H124<=SUM($AC$35:$AF$35),\"\",\"* Niños(as) de 36 a 47 ms clasificados debe ser menor o igual al Total niños diagnosticos en NORMAL en sección A misma edad. \")","v":""},{"$f":"IF($I124<=SUM($AG$35:$AH$35),\"\",\"* Niños(as) de 48 a 59 ms clasificados debe ser menor o igual al Total niños diagnosticados en NORMAL en sección A misma edad. \")","v":""},{"$f":"IF($J124<=SUM($G$68:$H$68),\"\",\"* Niños(as) de 60 a 71 ms clasificados debe ser menor o igual al Total niños diagnosticados en NORMAL en sección A1 misma edad. \")","v":""},{"$nulls":19},{"$f":"IF($E124<=SUM($O$35:$V$35),0,1)","v":0},{"$f":"IF($F124<=SUM($W$35:$Z$35),0,1)","v":0},{"$f":"IF($G124<=SUM($AA$35:$AB$35),0,1)","v":0},{"$f":"IF($H124<=SUM($AC$35:$AF$35),0,1)","v":0},{"$f":"IF($I124<=SUM($AG$35:$AH$35),0,1)","v":0},{"$f":"IF($J124<=SUM($G$68:$H$68),0,1)","v":0}]
[null,"SECCION H: POBLACIÓN SEGÚN DIAGNÓSTICO DE NIÑOS, NIÑAS Y ADOLESCENTES CON NECESIDADES ESPECIALES DE ATENCIÓN EN SALUD (NANEAS) (incluidas en sección A y A.1)"]
[null,"DISGNOSTICOS",null,"TOTAL",null,null,"GRUPOS DE EDAD (en meses - años) Y SEXO",{"$nulls":37},"Pueblos Originarios",null,"Población Migrantes"]
[{"$nulls":6},"Menor de 1 mes",null,"1 mes",null,"2 meses",null,"3 meses",null,"4 meses",null,"5 meses",null,"6 meses",null,"7 a 11 meses",null,"12 a 17 meses",null,"18 a 23 meses",null,"24 a 35 meses",null,"36 a 41 meses",null,"42 a 47 meses",null,"48 a 59 meses",null,"60 a 71 meses",null,"6 a 7 años",null,"8 a 9 años",null,"10 a 14 años",null,"15 a 19 años"]
[{"$nulls":3},"Ambos sexos","Hombres","Mujeres","Hombres","Mujeres","Hombres","Mujeres","Hombres","Mujeres","Hombres","Mujeres","Hombres","Mujeres","Hombres","Mujeres","Hombres","Mujeres","Hombres","Mujeres","Hombres","Mujeres","Hombres","Mujeres","Hombres","Mujeres","Hombres","Mujeres","Hombres","Mujeres","Hombres","Mujeres","Hombres","Mujeres","Hombres","Mujeres","Hombres","Mujeres","Hombres","Mujeres","Hombres","Mujeres","Hombres","Mujeres","Hombres","Mujeres"]
["P2500100","PRESIÓN ARTERIAL ELEVADA",null,{"$f":"IFERROR(VLOOKUP($A129,Filtros!$A$5:$AY$22116,2,FALSE),0)","v":101},{"$f":"IFERROR(VLOOKUP($A129,Filtros!$A$5:$AY$22116,3,FALSE),0)","v":58},{"$f":"IFERROR(VLOOKUP($A129,Filtros!$A$5:$AY$22116,4,FALSE),0)","v":43},{"$f":"IFERROR(VLOOKUP($A129,Filtros!$A$5:$AY$22116,5,FALSE),0)","v":0},{"$f":"IFERROR(VLOOKUP($A129,Filtros!$A$5:$AY$22116,6,FALSE),0)","v":0},{"$f":"IFERROR(VLOOKUP($A129,Filtros!$A$5:$AY$22116,7,FALSE),0)","v":0},{"$f":"IFERROR(VLOOKUP($A129,Filtros!$A$5:$AY$22116,8,FALSE),0)","v":0},{"$f":"IFERROR(VLOOKUP($A129,Filtros!$A$5:$AY$22116,9,FALSE),0)","v":0},{"$f":"IFERROR(VLOOKUP($A129,Filtros!$A$5:$AY$22116,10,FALSE),0)","v":0},{"$f":"IFERROR(VLOOKUP($A129,Filtros!$A$5:$AY$22116,11,FALSE),0)","v":0},{"$f":"IFERROR(VLOOKUP($A129,Filtros!$A$5:$AY$22116,12,FALSE),0)","v":0},{"$f":"IFERROR(VLOOKUP($A129,Filtros!$A$5:$AY$22116,13,FALSE),0)","v":0},{"$f":"IFERROR(VLOOKUP($A129,Filtros!$A$5:$AY$22116,14,FALSE),0)","v":0},{"$f":"IFERROR(VLOOKUP($A129,Filtros!$A$5:$AY$22116,15,FALSE),0)","v":0},{"$f":"IFERROR(VLOOKUP($A129,Filtros!$A$5:$AY$22116,16,FALSE),0)","v":0},{"$f":"IFERROR(VLOOKUP($A129,Filtros!$A$5:$AY$22116,17,FALSE),0)","v":0},{"$f":"IFERROR(VLOOKUP($A129,Filtros!$A$5:$AY$22116,18,FALSE),0)","v":0},{"$f":"IFERROR(VLOOKUP($A129,Filtros!$A$5:$AY$22116,19,FALSE),0)","v":0},{"$f":"IFERROR(VLOOKUP($A129,Filtros!$A$5:$AY$22116,20,FALSE),0)","v":0},{"$f":"IFERROR(VLOOKUP($A129,Filtros!$A$5:$AY$22116,21,FALSE),0)","v":0},{"$f":"IFERROR(VLOOKUP($A129,Filtros!$A$5:$AY$22116,22,FALSE),0)","v":0},{"$f":"IFERROR(VLOOKUP($A129,Filtros!$A$5:$AY$22116,23,FALSE),0)","v":0},{"$f":"IFERROR(VLOOKUP($A129,Filtros!$A$5:$AY$22116,24,FALSE),0)","v":0},{"$f":"IFERROR(VLOOKUP($A129,Filtros!$A$5:$AY$22116,25,FALSE),0)","v":0},{"$f":"IFERROR(VLOOKUP($A129,Filtros!$A$5:$AY$22116,26,FALSE),0)","v":0},{"$f":"IFERROR(VLOOKUP($A129,Filtros!$A$5:$AY$22116,27,FALSE),0)","v":5},{"$f":"IFERROR(VLOOKUP($A129,Filtros!$A$5:$AY$22116,28,FALSE),0)","v":2},{"$f":"IFERROR(VLOOKUP($A129,Filtros!$A$5:$AY$22116,29,FALSE),0)","v":2},{"$f":"IFERROR(VLOOKUP($A129,Filtros!$A$5:$AY$22116,30,FALSE),0)","v":0},{"$f":"IFERROR(VLOOKUP($A129,Filtros!$A$5:$AY$22116,31,FALSE),0)","v":11},{"$f":"IFERROR(VLOOKUP($A129,Filtros!$A$5:$AY$22116,32,FALSE),0)","v":8},{"$f":"IFERROR(VLOOKUP($A129,Filtros!$A$5:$AY$22116,33,FALSE),0)","v":11},{"$f":"IFERROR(VLOOKUP($A129,Filtros!$A$5:$AY$22116,34,FALSE),0)","v":7},{"$f":"IFERROR(VLOOKUP($A129,Filtros!$A$5:$AY$22116,35,FALSE),0)","v":19},{"$f":"IFERROR(VLOOKUP($A129,Filtros!$A$5:$AY$22116,36,FALSE),0)","v":13},{"$f":"IFERROR(VLOOKUP($A129,Filtros!$A$5:$AY$22116,37,FALSE),0)","v":10},{"$f":"IFERROR(VLOOKUP($A129,Filtros!$A$5:$AY$22116,38,FALSE),0)","v":13},{"$f":"IFERROR(VLOOKUP($A129,Filtros!$A$5:$AY$22116,39,FALSE),0)","v":0},{"$f":"IFERROR(VLOOKUP($A129,Filtros!$A$5:$AY$22116,40,FALSE),0)","v":0},{"$f":"IFERROR(VLOOKUP($A129,Filtros!$A$5:$AY$22116,41,FALSE),0)","v":0},{"$f":"IFERROR(VLOOKUP($A129,Filtros!$A$5:$AY$22116,42,FALSE),0)","v":0},{"$f":"IFERROR(VLOOKUP($A129,Filtros!$A$5:$AY$22116,43,FALSE),0)","v":0},{"$f":"IFERROR(VLOOKUP($A129,Filtros!$A$5:$AY$22116,44,FALSE),0)","v":0},{"$f":"IFERROR(VLOOKUP($A129,Filtros!$A$5:$AY$22116,45,FALSE),0)","v":0},{"$f":"IFERROR(VLOOKUP($A129,Filtros!$A$5:$AY$22116,46,FALSE),0)","v":0},{"$f":"CG129&CH129&CI129&CJ129","v":""},{"$nulls":35},{"$f":"IF(DF129=1,\"* No olvide escribir en las celdas de \"\"Pueblos Originarios\"\" (Digite Cero si no tiene).\",\"\")","v":""},{"$f":"IF(DG129=1,\"* No olvide escribir en las celdas de \"\"Población Migrante\"\" (Digite Cero si no tiene).\",\"\")","v":""},{"$f":"IF(DH129=1,\"* La suma de las celdas de \"\"Pueblos Originarios\"\"no debe superar el Total.\",\"\")","v":""},{"$f":"IF(DI129=1,\"* La suma de las celdas de \"\"Población Migrante\"\" no debe superar el Total.\",\"\")","v":""},{"$nulls":21},{"$f":"IF(AND($D129<>0,OR(AS129=\"\",AT129=\"\")),1,0)","v":0},{"$f":"IF(AND($D129<>0,OR(AU129=\"\",AV129=\"\")),1,0)","v":0},{"$f":"IF((AS129+AT129)>$D129,1,0)","v":0},{"$f":"IF((AV129+AU129)>$D129,1,0)","v":0}]
["P2500200","DIABETES TIPO I",null,{"$f":"IFERROR(VLOOKUP($A130,Filtros!$A$5:$AY$22116,2,FALSE),0)","v":9},{"$f":"IFERROR(VLOOKUP($A130,Filtros!$A$5:$AY$22116,3,FALSE),0)","v":3},{"$f":"IFERROR(VLOOKUP($A130,Filtros!$A$5:$AY$22116,4,FALSE),0)","v":6},{"$f":"IFERROR(VLOOKUP($A130,Filtros!$A$5:$AY$22116,5,FALSE),0)","v":0},{"$f":"IFERROR(VLOOKUP($A130,Filtros!$A$5:$AY$22116,6,FALSE),0)","v":0},{"$f":"IFERROR(VLOOKUP($A130,Filtros!$A$5:$AY$22116,7,FALSE),0)","v":0},{"$f":"IFERROR(VLOOKUP($A130,Filtros!$A$5:$AY$22116,8,FALSE),0)","v":0},{"$f":"IFERROR(VLOOKUP($A130,Filtros!$A$5:$AY$22116,9,FALSE),0)","v":0},{"$f":"IFERROR(VLOOKUP($A130,Filtros!$A$5:$AY$22116,10,FALSE),0)","v":0},{"$f":"IFERROR(VLOOKUP($A130,Filtros!$A$5:$AY$22116,11,FALSE),0)","v":0},{"$f":"IFERROR(VLOOKUP($A130,Filtros!$A$5:$AY$22116,12,FALSE),0)","v":0},{"$f":"IFERROR(VLOOKUP($A130,Filtros!$A$5:$AY$22116,13,FALSE),0)","v":0},{"$f":"IFERROR(VLOOKUP($A130,Filtros!$A$5:$AY$22116,14,FALSE),0)","v":0},{"$f":"IFERROR(VLOOKUP($A130,Filtros!$A$5:$AY$22116,15,FALSE),0)","v":0},{"$f":"IFERROR(VLOOKUP($A130,Filtros!$A$5:$AY$22116,16,FALSE),0)","v":0},{"$f":"IFERROR(VLOOKUP($A130,Filtros!$A$5:$AY$22116,17,FALSE),0)","v":0},{"$f":"IFERROR(VLOOKUP($A130,Filtros!$A$5:$AY$22116,18,FALSE),0)","v":0},{"$f":"IFERROR(VLOOKUP($A130,Filtros!$A$5:$AY$22116,19,FALSE),0)","v":0},{"$f":"IFERROR(VLOOKUP($A130,Filtros!$A$5:$AY$22116,20,FALSE),0)","v":0},{"$f":"IFERROR(VLOOKUP($A130,Filtros!$A$5:$AY$22116,21,FALSE),0)","v":0},{"$f":"IFERROR(VLOOKUP($A130,Filtros!$A$5:$AY$22116,22,FALSE),0)","v":0},{"$f":"IFERROR(VLOOKUP($A130,Filtros!$A$5:$AY$22116,23,FALSE),0)","v":0},{"$f":"IFERROR(VLOOKUP($A130,Filtros!$A$5:$AY$22116,24,FALSE),0)","v":0},{"$f":"IFERROR(VLOOKUP($A130,Filtros!$A$5:$AY$22116,25,FALSE),0)","v":0},{"$f":"IFERROR(VLOOKUP($A130,Filtros!$A$5:$AY$22116,26,FALSE),0)","v":0},{"$f":"IFERROR(VLOOKUP($A130,Filtros!$A$5:$AY$22116,27,FALSE),0)","v":0},{"$f":"IFERROR(VLOOKUP($A130,Filtros!$A$5:$AY$22116,28,FALSE),0)","v":1},{"$f":"IFERROR(VLOOKUP($A130,Filtros!$A$5:$AY$22116,29,FALSE),0)","v":0},{"$f":"IFERROR(VLOOKUP($A130,Filtros!$A$5:$AY$22116,30,FALSE),0)","v":0},{"$f":"IFERROR(VLOOKUP($A130,Filtros!$A$5:$AY$22116,31,FALSE),0)","v":0},{"$f":"IFERROR(VLOOKUP($A130,Filtros!$A$5:$AY$22116,32,FALSE),0)","v":0},{"$f":"IFERROR(VLOOKUP($A130,Filtros!$A$5:$AY$22116,33,FALSE),0)","v":1},{"$f":"IFERROR(VLOOKUP($A130,Filtros!$A$5:$AY$22116,34,FALSE),0)","v":2},{"$f":"IFERROR(VLOOKUP($A130,Filtros!$A$5:$AY$22116,35,FALSE),0)","v":1},{"$f":"IFERROR(VLOOKUP($A130,Filtros!$A$5:$AY$22116,36,FALSE),0)","v":1},{"$f":"IFERROR(VLOOKUP($A130,Filtros!$A$5:$AY$22116,37,FALSE),0)","v":0},{"$f":"IFERROR(VLOOKUP($A130,Filtros!$A$5:$AY$22116,38,FALSE),0)","v":0},{"$f":"IFERROR(VLOOKUP($A130,Filtros!$A$5:$AY$22116,39,FALSE),0)","v":1},{"$f":"IFERROR(VLOOKUP($A130,Filtros!$A$5:$AY$22116,40,FALSE),0)","v":2},{"$f":"IFERROR(VLOOKUP($A130,Filtros!$A$5:$AY$22116,41,FALSE),0)","v":0},{"$f":"IFERROR(VLOOKUP($A130,Filtros!$A$5:$AY$22116,42,FALSE),0)","v":0},{"$f":"IFERROR(VLOOKUP($A130,Filtros!$A$5:$AY$22116,43,FALSE),0)","v":0},{"$f":"IFERROR(VLOOKUP($A130,Filtros!$A$5:$AY$22116,44,FALSE),0)","v":0},{"$f":"IFERROR(VLOOKUP($A130,Filtros!$A$5:$AY$22116,45,FALSE),0)","v":0},{"$f":"IFERROR(VLOOKUP($A130,Filtros!$A$5:$AY$22116,46,FALSE),0)","v":1},{"$f":"CG130&CH130&CI130&CJ130","v":""},{"$nulls":35},{"$f":"IF(DF130=1,\"* No olvide escribir en las celdas de \"\"Pueblos Originarios\"\" (Digite Cero si no tiene).\",\"\")","v":""},{"$f":"IF(DG130=1,\"* No olvide escribir en las celdas de \"\"Población Migrante\"\" (Digite Cero si no tiene).\",\"\")","v":""},{"$f":"IF(DH130=1,\"* La suma de las celdas de \"\"Pueblos Originarios\"\"no debe superar el Total.\",\"\")","v":""},{"$f":"IF(DI130=1,\"* La suma de las celdas de \"\"Población Migrante\"\" no debe superar el Total.\",\"\")","v":""},{"$nulls":21},{"$f":"IF(AND($D130<>0,OR(AS130=\"\",AT130=\"\")),1,0)","v":0},{"$f":"IF(AND($D130<>0,OR(AU130=\"\",AV130=\"\")),1,0)","v":0},{"$f":"IF((AS130+AT130)>$D130,1,0)","v":0},{"$f":"IF((AV130+AU130)>$D130,1,0)","v":0}]
["P2500300","DIABETES TIPO II",null,{"$f":"IFERROR(VLOOKUP($A131,Filtros!$A$5:$AY$22116,2,FALSE),0)","v":0},{"$f":"IFERROR(VLOOKUP($A131,Filtros!$A$5:$AY$22116,3,FALSE),0)","v":0},{"$f":"IFERROR(VLOOKUP($A131,Filtros!$A$5:$AY$22116,4,FALSE),0)","v":0},{"$f":"IFERROR(VLOOKUP($A131,Filtros!$A$5:$AY$22116,5,FALSE),0)","v":0},{"$f":"IFERROR(VLOOKUP($A131,Filtros!$A$5:$AY$22116,6,FALSE),0)","v":0},{"$f":"IFERROR(VLOOKUP($A131,Filtros!$A$5:$AY$22116,7,FALSE),0)","v":0},{"$f":"IFERROR(VLOOKUP($A131,Filtros!$A$5:$AY$22116,8,FALSE),0)","v":0},{"$f":"IFERROR(VLOOKUP($A131,Filtros!$A$5:$AY$22116,9,FALSE),0)","v":0},{"$f":"IFERROR(VLOOKUP($A131,Filtros!$A$5:$AY$22116,10,FALSE),0)","v":0},{"$f":"IFERROR(VLOOKUP($A131,Filtros!$A$5:$AY$22116,11,FALSE),0)","v":0},{"$f":"IFERROR(VLOOKUP($A131,Filtros!$A$5:$AY$22116,12,FALSE),0)","v":0},{"$f":"IFERROR(VLOOKUP($A131,Filtros!$A$5:$AY$22116,13,FALSE),0)","v":0},{"$f":"IFERROR(VLOOKUP($A131,Filtros!$A$5:$AY$22116,14,FALSE),0)","v":0},{"$f":"IFERROR(VLOOKUP($A131,Filtros!$A$5:$AY$22116,15,FALSE),0)","v":0},{"$f":"IFERROR(VLOOKUP($A131,Filtros!$A$5:$AY$22116,16,FALSE),0)","v":0},{"$f":"IFERROR(VLOOKUP($A131,Filtros!$A$5:$AY$22116,17,FALSE),0)","v":0},{"$f":"IFERROR(VLOOKUP($A131,Filtros!$A$5:$AY$22116,18,FALSE),0)","v":0},{"$f":"IFERROR(VLOOKUP($A131,Filtros!$A$5:$AY$22116,19,FALSE),0)","v":0},{"$f":"IFERROR(VLOOKUP($A131,Filtros!$A$5:$AY$22116,20,FALSE),0)","v":0},{"$f":"IFERROR(VLOOKUP($A131,Filtros!$A$5:$AY$22116,21,FALSE),0)","v":0},{"$f":"IFERROR(VLOOKUP($A131,Filtros!$A$5:$AY$22116,22,FALSE),0)","v":0},{"$f":"IFERROR(VLOOKUP($A131,Filtros!$A$5:$AY$22116,23,FALSE),0)","v":0},{"$f":"IFERROR(VLOOKUP($A131,Filtros!$A$5:$AY$22116,24,FALSE),0)","v":0},{"$f":"IFERROR(VLOOKUP($A131,Filtros!$A$5:$AY$22116,25,FALSE),0)","v":0},{"$f":"IFERROR(VLOOKUP($A131,Filtros!$A$5:$AY$22116,26,FALSE),0)","v":0},{"$f":"IFERROR(VLOOKUP($A131,Filtros!$A$5:$AY$22116,27,FALSE),0)","v":0},{"$f":"IFERROR(VLOOKUP($A131,Filtros!$A$5:$AY$22116,28,FALSE),0)","v":0},{"$f":"IFERROR(VLOOKUP($A131,Filtros!$A$5:$AY$22116,29,FALSE),0)","v":0},{"$f":"IFERROR(VLOOKUP($A131,Filtros!$A$5:$AY$22116,30,FALSE),0)","v":0},{"$f":"IFERROR(VLOOKUP($A131,Filtros!$A$5:$AY$22116,31,FALSE),0)","v":0},{"$f":"IFERROR(VLOOKUP($A131,Filtros!$A$5:$AY$22116,32,FALSE),0)","v":0},{"$f":"IFERROR(VLOOKUP($A131,Filtros!$A$5:$AY$22116,33,FALSE),0)","v":0},{"$f":"IFERROR(VLOOKUP($A131,Filtros!$A$5:$AY$22116,34,FALSE),0)","v":0},{"$f":"IFERROR(VLOOKUP($A131,Filtros!$A$5:$AY$22116,35,FALSE),0)","v":0},{"$f":"IFERROR(VLOOKUP($A131,Filtros!$A$5:$AY$22116,36,FALSE),0)","v":0},{"$f":"IFERROR(VLOOKUP($A131,Filtros!$A$5:$AY$22116,37,FALSE),0)","v":0},{"$f":"IFERROR(VLOOKUP($A131,Filtros!$A$5:$AY$22116,38,FALSE),0)","v":0},{"$f":"IFERROR(VLOOKUP($A131,Filtros!$A$5:$AY$22116,39,FALSE),0)","v":0},{"$f":"IFERROR(VLOOKUP($A131,Filtros!$A$5:$AY$22116,40,FALSE),0)","v":0},{"$f":"IFERROR(VLOOKUP($A131,Filtros!$A$5:$AY$22116,41,FALSE),0)","v":0},{"$f":"IFERROR(VLOOKUP($A131,Filtros!$A$5:$AY$22116,42,FALSE),0)","v":0},{"$f":"IFERROR(VLOOKUP($A131,Filtros!$A$5:$AY$22116,43,FALSE),0)","v":0},{"$f":"IFERROR(VLOOKUP($A131,Filtros!$A$5:$AY$22116,44,FALSE),0)","v":0},{"$f":"IFERROR(VLOOKUP($A131,Filtros!$A$5:$AY$22116,45,FALSE),0)","v":0},{"$f":"IFERROR(VLOOKUP($A131,Filtros!$A$5:$AY$22116,46,FALSE),0)","v":0},"",{"$nulls":35},"","","","",{"$nulls":21},0,0,0,0]
["P2500400","SÍNDROME DE DOWN",null,{"$f":"IFERROR(VLOOKUP($A132,Filtros!$A$5:$AY$22116,2,FALSE),0)","v":93},{"$f":"IFERROR(VLOOKUP($A132,Filtros!$A$5:$AY$22116,3,FALSE),0)","v":41},{"$f":"IFERROR(VLOOKUP($A132,Filtros!$A$5:$AY$22116,4,FALSE),0)","v":52},{"$f":"IFERROR(VLOOKUP($A132,Filtros!$A$5:$AY$22116,5,FALSE),0)","v":0},{"$f":"IFERROR(VLOOKUP($A132,Filtros!$A$5:$AY$22116,6,FALSE),0)","v":0},{"$f":"IFERROR(VLOOKUP($A132,Filtros!$A$5:$AY$22116,7,FALSE),0)","v":0},{"$f":"IFERROR(VLOOKUP($A132,Filtros!$A$5:$AY$22116,8,FALSE),0)","v":0},{"$f":"IFERROR(VLOOKUP($A132,Filtros!$A$5:$AY$22116,9,FALSE),0)","v":0},{"$f":"IFERROR(VLOOKUP($A132,Filtros!$A$5:$AY$22116,10,FALSE),0)","v":0},{"$f":"IFERROR(VLOOKUP($A132,Filtros!$A$5:$AY$22116,11,FALSE),0)","v":0},{"$f":"IFERROR(VLOOKUP($A132,Filtros!$A$5:$AY$22116,12,FALSE),0)","v":1},{"$f":"IFERROR(VLOOKUP($A132,Filtros!$A$5:$AY$22116,13,FALSE),0)","v":0},{"$f":"IFERROR(VLOOKUP($A132,Filtros!$A$5:$AY$22116,14,FALSE),0)","v":2},{"$f":"IFERROR(VLOOKUP($A132,Filtros!$A$5:$AY$22116,15,FALSE),0)","v":0},{"$f":"IFERROR(VLOOKUP($A132,Filtros!$A$5:$AY$22116,16,FALSE),0)","v":0},{"$f":"IFERROR(VLOOKUP($A132,Filtros!$A$5:$AY$22116,17,FALSE),0)","v":2},{"$f":"IFERROR(VLOOKUP($A132,Filtros!$A$5:$AY$22116,18,FALSE),0)","v":2},{"$f":"IFERROR(VLOOKUP($A132,Filtros!$A$5:$AY$22116,19,FALSE),0)","v":1},{"$f":"IFERROR(VLOOKUP($A132,Filtros!$A$5:$AY$22116,20,FALSE),0)","v":3},{"$f":"IFERROR(VLOOKUP($A132,Filtros!$A$5:$AY$22116,21,FALSE),0)","v":2},{"$f":"IFERROR(VLOOKUP($A132,Filtros!$A$5:$AY$22116,22,FALSE),0)","v":9},{"$f":"IFERROR(VLOOKUP($A132,Filtros!$A$5:$AY$22116,23,FALSE),0)","v":3},{"$f":"IFERROR(VLOOKUP($A132,Filtros!$A$5:$AY$22116,24,FALSE),0)","v":0},{"$f":"IFERROR(VLOOKUP($A132,Filtros!$A$5:$AY$22116,25,FALSE),0)","v":7},{"$f":"IFERROR(VLOOKUP($A132,Filtros!$A$5:$AY$22116,26,FALSE),0)","v":5},{"$f":"IFERROR(VLOOKUP($A132,Filtros!$A$5:$AY$22116,27,FALSE),0)","v":2},{"$f":"IFERROR(VLOOKUP($A132,Filtros!$A$5:$AY$22116,28,FALSE),0)","v":4},{"$f":"IFERROR(VLOOKUP($A132,Filtros!$A$5:$AY$22116,29,FALSE),0)","v":4},{"$f":"IFERROR(VLOOKUP($A132,Filtros!$A$5:$AY$22116,30,FALSE),0)","v":4},{"$f":"IFERROR(VLOOKUP($A132,Filtros!$A$5:$AY$22116,31,FALSE),0)","v":4},{"$f":"IFERROR(VLOOKUP($A132,Filtros!$A$5:$AY$22116,32,FALSE),0)","v":6},{"$f":"IFERROR(VLOOKUP($A132,Filtros!$A$5:$AY$22116,33,FALSE),0)","v":2},{"$f":"IFERROR(VLOOKUP($A132,Filtros!$A$5:$AY$22116,34,FALSE),0)","v":5},{"$f":"IFERROR(VLOOKUP($A132,Filtros!$A$5:$AY$22116,35,FALSE),0)","v":8},{"$f":"IFERROR(VLOOKUP($A132,Filtros!$A$5:$AY$22116,36,FALSE),0)","v":6},{"$f":"IFERROR(VLOOKUP($A132,Filtros!$A$5:$AY$22116,37,FALSE),0)","v":4},{"$f":"IFERROR(VLOOKUP($A132,Filtros!$A$5:$AY$22116,38,FALSE),0)","v":2},{"$f":"IFERROR(VLOOKUP($A132,Filtros!$A$5:$AY$22116,39,FALSE),0)","v":0},{"$f":"IFERROR(VLOOKUP($A132,Filtros!$A$5:$AY$22116,40,FALSE),0)","v":1},{"$f":"IFERROR(VLOOKUP($A132,Filtros!$A$5:$AY$22116,41,FALSE),0)","v":2},{"$f":"IFERROR(VLOOKUP($A132,Filtros!$A$5:$AY$22116,42,FALSE),0)","v":2},{"$f":"IFERROR(VLOOKUP($A132,Filtros!$A$5:$AY$22116,43,FALSE),0)","v":0},{"$f":"IFERROR(VLOOKUP($A132,Filtros!$A$5:$AY$22116,44,FALSE),0)","v":0},{"$f":"IFERROR(VLOOKUP($A132,Filtros!$A$5:$AY$22116,45,FALSE),0)","v":0},{"$f":"IFERROR(VLOOKUP($A132,Filtros!$A$5:$AY$22116,46,FALSE),0)","v":0},"",{"$nulls":35},"","","","",{"$nulls":21},0,0,0,0]
["P2500500","TRASTORNO DE ESPECTRO AUTISTA",null,{"$f":"IFERROR(VLOOKUP($A133,Filtros!$A$5:$AY$22116,2,FALSE),0)","v":348},{"$f":"IFERROR(VLOOKUP($A133,Filtros!$A$5:$AY$22116,3,FALSE),0)","v":272},{"$f":"IFERROR(VLOOKUP($A133,Filtros!$A$5:$AY$22116,4,FALSE),0)","v":76},{"$f":"IFERROR(VLOOKUP($A133,Filtros!$A$5:$AY$22116,5,FALSE),0)","v":0},{"$f":"IFERROR(VLOOKUP($A133,Filtros!$A$5:$AY$22116,6,FALSE),0)","v":0},{"$f":"IFERROR(VLOOKUP($A133,Filtros!$A$5:$AY$22116,7,FALSE),0)","v":0},{"$f":"IFERROR(VLOOKUP($A133,Filtros!$A$5:$AY$22116,8,FALSE),0)","v":0},{"$f":"IFERROR(VLOOKUP($A133,Filtros!$A$5:$AY$22116,9,FALSE),0)","v":0},{"$f":"IFERROR(VLOOKUP($A133,Filtros!$A$5:$AY$22116,10,FALSE),0)","v":0},{"$f":"IFERROR(VLOOKUP($A133,Filtros!$A$5:$AY$22116,11,FALSE),0)","v":0},{"$f":"IFERROR(VLOOKUP($A133,Filtros!$A$5:$AY$22116,12,FALSE),0)","v":0},{"$f":"IFERROR(VLOOKUP($A133,Filtros!$A$5:$AY$22116,13,FALSE),0)","v":0},{"$f":"IFERROR(VLOOKUP($A133,Filtros!$A$5:$AY$22116,14,FALSE),0)","v":0},{"$f":"IFERROR(VLOOKUP($A133,Filtros!$A$5:$AY$22116,15,FALSE),0)","v":0},{"$f":"IFERROR(VLOOKUP($A133,Filtros!$A$5:$AY$22116,16,FALSE),0)","v":0},{"$f":"IFERROR(VLOOKUP($A133,Filtros!$A$5:$AY$22116,17,FALSE),0)","v":0},{"$f":"IFERROR(VLOOKUP($A133,Filtros!$A$5:$AY$22116,18,FALSE),0)","v":0},{"$f":"IFERROR(VLOOKUP($A133,Filtros!$A$5:$AY$22116,19,FALSE),0)","v":0},{"$f":"IFERROR(VLOOKUP($A133,Filtros!$A$5:$AY$22116,20,FALSE),0)","v":0},{"$f":"IFERROR(VLOOKUP($A133,Filtros!$A$5:$AY$22116,21,FALSE),0)","v":3},{"$f":"IFERROR(VLOOKUP($A133,Filtros!$A$5:$AY$22116,22,FALSE),0)","v":2},{"$f":"IFERROR(VLOOKUP($A133,Filtros!$A$5:$AY$22116,23,FALSE),0)","v":8},{"$f":"IFERROR(VLOOKUP($A133,Filtros!$A$5:$AY$22116,24,FALSE),0)","v":6},{"$f":"IFERROR(VLOOKUP($A133,Filtros!$A$5:$AY$22116,25,FALSE),0)","v":25},{"$f":"IFERROR(VLOOKUP($A133,Filtros!$A$5:$AY$22116,26,FALSE),0)","v":5},{"$f":"IFERROR(VLOOKUP($A133,Filtros!$A$5:$AY$22116,27,FALSE),0)","v":42},{"$f":"IFERROR(VLOOKUP($A133,Filtros!$A$5:$AY$22116,28,FALSE),0)","v":14},{"$f":"IFERROR(VLOOKUP($A133,Filtros!$A$5:$AY$22116,29,FALSE),0)","v":13},{"$f":"IFERROR(VLOOKUP($A133,Filtros!$A$5:$AY$22116,30,FALSE),0)","v":8},{"$f":"IFERROR(VLOOKUP($A133,Filtros!$A$5:$AY$22116,31,FALSE),0)","v":37},{"$f":"IFERROR(VLOOKUP($A133,Filtros!$A$5:$AY$22116,32,FALSE),0)","v":13},{"$f":"IFERROR(VLOOKUP($A133,Filtros!$A$5:$AY$22116,33,FALSE),0)","v":51},{"$f":"IFERROR(VLOOKUP($A133,Filtros!$A$5:$AY$22116,34,FALSE),0)","v":9},{"$f":"IFERROR(VLOOKUP($A133,Filtros!$A$5:$AY$22116,35,FALSE),0)","v":44},{"$f":"IFERROR(VLOOKUP($A133,Filtros!$A$5:$AY$22116,36,FALSE),0)","v":6},{"$f":"IFERROR(VLOOKUP($A133,Filtros!$A$5:$AY$22116,37,FALSE),0)","v":24},{"$f":"IFERROR(VLOOKUP($A133,Filtros!$A$5:$AY$22116,38,FALSE),0)","v":5},{"$f":"IFERROR(VLOOKUP($A133,Filtros!$A$5:$AY$22116,39,FALSE),0)","v":15},{"$f":"IFERROR(VLOOKUP($A133,Filtros!$A$5:$AY$22116,40,FALSE),0)","v":5},{"$f":"IFERROR(VLOOKUP($A133,Filtros!$A$5:$AY$22116,41,FALSE),0)","v":10},{"$f":"IFERROR(VLOOKUP($A133,Filtros!$A$5:$AY$22116,42,FALSE),0)","v":3},{"$f":"IFERROR(VLOOKUP($A133,Filtros!$A$5:$AY$22116,43,FALSE),0)","v":0},{"$f":"IFERROR(VLOOKUP($A133,Filtros!$A$5:$AY$22116,44,FALSE),0)","v":1},{"$f":"IFERROR(VLOOKUP($A133,Filtros!$A$5:$AY$22116,45,FALSE),0)","v":1},{"$f":"IFERROR(VLOOKUP($A133,Filtros!$A$5:$AY$22116,46,FALSE),0)","v":0},"",{"$nulls":35},"","","","",{"$nulls":21},0,0,0,0]
["P2500600","FIBROSIS QUÍSTICA",null,{"$f":"IFERROR(VLOOKUP($A134,Filtros!$A$5:$AY$22116,2,FALSE),0)","v":9},{"$f":"IFERROR(VLOOKUP($A134,Filtros!$A$5:$AY$22116,3,FALSE),0)","v":6},{"$f":"IFERROR(VLOOKUP($A134,Filtros!$A$5:$AY$22116,4,FALSE),0)","v":3},{"$f":"IFERROR(VLOOKUP($A134,Filtros!$A$5:$AY$22116,5,FALSE),0)","v":0},{"$f":"IFERROR(VLOOKUP($A134,Filtros!$A$5:$AY$22116,6,FALSE),0)","v":0},{"$f":"IFERROR(VLOOKUP($A134,Filtros!$A$5:$AY$22116,7,FALSE),0)","v":0},{"$f":"IFERROR(VLOOKUP($A134,Filtros!$A$5:$AY$22116,8,FALSE),0)","v":0},{"$f":"IFERROR(VLOOKUP($A134,Filtros!$A$5:$AY$22116,9,FALSE),0)","v":0},{"$f":"IFERROR(VLOOKUP($A134,Filtros!$A$5:$AY$22116,10,FALSE),0)","v":0},{"$f":"IFERROR(VLOOKUP($A134,Filtros!$A$5:$AY$22116,11,FALSE),0)","v":0},{"$f":"IFERROR(VLOOKUP($A134,Filtros!$A$5:$AY$22116,12,FALSE),0)","v":0},{"$f":"IFERROR(VLOOKUP($A134,Filtros!$A$5:$AY$22116,13,FALSE),0)","v":0},{"$f":"IFERROR(VLOOKUP($A134,Filtros!$A$5:$AY$22116,14,FALSE),0)","v":0},{"$f":"IFERROR(VLOOKUP($A134,Filtros!$A$5:$AY$22116,15,FALSE),0)","v":0},{"$f":"IFERROR(VLOOKUP($A134,Filtros!$A$5:$AY$22116,16,FALSE),0)","v":0},{"$f":"IFERROR(VLOOKUP($A134,Filtros!$A$5:$AY$22116,17,FALSE),0)","v":0},{"$f":"IFERROR(VLOOKUP($A134,Filtros!$A$5:$AY$22116,18,FALSE),0)","v":0},{"$f":"IFERROR(VLOOKUP($A134,Filtros!$A$5:$AY$22116,19,FALSE),0)","v":0},{"$f":"IFERROR(VLOOKUP($A134,Filtros!$A$5:$AY$22116,20,FALSE),0)","v":0},{"$f":"IFERROR(VLOOKUP($A134,Filtros!$A$5:$AY$22116,21,FALSE),0)","v":0},{"$f":"IFERROR(VLOOKUP($A134,Filtros!$A$5:$AY$22116,22,FALSE),0)","v":0},{"$f":"IFERROR(VLOOKUP($A134,Filtros!$A$5:$AY$22116,23,FALSE),0)","v":0},{"$f":"IFERROR(VLOOKUP($A134,Filtros!$A$5:$AY$22116,24,FALSE),0)","v":0},{"$f":"IFERROR(VLOOKUP($A134,Filtros!$A$5:$AY$22116,25,FALSE),0)","v":4},{"$f":"IFERROR(VLOOKUP($A134,Filtros!$A$5:$AY$22116,26,FALSE),0)","v":1},{"$f":"IFERROR(VLOOKUP($A134,Filtros!$A$5:$AY$22116,27,FALSE),0)","v":0},{"$f":"IFERROR(VLOOKUP($A134,Filtros!$A$5:$AY$22116,28,FALSE),0)","v":0},{"$f":"IFERROR(VLOOKUP($A134,Filtros!$A$5:$AY$22116,29,FALSE),0)","v":1},{"$f":"IFERROR(VLOOKUP($A134,Filtros!$A$5:$AY$22116,30,FALSE),0)","v":0},{"$f":"IFERROR(VLOOKUP($A134,Filtros!$A$5:$AY$22116,31,FALSE),0)","v":1},{"$f":"IFERROR(VLOOKUP($A134,Filtros!$A$5:$AY$22116,32,FALSE),0)","v":0},{"$f":"IFERROR(VLOOKUP($A134,Filtros!$A$5:$AY$22116,33,FALSE),0)","v":0},{"$f":"IFERROR(VLOOKUP($A134,Filtros!$A$5:$AY$22116,34,FALSE),0)","v":0},{"$f":"IFERROR(VLOOKUP($A134,Filtros!$A$5:$AY$22116,35,FALSE),0)","v":0},{"$f":"IFERROR(VLOOKUP($A134,Filtros!$A$5:$AY$22116,36,FALSE),0)","v":0},{"$f":"IFERROR(VLOOKUP($A134,Filtros!$A$5:$AY$22116,37,FALSE),0)","v":0},{"$f":"IFERROR(VLOOKUP($A134,Filtros!$A$5:$AY$22116,38,FALSE),0)","v":1},{"$f":"IFERROR(VLOOKUP($A134,Filtros!$A$5:$AY$22116,39,FALSE),0)","v":0},{"$f":"IFERROR(VLOOKUP($A134,Filtros!$A$5:$AY$22116,40,FALSE),0)","v":1},{"$f":"IFERROR(VLOOKUP($A134,Filtros!$A$5:$AY$22116,41,FALSE),0)","v":0},{"$f":"IFERROR(VLOOKUP($A134,Filtros!$A$5:$AY$22116,42,FALSE),0)","v":0},{"$f":"IFERROR(VLOOKUP($A134,Filtros!$A$5:$AY$22116,43,FALSE),0)","v":0},{"$f":"IFERROR(VLOOKUP($A134,Filtros!$A$5:$AY$22116,44,FALSE),0)","v":0},{"$f":"IFERROR(VLOOKUP($A134,Filtros!$A$5:$AY$22116,45,FALSE),0)","v":1},{"$f":"IFERROR(VLOOKUP($A134,Filtros!$A$5:$AY$22116,46,FALSE),0)","v":0},"",{"$nulls":35},"","","","",{"$nulls":21},0,0,0,0]
["P2500700","PARÁLISIS CEREBRAL",null,{"$f":"IFERROR(VLOOKUP($A135,Filtros!$A$5:$AY$22116,2,FALSE),0)","v":48},{"$f":"IFERROR(VLOOKUP($A135,Filtros!$A$5:$AY$22116,3,FALSE),0)","v":29},{"$f":"IFERROR(VLOOKUP($A135,Filtros!$A$5:$AY$22116,4,FALSE),0)","v":19},{"$f":"IFERROR(VLOOKUP($A135,Filtros!$A$5:$AY$22116,5,FALSE),0)","v":0},{"$f":"IFERROR(VLOOKUP($A135,Filtros!$A$5:$AY$22116,6,FALSE),0)","v":0},{"$f":"IFERROR(VLOOKUP($A135,Filtros!$A$5:$AY$22116,7,FALSE),0)","v":0},{"$f":"IFERROR(VLOOKUP($A135,Filtros!$A$5:$AY$22116,8,FALSE),0)","v":0},{"$f":"IFERROR(VLOOKUP($A135,Filtros!$A$5:$AY$22116,9,FALSE),0)","v":0},{"$f":"IFERROR(VLOOKUP($A135,Filtros!$A$5:$AY$22116,10,FALSE),0)","v":0},{"$f":"IFERROR(VLOOKUP($A135,Filtros!$A$5:$AY$22116,11,FALSE),0)","v":0},{"$f":"IFERROR(VLOOKUP($A135,Filtros!$A$5:$AY$22116,12,FALSE),0)","v":0},{"$f":"IFERROR(VLOOKUP($A135,Filtros!$A$5:$AY$22116,13,FALSE),0)","v":0},{"$f":"IFERROR(VLOOKUP($A135,Filtros!$A$5:$AY$22116,14,FALSE),0)","v":0},{"$f":"IFERROR(VLOOKUP($A135,Filtros!$A$5:$AY$22116,15,FALSE),0)","v":0},{"$f":"IFERROR(VLOOKUP($A135,Filtros!$A$5:$AY$22116,16,FALSE),0)","v":0},{"$f":"IFERROR(VLOOKUP($A135,Filtros!$A$5:$AY$22116,17,FALSE),0)","v":0},{"$f":"IFERROR(VLOOKUP($A135,Filtros!$A$5:$AY$22116,18,FALSE),0)","v":1},{"$f":"IFERROR(VLOOKUP($A135,Filtros!$A$5:$AY$22116,19,FALSE),0)","v":1},{"$f":"IFERROR(VLOOKUP($A135,Filtros!$A$5:$AY$22116,20,FALSE),0)","v":0},{"$f":"IFERROR(VLOOKUP($A135,Filtros!$A$5:$AY$22116,21,FALSE),0)","v":1},{"$f":"IFERROR(VLOOKUP($A135,Filtros!$A$5:$AY$22116,22,FALSE),0)","v":3},{"$f":"IFERROR(VLOOKUP($A135,Filtros!$A$5:$AY$22116,23,FALSE),0)","v":1},{"$f":"IFERROR(VLOOKUP($A135,Filtros!$A$5:$AY$22116,24,FALSE),0)","v":1},{"$f":"IFERROR(VLOOKUP($A135,Filtros!$A$5:$AY$22116,25,FALSE),0)","v":0},{"$f":"IFERROR(VLOOKUP($A135,Filtros!$A$5:$AY$22116,26,FALSE),0)","v":1},{"$f":"IFERROR(VLOOKUP($A135,Filtros!$A$5:$AY$22116,27,FALSE),0)","v":3},{"$f":"IFERROR(VLOOKUP($A135,Filtros!$A$5:$AY$22116,28,FALSE),0)","v":0},{"$f":"IFERROR(VLOOKUP($A135,Filtros!$A$5:$AY$22116,29,FALSE),0)","v":1},{"$f":"IFERROR(VLOOKUP($A135,Filtros!$A$5:$AY$22116,30,FALSE),0)","v":2},{"$f":"IFERROR(VLOOKUP($A135,Filtros!$A$5:$AY$22116,31,FALSE),0)","v":5},{"$f":"IFERROR(VLOOKUP($A135,Filtros!$A$5:$AY$22116,32,FALSE),0)","v":1},{"$f":"IFERROR(VLOOKUP($A135,Filtros!$A$5:$AY$22116,33,FALSE),0)","v":3},{"$f":"IFERROR(VLOOKUP($A135,Filtros!$A$5:$AY$22116,34,FALSE),0)","v":2},{"$f":"IFERROR(VLOOKUP($A135,Filtros!$A$5:$AY$22116,35,FALSE),0)","v":3},{"$f":"IFERROR(VLOOKUP($A135,Filtros!$A$5:$AY$22116,36,FALSE),0)","v":1},{"$f":"IFERROR(VLOOKUP($A135,Filtros!$A$5:$AY$22116,37,FALSE),0)","v":3},{"$f":"IFERROR(VLOOKUP($A135,Filtros!$A$5:$AY$22116,38,FALSE),0)","v":2},{"$f":"IFERROR(VLOOKUP($A135,Filtros!$A$5:$AY$22116,39,FALSE),0)","v":5},{"$f":"IFERROR(VLOOKUP($A135,Filtros!$A$5:$AY$22116,40,FALSE),0)","v":4},{"$f":"IFERROR(VLOOKUP($A135,Filtros!$A$5:$AY$22116,41,FALSE),0)","v":3},{"$f":"IFERROR(VLOOKUP($A135,Filtros!$A$5:$AY$22116,42,FALSE),0)","v":1},{"$f":"IFERROR(VLOOKUP($A135,Filtros!$A$5:$AY$22116,43,FALSE),0)","v":0},{"$f":"IFERROR(VLOOKUP($A135,Filtros!$A$5:$AY$22116,44,FALSE),0)","v":0},{"$f":"IFERROR(VLOOKUP($A135,Filtros!$A$5:$AY$22116,45,FALSE),0)","v":0},{"$f":"IFERROR(VLOOKUP($A135,Filtros!$A$5:$AY$22116,46,FALSE),0)","v":0},"",{"$nulls":35},"","","","",{"$nulls":21},0,0,0,0]
["P2500800","ENFERMEDADES RENALES CRÓNICAS",null,{"$f":"IFERROR(VLOOKUP($A136,Filtros!$A$5:$AY$22116,2,FALSE),0)","v":17},{"$f":"IFERROR(VLOOKUP($A136,Filtros!$A$5:$AY$22116,3,FALSE),0)","v":11},{"$f":"IFERROR(VLOOKUP($A136,Filtros!$A$5:$AY$22116,4,FALSE),0)","v":6},{"$f":"IFERROR(VLOOKUP($A136,Filtros!$A$5:$AY$22116,5,FALSE),0)","v":0},{"$f":"IFERROR(VLOOKUP($A136,Filtros!$A$5:$AY$22116,6,FALSE),0)","v":0},{"$f":"IFERROR(VLOOKUP($A136,Filtros!$A$5:$AY$22116,7,FALSE),0)","v":0},{"$f":"IFERROR(VLOOKUP($A136,Filtros!$A$5:$AY$22116,8,FALSE),0)","v":0},{"$f":"IFERROR(VLOOKUP($A136,Filtros!$A$5:$AY$22116,9,FALSE),0)","v":0},{"$f":"IFERROR(VLOOKUP($A136,Filtros!$A$5:$AY$22116,10,FALSE),0)","v":0},{"$f":"IFERROR(VLOOKUP($A136,Filtros!$A$5:$AY$22116,11,FALSE),0)","v":0},{"$f":"IFERROR(VLOOKUP($A136,Filtros!$A$5:$AY$22116,12,FALSE),0)","v":0},{"$f":"IFERROR(VLOOKUP($A136,Filtros!$A$5:$AY$22116,13,FALSE),0)","v":1},{"$f":"IFERROR(VLOOKUP($A136,Filtros!$A$5:$AY$22116,14,FALSE),0)","v":0},{"$f":"IFERROR(VLOOKUP($A136,Filtros!$A$5:$AY$22116,15,FALSE),0)","v":2},{"$f":"IFERROR(VLOOKUP($A136,Filtros!$A$5:$AY$22116,16,FALSE),0)","v":0},{"$f":"IFERROR(VLOOKUP($A136,Filtros!$A$5:$AY$22116,17,FALSE),0)","v":0},{"$f":"IFERROR(VLOOKUP($A136,Filtros!$A$5:$AY$22116,18,FALSE),0)","v":1},{"$f":"IFERROR(VLOOKUP($A136,Filtros!$A$5:$AY$22116,19,FALSE),0)","v":1},{"$f":"IFERROR(VLOOKUP($A136,Filtros!$A$5:$AY$22116,20,FALSE),0)","v":0},{"$f":"IFERROR(VLOOKUP($A136,Filtros!$A$5:$AY$22116,21,FALSE),0)","v":1},{"$f":"IFERROR(VLOOKUP($A136,Filtros!$A$5:$AY$22116,22,FALSE),0)","v":0},{"$f":"IFERROR(VLOOKUP($A136,Filtros!$A$5:$AY$22116,23,FALSE),0)","v":1},{"$f":"IFERROR(VLOOKUP($A136,Filtros!$A$5:$AY$22116,24,FALSE),0)","v":0},{"$f":"IFERROR(VLOOKUP($A136,Filtros!$A$5:$AY$22116,25,FALSE),0)","v":0},{"$f":"IFERROR(VLOOKUP($A136,Filtros!$A$5:$AY$22116,26,FALSE),0)","v":1},{"$f":"IFERROR(VLOOKUP($A136,Filtros!$A$5:$AY$22116,27,FALSE),0)","v":1},{"$f":"IFERROR(VLOOKUP($A136,Filtros!$A$5:$AY$22116,28,FALSE),0)","v":0},{"$f":"IFERROR(VLOOKUP($A136,Filtros!$A$5:$AY$22116,29,FALSE),0)","v":2},{"$f":"IFERROR(VLOOKUP($A136,Filtros!$A$5:$AY$22116,30,FALSE),0)","v":2},{"$f":"IFERROR(VLOOKUP($A136,Filtros!$A$5:$AY$22116,31,FALSE),0)","v":1},{"$f":"IFERROR(VLOOKUP($A136,Filtros!$A$5:$AY$22116,32,FALSE),0)","v":1},{"$f":"IFERROR(VLOOKUP($A136,Filtros!$A$5:$AY$22116,33,FALSE),0)","v":1},{"$f":"IFERROR(VLOOKUP($A136,Filtros!$A$5:$AY$22116,34,FALSE),0)","v":0},{"$f":"IFERROR(VLOOKUP($A136,Filtros!$A$5:$AY$22116,35,FALSE),0)","v":0},{"$f":"IFERROR(VLOOKUP($A136,Filtros!$A$5:$AY$22116,36,FALSE),0)","v":1},{"$f":"IFERROR(VLOOKUP($A136,Filtros!$A$5:$AY$22116,37,FALSE),0)","v":0},{"$f":"IFERROR(VLOOKUP($A136,Filtros!$A$5:$AY$22116,38,FALSE),0)","v":0},{"$f":"IFERROR(VLOOKUP($A136,Filtros!$A$5:$AY$22116,39,FALSE),0)","v":0},{"$f":"IFERROR(VLOOKUP($A136,Filtros!$A$5:$AY$22116,40,FALSE),0)","v":0},{"$f":"IFERROR(VLOOKUP($A136,Filtros!$A$5:$AY$22116,41,FALSE),0)","v":0},{"$f":"IFERROR(VLOOKUP($A136,Filtros!$A$5:$AY$22116,42,FALSE),0)","v":0},{"$f":"IFERROR(VLOOKUP($A136,Filtros!$A$5:$AY$22116,43,FALSE),0)","v":0},{"$f":"IFERROR(VLOOKUP($A136,Filtros!$A$5:$AY$22116,44,FALSE),0)","v":0},{"$f":"IFERROR(VLOOKUP($A136,Filtros!$A$5:$AY$22116,45,FALSE),0)","v":0},{"$f":"IFERROR(VLOOKUP($A136,Filtros!$A$5:$AY$22116,46,FALSE),0)","v":0},{"$f":"CG136&CH136&CI136&CJ136","v":""},{"$nulls":35},"","","","",{"$nulls":21},0,0,0,0]
["P2500900","ENFERMEDADES CARDIACAS CRÓNICAS",null,{"$f":"IFERROR(VLOOKUP($A137,Filtros!$A$5:$AY$22116,2,FALSE),0)","v":43},{"$f":"IFERROR(VLOOKUP($A137,Filtros!$A$5:$AY$22116,3,FALSE),0)","v":21},{"$f":"IFERROR(VLOOKUP($A137,Filtros!$A$5:$AY$22116,4,FALSE),0)","v":22},{"$f":"IFERROR(VLOOKUP($A137,Filtros!$A$5:$AY$22116,5,FALSE),0)","v":0},{"$f":"IFERROR(VLOOKUP($A137,Filtros!$A$5:$AY$22116,6,FALSE),0)","v":0},{"$f":"IFERROR(VLOOKUP($A137,Filtros!$A$5:$AY$22116,7,FALSE),0)","v":0},{"$f":"IFERROR(VLOOKUP($A137,Filtros!$A$5:$AY$22116,8,FALSE),0)","v":0},{"$f":"IFERROR(VLOOKUP($A137,Filtros!$A$5:$AY$22116,9,FALSE),0)","v":1},{"$f":"IFERROR(VLOOKUP($A137,Filtros!$A$5:$AY$22116,10,FALSE),0)","v":2},{"$f":"IFERROR(VLOOKUP($A137,Filtros!$A$5:$AY$22116,11,FALSE),0)","v":0},{"$f":"IFERROR(VLOOKUP($A137,Filtros!$A$5:$AY$22116,12,FALSE),0)","v":1},{"$f":"IFERROR(VLOOKUP($A137,Filtros!$A$5:$AY$22116,13,FALSE),0)","v":0},{"$f":"IFERROR(VLOOKUP($A137,Filtros!$A$5:$AY$22116,14,FALSE),0)","v":0},{"$f":"IFERROR(VLOOKUP($A137,Filtros!$A$5:$AY$22116,15,FALSE),0)","v":1},{"$f":"IFERROR(VLOOKUP($A137,Filtros!$A$5:$AY$22116,16,FALSE),0)","v":1},{"$f":"IFERROR(VLOOKUP($A137,Filtros!$A$5:$AY$22116,17,FALSE),0)","v":0},{"$f":"IFERROR(VLOOKUP($A137,Filtros!$A$5:$AY$22116,18,FALSE),0)","v":1},{"$f":"IFERROR(VLOOKUP($A137,Filtros!$A$5:$AY$22116,19,FALSE),0)","v":3},{"$f":"IFERROR(VLOOKUP($A137,Filtros!$A$5:$AY$22116,20,FALSE),0)","v":1},{"$f":"IFERROR(VLOOKUP($A137,Filtros!$A$5:$AY$22116,21,FALSE),0)","v":4},{"$f":"IFERROR(VLOOKUP($A137,Filtros!$A$5:$AY$22116,22,FALSE),0)","v":1},{"$f":"IFERROR(VLOOKUP($A137,Filtros!$A$5:$AY$22116,23,FALSE),0)","v":0},{"$f":"IFERROR(VLOOKUP($A137,Filtros!$A$5:$AY$22116,24,FALSE),0)","v":1},{"$f":"IFERROR(VLOOKUP($A137,Filtros!$A$5:$AY$22116,25,FALSE),0)","v":3},{"$f":"IFERROR(VLOOKUP($A137,Filtros!$A$5:$AY$22116,26,FALSE),0)","v":4},{"$f":"IFERROR(VLOOKUP($A137,Filtros!$A$5:$AY$22116,27,FALSE),0)","v":0},{"$f":"IFERROR(VLOOKUP($A137,Filtros!$A$5:$AY$22116,28,FALSE),0)","v":1},{"$f":"IFERROR(VLOOKUP($A137,Filtros!$A$5:$AY$22116,29,FALSE),0)","v":0},{"$f":"IFERROR(VLOOKUP($A137,Filtros!$A$5:$AY$22116,30,FALSE),0)","v":0},{"$f":"IFERROR(VLOOKUP($A137,Filtros!$A$5:$AY$22116,31,FALSE),0)","v":1},{"$f":"IFERROR(VLOOKUP($A137,Filtros!$A$5:$AY$22116,32,FALSE),0)","v":1},{"$f":"IFERROR(VLOOKUP($A137,Filtros!$A$5:$AY$22116,33,FALSE),0)","v":3},{"$f":"IFERROR(VLOOKUP($A137,Filtros!$A$5:$AY$22116,34,FALSE),0)","v":2},{"$f":"IFERROR(VLOOKUP($A137,Filtros!$A$5:$AY$22116,35,FALSE),0)","v":2},{"$f":"IFERROR(VLOOKUP($A137,Filtros!$A$5:$AY$22116,36,FALSE),0)","v":5},{"$f":"IFERROR(VLOOKUP($A137,Filtros!$A$5:$AY$22116,37,FALSE),0)","v":3},{"$f":"IFERROR(VLOOKUP($A137,Filtros!$A$5:$AY$22116,38,FALSE),0)","v":1},{"$f":"IFERROR(VLOOKUP($A137,Filtros!$A$5:$AY$22116,39,FALSE),0)","v":0},{"$f":"IFERROR(VLOOKUP($A137,Filtros!$A$5:$AY$22116,40,FALSE),0)","v":0},{"$f":"IFERROR(VLOOKUP($A137,Filtros!$A$5:$AY$22116,41,FALSE),0)","v":0},{"$f":"IFERROR(VLOOKUP($A137,Filtros!$A$5:$AY$22116,42,FALSE),0)","v":0},{"$f":"IFERROR(VLOOKUP($A137,Filtros!$A$5:$AY$22116,43,FALSE),0)","v":0},{"$f":"IFERROR(VLOOKUP($A137,Filtros!$A$5:$AY$22116,44,FALSE),0)","v":0},{"$f":"IFERROR(VLOOKUP($A137,Filtros!$A$5:$AY$22116,45,FALSE),0)","v":0},{"$f":"IFERROR(VLOOKUP($A137,Filtros!$A$5:$AY$22116,46,FALSE),0)","v":0},"",{"$nulls":35},"","","","",{"$nulls":21},0,0,0,0]
["P2501000","ENFERMEDADES GÁSTRICAS CRÓNICAS",null,{"$f":"IFERROR(VLOOKUP($A138,Filtros!$A$5:$AY$22116,2,FALSE),0)","v":30},{"$f":"IFERROR(VLOOKUP($A138,Filtros!$A$5:$AY$22116,3,FALSE),0)","v":13},{"$f":"IFERROR(VLOOKUP($A138,Filtros!$A$5:$AY$22116,4,FALSE),0)","v":17},{"$f":"IFERROR(VLOOKUP($A138,Filtros!$A$5:$AY$22116,5,FALSE),0)","v":0},{"$f":"IFERROR(VLOOKUP($A138,Filtros!$A$5:$AY$22116,6,FALSE),0)","v":0},{"$f":"IFERROR(VLOOKUP($A138,Filtros!$A$5:$AY$22116,7,FALSE),0)","v":0},{"$f":"IFERROR(VLOOKUP($A138,Filtros!$A$5:$AY$22116,8,FALSE),0)","v":0},{"$f":"IFERROR(VLOOKUP($A138,Filtros!$A$5:$AY$22116,9,FALSE),0)","v":0},{"$f":"IFERROR(VLOOKUP($A138,Filtros!$A$5:$AY$22116,10,FALSE),0)","v":0},{"$f":"IFERROR(VLOOKUP($A138,Filtros!$A$5:$AY$22116,11,FALSE),0)","v":0},{"$f":"IFERROR(VLOOKUP($A138,Filtros!$A$5:$AY$22116,12,FALSE),0)","v":1},{"$f":"IFERROR(VLOOKUP($A138,Filtros!$A$5:$AY$22116,13,FALSE),0)","v":0},{"$f":"IFERROR(VLOOKUP($A138,Filtros!$A$5:$AY$22116,14,FALSE),0)","v":0},{"$f":"IFERROR(VLOOKUP($A138,Filtros!$A$5:$AY$22116,15,FALSE),0)","v":1},{"$f":"IFERROR(VLOOKUP($A138,Filtros!$A$5:$AY$22116,16,FALSE),0)","v":0},{"$f":"IFERROR(VLOOKUP($A138,Filtros!$A$5:$AY$22116,17,FALSE),0)","v":0},{"$f":"IFERROR(VLOOKUP($A138,Filtros!$A$5:$AY$22116,18,FALSE),0)","v":0},{"$f":"IFERROR(VLOOKUP($A138,Filtros!$A$5:$AY$22116,19,FALSE),0)","v":0},{"$f":"IFERROR(VLOOKUP($A138,Filtros!$A$5:$AY$22116,20,FALSE),0)","v":2},{"$f":"IFERROR(VLOOKUP($A138,Filtros!$A$5:$AY$22116,21,FALSE),0)","v":0},{"$f":"IFERROR(VLOOKUP($A138,Filtros!$A$5:$AY$22116,22,FALSE),0)","v":1},{"$f":"IFERROR(VLOOKUP($A138,Filtros!$A$5:$AY$22116,23,FALSE),0)","v":2},{"$f":"IFERROR(VLOOKUP($A138,Filtros!$A$5:$AY$22116,24,FALSE),0)","v":1},{"$f":"IFERROR(VLOOKUP($A138,Filtros!$A$5:$AY$22116,25,FALSE),0)","v":1},{"$f":"IFERROR(VLOOKUP($A138,Filtros!$A$5:$AY$22116,26,FALSE),0)","v":2},{"$f":"IFERROR(VLOOKUP($A138,Filtros!$A$5:$AY$22116,27,FALSE),0)","v":1},{"$f":"IFERROR(VLOOKUP($A138,Filtros!$A$5:$AY$22116,28,FALSE),0)","v":0},{"$f":"IFERROR(VLOOKUP($A138,Filtros!$A$5:$AY$22116,29,FALSE),0)","v":1},{"$f":"IFERROR(VLOOKUP($A138,Filtros!$A$5:$AY$22116,30,FALSE),0)","v":0},{"$f":"IFERROR(VLOOKUP($A138,Filtros!$A$5:$AY$22116,31,FALSE),0)","v":1},{"$f":"IFERROR(VLOOKUP($A138,Filtros!$A$5:$AY$22116,32,FALSE),0)","v":0},{"$f":"IFERROR(VLOOKUP($A138,Filtros!$A$5:$AY$22116,33,FALSE),0)","v":0},{"$f":"IFERROR(VLOOKUP($A138,Filtros!$A$5:$AY$22116,34,FALSE),0)","v":6},{"$f":"IFERROR(VLOOKUP($A138,Filtros!$A$5:$AY$22116,35,FALSE),0)","v":2},{"$f":"IFERROR(VLOOKUP($A138,Filtros!$A$5:$AY$22116,36,FALSE),0)","v":2},{"$f":"IFERROR(VLOOKUP($A138,Filtros!$A$5:$AY$22116,37,FALSE),0)","v":4},{"$f":"IFERROR(VLOOKUP($A138,Filtros!$A$5:$AY$22116,38,FALSE),0)","v":1},{"$f":"IFERROR(VLOOKUP($A138,Filtros!$A$5:$AY$22116,39,FALSE),0)","v":0},{"$f":"IFERROR(VLOOKUP($A138,Filtros!$A$5:$AY$22116,40,FALSE),0)","v":1},{"$f":"IFERROR(VLOOKUP($A138,Filtros!$A$5:$AY$22116,41,FALSE),0)","v":0},{"$f":"IFERROR(VLOOKUP($A138,Filtros!$A$5:$AY$22116,42,FALSE),0)","v":0},{"$f":"IFERROR(VLOOKUP($A138,Filtros!$A$5:$AY$22116,43,FALSE),0)","v":0},{"$f":"IFERROR(VLOOKUP($A138,Filtros!$A$5:$AY$22116,44,FALSE),0)","v":0},{"$f":"IFERROR(VLOOKUP($A138,Filtros!$A$5:$AY$22116,45,FALSE),0)","v":0},{"$f":"IFERROR(VLOOKUP($A138,Filtros!$A$5:$AY$22116,46,FALSE),0)","v":0},"",{"$nulls":35},"","","","",{"$nulls":21},0,0,0,0]
["P2501100","ENFERMEDADES DEL OJO",null,{"$f":"IFERROR(VLOOKUP($A139,Filtros!$A$5:$AY$22116,2,FALSE),0)","v":26},{"$f":"IFERROR(VLOOKUP($A139,Filtros!$A$5:$AY$22116,3,FALSE),0)","v":13},{"$f":"IFERROR(VLOOKUP($A139,Filtros!$A$5:$AY$22116,4,FALSE),0)","v":13},{"$f":"IFERROR(VLOOKUP($A139,Filtros!$A$5:$AY$22116,5,FALSE),0)","v":0},{"$f":"IFERROR(VLOOKUP($A139,Filtros!$A$5:$AY$22116,6,FALSE),0)","v":0},{"$f":"IFERROR(VLOOKUP($A139,Filtros!$A$5:$AY$22116,7,FALSE),0)","v":0},{"$f":"IFERROR(VLOOKUP($A139,Filtros!$A$5:$AY$22116,8,FALSE),0)","v":0},{"$f":"IFERROR(VLOOKUP($A139,Filtros!$A$5:$AY$22116,9,FALSE),0)","v":0},{"$f":"IFERROR(VLOOKUP($A139,Filtros!$A$5:$AY$22116,10,FALSE),0)","v":0},{"$f":"IFERROR(VLOOKUP($A139,Filtros!$A$5:$AY$22116,11,FALSE),0)","v":0},{"$f":"IFERROR(VLOOKUP($A139,Filtros!$A$5:$AY$22116,12,FALSE),0)","v":1},{"$f":"IFERROR(VLOOKUP($A139,Filtros!$A$5:$AY$22116,13,FALSE),0)","v":1},{"$f":"IFERROR(VLOOKUP($A139,Filtros!$A$5:$AY$22116,14,FALSE),0)","v":1},{"$f":"IFERROR(VLOOKUP($A139,Filtros!$A$5:$AY$22116,15,FALSE),0)","v":0},{"$f":"IFERROR(VLOOKUP($A139,Filtros!$A$5:$AY$22116,16,FALSE),0)","v":0},{"$f":"IFERROR(VLOOKUP($A139,Filtros!$A$5:$AY$22116,17,FALSE),0)","v":0},{"$f":"IFERROR(VLOOKUP($A139,Filtros!$A$5:$AY$22116,18,FALSE),0)","v":0},{"$f":"IFERROR(VLOOKUP($A139,Filtros!$A$5:$AY$22116,19,FALSE),0)","v":0},{"$f":"IFERROR(VLOOKUP($A139,Filtros!$A$5:$AY$22116,20,FALSE),0)","v":0},{"$f":"IFERROR(VLOOKUP($A139,Filtros!$A$5:$AY$22116,21,FALSE),0)","v":0},{"$f":"IFERROR(VLOOKUP($A139,Filtros!$A$5:$AY$22116,22,FALSE),0)","v":0},{"$f":"IFERROR(VLOOKUP($A139,Filtros!$A$5:$AY$22116,23,FALSE),0)","v":0},{"$f":"IFERROR(VLOOKUP($A139,Filtros!$A$5:$AY$22116,24,FALSE),0)","v":1},{"$f":"IFERROR(VLOOKUP($A139,Filtros!$A$5:$AY$22116,25,FALSE),0)","v":0},{"$f":"IFERROR(VLOOKUP($A139,Filtros!$A$5:$AY$22116,26,FALSE),0)","v":2},{"$f":"IFERROR(VLOOKUP($A139,Filtros!$A$5:$AY$22116,27,FALSE),0)","v":1},{"$f":"IFERROR(VLOOKUP($A139,Filtros!$A$5:$AY$22116,28,FALSE),0)","v":1},{"$f":"IFERROR(VLOOKUP($A139,Filtros!$A$5:$AY$22116,29,FALSE),0)","v":0},{"$f":"IFERROR(VLOOKUP($A139,Filtros!$A$5:$AY$22116,30,FALSE),0)","v":0},{"$f":"IFERROR(VLOOKUP($A139,Filtros!$A$5:$AY$22116,31,FALSE),0)","v":3},{"$f":"IFERROR(VLOOKUP($A139,Filtros!$A$5:$AY$22116,32,FALSE),0)","v":1},{"$f":"IFERROR(VLOOKUP($A139,Filtros!$A$5:$AY$22116,33,FALSE),0)","v":3},{"$f":"IFERROR(VLOOKUP($A139,Filtros!$A$5:$AY$22116,34,FALSE),0)","v":1},{"$f":"IFERROR(VLOOKUP($A139,Filtros!$A$5:$AY$22116,35,FALSE),0)","v":1},{"$f":"IFERROR(VLOOKUP($A139,Filtros!$A$5:$AY$22116,36,FALSE),0)","v":2},{"$f":"IFERROR(VLOOKUP($A139,Filtros!$A$5:$AY$22116,37,FALSE),0)","v":2},{"$f":"IFERROR(VLOOKUP($A139,Filtros!$A$5:$AY$22116,38,FALSE),0)","v":2},{"$f":"IFERROR(VLOOKUP($A139,Filtros!$A$5:$AY$22116,39,FALSE),0)","v":2},{"$f":"IFERROR(VLOOKUP($A139,Filtros!$A$5:$AY$22116,40,FALSE),0)","v":1},{"$f":"IFERROR(VLOOKUP($A139,Filtros!$A$5:$AY$22116,41,FALSE),0)","v":0},{"$f":"IFERROR(VLOOKUP($A139,Filtros!$A$5:$AY$22116,42,FALSE),0)","v":0},{"$f":"IFERROR(VLOOKUP($A139,Filtros!$A$5:$AY$22116,43,FALSE),0)","v":0},{"$f":"IFERROR(VLOOKUP($A139,Filtros!$A$5:$AY$22116,44,FALSE),0)","v":0},{"$f":"IFERROR(VLOOKUP($A139,Filtros!$A$5:$AY$22116,45,FALSE),0)","v":0},{"$f":"IFERROR(VLOOKUP($A139,Filtros!$A$5:$AY$22116,46,FALSE),0)","v":0},"",{"$nulls":35},"","","","",{"$nulls":21},0,0,0,0]
["P2501200","ENFERMEDADES DEL OÍDO",null,{"$f":"IFERROR(VLOOKUP($A140,Filtros!$A$5:$AY$22116,2,FALSE),0)","v":24},{"$f":"IFERROR(VLOOKUP($A140,Filtros!$A$5:$AY$22116,3,FALSE),0)","v":16},{"$f":"IFERROR(VLOOKUP($A140,Filtros!$A$5:$AY$22116,4,FALSE),0)","v":8},{"$f":"IFERROR(VLOOKUP($A140,Filtros!$A$5:$AY$22116,5,FALSE),0)","v":0},{"$f":"IFERROR(VLOOKUP($A140,Filtros!$A$5:$AY$22116,6,FALSE),0)","v":0},{"$f":"IFERROR(VLOOKUP($A140,Filtros!$A$5:$AY$22116,7,FALSE),0)","v":0},{"$f":"IFERROR(VLOOKUP($A140,Filtros!$A$5:$AY$22116,8,FALSE),0)","v":0},{"$f":"IFERROR(VLOOKUP($A140,Filtros!$A$5:$AY$22116,9,FALSE),0)","v":0},{"$f":"IFERROR(VLOOKUP($A140,Filtros!$A$5:$AY$22116,10,FALSE),0)","v":0},{"$f":"IFERROR(VLOOKUP($A140,Filtros!$A$5:$AY$22116,11,FALSE),0)","v":0},{"$f":"IFERROR(VLOOKUP($A140,Filtros!$A$5:$AY$22116,12,FALSE),0)","v":1},{"$f":"IFERROR(VLOOKUP($A140,Filtros!$A$5:$AY$22116,13,FALSE),0)","v":1},{"$f":"IFERROR(VLOOKUP($A140,Filtros!$A$5:$AY$22116,14,FALSE),0)","v":0},{"$f":"IFERROR(VLOOKUP($A140,Filtros!$A$5:$AY$22116,15,FALSE),0)","v":0},{"$f":"IFERROR(VLOOKUP($A140,Filtros!$A$5:$AY$22116,16,FALSE),0)","v":1},{"$f":"IFERROR(VLOOKUP($A140,Filtros!$A$5:$AY$22116,17,FALSE),0)","v":0},{"$f":"IFERROR(VLOOKUP($A140,Filtros!$A$5:$AY$22116,18,FALSE),0)","v":0},{"$f":"IFERROR(VLOOKUP($A140,Filtros!$A$5:$AY$22116,19,FALSE),0)","v":0},{"$f":"IFERROR(VLOOKUP($A140,Filtros!$A$5:$AY$22116,20,FALSE),0)","v":0},{"$f":"IFERROR(VLOOKUP($A140,Filtros!$A$5:$AY$22116,21,FALSE),0)","v":1},{"$f":"IFERROR(VLOOKUP($A140,Filtros!$A$5:$AY$22116,22,FALSE),0)","v":1},{"$f":"IFERROR(VLOOKUP($A140,Filtros!$A$5:$AY$22116,23,FALSE),0)","v":2},{"$f":"IFERROR(VLOOKUP($A140,Filtros!$A$5:$AY$22116,24,FALSE),0)","v":0},{"$f":"IFERROR(VLOOKUP($A140,Filtros!$A$5:$AY$22116,25,FALSE),0)","v":1},{"$f":"IFERROR(VLOOKUP($A140,Filtros!$A$5:$AY$22116,26,FALSE),0)","v":1},{"$f":"IFERROR(VLOOKUP($A140,Filtros!$A$5:$AY$22116,27,FALSE),0)","v":0},{"$f":"IFERROR(VLOOKUP($A140,Filtros!$A$5:$AY$22116,28,FALSE),0)","v":0},{"$f":"IFERROR(VLOOKUP($A140,Filtros!$A$5:$AY$22116,29,FALSE),0)","v":2},{"$f":"IFERROR(VLOOKUP($A140,Filtros!$A$5:$AY$22116,30,FALSE),0)","v":1},{"$f":"IFERROR(VLOOKUP($A140,Filtros!$A$5:$AY$22116,31,FALSE),0)","v":1},{"$f":"IFERROR(VLOOKUP($A140,Filtros!$A$5:$AY$22116,32,FALSE),0)","v":0},{"$f":"IFERROR(VLOOKUP($A140,Filtros!$A$5:$AY$22116,33,FALSE),0)","v":2},{"$f":"IFERROR(VLOOKUP($A140,Filtros!$A$5:$AY$22116,34,FALSE),0)","v":0},{"$f":"IFERROR(VLOOKUP($A140,Filtros!$A$5:$AY$22116,35,FALSE),0)","v":2},{"$f":"IFERROR(VLOOKUP($A140,Filtros!$A$5:$AY$22116,36,FALSE),0)","v":2},{"$f":"IFERROR(VLOOKUP($A140,Filtros!$A$5:$AY$22116,37,FALSE),0)","v":2},{"$f":"IFERROR(VLOOKUP($A140,Filtros!$A$5:$AY$22116,38,FALSE),0)","v":0},{"$f":"IFERROR(VLOOKUP($A140,Filtros!$A$5:$AY$22116,39,FALSE),0)","v":2},{"$f":"IFERROR(VLOOKUP($A140,Filtros!$A$5:$AY$22116,40,FALSE),0)","v":1},{"$f":"IFERROR(VLOOKUP($A140,Filtros!$A$5:$AY$22116,41,FALSE),0)","v":0},{"$f":"IFERROR(VLOOKUP($A140,Filtros!$A$5:$AY$22116,42,FALSE),0)","v":0},{"$f":"IFERROR(VLOOKUP($A140,Filtros!$A$5:$AY$22116,43,FALSE),0)","v":0},{"$f":"IFERROR(VLOOKUP($A140,Filtros!$A$5:$AY$22116,44,FALSE),0)","v":0},{"$f":"IFERROR(VLOOKUP($A140,Filtros!$A$5:$AY$22116,45,FALSE),0)","v":0},{"$f":"IFERROR(VLOOKUP($A140,Filtros!$A$5:$AY$22116,46,FALSE),0)","v":0},"",{"$nulls":35},"","","","",{"$nulls":21},0,0,0,0]
["P2501300","ENFERMEDADES DE LA PIEL",null,{"$f":"IFERROR(VLOOKUP($A141,Filtros!$A$5:$AY$22116,2,FALSE),0)","v":3},{"$f":"IFERROR(VLOOKUP($A141,Filtros!$A$5:$AY$22116,3,FALSE),0)","v":1},{"$f":"IFERROR(VLOOKUP($A141,Filtros!$A$5:$AY$22116,4,FALSE),0)","v":2},{"$f":"IFERROR(VLOOKUP($A141,Filtros!$A$5:$AY$22116,5,FALSE),0)","v":0},{"$f":"IFERROR(VLOOKUP($A141,Filtros!$A$5:$AY$22116,6,FALSE),0)","v":0},{"$f":"IFERROR(VLOOKUP($A141,Filtros!$A$5:$AY$22116,7,FALSE),0)","v":0},{"$f":"IFERROR(VLOOKUP($A141,Filtros!$A$5:$AY$22116,8,FALSE),0)","v":0},{"$f":"IFERROR(VLOOKUP($A141,Filtros!$A$5:$AY$22116,9,FALSE),0)","v":0},{"$f":"IFERROR(VLOOKUP($A141,Filtros!$A$5:$AY$22116,10,FALSE),0)","v":0},{"$f":"IFERROR(VLOOKUP($A141,Filtros!$A$5:$AY$22116,11,FALSE),0)","v":0},{"$f":"IFERROR(VLOOKUP($A141,Filtros!$A$5:$AY$22116,12,FALSE),0)","v":0},{"$f":"IFERROR(VLOOKUP($A141,Filtros!$A$5:$AY$22116,13,FALSE),0)","v":0},{"$f":"IFERROR(VLOOKUP($A141,Filtros!$A$5:$AY$22116,14,FALSE),0)","v":0},{"$f":"IFERROR(VLOOKUP($A141,Filtros!$A$5:$AY$22116,15,FALSE),0)","v":0},{"$f":"IFERROR(VLOOKUP($A141,Filtros!$A$5:$AY$22116,16,FALSE),0)","v":0},{"$f":"IFERROR(VLOOKUP($A141,Filtros!$A$5:$AY$22116,17,FALSE),0)","v":0},{"$f":"IFERROR(VLOOKUP($A141,Filtros!$A$5:$AY$22116,18,FALSE),0)","v":0},{"$f":"IFERROR(VLOOKUP($A141,Filtros!$A$5:$AY$22116,19,FALSE),0)","v":0},{"$f":"IFERROR(VLOOKUP($A141,Filtros!$A$5:$AY$22116,20,FALSE),0)","v":0},{"$f":"IFERROR(VLOOKUP($A141,Filtros!$A$5:$AY$22116,21,FALSE),0)","v":0},{"$f":"IFERROR(VLOOKUP($A141,Filtros!$A$5:$AY$22116,22,FALSE),0)","v":0},{"$f":"IFERROR(VLOOKUP($A141,Filtros!$A$5:$AY$22116,23,FALSE),0)","v":0},{"$f":"IFERROR(VLOOKUP($A141,Filtros!$A$5:$AY$22116,24,FALSE),0)","v":1},{"$f":"IFERROR(VLOOKUP($A141,Filtros!$A$5:$AY$22116,25,FALSE),0)","v":1},{"$f":"IFERROR(VLOOKUP($A141,Filtros!$A$5:$AY$22116,26,FALSE),0)","v":0},{"$f":"IFERROR(VLOOKUP($A141,Filtros!$A$5:$AY$22116,27,FALSE),0)","v":0},{"$f":"IFERROR(VLOOKUP($A141,Filtros!$A$5:$AY$22116,28,FALSE),0)","v":0},{"$f":"IFERROR(VLOOKUP($A141,Filtros!$A$5:$AY$22116,29,FALSE),0)","v":0},{"$f":"IFERROR(VLOOKUP($A141,Filtros!$A$5:$AY$22116,30,FALSE),0)","v":0},{"$f":"IFERROR(VLOOKUP($A141,Filtros!$A$5:$AY$22116,31,FALSE),0)","v":0},{"$f":"IFERROR(VLOOKUP($A141,Filtros!$A$5:$AY$22116,32,FALSE),0)","v":1},{"$f":"IFERROR(VLOOKUP($A141,Filtros!$A$5:$AY$22116,33,FALSE),0)","v":0},{"$f":"IFERROR(VLOOKUP($A141,Filtros!$A$5:$AY$22116,34,FALSE),0)","v":0},{"$f":"IFERROR(VLOOKUP($A141,Filtros!$A$5:$AY$22116,35,FALSE),0)","v":0},{"$f":"IFERROR(VLOOKUP($A141,Filtros!$A$5:$AY$22116,36,FALSE),0)","v":0},{"$f":"IFERROR(VLOOKUP($A141,Filtros!$A$5:$AY$22116,37,FALSE),0)","v":0},{"$f":"IFERROR(VLOOKUP($A141,Filtros!$A$5:$AY$22116,38,FALSE),0)","v":0},{"$f":"IFERROR(VLOOKUP($A141,Filtros!$A$5:$AY$22116,39,FALSE),0)","v":0},{"$f":"IFERROR(VLOOKUP($A141,Filtros!$A$5:$AY$22116,40,FALSE),0)","v":0},{"$f":"IFERROR(VLOOKUP($A141,Filtros!$A$5:$AY$22116,41,FALSE),0)","v":0},{"$f":"IFERROR(VLOOKUP($A141,Filtros!$A$5:$AY$22116,42,FALSE),0)","v":0},{"$f":"IFERROR(VLOOKUP($A141,Filtros!$A$5:$AY$22116,43,FALSE),0)","v":0},{"$f":"IFERROR(VLOOKUP($A141,Filtros!$A$5:$AY$22116,44,FALSE),0)","v":0},{"$f":"IFERROR(VLOOKUP($A141,Filtros!$A$5:$AY$22116,45,FALSE),0)","v":0},{"$f":"IFERROR(VLOOKUP($A141,Filtros!$A$5:$AY$22116,46,FALSE),0)","v":0},"",{"$nulls":35},"","","","",{"$nulls":21},0,0,0,0]
["P2501400","NEOPLASIAS",null,{"$f":"IFERROR(VLOOKUP($A142,Filtros!$A$5:$AY$22116,2,FALSE),0)","v":7},{"$f":"IFERROR(VLOOKUP($A142,Filtros!$A$5:$AY$22116,3,FALSE),0)","v":1},{"$f":"IFERROR(VLOOKUP($A142,Filtros!$A$5:$AY$22116,4,FALSE),0)","v":6},{"$f":"IFERROR(VLOOKUP($A142,Filtros!$A$5:$AY$22116,5,FALSE),0)","v":0},{"$f":"IFERROR(VLOOKUP($A142,Filtros!$A$5:$AY$22116,6,FALSE),0)","v":0},{"$f":"IFERROR(VLOOKUP($A142,Filtros!$A$5:$AY$22116,7,FALSE),0)","v":0},{"$f":"IFERROR(VLOOKUP($A142,Filtros!$A$5:$AY$22116,8,FALSE),0)","v":0},{"$f":"IFERROR(VLOOKUP($A142,Filtros!$A$5:$AY$22116,9,FALSE),0)","v":0},{"$f":"IFERROR(VLOOKUP($A142,Filtros!$A$5:$AY$22116,10,FALSE),0)","v":0},{"$f":"IFERROR(VLOOKUP($A142,Filtros!$A$5:$AY$22116,11,FALSE),0)","v":0},{"$f":"IFERROR(VLOOKUP($A142,Filtros!$A$5:$AY$22116,12,FALSE),0)","v":0},{"$f":"IFERROR(VLOOKUP($A142,Filtros!$A$5:$AY$22116,13,FALSE),0)","v":0},{"$f":"IFERROR(VLOOKUP($A142,Filtros!$A$5:$AY$22116,14,FALSE),0)","v":0},{"$f":"IFERROR(VLOOKUP($A142,Filtros!$A$5:$AY$22116,15,FALSE),0)","v":0},{"$f":"IFERROR(VLOOKUP($A142,Filtros!$A$5:$AY$22116,16,FALSE),0)","v":0},{"$f":"IFERROR(VLOOKUP($A142,Filtros!$A$5:$AY$22116,17,FALSE),0)","v":0},{"$f":"IFERROR(VLOOKUP($A142,Filtros!$A$5:$AY$22116,18,FALSE),0)","v":0},{"$f":"IFERROR(VLOOKUP($A142,Filtros!$A$5:$AY$22116,19,FALSE),0)","v":0},{"$f":"IFERROR(VLOOKUP($A142,Filtros!$A$5:$AY$22116,20,FALSE),0)","v":0},{"$f":"IFERROR(VLOOKUP($A142,Filtros!$A$5:$AY$22116,21,FALSE),0)","v":0},{"$f":"IFERROR(VLOOKUP($A142,Filtros!$A$5:$AY$22116,22,FALSE),0)","v":0},{"$f":"IFERROR(VLOOKUP($A142,Filtros!$A$5:$AY$22116,23,FALSE),0)","v":0},{"$f":"IFERROR(VLOOKUP($A142,Filtros!$A$5:$AY$22116,24,FALSE),0)","v":0},{"$f":"IFERROR(VLOOKUP($A142,Filtros!$A$5:$AY$22116,25,FALSE),0)","v":0},{"$f":"IFERROR(VLOOKUP($A142,Filtros!$A$5:$AY$22116,26,FALSE),0)","v":0},{"$f":"IFERROR(VLOOKUP($A142,Filtros!$A$5:$AY$22116,27,FALSE),0)","v":0},{"$f":"IFERROR(VLOOKUP($A142,Filtros!$A$5:$AY$22116,28,FALSE),0)","v":0},{"$f":"IFERROR(VLOOKUP($A142,Filtros!$A$5:$AY$22116,29,FALSE),0)","v":0},{"$f":"IFERROR(VLOOKUP($A142,Filtros!$A$5:$AY$22116,30,FALSE),0)","v":0},{"$f":"IFERROR(VLOOKUP($A142,Filtros!$A$5:$AY$22116,31,FALSE),0)","v":0},{"$f":"IFERROR(VLOOKUP($A142,Filtros!$A$5:$AY$22116,32,FALSE),0)","v":1},{"$f":"IFERROR(VLOOKUP($A142,Filtros!$A$5:$AY$22116,33,FALSE),0)","v":0},{"$f":"IFERROR(VLOOKUP($A142,Filtros!$A$5:$AY$22116,34,FALSE),0)","v":0},{"$f":"IFERROR(VLOOKUP($A142,Filtros!$A$5:$AY$22116,35,FALSE),0)","v":1},{"$f":"IFERROR(VLOOKUP($A142,Filtros!$A$5:$AY$22116,36,FALSE),0)","v":2},{"$f":"IFERROR(VLOOKUP($A142,Filtros!$A$5:$AY$22116,37,FALSE),0)","v":0},{"$f":"IFERROR(VLOOKUP($A142,Filtros!$A$5:$AY$22116,38,FALSE),0)","v":3},{"$f":"IFERROR(VLOOKUP($A142,Filtros!$A$5:$AY$22116,39,FALSE),0)","v":0},{"$f":"IFERROR(VLOOKUP($A142,Filtros!$A$5:$AY$22116,40,FALSE),0)","v":0},{"$f":"IFERROR(VLOOKUP($A142,Filtros!$A$5:$AY$22116,41,FALSE),0)","v":0},{"$f":"IFERROR(VLOOKUP($A142,Filtros!$A$5:$AY$22116,42,FALSE),0)","v":0},{"$f":"IFERROR(VLOOKUP($A142,Filtros!$A$5:$AY$22116,43,FALSE),0)","v":0},{"$f":"IFERROR(VLOOKUP($A142,Filtros!$A$5:$AY$22116,44,FALSE),0)","v":0},{"$f":"IFERROR(VLOOKUP($A142,Filtros!$A$5:$AY$22116,45,FALSE),0)","v":0},{"$f":"IFERROR(VLOOKUP($A142,Filtros!$A$5:$AY$22116,46,FALSE),0)","v":0},"",{"$nulls":35},"","","","",{"$nulls":21},0,0,0,0]
["P2501500","MALFORMACIONES CONGÉNITAS, DEFORMIDADES Y ANOMALÍAS CROMOSÓMICAS",null,{"$f":"IFERROR(VLOOKUP($A143,Filtros!$A$5:$AY$22116,2,FALSE),0)","v":210},{"$f":"IFERROR(VLOOKUP($A143,Filtros!$A$5:$AY$22116,3,FALSE),0)","v":104},{"$f":"IFERROR(VLOOKUP($A143,Filtros!$A$5:$AY$22116,4,FALSE),0)","v":106},{"$f":"IFERROR(VLOOKUP($A143,Filtros!$A$5:$AY$22116,5,FALSE),0)","v":0},{"$f":"IFERROR(VLOOKUP($A143,Filtros!$A$5:$AY$22116,6,FALSE),0)","v":1},{"$f":"IFERROR(VLOOKUP($A143,Filtros!$A$5:$AY$22116,7,FALSE),0)","v":1},{"$f":"IFERROR(VLOOKUP($A143,Filtros!$A$5:$AY$22116,8,FALSE),0)","v":0},{"$f":"IFERROR(VLOOKUP($A143,Filtros!$A$5:$AY$22116,9,FALSE),0)","v":1},{"$f":"IFERROR(VLOOKUP($A143,Filtros!$A$5:$AY$22116,10,FALSE),0)","v":0},{"$f":"IFERROR(VLOOKUP($A143,Filtros!$A$5:$AY$22116,11,FALSE),0)","v":1},{"$f":"IFERROR(VLOOKUP($A143,Filtros!$A$5:$AY$22116,12,FALSE),0)","v":1},{"$f":"IFERROR(VLOOKUP($A143,Filtros!$A$5:$AY$22116,13,FALSE),0)","v":0},{"$f":"IFERROR(VLOOKUP($A143,Filtros!$A$5:$AY$22116,14,FALSE),0)","v":0},{"$f":"IFERROR(VLOOKUP($A143,Filtros!$A$5:$AY$22116,15,FALSE),0)","v":3},{"$f":"IFERROR(VLOOKUP($A143,Filtros!$A$5:$AY$22116,16,FALSE),0)","v":0},{"$f":"IFERROR(VLOOKUP($A143,Filtros!$A$5:$AY$22116,17,FALSE),0)","v":3},{"$f":"IFERROR(VLOOKUP($A143,Filtros!$A$5:$AY$22116,18,FALSE),0)","v":0},{"$f":"IFERROR(VLOOKUP($A143,Filtros!$A$5:$AY$22116,19,FALSE),0)","v":3},{"$f":"IFERROR(VLOOKUP($A143,Filtros!$A$5:$AY$22116,20,FALSE),0)","v":7},{"$f":"IFERROR(VLOOKUP($A143,Filtros!$A$5:$AY$22116,21,FALSE),0)","v":8},{"$f":"IFERROR(VLOOKUP($A143,Filtros!$A$5:$AY$22116,22,FALSE),0)","v":12},{"$f":"IFERROR(VLOOKUP($A143,Filtros!$A$5:$AY$22116,23,FALSE),0)","v":1},{"$f":"IFERROR(VLOOKUP($A143,Filtros!$A$5:$AY$22116,24,FALSE),0)","v":5},{"$f":"IFERROR(VLOOKUP($A143,Filtros!$A$5:$AY$22116,25,FALSE),0)","v":3},{"$f":"IFERROR(VLOOKUP($A143,Filtros!$A$5:$AY$22116,26,FALSE),0)","v":9},{"$f":"IFERROR(VLOOKUP($A143,Filtros!$A$5:$AY$22116,27,FALSE),0)","v":8},{"$f":"IFERROR(VLOOKUP($A143,Filtros!$A$5:$AY$22116,28,FALSE),0)","v":10},{"$f":"IFERROR(VLOOKUP($A143,Filtros!$A$5:$AY$22116,29,FALSE),0)","v":4},{"$f":"IFERROR(VLOOKUP($A143,Filtros!$A$5:$AY$22116,30,FALSE),0)","v":3},{"$f":"IFERROR(VLOOKUP($A143,Filtros!$A$5:$AY$22116,31,FALSE),0)","v":12},{"$f":"IFERROR(VLOOKUP($A143,Filtros!$A$5:$AY$22116,32,FALSE),0)","v":10},{"$f":"IFERROR(VLOOKUP($A143,Filtros!$A$5:$AY$22116,33,FALSE),0)","v":16},{"$f":"IFERROR(VLOOKUP($A143,Filtros!$A$5:$AY$22116,34,FALSE),0)","v":13},{"$f":"IFERROR(VLOOKUP($A143,Filtros!$A$5:$AY$22116,35,FALSE),0)","v":14},{"$f":"IFERROR(VLOOKUP($A143,Filtros!$A$5:$AY$22116,36,FALSE),0)","v":14},{"$f":"IFERROR(VLOOKUP($A143,Filtros!$A$5:$AY$22116,37,FALSE),0)","v":19},{"$f":"IFERROR(VLOOKUP($A143,Filtros!$A$5:$AY$22116,38,FALSE),0)","v":14},{"$f":"IFERROR(VLOOKUP($A143,Filtros!$A$5:$AY$22116,39,FALSE),0)","v":6},{"$f":"IFERROR(VLOOKUP($A143,Filtros!$A$5:$AY$22116,40,FALSE),0)","v":7},{"$f":"IFERROR(VLOOKUP($A143,Filtros!$A$5:$AY$22116,41,FALSE),0)","v":1},{"$f":"IFERROR(VLOOKUP($A143,Filtros!$A$5:$AY$22116,42,FALSE),0)","v":0},{"$f":"IFERROR(VLOOKUP($A143,Filtros!$A$5:$AY$22116,43,FALSE),0)","v":0},{"$f":"IFERROR(VLOOKUP($A143,Filtros!$A$5:$AY$22116,44,FALSE),0)","v":0},{"$f":"IFERROR(VLOOKUP($A143,Filtros!$A$5:$AY$22116,45,FALSE),0)","v":1},{"$f":"IFERROR(VLOOKUP($A143,Filtros!$A$5:$AY$22116,46,FALSE),0)","v":0},"",{"$nulls":35},"","","","",{"$nulls":21},0,0,0,0]
["P2501600","PREMATUROS",null,{"$f":"IFERROR(VLOOKUP($A144,Filtros!$A$5:$AY$22116,2,FALSE),0)","v":1363},{"$f":"IFERROR(VLOOKUP($A144,Filtros!$A$5:$AY$22116,3,FALSE),0)","v":727},{"$f":"IFERROR(VLOOKUP($A144,Filtros!$A$5:$AY$22116,4,FALSE),0)","v":636},{"$f":"IFERROR(VLOOKUP($A144,Filtros!$A$5:$AY$22116,5,FALSE),0)","v":2},{"$f":"IFERROR(VLOOKUP($A144,Filtros!$A$5:$AY$22116,6,FALSE),0)","v":0},{"$f":"IFERROR(VLOOKUP($A144,Filtros!$A$5:$AY$22116,7,FALSE),0)","v":5},{"$f":"IFERROR(VLOOKUP($A144,Filtros!$A$5:$AY$22116,8,FALSE),0)","v":6},{"$f":"IFERROR(VLOOKUP($A144,Filtros!$A$5:$AY$22116,9,FALSE),0)","v":13},{"$f":"IFERROR(VLOOKUP($A144,Filtros!$A$5:$AY$22116,10,FALSE),0)","v":18},{"$f":"IFERROR(VLOOKUP($A144,Filtros!$A$5:$AY$22116,11,FALSE),0)","v":12},{"$f":"IFERROR(VLOOKUP($A144,Filtros!$A$5:$AY$22116,12,FALSE),0)","v":10},{"$f":"IFERROR(VLOOKUP($A144,Filtros!$A$5:$AY$22116,13,FALSE),0)","v":10},{"$f":"IFERROR(VLOOKUP($A144,Filtros!$A$5:$AY$22116,14,FALSE),0)","v":10},{"$f":"IFERROR(VLOOKUP($A144,Filtros!$A$5:$AY$22116,15,FALSE),0)","v":8},{"$f":"IFERROR(VLOOKUP($A144,Filtros!$A$5:$AY$22116,16,FALSE),0)","v":15},{"$f":"IFERROR(VLOOKUP($A144,Filtros!$A$5:$AY$22116,17,FALSE),0)","v":9},{"$f":"IFERROR(VLOOKUP($A144,Filtros!$A$5:$AY$22116,18,FALSE),0)","v":19},{"$f":"IFERROR(VLOOKUP($A144,Filtros!$A$5:$AY$22116,19,FALSE),0)","v":55},{"$f":"IFERROR(VLOOKUP($A144,Filtros!$A$5:$AY$22116,20,FALSE),0)","v":78},{"$f":"IFERROR(VLOOKUP($A144,Filtros!$A$5:$AY$22116,21,FALSE),0)","v":71},{"$f":"IFERROR(VLOOKUP($A144,Filtros!$A$5:$AY$22116,22,FALSE),0)","v":59},{"$f":"IFERROR(VLOOKUP($A144,Filtros!$A$5:$AY$22116,23,FALSE),0)","v":57},{"$f":"IFERROR(VLOOKUP($A144,Filtros!$A$5:$AY$22116,24,FALSE),0)","v":56},{"$f":"IFERROR(VLOOKUP($A144,Filtros!$A$5:$AY$22116,25,FALSE),0)","v":108},{"$f":"IFERROR(VLOOKUP($A144,Filtros!$A$5:$AY$22116,26,FALSE),0)","v":97},{"$f":"IFERROR(VLOOKUP($A144,Filtros!$A$5:$AY$22116,27,FALSE),0)","v":57},{"$f":"IFERROR(VLOOKUP($A144,Filtros!$A$5:$AY$22116,28,FALSE),0)","v":48},{"$f":"IFERROR(VLOOKUP($A144,Filtros!$A$5:$AY$22116,29,FALSE),0)","v":38},{"$f":"IFERROR(VLOOKUP($A144,Filtros!$A$5:$AY$22116,30,FALSE),0)","v":29},{"$f":"IFERROR(VLOOKUP($A144,Filtros!$A$5:$AY$22116,31,FALSE),0)","v":88},{"$f":"IFERROR(VLOOKUP($A144,Filtros!$A$5:$AY$22116,32,FALSE),0)","v":58},{"$f":"IFERROR(VLOOKUP($A144,Filtros!$A$5:$AY$22116,33,FALSE),0)","v":72},{"$f":"IFERROR(VLOOKUP($A144,Filtros!$A$5:$AY$22116,34,FALSE),0)","v":44},{"$f":"IFERROR(VLOOKUP($A144,Filtros!$A$5:$AY$22116,35,FALSE),0)","v":81},{"$f":"IFERROR(VLOOKUP($A144,Filtros!$A$5:$AY$22116,36,FALSE),0)","v":52},{"$f":"IFERROR(VLOOKUP($A144,Filtros!$A$5:$AY$22116,37,FALSE),0)","v":35},{"$f":"IFERROR(VLOOKUP($A144,Filtros!$A$5:$AY$22116,38,FALSE),0)","v":32},{"$f":"IFERROR(VLOOKUP($A144,Filtros!$A$5:$AY$22116,39,FALSE),0)","v":6},{"$f":"IFERROR(VLOOKUP($A144,Filtros!$A$5:$AY$22116,40,FALSE),0)","v":5},{"$f":"IFERROR(VLOOKUP($A144,Filtros!$A$5:$AY$22116,41,FALSE),0)","v":0},{"$f":"IFERROR(VLOOKUP($A144,Filtros!$A$5:$AY$22116,42,FALSE),0)","v":0},{"$f":"IFERROR(VLOOKUP($A144,Filtros!$A$5:$AY$22116,43,FALSE),0)","v":0},{"$f":"IFERROR(VLOOKUP($A144,Filtros!$A$5:$AY$22116,44,FALSE),0)","v":4},{"$f":"IFERROR(VLOOKUP($A144,Filtros!$A$5:$AY$22116,45,FALSE),0)","v":5},{"$f":"IFERROR(VLOOKUP($A144,Filtros!$A$5:$AY$22116,46,FALSE),0)","v":1},"",{"$nulls":35},"","","","",{"$nulls":21},0,0,0,0]
["P2501700","HOSPITALIZACIÓN DOMICILIARIA",null,{"$f":"IFERROR(VLOOKUP($A145,Filtros!$A$5:$AY$22116,2,FALSE),0)","v":0},{"$f":"IFERROR(VLOOKUP($A145,Filtros!$A$5:$AY$22116,3,FALSE),0)","v":0},{"$f":"IFERROR(VLOOKUP($A145,Filtros!$A$5:$AY$22116,4,FALSE),0)","v":0},{"$f":"IFERROR(VLOOKUP($A145,Filtros!$A$5:$AY$22116,5,FALSE),0)","v":0},{"$f":"IFERROR(VLOOKUP($A145,Filtros!$A$5:$AY$22116,6,FALSE),0)","v":0},{"$f":"IFERROR(VLOOKUP($A145,Filtros!$A$5:$AY$22116,7,FALSE),0)","v":0},{"$f":"IFERROR(VLOOKUP($A145,Filtros!$A$5:$AY$22116,8,FALSE),0)","v":0},{"$f":"IFERROR(VLOOKUP($A145,Filtros!$A$5:$AY$22116,9,FALSE),0)","v":0},{"$f":"IFERROR(VLOOKUP($A145,Filtros!$A$5:$AY$22116,10,FALSE),0)","v":0},{"$f":"IFERROR(VLOOKUP($A145,Filtros!$A$5:$AY$22116,11,FALSE),0)","v":0},{"$f":"IFERROR(VLOOKUP($A145,Filtros!$A$5:$AY$22116,12,FALSE),0)","v":0},{"$f":"IFERROR(VLOOKUP($A145,Filtros!$A$5:$AY$22116,13,FALSE),0)","v":0},{"$f":"IFERROR(VLOOKUP($A145,Filtros!$A$5:$AY$22116,14,FALSE),0)","v":0},{"$f":"IFERROR(VLOOKUP($A145,Filtros!$A$5:$AY$22116,15,FALSE),0)","v":0},{"$f":"IFERROR(VLOOKUP($A145,Filtros!$A$5:$AY$22116,16,FALSE),0)","v":0},{"$f":"IFERROR(VLOOKUP($A145,Filtros!$A$5:$AY$22116,17,FALSE),0)","v":0},{"$f":"IFERROR(VLOOKUP($A145,Filtros!$A$5:$AY$22116,18,FALSE),0)","v":0},{"$f":"IFERROR(VLOOKUP($A145,Filtros!$A$5:$AY$22116,19,FALSE),0)","v":0},{"$f":"IFERROR(VLOOKUP($A145,Filtros!$A$5:$AY$22116,20,FALSE),0)","v":0},{"$f":"IFERROR(VLOOKUP($A145,Filtros!$A$5:$AY$22116,21,FALSE),0)","v":0},{"$f":"IFERROR(VLOOKUP($A145,Filtros!$A$5:$AY$22116,22,FALSE),0)","v":0},{"$f":"IFERROR(VLOOKUP($A145,Filtros!$A$5:$AY$22116,23,FALSE),0)","v":0},{"$f":"IFERROR(VLOOKUP($A145,Filtros!$A$5:$AY$22116,24,FALSE),0)","v":0},{"$f":"IFERROR(VLOOKUP($A145,Filtros!$A$5:$AY$22116,25,FALSE),0)","v":0},{"$f":"IFERROR(VLOOKUP($A145,Filtros!$A$5:$AY$22116,26,FALSE),0)","v":0},{"$f":"IFERROR(VLOOKUP($A145,Filtros!$A$5:$AY$22116,27,FALSE),0)","v":0},{"$f":"IFERROR(VLOOKUP($A145,Filtros!$A$5:$AY$22116,28,FALSE),0)","v":0},{"$f":"IFERROR(VLOOKUP($A145,Filtros!$A$5:$AY$22116,29,FALSE),0)","v":0},{"$f":"IFERROR(VLOOKUP($A145,Filtros!$A$5:$AY$22116,30,FALSE),0)","v":0},{"$f":"IFERROR(VLOOKUP($A145,Filtros!$A$5:$AY$22116,31,FALSE),0)","v":0},{"$f":"IFERROR(VLOOKUP($A145,Filtros!$A$5:$AY$22116,32,FALSE),0)","v":0},{"$f":"IFERROR(VLOOKUP($A145,Filtros!$A$5:$AY$22116,33,FALSE),0)","v":0},{"$f":"IFERROR(VLOOKUP($A145,Filtros!$A$5:$AY$22116,34,FALSE),0)","v":0},{"$f":"IFERROR(VLOOKUP($A145,Filtros!$A$5:$AY$22116,35,FALSE),0)","v":0},{"$f":"IFERROR(VLOOKUP($A145,Filtros!$A$5:$AY$22116,36,FALSE),0)","v":0},{"$f":"IFERROR(VLOOKUP($A145,Filtros!$A$5:$AY$22116,37,FALSE),0)","v":0},{"$f":"IFERROR(VLOOKUP($A145,Filtros!$A$5:$AY$22116,38,FALSE),0)","v":0},{"$f":"IFERROR(VLOOKUP($A145,Filtros!$A$5:$AY$22116,39,FALSE),0)","v":0},{"$f":"IFERROR(VLOOKUP($A145,Filtros!$A$5:$AY$22116,40,FALSE),0)","v":0},{"$f":"IFERROR(VLOOKUP($A145,Filtros!$A$5:$AY$22116,41,FALSE),0)","v":0},{"$f":"IFERROR(VLOOKUP($A145,Filtros!$A$5:$AY$22116,42,FALSE),0)","v":0},{"$f":"IFERROR(VLOOKUP($A145,Filtros!$A$5:$AY$22116,43,FALSE),0)","v":0},{"$f":"IFERROR(VLOOKUP($A145,Filtros!$A$5:$AY$22116,44,FALSE),0)","v":0},{"$f":"IFERROR(VLOOKUP($A145,Filtros!$A$5:$AY$22116,45,FALSE),0)","v":0},{"$f":"IFERROR(VLOOKUP($A145,Filtros!$A$5:$AY$22116,46,FALSE),0)","v":0},"",{"$nulls":35},"","","","",{"$nulls":21},0,0,0,0]
[null,"TOTAL",null,{"$f":"SUM(E146:F146)","v":2331},{"$f":"SUM(E129:E145)","v":1316},{"$f":"SUM(F129:F145)","v":1015},{"$f":"SUM(G129:G145)","v":2},{"$f":"SUM(H129:H145)","v":1},6,6,15,20,13,16,13,13,15,17,14,24,64,91,91,88,75,72,153,128,120,81,68,49,165,101,165,91,{"$f":"SUM(AK129:AK145)","v":178},107,106,76,37,28,{"$f":"SUM(AQ129:AQ145)","v":16},6,0,5,8,2]
{"$rows_empty":14}
[null,{"$f":"SUM(D11:AL38,D43:N71,D75:F84,D88:M91,D95:D96,D100:D109,F114:L118,D122:J124,D129:AV146)","v":989742},"datos"]
[null,{"$f":"SUM(DB11:EA146)","v":15},"errores"]

{"sheet":"P3","index":3,"n_rows":101,"n_cols":94,"rows_kept":101,"merged":[[6,1,6,25],[8,1,10,2],[8,3,9,5],[8,6,8,39],[8,40,10,40],[8,41,9,42],[9,6,9,7],[9,8,9,9],[9,10,9,11],[9,12,9,13],[9,14,9,15],[9,16,9,17],[9,18,9,19],[9,20,9,21],[9,22,9,23],[9,24,9,25],[9,26,9,27],[9,28,9,29],[9,30,9,31],[9,32,9,33],[9,34,9,35],[9,36,9,37],[9,38,9,39],[11,1,13,1],[14,1,16,1],[17,1,18,1],[19,1,19,2],[20,1,20,2],[21,1,21,2],[22,1,22,2],[23,1,23,2],[25,1,25,2],[26,1,26,2],[27,1,27,2],[28,1,28,2],[29,1,29,2],[30,1,30,2],[31,1,33,1],[34,1,37,1],[39,1,39,42],[40,1,41,2],[40,3,41,3],[40,4,40,7],[42,1,42,2],[43,1,43,39],[44,1,46,3],[44,4,45,6],[44,7,44,40],[45,7,45,8],[45,9,45,10],[45,11,45,12],[45,13,45,14],[45,15,45,16],[45,17,45,18],[45,19,45,20],[45,21,45,22],[45,23,45,24],[45,25,45,26],[45,27,45,28],[45,29,45,30],[45,31,45,32],[45,33,45,34],[45,35,45,36],[45,37,45,38],[45,39,45,40],[47,1,50,2],[51,1,51,39],[52,1,54,2],[52,3,53,5],[52,6,52,39],[53,6,53,7],[53,8,53,9],[53,10,53,11],[53,12,53,13],[53,14,53,15],[53,16,53,17],[53,18,53,19],[53,20,53,21],[53,22,53,23],[53,24,53,25],[53,26,53,27],[53,28,53,29],[53,30,53,31],[53,32,53,33],[53,34,53,35],[53,36,53,37],[53,38,53,39],[55,1,58,1],[59,1,61,1],[63,1,65,2],[63,3,65,3],[63,4,64,6],[63,7,63,40],[64,7,64,8],[64,9,64,10],[64,11,64,12],[64,13,64,14],[64,15,64,16],[64,17,64,18],[64,19,64,20],[64,21,64,22],[64,23,64,24],[64,25,64,26],[64,27,64,28],[64,29,64,30],[64,31,64,32],[64,33,64,34],[64,35,64,36],[64,37,64,38],[64,39,64,40],[66,1,68,2],[69,1,71,2],[72,1,74,2]]}
[]
[]
[]
[]
[]
[]
[null,"REM-P3. POBLACIÓN EN CONTROL OTROS PROGRAMAS"]
[null,"SECCIÓN A: EXISTENCIA DE POBLACIÓN EN CONTROL"]
[null,"PROGRAMAS",null,"TOTAL",null,null,"GRUPOS DE EDAD (en años) Y SEXO",{"$nulls":33},"Con espirometría vigente","Población Migrantes"]
[{"$nulls":6},"0 a 4 años",null,"5 a 9 años",null,"10 a 14 años",null,"15 a 19 años",null,"20 a 24 años",null,"25 a 29 años",null,"30 a 34 años",null,"35 a 39 años",null,"40 a 44 años",null,"45 a 49 años",null,"50 a 54 años",null,"55 a 59 años",null,"60 a 64 años",null,"65 a 69 años",null,"70 a 74 años",null,"75 a 79 años",null,"80 y más años"]
[{"$nulls":3},"Ambos\nsexos","Hombres","Mujeres","Hombres","Mujeres","Hombres","Mujeres","Hombres","Mujeres","Hombres","Mujeres","Hombres","Mujeres","Hombres","Mujeres","Hombres","Mujeres","Hombres","Mujeres","Hombres","Mujeres","Hombres","Mujeres","Hombres","Mujeres","Hombres","Mujeres","Hombres","Mujeres","Hombres ","Mujeres","Hombres ","Mujeres","Hombres ","Mujeres","Hombres ","Mujeres",null,"Hombres ","Mujeres"]
["P3160950","SÍNDROME BRONQUIAL OBSTRUCTIVA RECURRENTE (SBOR)","LEVE",{"$f":"IFERROR(VLOOKUP($A12,Filtros!$A$5:$AY$22116,2,FALSE),0)","v":440},{"$f":"IFERROR(VLOOKUP($A12,Filtros!$A$5:$AY$22116,3,FALSE),0)","v":253},{"$f":"IFERROR(VLOOKUP($A12,Filtros!$A$5:$AY$22116,4,FALSE),0)","v":187},{"$f":"IFERROR(VLOOKUP($A12,Filtros!$A$5:$AY$22116,5,FALSE),0)","v":253},{"$f":"IFERROR(VLOOKUP($A12,Filtros!$A$5:$AY$22116,6,FALSE),0)","v":187},{"$f":"IFERROR(VLOOKUP($A12,Filtros!$A$5:$AY$22116,7,FALSE),0)","v":0},{"$f":"IFERROR(VLOOKUP($A12,Filtros!$A$5:$AY$22116,8,FALSE),0)","v":0},{"$f":"IFERROR(VLOOKUP($A12,Filtros!$A$5:$AY$22116,9,FALSE),0)","v":0},{"$f":"IFERROR(VLOOKUP($A12,Filtros!$A$5:$AY$22116,10,FALSE),0)","v":0},{"$f":"IFERROR(VLOOKUP($A12,Filtros!$A$5:$AY$22116,11,FALSE),0)","v":0},{"$f":"IFERROR(VLOOKUP($A12,Filtros!$A$5:$AY$22116,12,FALSE),0)","v":0},{"$f":"IFERROR(VLOOKUP($A12,Filtros!$A$5:$AY$22116,13,FALSE),0)","v":0},{"$f":"IFERROR(VLOOKUP($A12,Filtros!$A$5:$AY$22116,14,FALSE),0)","v":0},{"$f":"IFERROR(VLOOKUP($A12,Filtros!$A$5:$AY$22116,15,FALSE),0)","v":0},{"$f":"IFERROR(VLOOKUP($A12,Filtros!$A$5:$AY$22116,16,FALSE),0)","v":0},{"$f":"IFERROR(VLOOKUP($A12,Filtros!$A$5:$AY$22116,17,FALSE),0)","v":0},{"$f":"IFERROR(VLOOKUP($A12,Filtros!$A$5:$AY$22116,18,FALSE),0)","v":0},{"$f":"IFERROR(VLOOKUP($A12,Filtros!$A$5:$AY$22116,19,FALSE),0)","v":0},{"$f":"IFERROR(VLOOKUP($A12,Filtros!$A$5:$AY$22116,20,FALSE),0)","v":0},{"$f":"IFERROR(VLOOKUP($A12,Filtros!$A$5:$AY$22116,21,FALSE),0)","v":0},{"$f":"IFERROR(VLOOKUP($A12,Filtros!$A$5:$AY$22116,22,FALSE),0)","v":0},{"$f":"IFERROR(VLOOKUP($A12,Filtros!$A$5:$AY$22116,23,FALSE),0)","v":0},{"$f":"IFERROR(VLOOKUP($A12,Filtros!$A$5:$AY$22116,24,FALSE),0)","v":0},{"$f":"IFERROR(VLOOKUP($A12,Filtros!$A$5:$AY$22116,25,FALSE),0)","v":0},{"$f":"IFERROR(VLOOKUP($A12,Filtros!$A$5:$AY$22116,26,FALSE),0)","v":0},{"$f":"IFERROR(VLOOKUP($A12,Filtros!$A$5:$AY$22116,27,FALSE),0)","v":0},{"$f":"IFERROR(VLOOKUP($A12,Filtros!$A$5:$AY$22116,28,FALSE),0)","v":0},{"$f":"IFERROR(VLOOKUP($A12,Filtros!$A$5:$AY$22116,29,FALSE),0)","v":0},{"$f":"IFERROR(VLOOKUP($A12,Filtros!$A$5:$AY$22116,30,FALSE),0)","v":0},{"$f":"IFERROR(VLOOKUP($A12,Filtros!$A$5:$AY$22116,31,FALSE),0)","v":0},{"$f":"IFERROR(VLOOKUP($A12,Filtros!$A$5:$AY$22116,32,FALSE),0)","v":0},{"$f":"IFERROR(VLOOKUP($A12,Filtros!$A$5:$AY$22116,33,FALSE),0)","v":0},{"$f":"IFERROR(VLOOKUP($A12,Filtros!$A$5:$AY$22116,34,FALSE),0)","v":0},{"$f":"IFERROR(VLOOKUP($A12,Filtros!$A$5:$AY$22116,35,FALSE),0)","v":0},{"$f":"IFERROR(VLOOKUP($A12,Filtros!$A$5:$AY$22116,36,FALSE),0)","v":0},{"$f":"IFERROR(VLOOKUP($A12,Filtros!$A$5:$AY$22116,37,FALSE),0)","v":0},{"$f":"IFERROR(VLOOKUP($A12,Filtros!$A$5:$AY$22116,38,FALSE),0)","v":0},{"$f":"IFERROR(VLOOKUP($A12,Filtros!$A$5:$AY$22116,39,FALSE),0)","v":0},{"$f":"IFERROR(VLOOKUP($A12,Filtros!$A$5:$AY$22116,40,FALSE),0)","v":1},{"$f":"IFERROR(VLOOKUP($A12,Filtros!$A$5:$AY$22116,41,FALSE),0)","v":3},{"$f":"CC12 & CD12 & CF12","v":""},{"$nulls":36},{"$f":"IF($AO12<=$G12+$H12,\"\",\"* La Población bajo control con Espirometría Vigente no debe ser mayor al Total de Población en Control. \")","v":""},{"$f":"IF($D12>=$AP12+$AQ12,\"\",\"* La Población Migrantes no debe ser mayor al Total de Población en Control. \")","v":""},null,{"$f":"IF(AND(E12<>0,AP12=\"\"),\"* No olvide escribir en la celda de Población Migrantes (Digite CERO si no tiene). \",IF(AND(F12<>0,AQ12=\"\"),\"* No olvide escribir en la celda de Población Migrantes (Digite CERO si no tiene). \",\"\"))","v":""},{"$nulls":4},{"$f":"IF($AO12<=$G12+$H12,0,1)","v":0},{"$f":"IF($D12>=$AP12+$AQ12,0,1)","v":0},null,{"$f":"IF(AND(E12<>0,AP12=\"\"),1,IF(AND(F12<>0,AQ12=\"\"),1,0))","v":0}]
["P3160960",null,"MODERADO",{"$f":"IFERROR(VLOOKUP($A13,Filtros!$A$5:$AY$22116,2,FALSE),0)","v":335},{"$f":"IFERROR(VLOOKUP($A13,Filtros!$A$5:$AY$22116,3,FALSE),0)","v":202},{"$f":"IFERROR(VLOOKUP($A13,Filtros!$A$5:$AY$22116,4,FALSE),0)","v":133},{"$f":"IFERROR(VLOOKUP($A13,Filtros!$A$5:$AY$22116,5,FALSE),0)","v":202},{"$f":"IFERROR(VLOOKUP($A13,Filtros!$A$5:$AY$22116,6,FALSE),0)","v":133},{"$f":"IFERROR(VLOOKUP($A13,Filtros!$A$5:$AY$22116,7,FALSE),0)","v":0},{"$f":"IFERROR(VLOOKUP($A13,Filtros!$A$5:$AY$22116,8,FALSE),0)","v":0},{"$f":"IFERROR(VLOOKUP($A13,Filtros!$A$5:$AY$22116,9,FALSE),0)","v":0},{"$f":"IFERROR(VLOOKUP($A13,Filtros!$A$5:$AY$22116,10,FALSE),0)","v":0},{"$f":"IFERROR(VLOOKUP($A13,Filtros!$A$5:$AY$22116,11,FALSE),0)","v":0},{"$f":"IFERROR(VLOOKUP($A13,Filtros!$A$5:$AY$22116,12,FALSE),0)","v":0},{"$f":"IFERROR(VLOOKUP($A13,Filtros!$A$5:$AY$22116,13,FALSE),0)","v":0},{"$f":"IFERROR(VLOOKUP($A13,Filtros!$A$5:$AY$22116,14,FALSE),0)","v":0},{"$f":"IFERROR(VLOOKUP($A13,Filtros!$A$5:$AY$22116,15,FALSE),0)","v":0},{"$f":"IFERROR(VLOOKUP($A13,Filtros!$A$5:$AY$22116,16,FALSE),0)","v":0},{"$f":"IFERROR(VLOOKUP($A13,Filtros!$A$5:$AY$22116,17,FALSE),0)","v":0},{"$f":"IFERROR(VLOOKUP($A13,Filtros!$A$5:$AY$22116,18,FALSE),0)","v":0},{"$f":"IFERROR(VLOOKUP($A13,Filtros!$A$5:$AY$22116,19,FALSE),0)","v":0},{"$f":"IFERROR(VLOOKUP($A13,Filtros!$A$5:$AY$22116,20,FALSE),0)","v":0},{"$f":"IFERROR(VLOOKUP($A13,Filtros!$A$5:$AY$22116,21,FALSE),0)","v":0},{"$f":"IFERROR(VLOOKUP($A13,Filtros!$A$5:$AY$22116,22,FALSE),0)","v":0},{"$f":"IFERROR(VLOOKUP($A13,Filtros!$A$5:$AY$22116,23,FALSE),0)","v":0},{"$f":"IFERROR(VLOOKUP($A13,Filtros!$A$5:$AY$22116,24,FALSE),0)","v":0},{"$f":"IFERROR(VLOOKUP($A13,Filtros!$A$5:$AY$22116,25,FALSE),0)","v":0},{"$f":"IFERROR(VLOOKUP($A13,Filtros!$A$5:$AY$22116,26,FALSE),0)","v":0},{"$f":"IFERROR(VLOOKUP($A13,Filtros!$A$5:$AY$22116,27,FALSE),0)","v":0},{"$f":"IFERROR(VLOOKUP($A13,Filtros!$A$5:$AY$22116,28,FALSE),0)","v":0},{"$f":"IFERROR(VLOOKUP($A13,Filtros!$A$5:$AY$22116,29,FALSE),0)","v":0},{"$f":"IFERROR(VLOOKUP($A13,Filtros!$A$5:$AY$22116,30,FALSE),0)","v":0},{"$f":"IFERROR(VLOOKUP($A13,Filtros!$A$5:$AY$22116,31,FALSE),0)","v":0},{"$f":"IFERROR(VLOOKUP($A13,Filtros!$A$5:$AY$22116,32,FALSE),0)","v":0},{"$f":"IFERROR(VLOOKUP($A13,Filtros!$A$5:$AY$22116,33,FALSE),0)","v":0},{"$f":"IFERROR(VLOOKUP($A13,Filtros!$A$5:$AY$22116,34,FALSE),0)","v":0},{"$f":"IFERROR(VLOOKUP($A13,Filtros!$A$5:$AY$22116,35,FALSE),0)","v":0},{"$f":"IFERROR(VLOOKUP($A13,Filtros!$A$5:$AY$22116,36,FALSE),0)","v":0},{"$f":"IFERROR(VLOOKUP($A13,Filtros!$A$5:$AY$22116,37,FALSE),0)","v":0},{"$f":"IFERROR(VLOOKUP($A13,Filtros!$A$5:$AY$22116,38,FALSE),0)","v":0},{"$f":"IFERROR(VLOOKUP($A13,Filtros!$A$5:$AY$22116,39,FALSE),0)","v":0},{"$f":"IFERROR(VLOOKUP($A13,Filtros!$A$5:$AY$22116,40,FALSE),0)","v":0},{"$f":"IFERROR(VLOOKUP($A13,Filtros!$A$5:$AY$22116,41,FALSE),0)","v":0},"",{"$nulls":36},{"$f":"IF($AO13<=$G13+$H13,\"\",\"* La Población bajo control con Espirometría Vigente no debe ser mayor al Total de Población en Control. \")","v":""},"",null,"",{"$nulls":4},{"$f":"IF($AO13<=$G13+$H13,0,1)","v":0},{"$f":"IF($D13>=$AP13+$AQ13,0,1)","v":0},null,0]
["P3160970",null,"SEVERO",{"$f":"IFERROR(VLOOKUP($A14,Filtros!$A$5:$AY$22116,2,FALSE),0)","v":0},{"$f":"IFERROR(VLOOKUP($A14,Filtros!$A$5:$AY$22116,3,FALSE),0)","v":0},{"$f":"IFERROR(VLOOKUP($A14,Filtros!$A$5:$AY$22116,4,FALSE),0)","v":0},{"$f":"IFERROR(VLOOKUP($A14,Filtros!$A$5:$AY$22116,5,FALSE),0)","v":0},{"$f":"IFERROR(VLOOKUP($A14,Filtros!$A$5:$AY$22116,6,FALSE),0)","v":0},{"$f":"IFERROR(VLOOKUP($A14,Filtros!$A$5:$AY$22116,7,FALSE),0)","v":0},{"$f":"IFERROR(VLOOKUP($A14,Filtros!$A$5:$AY$22116,8,FALSE),0)","v":0},{"$f":"IFERROR(VLOOKUP($A14,Filtros!$A$5:$AY$22116,9,FALSE),0)","v":0},{"$f":"IFERROR(VLOOKUP($A14,Filtros!$A$5:$AY$22116,10,FALSE),0)","v":0},{"$f":"IFERROR(VLOOKUP($A14,Filtros!$A$5:$AY$22116,11,FALSE),0)","v":0},{"$f":"IFERROR(VLOOKUP($A14,Filtros!$A$5:$AY$22116,12,FALSE),0)","v":0},{"$f":"IFERROR(VLOOKUP($A14,Filtros!$A$5:$AY$22116,13,FALSE),0)","v":0},{"$f":"IFERROR(VLOOKUP($A14,Filtros!$A$5:$AY$22116,14,FALSE),0)","v":0},{"$f":"IFERROR(VLOOKUP($A14,Filtros!$A$5:$AY$22116,15,FALSE),0)","v":0},{"$f":"IFERROR(VLOOKUP($A14,Filtros!$A$5:$AY$22116,16,FALSE),0)","v":0},{"$f":"IFERROR(VLOOKUP($A14,Filtros!$A$5:$AY$22116,17,FALSE),0)","v":0},{"$f":"IFERROR(VLOOKUP($A14,Filtros!$A$5:$AY$22116,18,FALSE),0)","v":0},{"$f":"IFERROR(VLOOKUP($A14,Filtros!$A$5:$AY$22116,19,FALSE),0)","v":0},{"$f":"IFERROR(VLOOKUP($A14,Filtros!$A$5:$AY$22116,20,FALSE),0)","v":0},{"$f":"IFERROR(VLOOKUP($A14,Filtros!$A$5:$AY$22116,21,FALSE),0)","v":0},{"$f":"IFERROR(VLOOKUP($A14,Filtros!$A$5:$AY$22116,22,FALSE),0)","v":0},{"$f":"IFERROR(VLOOKUP($A14,Filtros!$A$5:$AY$22116,23,FALSE),0)","v":0},{"$f":"IFERROR(VLOOKUP($A14,Filtros!$A$5:$AY$22116,24,FALSE),0)","v":0},{"$f":"IFERROR(VLOOKUP($A14,Filtros!$A$5:$AY$22116,25,FALSE),0)","v":0},{"$f":"IFERROR(VLOOKUP($A14,Filtros!$A$5:$AY$22116,26,FALSE),0)","v":0},{"$f":"IFERROR(VLOOKUP($A14,Filtros!$A$5:$AY$22116,27,FALSE),0)","v":0},{"$f":"IFERROR(VLOOKUP($A14,Filtros!$A$5:$AY$22116,28,FALSE),0)","v":0},{"$f":"IFERROR(VLOOKUP($A14,Filtros!$A$5:$AY$22116,29,FALSE),0)","v":0},{"$f":"IFERROR(VLOOKUP($A14,Filtros!$A$5:$AY$22116,30,FALSE),0)","v":0},{"$f":"IFERROR(VLOOKUP($A14,Filtros!$A$5:$AY$22116,31,FALSE),0)","v":0},{"$f":"IFERROR(VLOOKUP($A14,Filtros!$A$5:$AY$22116,32,FALSE),0)","v":0},{"$f":"IFERROR(VLOOKUP($A14,Filtros!$A$5:$AY$22116,33,FALSE),0)","v":0},{"$f":"IFERROR(VLOOKUP($A14,Filtros!$A$5:$AY$22116,34,FALSE),0)","v":0},{"$f":"IFERROR(VLOOKUP($A14,Filtros!$A$5:$AY$22116,35,FALSE),0)","v":0},{"$f":"IFERROR(VLOOKUP($A14,Filtros!$A$5:$AY$22116,36,FALSE),0)","v":0},{"$f":"IFERROR(VLOOKUP($A14,Filtros!$A$5:$AY$22116,37,FALSE),0)","v":0},{"$f":"IFERROR(VLOOKUP($A14,Filtros!$A$5:$AY$22116,38,FALSE),0)","v":0},{"$f":"IFERROR(VLOOKUP($A14,Filtros!$A$5:$AY$22116,39,FALSE),0)","v":0},{"$f":"IFERROR(VLOOKUP($A14,Filtros!$A$5:$AY$22116,40,FALSE),0)","v":0},{"$f":"IFERROR(VLOOKUP($A14,Filtros!$A$5:$AY$22116,41,FALSE),0)","v":0},"",{"$nulls":36},{"$f":"IF($AO14<=$G14+$H14,\"\",\"* La Población bajo control con Espirometría Vigente no debe ser mayor al Total de Población en Control. \")","v":""},"",null,"",{"$nulls":4},{"$f":"IF($AO14<=$G14+$H14,0,1)","v":0},0,null,0]
["P3160980","ASMA BRONQUIAL","LEVE",{"$f":"IFERROR(VLOOKUP($A15,Filtros!$A$5:$AY$22116,2,FALSE),0)","v":7988},{"$f":"IFERROR(VLOOKUP($A15,Filtros!$A$5:$AY$22116,3,FALSE),0)","v":2942},{"$f":"IFERROR(VLOOKUP($A15,Filtros!$A$5:$AY$22116,4,FALSE),0)","v":5046},{"$f":"IFERROR(VLOOKUP($A15,Filtros!$A$5:$AY$22116,5,FALSE),0)","v":90},{"$f":"IFERROR(VLOOKUP($A15,Filtros!$A$5:$AY$22116,6,FALSE),0)","v":62},{"$f":"IFERROR(VLOOKUP($A15,Filtros!$A$5:$AY$22116,7,FALSE),0)","v":774},{"$f":"IFERROR(VLOOKUP($A15,Filtros!$A$5:$AY$22116,8,FALSE),0)","v":569},{"$f":"IFERROR(VLOOKUP($A15,Filtros!$A$5:$AY$22116,9,FALSE),0)","v":673},{"$f":"IFERROR(VLOOKUP($A15,Filtros!$A$5:$AY$22116,10,FALSE),0)","v":508},{"$f":"IFERROR(VLOOKUP($A15,Filtros!$A$5:$AY$22116,11,FALSE),0)","v":363},{"$f":"IFERROR(VLOOKUP($A15,Filtros!$A$5:$AY$22116,12,FALSE),0)","v":343},{"$f":"IFERROR(VLOOKUP($A15,Filtros!$A$5:$AY$22116,13,FALSE),0)","v":155},{"$f":"IFERROR(VLOOKUP($A15,Filtros!$A$5:$AY$22116,14,FALSE),0)","v":249},{"$f":"IFERROR(VLOOKUP($A15,Filtros!$A$5:$AY$22116,15,FALSE),0)","v":95},{"$f":"IFERROR(VLOOKUP($A15,Filtros!$A$5:$AY$22116,16,FALSE),0)","v":229},{"$f":"IFERROR(VLOOKUP($A15,Filtros!$A$5:$AY$22116,17,FALSE),0)","v":70},{"$f":"IFERROR(VLOOKUP($A15,Filtros!$A$5:$AY$22116,18,FALSE),0)","v":250},{"$f":"IFERROR(VLOOKUP($A15,Filtros!$A$5:$AY$22116,19,FALSE),0)","v":53},{"$f":"IFERROR(VLOOKUP($A15,Filtros!$A$5:$AY$22116,20,FALSE),0)","v":234},{"$f":"IFERROR(VLOOKUP($A15,Filtros!$A$5:$AY$22116,21,FALSE),0)","v":46},{"$f":"IFERROR(VLOOKUP($A15,Filtros!$A$5:$AY$22116,22,FALSE),0)","v":213},{"$f":"IFERROR(VLOOKUP($A15,Filtros!$A$5:$AY$22116,23,FALSE),0)","v":43},{"$f":"IFERROR(VLOOKUP($A15,Filtros!$A$5:$AY$22116,24,FALSE),0)","v":263},{"$f":"IFERROR(VLOOKUP($A15,Filtros!$A$5:$AY$22116,25,FALSE),0)","v":61},{"$f":"IFERROR(VLOOKUP($A15,Filtros!$A$5:$AY$22116,26,FALSE),0)","v":304},{"$f":"IFERROR(VLOOKUP($A15,Filtros!$A$5:$AY$22116,27,FALSE),0)","v":80},{"$f":"IFERROR(VLOOKUP($A15,Filtros!$A$5:$AY$22116,28,FALSE),0)","v":325},{"$f":"IFERROR(VLOOKUP($A15,Filtros!$A$5:$AY$22116,29,FALSE),0)","v":86},{"$f":"IFERROR(VLOOKUP($A15,Filtros!$A$5:$AY$22116,30,FALSE),0)","v":336},{"$f":"IFERROR(VLOOKUP($A15,Filtros!$A$5:$AY$22116,31,FALSE),0)","v":100},{"$f":"IFERROR(VLOOKUP($A15,Filtros!$A$5:$AY$22116,32,FALSE),0)","v":322},{"$f":"IFERROR(VLOOKUP($A15,Filtros!$A$5:$AY$22116,33,FALSE),0)","v":79},{"$f":"IFERROR(VLOOKUP($A15,Filtros!$A$5:$AY$22116,34,FALSE),0)","v":323},{"$f":"IFERROR(VLOOKUP($A15,Filtros!$A$5:$AY$22116,35,FALSE),0)","v":76},{"$f":"IFERROR(VLOOKUP($A15,Filtros!$A$5:$AY$22116,36,FALSE),0)","v":241},{"$f":"IFERROR(VLOOKUP($A15,Filtros!$A$5:$AY$22116,37,FALSE),0)","v":98},{"$f":"IFERROR(VLOOKUP($A15,Filtros!$A$5:$AY$22116,38,FALSE),0)","v":275},{"$f":"IFERROR(VLOOKUP($A15,Filtros!$A$5:$AY$22116,39,FALSE),0)","v":741},{"$f":"IFERROR(VLOOKUP($A15,Filtros!$A$5:$AY$22116,40,FALSE),0)","v":7},{"$f":"IFERROR(VLOOKUP($A15,Filtros!$A$5:$AY$22116,41,FALSE),0)","v":22},"",{"$nulls":36},{"$f":"IF($AO15<=SUM($G15:$AN15),\"\",\"* La Población bajo control con Espirometría Vigente no debe ser mayor al Total de Población en Control. \")","v":""},"",null,"",{"$nulls":4},{"$f":"IF($AO15<=SUM($G15:$AN15),0,1)","v":0},0,null,0]
["P3160990",null,"MODERADO",{"$f":"IFERROR(VLOOKUP($A16,Filtros!$A$5:$AY$22116,2,FALSE),0)","v":4544},{"$f":"IFERROR(VLOOKUP($A16,Filtros!$A$5:$AY$22116,3,FALSE),0)","v":1707},{"$f":"IFERROR(VLOOKUP($A16,Filtros!$A$5:$AY$22116,4,FALSE),0)","v":2837},{"$f":"IFERROR(VLOOKUP($A16,Filtros!$A$5:$AY$22116,5,FALSE),0)","v":55},{"$f":"IFERROR(VLOOKUP($A16,Filtros!$A$5:$AY$22116,6,FALSE),0)","v":41},{"$f":"IFERROR(VLOOKUP($A16,Filtros!$A$5:$AY$22116,7,FALSE),0)","v":471},{"$f":"IFERROR(VLOOKUP($A16,Filtros!$A$5:$AY$22116,8,FALSE),0)","v":364},{"$f":"IFERROR(VLOOKUP($A16,Filtros!$A$5:$AY$22116,9,FALSE),0)","v":443},{"$f":"IFERROR(VLOOKUP($A16,Filtros!$A$5:$AY$22116,10,FALSE),0)","v":329},{"$f":"IFERROR(VLOOKUP($A16,Filtros!$A$5:$AY$22116,11,FALSE),0)","v":198},{"$f":"IFERROR(VLOOKUP($A16,Filtros!$A$5:$AY$22116,12,FALSE),0)","v":195},{"$f":"IFERROR(VLOOKUP($A16,Filtros!$A$5:$AY$22116,13,FALSE),0)","v":56},{"$f":"IFERROR(VLOOKUP($A16,Filtros!$A$5:$AY$22116,14,FALSE),0)","v":94},{"$f":"IFERROR(VLOOKUP($A16,Filtros!$A$5:$AY$22116,15,FALSE),0)","v":39},{"$f":"IFERROR(VLOOKUP($A16,Filtros!$A$5:$AY$22116,16,FALSE),0)","v":101},{"$f":"IFERROR(VLOOKUP($A16,Filtros!$A$5:$AY$22116,17,FALSE),0)","v":31},{"$f":"IFERROR(VLOOKUP($A16,Filtros!$A$5:$AY$22116,18,FALSE),0)","v":113},{"$f":"IFERROR(VLOOKUP($A16,Filtros!$A$5:$AY$22116,19,FALSE),0)","v":26},{"$f":"IFERROR(VLOOKUP($A16,Filtros!$A$5:$AY$22116,20,FALSE),0)","v":82},{"$f":"IFERROR(VLOOKUP($A16,Filtros!$A$5:$AY$22116,21,FALSE),0)","v":17},{"$f":"IFERROR(VLOOKUP($A16,Filtros!$A$5:$AY$22116,22,FALSE),0)","v":111},{"$f":"IFERROR(VLOOKUP($A16,Filtros!$A$5:$AY$22116,23,FALSE),0)","v":34},{"$f":"IFERROR(VLOOKUP($A16,Filtros!$A$5:$AY$22116,24,FALSE),0)","v":141},{"$f":"IFERROR(VLOOKUP($A16,Filtros!$A$5:$AY$22116,25,FALSE),0)","v":40},{"$f":"IFERROR(VLOOKUP($A16,Filtros!$A$5:$AY$22116,26,FALSE),0)","v":163},{"$f":"IFERROR(VLOOKUP($A16,Filtros!$A$5:$AY$22116,27,FALSE),0)","v":29},{"$f":"IFERROR(VLOOKUP($A16,Filtros!$A$5:$AY$22116,28,FALSE),0)","v":170},{"$f":"IFERROR(VLOOKUP($A16,Filtros!$A$5:$AY$22116,29,FALSE),0)","v":55},{"$f":"IFERROR(VLOOKUP($A16,Filtros!$A$5:$AY$22116,30,FALSE),0)","v":188},{"$f":"IFERROR(VLOOKUP($A16,Filtros!$A$5:$AY$22116,31,FALSE),0)","v":56},{"$f":"IFERROR(VLOOKUP($A16,Filtros!$A$5:$AY$22116,32,FALSE),0)","v":187},{"$f":"IFERROR(VLOOKUP($A16,Filtros!$A$5:$AY$22116,33,FALSE),0)","v":53},{"$f":"IFERROR(VLOOKUP($A16,Filtros!$A$5:$AY$22116,34,FALSE),0)","v":208},{"$f":"IFERROR(VLOOKUP($A16,Filtros!$A$5:$AY$22116,35,FALSE),0)","v":42},{"$f":"IFERROR(VLOOKUP($A16,Filtros!$A$5:$AY$22116,36,FALSE),0)","v":144},{"$f":"IFERROR(VLOOKUP($A16,Filtros!$A$5:$AY$22116,37,FALSE),0)","v":62},{"$f":"IFERROR(VLOOKUP($A16,Filtros!$A$5:$AY$22116,38,FALSE),0)","v":206},{"$f":"IFERROR(VLOOKUP($A16,Filtros!$A$5:$AY$22116,39,FALSE),0)","v":431},{"$f":"IFERROR(VLOOKUP($A16,Filtros!$A$5:$AY$22116,40,FALSE),0)","v":1},{"$f":"IFERROR(VLOOKUP($A16,Filtros!$A$5:$AY$22116,41,FALSE),0)","v":6},"",{"$nulls":36},{"$f":"IF($AO16<=SUM($G16:$AN16),\"\",\"* La Población bajo control con Espirometría Vigente no debe ser mayor al Total de Población en Control. \")","v":""},"",null,"",{"$nulls":4},{"$f":"IF($AO16<=SUM($G16:$AN16),0,1)","v":0},0,null,0]
["P3161000",null,"SEVERO",{"$f":"IFERROR(VLOOKUP($A17,Filtros!$A$5:$AY$22116,2,FALSE),0)","v":617},{"$f":"IFERROR(VLOOKUP($A17,Filtros!$A$5:$AY$22116,3,FALSE),0)","v":156},{"$f":"IFERROR(VLOOKUP($A17,Filtros!$A$5:$AY$22116,4,FALSE),0)","v":461},{"$f":"IFERROR(VLOOKUP($A17,Filtros!$A$5:$AY$22116,5,FALSE),0)","v":0},{"$f":"IFERROR(VLOOKUP($A17,Filtros!$A$5:$AY$22116,6,FALSE),0)","v":0},{"$f":"IFERROR(VLOOKUP($A17,Filtros!$A$5:$AY$22116,7,FALSE),0)","v":11},{"$f":"IFERROR(VLOOKUP($A17,Filtros!$A$5:$AY$22116,8,FALSE),0)","v":4},{"$f":"IFERROR(VLOOKUP($A17,Filtros!$A$5:$AY$22116,9,FALSE),0)","v":10},{"$f":"IFERROR(VLOOKUP($A17,Filtros!$A$5:$AY$22116,10,FALSE),0)","v":11},{"$f":"IFERROR(VLOOKUP($A17,Filtros!$A$5:$AY$22116,11,FALSE),0)","v":4},{"$f":"IFERROR(VLOOKUP($A17,Filtros!$A$5:$AY$22116,12,FALSE),0)","v":7},{"$f":"IFERROR(VLOOKUP($A17,Filtros!$A$5:$AY$22116,13,FALSE),0)","v":8},{"$f":"IFERROR(VLOOKUP($A17,Filtros!$A$5:$AY$22116,14,FALSE),0)","v":6},{"$f":"IFERROR(VLOOKUP($A17,Filtros!$A$5:$AY$22116,15,FALSE),0)","v":3},{"$f":"IFERROR(VLOOKUP($A17,Filtros!$A$5:$AY$22116,16,FALSE),0)","v":17},{"$f":"IFERROR(VLOOKUP($A17,Filtros!$A$5:$AY$22116,17,FALSE),0)","v":8},{"$f":"IFERROR(VLOOKUP($A17,Filtros!$A$5:$AY$22116,18,FALSE),0)","v":13},{"$f":"IFERROR(VLOOKUP($A17,Filtros!$A$5:$AY$22116,19,FALSE),0)","v":4},{"$f":"IFERROR(VLOOKUP($A17,Filtros!$A$5:$AY$22116,20,FALSE),0)","v":16},{"$f":"IFERROR(VLOOKUP($A17,Filtros!$A$5:$AY$22116,21,FALSE),0)","v":0},{"$f":"IFERROR(VLOOKUP($A17,Filtros!$A$5:$AY$22116,22,FALSE),0)","v":27},{"$f":"IFERROR(VLOOKUP($A17,Filtros!$A$5:$AY$22116,23,FALSE),0)","v":5},{"$f":"IFERROR(VLOOKUP($A17,Filtros!$A$5:$AY$22116,24,FALSE),0)","v":27},{"$f":"IFERROR(VLOOKUP($A17,Filtros!$A$5:$AY$22116,25,FALSE),0)","v":6},{"$f":"IFERROR(VLOOKUP($A17,Filtros!$A$5:$AY$22116,26,FALSE),0)","v":27},{"$f":"IFERROR(VLOOKUP($A17,Filtros!$A$5:$AY$22116,27,FALSE),0)","v":13},{"$f":"IFERROR(VLOOKUP($A17,Filtros!$A$5:$AY$22116,28,FALSE),0)","v":45},{"$f":"IFERROR(VLOOKUP($A17,Filtros!$A$5:$AY$22116,29,FALSE),0)","v":14},{"$f":"IFERROR(VLOOKUP($A17,Filtros!$A$5:$AY$22116,30,FALSE),0)","v":52},{"$f":"IFERROR(VLOOKUP($A17,Filtros!$A$5:$AY$22116,31,FALSE),0)","v":12},{"$f":"IFERROR(VLOOKUP($A17,Filtros!$A$5:$AY$22116,32,FALSE),0)","v":47},{"$f":"IFERROR(VLOOKUP($A17,Filtros!$A$5:$AY$22116,33,FALSE),0)","v":23},{"$f":"IFERROR(VLOOKUP($A17,Filtros!$A$5:$AY$22116,34,FALSE),0)","v":59},{"$f":"IFERROR(VLOOKUP($A17,Filtros!$A$5:$AY$22116,35,FALSE),0)","v":18},{"$f":"IFERROR(VLOOKUP($A17,Filtros!$A$5:$AY$22116,36,FALSE),0)","v":34},{"$f":"IFERROR(VLOOKUP($A17,Filtros!$A$5:$AY$22116,37,FALSE),0)","v":17},{"$f":"IFERROR(VLOOKUP($A17,Filtros!$A$5:$AY$22116,38,FALSE),0)","v":69},{"$f":"IFERROR(VLOOKUP($A17,Filtros!$A$5:$AY$22116,39,FALSE),0)","v":118},{"$f":"IFERROR(VLOOKUP($A17,Filtros!$A$5:$AY$22116,40,FALSE),0)","v":0},{"$f":"IFERROR(VLOOKUP($A17,Filtros!$A$5:$AY$22116,41,FALSE),0)","v":2},"",{"$nulls":36},{"$f":"IF($AO17<=SUM($G17:$AN17),\"\",\"* La Población bajo control con Espirometría Vigente no debe ser mayor al Total de Población en Control. \")","v":""},"",null,"",{"$nulls":4},{"$f":"IF($AO17<=SUM($G17:$AN17),0,1)","v":0},0,null,0]
["P3161010","ENFERMEDAD PULMONAR OBSTRUCTIVA CRÓNICA (EPOC)","TIPO A",{"$f":"IFERROR(VLOOKUP($A18,Filtros!$A$5:$AY$22116,2,FALSE),0)","v":3112},{"$f":"IFERROR(VLOOKUP($A18,Filtros!$A$5:$AY$22116,3,FALSE),0)","v":1543},{"$f":"IFERROR(VLOOKUP($A18,Filtros!$A$5:$AY$22116,4,FALSE),0)","v":1569},{"$f":"IFERROR(VLOOKUP($A18,Filtros!$A$5:$AY$22116,5,FALSE),0)","v":0},{"$f":"IFERROR(VLOOKUP($A18,Filtros!$A$5:$AY$22116,6,FALSE),0)","v":0},{"$f":"IFERROR(VLOOKUP($A18,Filtros!$A$5:$AY$22116,7,FALSE),0)","v":0},{"$f":"IFERROR(VLOOKUP($A18,Filtros!$A$5:$AY$22116,8,FALSE),0)","v":0},{"$f":"IFERROR(VLOOKUP($A18,Filtros!$A$5:$AY$22116,9,FALSE),0)","v":0},{"$f":"IFERROR(VLOOKUP($A18,Filtros!$A$5:$AY$22116,10,FALSE),0)","v":0},{"$f":"IFERROR(VLOOKUP($A18,Filtros!$A$5:$AY$22116,11,FALSE),0)","v":0},{"$f":"IFERROR(VLOOKUP($A18,Filtros!$A$5:$AY$22116,12,FALSE),0)","v":0},{"$f":"IFERROR(VLOOKUP($A18,Filtros!$A$5:$AY$22116,13,FALSE),0)","v":0},{"$f":"IFERROR(VLOOKUP($A18,Filtros!$A$5:$AY$22116,14,FALSE),0)","v":0},{"$f":"IFERROR(VLOOKUP($A18,Filtros!$A$5:$AY$22116,15,FALSE),0)","v":0},{"$f":"IFERROR(VLOOKUP($A18,Filtros!$A$5:$AY$22116,16,FALSE),0)","v":0},{"$f":"IFERROR(VLOOKUP($A18,Filtros!$A$5:$AY$22116,17,FALSE),0)","v":0},{"$f":"IFERROR(VLOOKUP($A18,Filtros!$A$5:$AY$22116,18,FALSE),0)","v":0},{"$f":"IFERROR(VLOOKUP($A18,Filtros!$A$5:$AY$22116,19,FALSE),0)","v":0},{"$f":"IFERROR(VLOOKUP($A18,Filtros!$A$5:$AY$22116,20,FALSE),0)","v":0},{"$f":"IFERROR(VLOOKUP($A18,Filtros!$A$5:$AY$22116,21,FALSE),0)","v":6},{"$f":"IFERROR(VLOOKUP($A18,Filtros!$A$5:$AY$22116,22,FALSE),0)","v":7},{"$f":"IFERROR(VLOOKUP($A18,Filtros!$A$5:$AY$22116,23,FALSE),0)","v":9},{"$f":"IFERROR(VLOOKUP($A18,Filtros!$A$5:$AY$22116,24,FALSE),0)","v":18},{"$f":"IFERROR(VLOOKUP($A18,Filtros!$A$5:$AY$22116,25,FALSE),0)","v":27},{"$f":"IFERROR(VLOOKUP($A18,Filtros!$A$5:$AY$22116,26,FALSE),0)","v":35},{"$f":"IFERROR(VLOOKUP($A18,Filtros!$A$5:$AY$22116,27,FALSE),0)","v":52},{"$f":"IFERROR(VLOOKUP($A18,Filtros!$A$5:$AY$22116,28,FALSE),0)","v":91},{"$f":"IFERROR(VLOOKUP($A18,Filtros!$A$5:$AY$22116,29,FALSE),0)","v":128},{"$f":"IFERROR(VLOOKUP($A18,Filtros!$A$5:$AY$22116,30,FALSE),0)","v":163},{"$f":"IFERROR(VLOOKUP($A18,Filtros!$A$5:$AY$22116,31,FALSE),0)","v":220},{"$f":"IFERROR(VLOOKUP($A18,Filtros!$A$5:$AY$22116,32,FALSE),0)","v":252},{"$f":"IFERROR(VLOOKUP($A18,Filtros!$A$5:$AY$22116,33,FALSE),0)","v":272},{"$f":"IFERROR(VLOOKUP($A18,Filtros!$A$5:$AY$22116,34,FALSE),0)","v":225},{"$f":"IFERROR(VLOOKUP($A18,Filtros!$A$5:$AY$22116,35,FALSE),0)","v":329},{"$f":"IFERROR(VLOOKUP($A18,Filtros!$A$5:$AY$22116,36,FALSE),0)","v":276},{"$f":"IFERROR(VLOOKUP($A18,Filtros!$A$5:$AY$22116,37,FALSE),0)","v":500},{"$f":"IFERROR(VLOOKUP($A18,Filtros!$A$5:$AY$22116,38,FALSE),0)","v":502},{"$f":"IFERROR(VLOOKUP($A18,Filtros!$A$5:$AY$22116,39,FALSE),0)","v":459},{"$f":"IFERROR(VLOOKUP($A18,Filtros!$A$5:$AY$22116,40,FALSE),0)","v":0},{"$f":"IFERROR(VLOOKUP($A18,Filtros!$A$5:$AY$22116,41,FALSE),0)","v":0},"",{"$nulls":36},{"$f":"IF($AO18<=SUM($W18:$AN18),\"\",\"* La Población bajo control con Espirometría Vigente no debe ser mayor al Total de Población en Control. \")","v":""},"",null,"",{"$nulls":4},{"$f":"IF($AO18<=SUM($W18:$AN18),0,1)","v":0},0,null,0]
["P3161020",null,"TIPO B",{"$f":"IFERROR(VLOOKUP($A19,Filtros!$A$5:$AY$22116,2,FALSE),0)","v":413},{"$f":"IFERROR(VLOOKUP($A19,Filtros!$A$5:$AY$22116,3,FALSE),0)","v":226},{"$f":"IFERROR(VLOOKUP($A19,Filtros!$A$5:$AY$22116,4,FALSE),0)","v":187},{"$f":"IFERROR(VLOOKUP($A19,Filtros!$A$5:$AY$22116,5,FALSE),0)","v":0},{"$f":"IFERROR(VLOOKUP($A19,Filtros!$A$5:$AY$22116,6,FALSE),0)","v":0},{"$f":"IFERROR(VLOOKUP($A19,Filtros!$A$5:$AY$22116,7,FALSE),0)","v":0},{"$f":"IFERROR(VLOOKUP($A19,Filtros!$A$5:$AY$22116,8,FALSE),0)","v":0},{"$f":"IFERROR(VLOOKUP($A19,Filtros!$A$5:$AY$22116,9,FALSE),0)","v":0},{"$f":"IFERROR(VLOOKUP($A19,Filtros!$A$5:$AY$22116,10,FALSE),0)","v":0},{"$f":"IFERROR(VLOOKUP($A19,Filtros!$A$5:$AY$22116,11,FALSE),0)","v":0},{"$f":"IFERROR(VLOOKUP($A19,Filtros!$A$5:$AY$22116,12,FALSE),0)","v":0},{"$f":"IFERROR(VLOOKUP($A19,Filtros!$A$5:$AY$22116,13,FALSE),0)","v":0},{"$f":"IFERROR(VLOOKUP($A19,Filtros!$A$5:$AY$22116,14,FALSE),0)","v":0},{"$f":"IFERROR(VLOOKUP($A19,Filtros!$A$5:$AY$22116,15,FALSE),0)","v":0},{"$f":"IFERROR(VLOOKUP($A19,Filtros!$A$5:$AY$22116,16,FALSE),0)","v":0},{"$f":"IFERROR(VLOOKUP($A19,Filtros!$A$5:$AY$22116,17,FALSE),0)","v":0},{"$f":"IFERROR(VLOOKUP($A19,Filtros!$A$5:$AY$22116,18,FALSE),0)","v":0},{"$f":"IFERROR(VLOOKUP($A19,Filtros!$A$5:$AY$22116,19,FALSE),0)","v":0},{"$f":"IFERROR(VLOOKUP($A19,Filtros!$A$5:$AY$22116,20,FALSE),0)","v":0},{"$f":"IFERROR(VLOOKUP($A19,Filtros!$A$5:$AY$22116,21,FALSE),0)","v":0},{"$f":"IFERROR(VLOOKUP($A19,Filtros!$A$5:$AY$22116,22,FALSE),0)","v":0},{"$f":"IFERROR(VLOOKUP($A19,Filtros!$A$5:$AY$22116,23,FALSE),0)","v":0},{"$f":"IFERROR(VLOOKUP($A19,Filtros!$A$5:$AY$22116,24,FALSE),0)","v":2},{"$f":"IFERROR(VLOOKUP($A19,Filtros!$A$5:$AY$22116,25,FALSE),0)","v":2},{"$f":"IFERROR(VLOOKUP($A19,Filtros!$A$5:$AY$22116,26,FALSE),0)","v":2},{"$f":"IFERROR(VLOOKUP($A19,Filtros!$A$5:$AY$22116,27,FALSE),0)","v":5},{"$f":"IFERROR(VLOOKUP($A19,Filtros!$A$5:$AY$22116,28,FALSE),0)","v":8},{"$f":"IFERROR(VLOOKUP($A19,Filtros!$A$5:$AY$22116,29,FALSE),0)","v":15},{"$f":"IFERROR(VLOOKUP($A19,Filtros!$A$5:$AY$22116,30,FALSE),0)","v":12},{"$f":"IFERROR(VLOOKUP($A19,Filtros!$A$5:$AY$22116,31,FALSE),0)","v":31},{"$f":"IFERROR(VLOOKUP($A19,Filtros!$A$5:$AY$22116,32,FALSE),0)","v":18},{"$f":"IFERROR(VLOOKUP($A19,Filtros!$A$5:$AY$22116,33,FALSE),0)","v":36},{"$f":"IFERROR(VLOOKUP($A19,Filtros!$A$5:$AY$22116,34,FALSE),0)","v":32},{"$f":"IFERROR(VLOOKUP($A19,Filtros!$A$5:$AY$22116,35,FALSE),0)","v":53},{"$f":"IFERROR(VLOOKUP($A19,Filtros!$A$5:$AY$22116,36,FALSE),0)","v":37},{"$f":"IFERROR(VLOOKUP($A19,Filtros!$A$5:$AY$22116,37,FALSE),0)","v":84},{"$f":"IFERROR(VLOOKUP($A19,Filtros!$A$5:$AY$22116,38,FALSE),0)","v":76},{"$f":"IFERROR(VLOOKUP($A19,Filtros!$A$5:$AY$22116,39,FALSE),0)","v":27},{"$f":"IFERROR(VLOOKUP($A19,Filtros!$A$5:$AY$22116,40,FALSE),0)","v":0},{"$f":"IFERROR(VLOOKUP($A19,Filtros!$A$5:$AY$22116,41,FALSE),0)","v":0},"",{"$nulls":36},{"$f":"IF($AO19<=SUM($W19:$AN19),\"\",\"* La Población bajo control con Espirometría Vigente no debe ser mayor al Total de Población en Control. \")","v":""},"",null,"",{"$nulls":4},{"$f":"IF($AO19<=SUM($W19:$AN19),0,1)","v":0},0,null,0]
["P3161030","OTRAS RESPIRATORIAS CRONICAS",null,{"$f":"IFERROR(VLOOKUP($A20,Filtros!$A$5:$AY$22116,2,FALSE),0)","v":1395},{"$f":"IFERROR(VLOOKUP($A20,Filtros!$A$5:$AY$22116,3,FALSE),0)","v":790},{"$f":"IFERROR(VLOOKUP($A20,Filtros!$A$5:$AY$22116,4,FALSE),0)","v":605},{"$f":"IFERROR(VLOOKUP($A20,Filtros!$A$5:$AY$22116,5,FALSE),0)","v":16},{"$f":"IFERROR(VLOOKUP($A20,Filtros!$A$5:$AY$22116,6,FALSE),0)","v":13},{"$f":"IFERROR(VLOOKUP($A20,Filtros!$A$5:$AY$22116,7,FALSE),0)","v":109},{"$f":"IFERROR(VLOOKUP($A20,Filtros!$A$5:$AY$22116,8,FALSE),0)","v":85},{"$f":"IFERROR(VLOOKUP($A20,Filtros!$A$5:$AY$22116,9,FALSE),0)","v":14},{"$f":"IFERROR(VLOOKUP($A20,Filtros!$A$5:$AY$22116,10,FALSE),0)","v":13},{"$f":"IFERROR(VLOOKUP($A20,Filtros!$A$5:$AY$22116,11,FALSE),0)","v":4},{"$f":"IFERROR(VLOOKUP($A20,Filtros!$A$5:$AY$22116,12,FALSE),0)","v":5},{"$f":"IFERROR(VLOOKUP($A20,Filtros!$A$5:$AY$22116,13,FALSE),0)","v":2},{"$f":"IFERROR(VLOOKUP($A20,Filtros!$A$5:$AY$22116,14,FALSE),0)","v":8},{"$f":"IFERROR(VLOOKUP($A20,Filtros!$A$5:$AY$22116,15,FALSE),0)","v":2},{"$f":"IFERROR(VLOOKUP($A20,Filtros!$A$5:$AY$22116,16,FALSE),0)","v":5},{"$f":"IFERROR(VLOOKUP($A20,Filtros!$A$5:$AY$22116,17,FALSE),0)","v":1},{"$f":"IFERROR(VLOOKUP($A20,Filtros!$A$5:$AY$22116,18,FALSE),0)","v":7},{"$f":"IFERROR(VLOOKUP($A20,Filtros!$A$5:$AY$22116,19,FALSE),0)","v":0},{"$f":"IFERROR(VLOOKUP($A20,Filtros!$A$5:$AY$22116,20,FALSE),0)","v":5},{"$f":"IFERROR(VLOOKUP($A20,Filtros!$A$5:$AY$22116,21,FALSE),0)","v":10},{"$f":"IFERROR(VLOOKUP($A20,Filtros!$A$5:$AY$22116,22,FALSE),0)","v":7},{"$f":"IFERROR(VLOOKUP($A20,Filtros!$A$5:$AY$22116,23,FALSE),0)","v":13},{"$f":"IFERROR(VLOOKUP($A20,Filtros!$A$5:$AY$22116,24,FALSE),0)","v":12},{"$f":"IFERROR(VLOOKUP($A20,Filtros!$A$5:$AY$22116,25,FALSE),0)","v":24},{"$f":"IFERROR(VLOOKUP($A20,Filtros!$A$5:$AY$22116,26,FALSE),0)","v":15},{"$f":"IFERROR(VLOOKUP($A20,Filtros!$A$5:$AY$22116,27,FALSE),0)","v":39},{"$f":"IFERROR(VLOOKUP($A20,Filtros!$A$5:$AY$22116,28,FALSE),0)","v":32},{"$f":"IFERROR(VLOOKUP($A20,Filtros!$A$5:$AY$22116,29,FALSE),0)","v":55},{"$f":"IFERROR(VLOOKUP($A20,Filtros!$A$5:$AY$22116,30,FALSE),0)","v":42},{"$f":"IFERROR(VLOOKUP($A20,Filtros!$A$5:$AY$22116,31,FALSE),0)","v":83},{"$f":"IFERROR(VLOOKUP($A20,Filtros!$A$5:$AY$22116,32,FALSE),0)","v":64},{"$f":"IFERROR(VLOOKUP($A20,Filtros!$A$5:$AY$22116,33,FALSE),0)","v":101},{"$f":"IFERROR(VLOOKUP($A20,Filtros!$A$5:$AY$22116,34,FALSE),0)","v":58},{"$f":"IFERROR(VLOOKUP($A20,Filtros!$A$5:$AY$22116,35,FALSE),0)","v":126},{"$f":"IFERROR(VLOOKUP($A20,Filtros!$A$5:$AY$22116,36,FALSE),0)","v":95},{"$f":"IFERROR(VLOOKUP($A20,Filtros!$A$5:$AY$22116,37,FALSE),0)","v":191},{"$f":"IFERROR(VLOOKUP($A20,Filtros!$A$5:$AY$22116,38,FALSE),0)","v":139},{"$f":"IFERROR(VLOOKUP($A20,Filtros!$A$5:$AY$22116,39,FALSE),0)","v":0},{"$f":"IFERROR(VLOOKUP($A20,Filtros!$A$5:$AY$22116,40,FALSE),0)","v":0},{"$f":"IFERROR(VLOOKUP($A20,Filtros!$A$5:$AY$22116,41,FALSE),0)","v":2},{"$f":"CD20 & CF20","v":""},{"$nulls":37},"",null,"",{"$nulls":5},0,null,0]
["P3120500","OXIGENO DEPENDIENTE",null,{"$f":"IFERROR(VLOOKUP($A21,Filtros!$A$5:$AY$22116,2,FALSE),0)","v":263},{"$f":"IFERROR(VLOOKUP($A21,Filtros!$A$5:$AY$22116,3,FALSE),0)","v":113},{"$f":"IFERROR(VLOOKUP($A21,Filtros!$A$5:$AY$22116,4,FALSE),0)","v":150},{"$f":"IFERROR(VLOOKUP($A21,Filtros!$A$5:$AY$22116,5,FALSE),0)","v":2},{"$f":"IFERROR(VLOOKUP($A21,Filtros!$A$5:$AY$22116,6,FALSE),0)","v":3},{"$f":"IFERROR(VLOOKUP($A21,Filtros!$A$5:$AY$22116,7,FALSE),0)","v":8},{"$f":"IFERROR(VLOOKUP($A21,Filtros!$A$5:$AY$22116,8,FALSE),0)","v":4},{"$f":"IFERROR(VLOOKUP($A21,Filtros!$A$5:$AY$22116,9,FALSE),0)","v":2},{"$f":"IFERROR(VLOOKUP($A21,Filtros!$A$5:$AY$22116,10,FALSE),0)","v":0},{"$f":"IFERROR(VLOOKUP($A21,Filtros!$A$5:$AY$22116,11,FALSE),0)","v":0},{"$f":"IFERROR(VLOOKUP($A21,Filtros!$A$5:$AY$22116,12,FALSE),0)","v":1},{"$f":"IFERROR(VLOOKUP($A21,Filtros!$A$5:$AY$22116,13,FALSE),0)","v":1},{"$f":"IFERROR(VLOOKUP($A21,Filtros!$A$5:$AY$22116,14,FALSE),0)","v":2},{"$f":"IFERROR(VLOOKUP($A21,Filtros!$A$5:$AY$22116,15,FALSE),0)","v":1},{"$f":"IFERROR(VLOOKUP($A21,Filtros!$A$5:$AY$22116,16,FALSE),0)","v":0},{"$f":"IFERROR(VLOOKUP($A21,Filtros!$A$5:$AY$22116,17,FALSE),0)","v":1},{"$f":"IFERROR(VLOOKUP($A21,Filtros!$A$5:$AY$22116,18,FALSE),0)","v":1},{"$f":"IFERROR(VLOOKUP($A21,Filtros!$A$5:$AY$22116,19,FALSE),0)","v":0},{"$f":"IFERROR(VLOOKUP($A21,Filtros!$A$5:$AY$22116,20,FALSE),0)","v":0},{"$f":"IFERROR(VLOOKUP($A21,Filtros!$A$5:$AY$22116,21,FALSE),0)","v":2},{"$f":"IFERROR(VLOOKUP($A21,Filtros!$A$5:$AY$22116,22,FALSE),0)","v":0},{"$f":"IFERROR(VLOOKUP($A21,Filtros!$A$5:$AY$22116,23,FALSE),0)","v":2},{"$f":"IFERROR(VLOOKUP($A21,Filtros!$A$5:$AY$22116,24,FALSE),0)","v":1},{"$f":"IFERROR(VLOOKUP($A21,Filtros!$A$5:$AY$22116,25,FALSE),0)","v":1},{"$f":"IFERROR(VLOOKUP($A21,Filtros!$A$5:$AY$22116,26,FALSE),0)","v":1},{"$f":"IFERROR(VLOOKUP($A21,Filtros!$A$5:$AY$22116,27,FALSE),0)","v":3},{"$f":"IFERROR(VLOOKUP($A21,Filtros!$A$5:$AY$22116,28,FALSE),0)","v":2},{"$f":"IFERROR(VLOOKUP($A21,Filtros!$A$5:$AY$22116,29,FALSE),0)","v":5},{"$f":"IFERROR(VLOOKUP($A21,Filtros!$A$5:$AY$22116,30,FALSE),0)","v":16},{"$f":"IFERROR(VLOOKUP($A21,Filtros!$A$5:$AY$22116,31,FALSE),0)","v":7},{"$f":"IFERROR(VLOOKUP($A21,Filtros!$A$5:$AY$22116,32,FALSE),0)","v":16},{"$f":"IFERROR(VLOOKUP($A21,Filtros!$A$5:$AY$22116,33,FALSE),0)","v":21},{"$f":"IFERROR(VLOOKUP($A21,Filtros!$A$5:$AY$22116,34,FALSE),0)","v":20},{"$f":"IFERROR(VLOOKUP($A21,Filtros!$A$5:$AY$22116,35,FALSE),0)","v":21},{"$f":"IFERROR(VLOOKUP($A21,Filtros!$A$5:$AY$22116,36,FALSE),0)","v":30},{"$f":"IFERROR(VLOOKUP($A21,Filtros!$A$5:$AY$22116,37,FALSE),0)","v":36},{"$f":"IFERROR(VLOOKUP($A21,Filtros!$A$5:$AY$22116,38,FALSE),0)","v":53},{"$f":"IFERROR(VLOOKUP($A21,Filtros!$A$5:$AY$22116,39,FALSE),0)","v":0},{"$f":"IFERROR(VLOOKUP($A21,Filtros!$A$5:$AY$22116,40,FALSE),0)","v":1},{"$f":"IFERROR(VLOOKUP($A21,Filtros!$A$5:$AY$22116,41,FALSE),0)","v":1},"",{"$nulls":37},"",null,"",{"$nulls":5},0,null,0]
["P3161050","ASISTENCIA VENTILATORIA NO INVASIVA O INVASIVA ",null,{"$f":"IFERROR(VLOOKUP($A22,Filtros!$A$5:$AY$22116,2,FALSE),0)","v":51},{"$f":"IFERROR(VLOOKUP($A22,Filtros!$A$5:$AY$22116,3,FALSE),0)","v":27},{"$f":"IFERROR(VLOOKUP($A22,Filtros!$A$5:$AY$22116,4,FALSE),0)","v":24},{"$f":"IFERROR(VLOOKUP($A22,Filtros!$A$5:$AY$22116,5,FALSE),0)","v":0},{"$f":"IFERROR(VLOOKUP($A22,Filtros!$A$5:$AY$22116,6,FALSE),0)","v":1},{"$f":"IFERROR(VLOOKUP($A22,Filtros!$A$5:$AY$22116,7,FALSE),0)","v":3},{"$f":"IFERROR(VLOOKUP($A22,Filtros!$A$5:$AY$22116,8,FALSE),0)","v":1},{"$f":"IFERROR(VLOOKUP($A22,Filtros!$A$5:$AY$22116,9,FALSE),0)","v":4},{"$f":"IFERROR(VLOOKUP($A22,Filtros!$A$5:$AY$22116,10,FALSE),0)","v":1},{"$f":"IFERROR(VLOOKUP($A22,Filtros!$A$5:$AY$22116,11,FALSE),0)","v":4},{"$f":"IFERROR(VLOOKUP($A22,Filtros!$A$5:$AY$22116,12,FALSE),0)","v":0},{"$f":"IFERROR(VLOOKUP($A22,Filtros!$A$5:$AY$22116,13,FALSE),0)","v":1},{"$f":"IFERROR(VLOOKUP($A22,Filtros!$A$5:$AY$22116,14,FALSE),0)","v":0},{"$f":"IFERROR(VLOOKUP($A22,Filtros!$A$5:$AY$22116,15,FALSE),0)","v":3},{"$f":"IFERROR(VLOOKUP($A22,Filtros!$A$5:$AY$22116,16,FALSE),0)","v":0},{"$f":"IFERROR(VLOOKUP($A22,Filtros!$A$5:$AY$22116,17,FALSE),0)","v":1},{"$f":"IFERROR(VLOOKUP($A22,Filtros!$A$5:$AY$22116,18,FALSE),0)","v":3},{"$f":"IFERROR(VLOOKUP($A22,Filtros!$A$5:$AY$22116,19,FALSE),0)","v":0},{"$f":"IFERROR(VLOOKUP($A22,Filtros!$A$5:$AY$22116,20,FALSE),0)","v":1},{"$f":"IFERROR(VLOOKUP($A22,Filtros!$A$5:$AY$22116,21,FALSE),0)","v":0},{"$f":"IFERROR(VLOOKUP($A22,Filtros!$A$5:$AY$22116,22,FALSE),0)","v":0},{"$f":"IFERROR(VLOOKUP($A22,Filtros!$A$5:$AY$22116,23,FALSE),0)","v":0},{"$f":"IFERROR(VLOOKUP($A22,Filtros!$A$5:$AY$22116,24,FALSE),0)","v":3},{"$f":"IFERROR(VLOOKUP($A22,Filtros!$A$5:$AY$22116,25,FALSE),0)","v":0},{"$f":"IFERROR(VLOOKUP($A22,Filtros!$A$5:$AY$22116,26,FALSE),0)","v":1},{"$f":"IFERROR(VLOOKUP($A22,Filtros!$A$5:$AY$22116,27,FALSE),0)","v":0},{"$f":"IFERROR(VLOOKUP($A22,Filtros!$A$5:$AY$22116,28,FALSE),0)","v":0},{"$f":"IFERROR(VLOOKUP($A22,Filtros!$A$5:$AY$22116,29,FALSE),0)","v":1},{"$f":"IFERROR(VLOOKUP($A22,Filtros!$A$5:$AY$22116,30,FALSE),0)","v":2},{"$f":"IFERROR(VLOOKUP($A22,Filtros!$A$5:$AY$22116,31,FALSE),0)","v":5},{"$f":"IFERROR(VLOOKUP($A22,Filtros!$A$5:$AY$22116,32,FALSE),0)","v":1},{"$f":"IFERROR(VLOOKUP($A22,Filtros!$A$5:$AY$22116,33,FALSE),0)","v":2},{"$f":"IFERROR(VLOOKUP($A22,Filtros!$A$5:$AY$22116,34,FALSE),0)","v":7},{"$f":"IFERROR(VLOOKUP($A22,Filtros!$A$5:$AY$22116,35,FALSE),0)","v":1},{"$f":"IFERROR(VLOOKUP($A22,Filtros!$A$5:$AY$22116,36,FALSE),0)","v":0},{"$f":"IFERROR(VLOOKUP($A22,Filtros!$A$5:$AY$22116,37,FALSE),0)","v":2},{"$f":"IFERROR(VLOOKUP($A22,Filtros!$A$5:$AY$22116,38,FALSE),0)","v":3},{"$f":"IFERROR(VLOOKUP($A22,Filtros!$A$5:$AY$22116,39,FALSE),0)","v":0},{"$f":"IFERROR(VLOOKUP($A22,Filtros!$A$5:$AY$22116,40,FALSE),0)","v":0},{"$f":"IFERROR(VLOOKUP($A22,Filtros!$A$5:$AY$22116,41,FALSE),0)","v":0},"",{"$nulls":37},"",null,"",{"$nulls":5},0,null,0]
["P3120600","FIBROSIS QUÍSTICA ",null,{"$f":"IFERROR(VLOOKUP($A23,Filtros!$A$5:$AY$22116,2,FALSE),0)","v":20},{"$f":"IFERROR(VLOOKUP($A23,Filtros!$A$5:$AY$22116,3,FALSE),0)","v":13},{"$f":"IFERROR(VLOOKUP($A23,Filtros!$A$5:$AY$22116,4,FALSE),0)","v":7},{"$f":"IFERROR(VLOOKUP($A23,Filtros!$A$5:$AY$22116,5,FALSE),0)","v":1},{"$f":"IFERROR(VLOOKUP($A23,Filtros!$A$5:$AY$22116,6,FALSE),0)","v":2},{"$f":"IFERROR(VLOOKUP($A23,Filtros!$A$5:$AY$22116,7,FALSE),0)","v":1},{"$f":"IFERROR(VLOOKUP($A23,Filtros!$A$5:$AY$22116,8,FALSE),0)","v":1},{"$f":"IFERROR(VLOOKUP($A23,Filtros!$A$5:$AY$22116,9,FALSE),0)","v":4},{"$f":"IFERROR(VLOOKUP($A23,Filtros!$A$5:$AY$22116,10,FALSE),0)","v":3},{"$f":"IFERROR(VLOOKUP($A23,Filtros!$A$5:$AY$22116,11,FALSE),0)","v":2},{"$f":"IFERROR(VLOOKUP($A23,Filtros!$A$5:$AY$22116,12,FALSE),0)","v":0},{"$f":"IFERROR(VLOOKUP($A23,Filtros!$A$5:$AY$22116,13,FALSE),0)","v":2},{"$f":"IFERROR(VLOOKUP($A23,Filtros!$A$5:$AY$22116,14,FALSE),0)","v":0},{"$f":"IFERROR(VLOOKUP($A23,Filtros!$A$5:$AY$22116,15,FALSE),0)","v":1},{"$f":"IFERROR(VLOOKUP($A23,Filtros!$A$5:$AY$22116,16,FALSE),0)","v":0},{"$f":"IFERROR(VLOOKUP($A23,Filtros!$A$5:$AY$22116,17,FALSE),0)","v":1},{"$f":"IFERROR(VLOOKUP($A23,Filtros!$A$5:$AY$22116,18,FALSE),0)","v":0},{"$f":"IFERROR(VLOOKUP($A23,Filtros!$A$5:$AY$22116,19,FALSE),0)","v":0},{"$f":"IFERROR(VLOOKUP($A23,Filtros!$A$5:$AY$22116,20,FALSE),0)","v":0},{"$f":"IFERROR(VLOOKUP($A23,Filtros!$A$5:$AY$22116,21,FALSE),0)","v":0},{"$f":"IFERROR(VLOOKUP($A23,Filtros!$A$5:$AY$22116,22,FALSE),0)","v":0},{"$f":"IFERROR(VLOOKUP($A23,Filtros!$A$5:$AY$22116,23,FALSE),0)","v":0},{"$f":"IFERROR(VLOOKUP($A23,Filtros!$A$5:$AY$22116,24,FALSE),0)","v":0},{"$f":"IFERROR(VLOOKUP($A23,Filtros!$A$5:$AY$22116,25,FALSE),0)","v":1},{"$f":"IFERROR(VLOOKUP($A23,Filtros!$A$5:$AY$22116,26,FALSE),0)","v":0},{"$f":"IFERROR(VLOOKUP($A23,Filtros!$A$5:$AY$22116,27,FALSE),0)","v":0},{"$f":"IFERROR(VLOOKUP($A23,Filtros!$A$5:$AY$22116,28,FALSE),0)","v":1},{"$f":"IFERROR(VLOOKUP($A23,Filtros!$A$5:$AY$22116,29,FALSE),0)","v":0},{"$f":"IFERROR(VLOOKUP($A23,Filtros!$A$5:$AY$22116,30,FALSE),0)","v":0},{"$f":"IFERROR(VLOOKUP($A23,Filtros!$A$5:$AY$22116,31,FALSE),0)","v":0},{"$f":"IFERROR(VLOOKUP($A23,Filtros!$A$5:$AY$22116,32,FALSE),0)","v":0},{"$f":"IFERROR(VLOOKUP($A23,Filtros!$A$5:$AY$22116,33,FALSE),0)","v":0},{"$f":"IFERROR(VLOOKUP($A23,Filtros!$A$5:$AY$22116,34,FALSE),0)","v":0},{"$f":"IFERROR(VLOOKUP($A23,Filtros!$A$5:$AY$22116,35,FALSE),0)","v":0},{"$f":"IFERROR(VLOOKUP($A23,Filtros!$A$5:$AY$22116,36,FALSE),0)","v":0},{"$f":"IFERROR(VLOOKUP($A23,Filtros!$A$5:$AY$22116,37,FALSE),0)","v":0},{"$f":"IFERROR(VLOOKUP($A23,Filtros!$A$5:$AY$22116,38,FALSE),0)","v":0},{"$f":"IFERROR(VLOOKUP($A23,Filtros!$A$5:$AY$22116,39,FALSE),0)","v":0},{"$f":"IFERROR(VLOOKUP($A23,Filtros!$A$5:$AY$22116,40,FALSE),0)","v":0},{"$f":"IFERROR(VLOOKUP($A23,Filtros!$A$5:$AY$22116,41,FALSE),0)","v":0},"",{"$nulls":37},"",null,"",{"$nulls":5},0,null,0]
["P3120700","EPILEPSIA ",null,{"$f":"IFERROR(VLOOKUP($A24,Filtros!$A$5:$AY$22116,2,FALSE),0)","v":2423},{"$f":"IFERROR(VLOOKUP($A24,Filtros!$A$5:$AY$22116,3,FALSE),0)","v":1159},{"$f":"IFERROR(VLOOKUP($A24,Filtros!$A$5:$AY$22116,4,FALSE),0)","v":1264},{"$f":"IFERROR(VLOOKUP($A24,Filtros!$A$5:$AY$22116,5,FALSE),0)","v":18},{"$f":"IFERROR(VLOOKUP($A24,Filtros!$A$5:$AY$22116,6,FALSE),0)","v":19},{"$f":"IFERROR(VLOOKUP($A24,Filtros!$A$5:$AY$22116,7,FALSE),0)","v":49},{"$f":"IFERROR(VLOOKUP($A24,Filtros!$A$5:$AY$22116,8,FALSE),0)","v":43},{"$f":"IFERROR(VLOOKUP($A24,Filtros!$A$5:$AY$22116,9,FALSE),0)","v":52},{"$f":"IFERROR(VLOOKUP($A24,Filtros!$A$5:$AY$22116,10,FALSE),0)","v":39},{"$f":"IFERROR(VLOOKUP($A24,Filtros!$A$5:$AY$22116,11,FALSE),0)","v":67},{"$f":"IFERROR(VLOOKUP($A24,Filtros!$A$5:$AY$22116,12,FALSE),0)","v":75},{"$f":"IFERROR(VLOOKUP($A24,Filtros!$A$5:$AY$22116,13,FALSE),0)","v":70},{"$f":"IFERROR(VLOOKUP($A24,Filtros!$A$5:$AY$22116,14,FALSE),0)","v":66},{"$f":"IFERROR(VLOOKUP($A24,Filtros!$A$5:$AY$22116,15,FALSE),0)","v":78},{"$f":"IFERROR(VLOOKUP($A24,Filtros!$A$5:$AY$22116,16,FALSE),0)","v":97},{"$f":"IFERROR(VLOOKUP($A24,Filtros!$A$5:$AY$22116,17,FALSE),0)","v":84},{"$f":"IFERROR(VLOOKUP($A24,Filtros!$A$5:$AY$22116,18,FALSE),0)","v":86},{"$f":"IFERROR(VLOOKUP($A24,Filtros!$A$5:$AY$22116,19,FALSE),0)","v":106},{"$f":"IFERROR(VLOOKUP($A24,Filtros!$A$5:$AY$22116,20,FALSE),0)","v":72},{"$f":"IFERROR(VLOOKUP($A24,Filtros!$A$5:$AY$22116,21,FALSE),0)","v":92},{"$f":"IFERROR(VLOOKUP($A24,Filtros!$A$5:$AY$22116,22,FALSE),0)","v":87},{"$f":"IFERROR(VLOOKUP($A24,Filtros!$A$5:$AY$22116,23,FALSE),0)","v":101},{"$f":"IFERROR(VLOOKUP($A24,Filtros!$A$5:$AY$22116,24,FALSE),0)","v":91},{"$f":"IFERROR(VLOOKUP($A24,Filtros!$A$5:$AY$22116,25,FALSE),0)","v":97},{"$f":"IFERROR(VLOOKUP($A24,Filtros!$A$5:$AY$22116,26,FALSE),0)","v":120},{"$f":"IFERROR(VLOOKUP($A24,Filtros!$A$5:$AY$22116,27,FALSE),0)","v":92},{"$f":"IFERROR(VLOOKUP($A24,Filtros!$A$5:$AY$22116,28,FALSE),0)","v":92},{"$f":"IFERROR(VLOOKUP($A24,Filtros!$A$5:$AY$22116,29,FALSE),0)","v":56},{"$f":"IFERROR(VLOOKUP($A24,Filtros!$A$5:$AY$22116,30,FALSE),0)","v":93},{"$f":"IFERROR(VLOOKUP($A24,Filtros!$A$5:$AY$22116,31,FALSE),0)","v":67},{"$f":"IFERROR(VLOOKUP($A24,Filtros!$A$5:$AY$22116,32,FALSE),0)","v":69},{"$f":"IFERROR(VLOOKUP($A24,Filtros!$A$5:$AY$22116,33,FALSE),0)","v":39},{"$f":"IFERROR(VLOOKUP($A24,Filtros!$A$5:$AY$22116,34,FALSE),0)","v":76},{"$f":"IFERROR(VLOOKUP($A24,Filtros!$A$5:$AY$22116,35,FALSE),0)","v":44},{"$f":"IFERROR(VLOOKUP($A24,Filtros!$A$5:$AY$22116,36,FALSE),0)","v":38},{"$f":"IFERROR(VLOOKUP($A24,Filtros!$A$5:$AY$22116,37,FALSE),0)","v":47},{"$f":"IFERROR(VLOOKUP($A24,Filtros!$A$5:$AY$22116,38,FALSE),0)","v":101},{"$f":"IFERROR(VLOOKUP($A24,Filtros!$A$5:$AY$22116,39,FALSE),0)","v":0},{"$f":"IFERROR(VLOOKUP($A24,Filtros!$A$5:$AY$22116,40,FALSE),0)","v":2},{"$f":"IFERROR(VLOOKUP($A24,Filtros!$A$5:$AY$22116,41,FALSE),0)","v":2},"",{"$nulls":37},"",null,"",{"$nulls":5},0,null,0]
["P3170100","GLAUCOMA",null,{"$f":"IFERROR(VLOOKUP($A25,Filtros!$A$5:$AY$22116,2,FALSE),0)","v":551},{"$f":"IFERROR(VLOOKUP($A25,Filtros!$A$5:$AY$22116,3,FALSE),0)","v":210},{"$f":"IFERROR(VLOOKUP($A25,Filtros!$A$5:$AY$22116,4,FALSE),0)","v":341},{"$f":"IFERROR(VLOOKUP($A25,Filtros!$A$5:$AY$22116,5,FALSE),0)","v":0},{"$f":"IFERROR(VLOOKUP($A25,Filtros!$A$5:$AY$22116,6,FALSE),0)","v":1},{"$f":"IFERROR(VLOOKUP($A25,Filtros!$A$5:$AY$22116,7,FALSE),0)","v":3},{"$f":"IFERROR(VLOOKUP($A25,Filtros!$A$5:$AY$22116,8,FALSE),0)","v":1},{"$f":"IFERROR(VLOOKUP($A25,Filtros!$A$5:$AY$22116,9,FALSE),0)","v":3},{"$f":"IFERROR(VLOOKUP($A25,Filtros!$A$5:$AY$22116,10,FALSE),0)","v":1},{"$f":"IFERROR(VLOOKUP($A25,Filtros!$A$5:$AY$22116,11,FALSE),0)","v":0},{"$f":"IFERROR(VLOOKUP($A25,Filtros!$A$5:$AY$22116,12,FALSE),0)","v":0},{"$f":"IFERROR(VLOOKUP($A25,Filtros!$A$5:$AY$22116,13,FALSE),0)","v":2},{"$f":"IFERROR(VLOOKUP($A25,Filtros!$A$5:$AY$22116,14,FALSE),0)","v":2},{"$f":"IFERROR(VLOOKUP($A25,Filtros!$A$5:$AY$22116,15,FALSE),0)","v":0},{"$f":"IFERROR(VLOOKUP($A25,Filtros!$A$5:$AY$22116,16,FALSE),0)","v":3},{"$f":"IFERROR(VLOOKUP($A25,Filtros!$A$5:$AY$22116,17,FALSE),0)","v":2},{"$f":"IFERROR(VLOOKUP($A25,Filtros!$A$5:$AY$22116,18,FALSE),0)","v":4},{"$f":"IFERROR(VLOOKUP($A25,Filtros!$A$5:$AY$22116,19,FALSE),0)","v":0},{"$f":"IFERROR(VLOOKUP($A25,Filtros!$A$5:$AY$22116,20,FALSE),0)","v":1},{"$f":"IFERROR(VLOOKUP($A25,Filtros!$A$5:$AY$22116,21,FALSE),0)","v":4},{"$f":"IFERROR(VLOOKUP($A25,Filtros!$A$5:$AY$22116,22,FALSE),0)","v":10},{"$f":"IFERROR(VLOOKUP($A25,Filtros!$A$5:$AY$22116,23,FALSE),0)","v":7},{"$f":"IFERROR(VLOOKUP($A25,Filtros!$A$5:$AY$22116,24,FALSE),0)","v":21},{"$f":"IFERROR(VLOOKUP($A25,Filtros!$A$5:$AY$22116,25,FALSE),0)","v":12},{"$f":"IFERROR(VLOOKUP($A25,Filtros!$A$5:$AY$22116,26,FALSE),0)","v":22},{"$f":"IFERROR(VLOOKUP($A25,Filtros!$A$5:$AY$22116,27,FALSE),0)","v":16},{"$f":"IFERROR(VLOOKUP($A25,Filtros!$A$5:$AY$22116,28,FALSE),0)","v":26},{"$f":"IFERROR(VLOOKUP($A25,Filtros!$A$5:$AY$22116,29,FALSE),0)","v":24},{"$f":"IFERROR(VLOOKUP($A25,Filtros!$A$5:$AY$22116,30,FALSE),0)","v":41},{"$f":"IFERROR(VLOOKUP($A25,Filtros!$A$5:$AY$22116,31,FALSE),0)","v":25},{"$f":"IFERROR(VLOOKUP($A25,Filtros!$A$5:$AY$22116,32,FALSE),0)","v":51},{"$f":"IFERROR(VLOOKUP($A25,Filtros!$A$5:$AY$22116,33,FALSE),0)","v":37},{"$f":"IFERROR(VLOOKUP($A25,Filtros!$A$5:$AY$22116,34,FALSE),0)","v":52},{"$f":"IFERROR(VLOOKUP($A25,Filtros!$A$5:$AY$22116,35,FALSE),0)","v":33},{"$f":"IFERROR(VLOOKUP($A25,Filtros!$A$5:$AY$22116,36,FALSE),0)","v":42},{"$f":"IFERROR(VLOOKUP($A25,Filtros!$A$5:$AY$22116,37,FALSE),0)","v":42},{"$f":"IFERROR(VLOOKUP($A25,Filtros!$A$5:$AY$22116,38,FALSE),0)","v":63},{"$f":"IFERROR(VLOOKUP($A25,Filtros!$A$5:$AY$22116,39,FALSE),0)","v":0},{"$f":"IFERROR(VLOOKUP($A25,Filtros!$A$5:$AY$22116,40,FALSE),0)","v":0},{"$f":"IFERROR(VLOOKUP($A25,Filtros!$A$5:$AY$22116,41,FALSE),0)","v":0},"",{"$nulls":37},"",null,"",{"$nulls":5},0,null,0]
["P3140200","ENFERMEDAD DE PARKINSON ",null,{"$f":"IFERROR(VLOOKUP($A26,Filtros!$A$5:$AY$22116,2,FALSE),0)","v":921},{"$f":"IFERROR(VLOOKUP($A26,Filtros!$A$5:$AY$22116,3,FALSE),0)","v":513},{"$f":"IFERROR(VLOOKUP($A26,Filtros!$A$5:$AY$22116,4,FALSE),0)","v":408},{"$f":"IFERROR(VLOOKUP($A26,Filtros!$A$5:$AY$22116,5,FALSE),0)","v":0},{"$f":"IFERROR(VLOOKUP($A26,Filtros!$A$5:$AY$22116,6,FALSE),0)","v":0},{"$f":"IFERROR(VLOOKUP($A26,Filtros!$A$5:$AY$22116,7,FALSE),0)","v":0},{"$f":"IFERROR(VLOOKUP($A26,Filtros!$A$5:$AY$22116,8,FALSE),0)","v":0},{"$f":"IFERROR(VLOOKUP($A26,Filtros!$A$5:$AY$22116,9,FALSE),0)","v":0},{"$f":"IFERROR(VLOOKUP($A26,Filtros!$A$5:$AY$22116,10,FALSE),0)","v":0},{"$f":"IFERROR(VLOOKUP($A26,Filtros!$A$5:$AY$22116,11,FALSE),0)","v":0},{"$f":"IFERROR(VLOOKUP($A26,Filtros!$A$5:$AY$22116,12,FALSE),0)","v":0},{"$f":"IFERROR(VLOOKUP($A26,Filtros!$A$5:$AY$22116,13,FALSE),0)","v":0},{"$f":"IFERROR(VLOOKUP($A26,Filtros!$A$5:$AY$22116,14,FALSE),0)","v":0},{"$f":"IFERROR(VLOOKUP($A26,Filtros!$A$5:$AY$22116,15,FALSE),0)","v":0},{"$f":"IFERROR(VLOOKUP($A26,Filtros!$A$5:$AY$22116,16,FALSE),0)","v":0},{"$f":"IFERROR(VLOOKUP($A26,Filtros!$A$5:$AY$22116,17,FALSE),0)","v":3},{"$f":"IFERROR(VLOOKUP($A26,Filtros!$A$5:$AY$22116,18,FALSE),0)","v":0},{"$f":"IFERROR(VLOOKUP($A26,Filtros!$A$5:$AY$22116,19,FALSE),0)","v":1},{"$f":"IFERROR(VLOOKUP($A26,Filtros!$A$5:$AY$22116,20,FALSE),0)","v":0},{"$f":"IFERROR(VLOOKUP($A26,Filtros!$A$5:$AY$22116,21,FALSE),0)","v":3},{"$f":"IFERROR(VLOOKUP($A26,Filtros!$A$5:$AY$22116,22,FALSE),0)","v":1},{"$f":"IFERROR(VLOOKUP($A26,Filtros!$A$5:$AY$22116,23,FALSE),0)","v":3},{"$f":"IFERROR(VLOOKUP($A26,Filtros!$A$5:$AY$22116,24,FALSE),0)","v":6},{"$f":"IFERROR(VLOOKUP($A26,Filtros!$A$5:$AY$22116,25,FALSE),0)","v":37},{"$f":"IFERROR(VLOOKUP($A26,Filtros!$A$5:$AY$22116,26,FALSE),0)","v":23},{"$f":"IFERROR(VLOOKUP($A26,Filtros!$A$5:$AY$22116,27,FALSE),0)","v":26},{"$f":"IFERROR(VLOOKUP($A26,Filtros!$A$5:$AY$22116,28,FALSE),0)","v":23},{"$f":"IFERROR(VLOOKUP($A26,Filtros!$A$5:$AY$22116,29,FALSE),0)","v":47},{"$f":"IFERROR(VLOOKUP($A26,Filtros!$A$5:$AY$22116,30,FALSE),0)","v":29},{"$f":"IFERROR(VLOOKUP($A26,Filtros!$A$5:$AY$22116,31,FALSE),0)","v":86},{"$f":"IFERROR(VLOOKUP($A26,Filtros!$A$5:$AY$22116,32,FALSE),0)","v":47},{"$f":"IFERROR(VLOOKUP($A26,Filtros!$A$5:$AY$22116,33,FALSE),0)","v":70},{"$f":"IFERROR(VLOOKUP($A26,Filtros!$A$5:$AY$22116,34,FALSE),0)","v":65},{"$f":"IFERROR(VLOOKUP($A26,Filtros!$A$5:$AY$22116,35,FALSE),0)","v":85},{"$f":"IFERROR(VLOOKUP($A26,Filtros!$A$5:$AY$22116,36,FALSE),0)","v":67},{"$f":"IFERROR(VLOOKUP($A26,Filtros!$A$5:$AY$22116,37,FALSE),0)","v":152},{"$f":"IFERROR(VLOOKUP($A26,Filtros!$A$5:$AY$22116,38,FALSE),0)","v":147},{"$f":"IFERROR(VLOOKUP($A26,Filtros!$A$5:$AY$22116,39,FALSE),0)","v":0},{"$f":"IFERROR(VLOOKUP($A26,Filtros!$A$5:$AY$22116,40,FALSE),0)","v":0},{"$f":"IFERROR(VLOOKUP($A26,Filtros!$A$5:$AY$22116,41,FALSE),0)","v":0},"",{"$nulls":37},"",null,"",{"$nulls":5},0,null,0]
["P3140300","ARTROSIS DE CADERA Y RODILLA ",null,{"$f":"IFERROR(VLOOKUP($A27,Filtros!$A$5:$AY$22116,2,FALSE),0)","v":9871},{"$f":"IFERROR(VLOOKUP($A27,Filtros!$A$5:$AY$22116,3,FALSE),0)","v":2402},{"$f":"IFERROR(VLOOKUP($A27,Filtros!$A$5:$AY$22116,4,FALSE),0)","v":7469},{"$f":"IFERROR(VLOOKUP($A27,Filtros!$A$5:$AY$22116,5,FALSE),0)","v":0},{"$f":"IFERROR(VLOOKUP($A27,Filtros!$A$5:$AY$22116,6,FALSE),0)","v":0},{"$f":"IFERROR(VLOOKUP($A27,Filtros!$A$5:$AY$22116,7,FALSE),0)","v":0},{"$f":"IFERROR(VLOOKUP($A27,Filtros!$A$5:$AY$22116,8,FALSE),0)","v":0},{"$f":"IFERROR(VLOOKUP($A27,Filtros!$A$5:$AY$22116,9,FALSE),0)","v":0},{"$f":"IFERROR(VLOOKUP($A27,Filtros!$A$5:$AY$22116,10,FALSE),0)","v":1},{"$f":"IFERROR(VLOOKUP($A27,Filtros!$A$5:$AY$22116,11,FALSE),0)","v":1},{"$f":"IFERROR(VLOOKUP($A27,Filtros!$A$5:$AY$22116,12,FALSE),0)","v":1},{"$f":"IFERROR(VLOOKUP($A27,Filtros!$A$5:$AY$22116,13,FALSE),0)","v":0},{"$f":"IFERROR(VLOOKUP($A27,Filtros!$A$5:$AY$22116,14,FALSE),0)","v":0},{"$f":"IFERROR(VLOOKUP($A27,Filtros!$A$5:$AY$22116,15,FALSE),0)","v":0},{"$f":"IFERROR(VLOOKUP($A27,Filtros!$A$5:$AY$22116,16,FALSE),0)","v":4},{"$f":"IFERROR(VLOOKUP($A27,Filtros!$A$5:$AY$22116,17,FALSE),0)","v":1},{"$f":"IFERROR(VLOOKUP($A27,Filtros!$A$5:$AY$22116,18,FALSE),0)","v":5},{"$f":"IFERROR(VLOOKUP($A27,Filtros!$A$5:$AY$22116,19,FALSE),0)","v":4},{"$f":"IFERROR(VLOOKUP($A27,Filtros!$A$5:$AY$22116,20,FALSE),0)","v":16},{"$f":"IFERROR(VLOOKUP($A27,Filtros!$A$5:$AY$22116,21,FALSE),0)","v":4},{"$f":"IFERROR(VLOOKUP($A27,Filtros!$A$5:$AY$22116,22,FALSE),0)","v":43},{"$f":"IFERROR(VLOOKUP($A27,Filtros!$A$5:$AY$22116,23,FALSE),0)","v":16},{"$f":"IFERROR(VLOOKUP($A27,Filtros!$A$5:$AY$22116,24,FALSE),0)","v":89},{"$f":"IFERROR(VLOOKUP($A27,Filtros!$A$5:$AY$22116,25,FALSE),0)","v":43},{"$f":"IFERROR(VLOOKUP($A27,Filtros!$A$5:$AY$22116,26,FALSE),0)","v":220},{"$f":"IFERROR(VLOOKUP($A27,Filtros!$A$5:$AY$22116,27,FALSE),0)","v":143},{"$f":"IFERROR(VLOOKUP($A27,Filtros!$A$5:$AY$22116,28,FALSE),0)","v":698},{"$f":"IFERROR(VLOOKUP($A27,Filtros!$A$5:$AY$22116,29,FALSE),0)","v":311},{"$f":"IFERROR(VLOOKUP($A27,Filtros!$A$5:$AY$22116,30,FALSE),0)","v":1026},{"$f":"IFERROR(VLOOKUP($A27,Filtros!$A$5:$AY$22116,31,FALSE),0)","v":393},{"$f":"IFERROR(VLOOKUP($A27,Filtros!$A$5:$AY$22116,32,FALSE),0)","v":1269},{"$f":"IFERROR(VLOOKUP($A27,Filtros!$A$5:$AY$22116,33,FALSE),0)","v":388},{"$f":"IFERROR(VLOOKUP($A27,Filtros!$A$5:$AY$22116,34,FALSE),0)","v":1270},{"$f":"IFERROR(VLOOKUP($A27,Filtros!$A$5:$AY$22116,35,FALSE),0)","v":442},{"$f":"IFERROR(VLOOKUP($A27,Filtros!$A$5:$AY$22116,36,FALSE),0)","v":1119},{"$f":"IFERROR(VLOOKUP($A27,Filtros!$A$5:$AY$22116,37,FALSE),0)","v":656},{"$f":"IFERROR(VLOOKUP($A27,Filtros!$A$5:$AY$22116,38,FALSE),0)","v":1708},{"$f":"IFERROR(VLOOKUP($A27,Filtros!$A$5:$AY$22116,39,FALSE),0)","v":0},{"$f":"IFERROR(VLOOKUP($A27,Filtros!$A$5:$AY$22116,40,FALSE),0)","v":0},{"$f":"IFERROR(VLOOKUP($A27,Filtros!$A$5:$AY$22116,41,FALSE),0)","v":1},"",{"$nulls":37},"",null,"",{"$nulls":5},0,null,0]
["P3120800","ALIVIO DEL DOLOR",null,{"$f":"IFERROR(VLOOKUP($A28,Filtros!$A$5:$AY$22116,2,FALSE),0)","v":3369},{"$f":"IFERROR(VLOOKUP($A28,Filtros!$A$5:$AY$22116,3,FALSE),0)","v":1449},{"$f":"IFERROR(VLOOKUP($A28,Filtros!$A$5:$AY$22116,4,FALSE),0)","v":1920},{"$f":"IFERROR(VLOOKUP($A28,Filtros!$A$5:$AY$22116,5,FALSE),0)","v":6},{"$f":"IFERROR(VLOOKUP($A28,Filtros!$A$5:$AY$22116,6,FALSE),0)","v":0},{"$f":"IFERROR(VLOOKUP($A28,Filtros!$A$5:$AY$22116,7,FALSE),0)","v":0},{"$f":"IFERROR(VLOOKUP($A28,Filtros!$A$5:$AY$22116,8,FALSE),0)","v":1},{"$f":"IFERROR(VLOOKUP($A28,Filtros!$A$5:$AY$22116,9,FALSE),0)","v":1},{"$f":"IFERROR(VLOOKUP($A28,Filtros!$A$5:$AY$22116,10,FALSE),0)","v":4},{"$f":"IFERROR(VLOOKUP($A28,Filtros!$A$5:$AY$22116,11,FALSE),0)","v":1},{"$f":"IFERROR(VLOOKUP($A28,Filtros!$A$5:$AY$22116,12,FALSE),0)","v":3},{"$f":"IFERROR(VLOOKUP($A28,Filtros!$A$5:$AY$22116,13,FALSE),0)","v":17},{"$f":"IFERROR(VLOOKUP($A28,Filtros!$A$5:$AY$22116,14,FALSE),0)","v":5},{"$f":"IFERROR(VLOOKUP($A28,Filtros!$A$5:$AY$22116,15,FALSE),0)","v":14},{"$f":"IFERROR(VLOOKUP($A28,Filtros!$A$5:$AY$22116,16,FALSE),0)","v":16},{"$f":"IFERROR(VLOOKUP($A28,Filtros!$A$5:$AY$22116,17,FALSE),0)","v":11},{"$f":"IFERROR(VLOOKUP($A28,Filtros!$A$5:$AY$22116,18,FALSE),0)","v":28},{"$f":"IFERROR(VLOOKUP($A28,Filtros!$A$5:$AY$22116,19,FALSE),0)","v":6},{"$f":"IFERROR(VLOOKUP($A28,Filtros!$A$5:$AY$22116,20,FALSE),0)","v":40},{"$f":"IFERROR(VLOOKUP($A28,Filtros!$A$5:$AY$22116,21,FALSE),0)","v":25},{"$f":"IFERROR(VLOOKUP($A28,Filtros!$A$5:$AY$22116,22,FALSE),0)","v":85},{"$f":"IFERROR(VLOOKUP($A28,Filtros!$A$5:$AY$22116,23,FALSE),0)","v":37},{"$f":"IFERROR(VLOOKUP($A28,Filtros!$A$5:$AY$22116,24,FALSE),0)","v":131},{"$f":"IFERROR(VLOOKUP($A28,Filtros!$A$5:$AY$22116,25,FALSE),0)","v":56},{"$f":"IFERROR(VLOOKUP($A28,Filtros!$A$5:$AY$22116,26,FALSE),0)","v":133},{"$f":"IFERROR(VLOOKUP($A28,Filtros!$A$5:$AY$22116,27,FALSE),0)","v":130},{"$f":"IFERROR(VLOOKUP($A28,Filtros!$A$5:$AY$22116,28,FALSE),0)","v":213},{"$f":"IFERROR(VLOOKUP($A28,Filtros!$A$5:$AY$22116,29,FALSE),0)","v":126},{"$f":"IFERROR(VLOOKUP($A28,Filtros!$A$5:$AY$22116,30,FALSE),0)","v":209},{"$f":"IFERROR(VLOOKUP($A28,Filtros!$A$5:$AY$22116,31,FALSE),0)","v":226},{"$f":"IFERROR(VLOOKUP($A28,Filtros!$A$5:$AY$22116,32,FALSE),0)","v":225},{"$f":"IFERROR(VLOOKUP($A28,Filtros!$A$5:$AY$22116,33,FALSE),0)","v":182},{"$f":"IFERROR(VLOOKUP($A28,Filtros!$A$5:$AY$22116,34,FALSE),0)","v":238},{"$f":"IFERROR(VLOOKUP($A28,Filtros!$A$5:$AY$22116,35,FALSE),0)","v":236},{"$f":"IFERROR(VLOOKUP($A28,Filtros!$A$5:$AY$22116,36,FALSE),0)","v":220},{"$f":"IFERROR(VLOOKUP($A28,Filtros!$A$5:$AY$22116,37,FALSE),0)","v":375},{"$f":"IFERROR(VLOOKUP($A28,Filtros!$A$5:$AY$22116,38,FALSE),0)","v":369},{"$f":"IFERROR(VLOOKUP($A28,Filtros!$A$5:$AY$22116,39,FALSE),0)","v":0},{"$f":"IFERROR(VLOOKUP($A28,Filtros!$A$5:$AY$22116,40,FALSE),0)","v":1},{"$f":"IFERROR(VLOOKUP($A28,Filtros!$A$5:$AY$22116,41,FALSE),0)","v":0},"",{"$nulls":37},"",null,"",{"$nulls":5},0,null,0]
["P3161040","HIPOTIROIDISMO",null,{"$f":"IFERROR(VLOOKUP($A29,Filtros!$A$5:$AY$22116,2,FALSE),0)","v":21301},{"$f":"IFERROR(VLOOKUP($A29,Filtros!$A$5:$AY$22116,3,FALSE),0)","v":3582},{"$f":"IFERROR(VLOOKUP($A29,Filtros!$A$5:$AY$22116,4,FALSE),0)","v":17719},{"$f":"IFERROR(VLOOKUP($A29,Filtros!$A$5:$AY$22116,5,FALSE),0)","v":2},{"$f":"IFERROR(VLOOKUP($A29,Filtros!$A$5:$AY$22116,6,FALSE),0)","v":0},{"$f":"IFERROR(VLOOKUP($A29,Filtros!$A$5:$AY$22116,7,FALSE),0)","v":7},{"$f":"IFERROR(VLOOKUP($A29,Filtros!$A$5:$AY$22116,8,FALSE),0)","v":8},{"$f":"IFERROR(VLOOKUP($A29,Filtros!$A$5:$AY$22116,9,FALSE),0)","v":21},{"$f":"IFERROR(VLOOKUP($A29,Filtros!$A$5:$AY$22116,10,FALSE),0)","v":21},{"$f":"IFERROR(VLOOKUP($A29,Filtros!$A$5:$AY$22116,11,FALSE),0)","v":44},{"$f":"IFERROR(VLOOKUP($A29,Filtros!$A$5:$AY$22116,12,FALSE),0)","v":155},{"$f":"IFERROR(VLOOKUP($A29,Filtros!$A$5:$AY$22116,13,FALSE),0)","v":61},{"$f":"IFERROR(VLOOKUP($A29,Filtros!$A$5:$AY$22116,14,FALSE),0)","v":278},{"$f":"IFERROR(VLOOKUP($A29,Filtros!$A$5:$AY$22116,15,FALSE),0)","v":53},{"$f":"IFERROR(VLOOKUP($A29,Filtros!$A$5:$AY$22116,16,FALSE),0)","v":402},{"$f":"IFERROR(VLOOKUP($A29,Filtros!$A$5:$AY$22116,17,FALSE),0)","v":55},{"$f":"IFERROR(VLOOKUP($A29,Filtros!$A$5:$AY$22116,18,FALSE),0)","v":551},{"$f":"IFERROR(VLOOKUP($A29,Filtros!$A$5:$AY$22116,19,FALSE),0)","v":59},{"$f":"IFERROR(VLOOKUP($A29,Filtros!$A$5:$AY$22116,20,FALSE),0)","v":675},{"$f":"IFERROR(VLOOKUP($A29,Filtros!$A$5:$AY$22116,21,FALSE),0)","v":86},{"$f":"IFERROR(VLOOKUP($A29,Filtros!$A$5:$AY$22116,22,FALSE),0)","v":898},{"$f":"IFERROR(VLOOKUP($A29,Filtros!$A$5:$AY$22116,23,FALSE),0)","v":122},{"$f":"IFERROR(VLOOKUP($A29,Filtros!$A$5:$AY$22116,24,FALSE),0)","v":1213},{"$f":"IFERROR(VLOOKUP($A29,Filtros!$A$5:$AY$22116,25,FALSE),0)","v":229},{"$f":"IFERROR(VLOOKUP($A29,Filtros!$A$5:$AY$22116,26,FALSE),0)","v":1575},{"$f":"IFERROR(VLOOKUP($A29,Filtros!$A$5:$AY$22116,27,FALSE),0)","v":318},{"$f":"IFERROR(VLOOKUP($A29,Filtros!$A$5:$AY$22116,28,FALSE),0)","v":2270},{"$f":"IFERROR(VLOOKUP($A29,Filtros!$A$5:$AY$22116,29,FALSE),0)","v":414},{"$f":"IFERROR(VLOOKUP($A29,Filtros!$A$5:$AY$22116,30,FALSE),0)","v":2226},{"$f":"IFERROR(VLOOKUP($A29,Filtros!$A$5:$AY$22116,31,FALSE),0)","v":406},{"$f":"IFERROR(VLOOKUP($A29,Filtros!$A$5:$AY$22116,32,FALSE),0)","v":1935},{"$f":"IFERROR(VLOOKUP($A29,Filtros!$A$5:$AY$22116,33,FALSE),0)","v":538},{"$f":"IFERROR(VLOOKUP($A29,Filtros!$A$5:$AY$22116,34,FALSE),0)","v":1911},{"$f":"IFERROR(VLOOKUP($A29,Filtros!$A$5:$AY$22116,35,FALSE),0)","v":486},{"$f":"IFERROR(VLOOKUP($A29,Filtros!$A$5:$AY$22116,36,FALSE),0)","v":1562},{"$f":"IFERROR(VLOOKUP($A29,Filtros!$A$5:$AY$22116,37,FALSE),0)","v":681},{"$f":"IFERROR(VLOOKUP($A29,Filtros!$A$5:$AY$22116,38,FALSE),0)","v":2038},{"$f":"IFERROR(VLOOKUP($A29,Filtros!$A$5:$AY$22116,39,FALSE),0)","v":0},{"$f":"IFERROR(VLOOKUP($A29,Filtros!$A$5:$AY$22116,40,FALSE),0)","v":2},{"$f":"IFERROR(VLOOKUP($A29,Filtros!$A$5:$AY$22116,41,FALSE),0)","v":14},"",{"$nulls":37},"",null,"",{"$nulls":5},0,null,0]
["P3160910","DEPENDENCIA LEVE",null,{"$f":"IFERROR(VLOOKUP($A30,Filtros!$A$5:$AY$22116,2,FALSE),0)","v":1127},{"$f":"IFERROR(VLOOKUP($A30,Filtros!$A$5:$AY$22116,3,FALSE),0)","v":390},{"$f":"IFERROR(VLOOKUP($A30,Filtros!$A$5:$AY$22116,4,FALSE),0)","v":737},{"$f":"IFERROR(VLOOKUP($A30,Filtros!$A$5:$AY$22116,5,FALSE),0)","v":0},{"$f":"IFERROR(VLOOKUP($A30,Filtros!$A$5:$AY$22116,6,FALSE),0)","v":0},{"$f":"IFERROR(VLOOKUP($A30,Filtros!$A$5:$AY$22116,7,FALSE),0)","v":0},{"$f":"IFERROR(VLOOKUP($A30,Filtros!$A$5:$AY$22116,8,FALSE),0)","v":0},{"$f":"IFERROR(VLOOKUP($A30,Filtros!$A$5:$AY$22116,9,FALSE),0)","v":0},{"$f":"IFERROR(VLOOKUP($A30,Filtros!$A$5:$AY$22116,10,FALSE),0)","v":0},{"$f":"IFERROR(VLOOKUP($A30,Filtros!$A$5:$AY$22116,11,FALSE),0)","v":2},{"$f":"IFERROR(VLOOKUP($A30,Filtros!$A$5:$AY$22116,12,FALSE),0)","v":1},{"$f":"IFERROR(VLOOKUP($A30,Filtros!$A$5:$AY$22116,13,FALSE),0)","v":1},{"$f":"IFERROR(VLOOKUP($A30,Filtros!$A$5:$AY$22116,14,FALSE),0)","v":3},{"$f":"IFERROR(VLOOKUP($A30,Filtros!$A$5:$AY$22116,15,FALSE),0)","v":2},{"$f":"IFERROR(VLOOKUP($A30,Filtros!$A$5:$AY$22116,16,FALSE),0)","v":2},{"$f":"IFERROR(VLOOKUP($A30,Filtros!$A$5:$AY$22116,17,FALSE),0)","v":3},{"$f":"IFERROR(VLOOKUP($A30,Filtros!$A$5:$AY$22116,18,FALSE),0)","v":4},{"$f":"IFERROR(VLOOKUP($A30,Filtros!$A$5:$AY$22116,19,FALSE),0)","v":2},{"$f":"IFERROR(VLOOKUP($A30,Filtros!$A$5:$AY$22116,20,FALSE),0)","v":3},{"$f":"IFERROR(VLOOKUP($A30,Filtros!$A$5:$AY$22116,21,FALSE),0)","v":1},{"$f":"IFERROR(VLOOKUP($A30,Filtros!$A$5:$AY$22116,22,FALSE),0)","v":1},{"$f":"IFERROR(VLOOKUP($A30,Filtros!$A$5:$AY$22116,23,FALSE),0)","v":6},{"$f":"IFERROR(VLOOKUP($A30,Filtros!$A$5:$AY$22116,24,FALSE),0)","v":8},{"$f":"IFERROR(VLOOKUP($A30,Filtros!$A$5:$AY$22116,25,FALSE),0)","v":6},{"$f":"IFERROR(VLOOKUP($A30,Filtros!$A$5:$AY$22116,26,FALSE),0)","v":5},{"$f":"IFERROR(VLOOKUP($A30,Filtros!$A$5:$AY$22116,27,FALSE),0)","v":7},{"$f":"IFERROR(VLOOKUP($A30,Filtros!$A$5:$AY$22116,28,FALSE),0)","v":12},{"$f":"IFERROR(VLOOKUP($A30,Filtros!$A$5:$AY$22116,29,FALSE),0)","v":8},{"$f":"IFERROR(VLOOKUP($A30,Filtros!$A$5:$AY$22116,30,FALSE),0)","v":17},{"$f":"IFERROR(VLOOKUP($A30,Filtros!$A$5:$AY$22116,31,FALSE),0)","v":25},{"$f":"IFERROR(VLOOKUP($A30,Filtros!$A$5:$AY$22116,32,FALSE),0)","v":53},{"$f":"IFERROR(VLOOKUP($A30,Filtros!$A$5:$AY$22116,33,FALSE),0)","v":46},{"$f":"IFERROR(VLOOKUP($A30,Filtros!$A$5:$AY$22116,34,FALSE),0)","v":71},{"$f":"IFERROR(VLOOKUP($A30,Filtros!$A$5:$AY$22116,35,FALSE),0)","v":64},{"$f":"IFERROR(VLOOKUP($A30,Filtros!$A$5:$AY$22116,36,FALSE),0)","v":122},{"$f":"IFERROR(VLOOKUP($A30,Filtros!$A$5:$AY$22116,37,FALSE),0)","v":217},{"$f":"IFERROR(VLOOKUP($A30,Filtros!$A$5:$AY$22116,38,FALSE),0)","v":435},{"$f":"IFERROR(VLOOKUP($A30,Filtros!$A$5:$AY$22116,39,FALSE),0)","v":0},{"$f":"IFERROR(VLOOKUP($A30,Filtros!$A$5:$AY$22116,40,FALSE),0)","v":1},{"$f":"IFERROR(VLOOKUP($A30,Filtros!$A$5:$AY$22116,41,FALSE),0)","v":0},"",{"$nulls":37},"",null,"",{"$nulls":5},0,null,0]
["P3160920","DEPENDENCIA MODERADA",null,{"$f":"IFERROR(VLOOKUP($A31,Filtros!$A$5:$AY$22116,2,FALSE),0)","v":804},{"$f":"IFERROR(VLOOKUP($A31,Filtros!$A$5:$AY$22116,3,FALSE),0)","v":312},{"$f":"IFERROR(VLOOKUP($A31,Filtros!$A$5:$AY$22116,4,FALSE),0)","v":492},{"$f":"IFERROR(VLOOKUP($A31,Filtros!$A$5:$AY$22116,5,FALSE),0)","v":0},{"$f":"IFERROR(VLOOKUP($A31,Filtros!$A$5:$AY$22116,6,FALSE),0)","v":0},{"$f":"IFERROR(VLOOKUP($A31,Filtros!$A$5:$AY$22116,7,FALSE),0)","v":1},{"$f":"IFERROR(VLOOKUP($A31,Filtros!$A$5:$AY$22116,8,FALSE),0)","v":0},{"$f":"IFERROR(VLOOKUP($A31,Filtros!$A$5:$AY$22116,9,FALSE),0)","v":0},{"$f":"IFERROR(VLOOKUP($A31,Filtros!$A$5:$AY$22116,10,FALSE),0)","v":1},{"$f":"IFERROR(VLOOKUP($A31,Filtros!$A$5:$AY$22116,11,FALSE),0)","v":4},{"$f":"IFERROR(VLOOKUP($A31,Filtros!$A$5:$AY$22116,12,FALSE),0)","v":1},{"$f":"IFERROR(VLOOKUP($A31,Filtros!$A$5:$AY$22116,13,FALSE),0)","v":2},{"$f":"IFERROR(VLOOKUP($A31,Filtros!$A$5:$AY$22116,14,FALSE),0)","v":0},{"$f":"IFERROR(VLOOKUP($A31,Filtros!$A$5:$AY$22116,15,FALSE),0)","v":3},{"$f":"IFERROR(VLOOKUP($A31,Filtros!$A$5:$AY$22116,16,FALSE),0)","v":1},{"$f":"IFERROR(VLOOKUP($A31,Filtros!$A$5:$AY$22116,17,FALSE),0)","v":1},{"$f":"IFERROR(VLOOKUP($A31,Filtros!$A$5:$AY$22116,18,FALSE),0)","v":2},{"$f":"IFERROR(VLOOKUP($A31,Filtros!$A$5:$AY$22116,19,FALSE),0)","v":3},{"$f":"IFERROR(VLOOKUP($A31,Filtros!$A$5:$AY$22116,20,FALSE),0)","v":4},{"$f":"IFERROR(VLOOKUP($A31,Filtros!$A$5:$AY$22116,21,FALSE),0)","v":2},{"$f":"IFERROR(VLOOKUP($A31,Filtros!$A$5:$AY$22116,22,FALSE),0)","v":5},{"$f":"IFERROR(VLOOKUP($A31,Filtros!$A$5:$AY$22116,23,FALSE),0)","v":5},{"$f":"IFERROR(VLOOKUP($A31,Filtros!$A$5:$AY$22116,24,FALSE),0)","v":3},{"$f":"IFERROR(VLOOKUP($A31,Filtros!$A$5:$AY$22116,25,FALSE),0)","v":9},{"$f":"IFERROR(VLOOKUP($A31,Filtros!$A$5:$AY$22116,26,FALSE),0)","v":6},{"$f":"IFERROR(VLOOKUP($A31,Filtros!$A$5:$AY$22116,27,FALSE),0)","v":14},{"$f":"IFERROR(VLOOKUP($A31,Filtros!$A$5:$AY$22116,28,FALSE),0)","v":12},{"$f":"IFERROR(VLOOKUP($A31,Filtros!$A$5:$AY$22116,29,FALSE),0)","v":13},{"$f":"IFERROR(VLOOKUP($A31,Filtros!$A$5:$AY$22116,30,FALSE),0)","v":13},{"$f":"IFERROR(VLOOKUP($A31,Filtros!$A$5:$AY$22116,31,FALSE),0)","v":30},{"$f":"IFERROR(VLOOKUP($A31,Filtros!$A$5:$AY$22116,32,FALSE),0)","v":22},{"$f":"IFERROR(VLOOKUP($A31,Filtros!$A$5:$AY$22116,33,FALSE),0)","v":40},{"$f":"IFERROR(VLOOKUP($A31,Filtros!$A$5:$AY$22116,34,FALSE),0)","v":35},{"$f":"IFERROR(VLOOKUP($A31,Filtros!$A$5:$AY$22116,35,FALSE),0)","v":46},{"$f":"IFERROR(VLOOKUP($A31,Filtros!$A$5:$AY$22116,36,FALSE),0)","v":66},{"$f":"IFERROR(VLOOKUP($A31,Filtros!$A$5:$AY$22116,37,FALSE),0)","v":139},{"$f":"IFERROR(VLOOKUP($A31,Filtros!$A$5:$AY$22116,38,FALSE),0)","v":321},{"$f":"IFERROR(VLOOKUP($A31,Filtros!$A$5:$AY$22116,39,FALSE),0)","v":0},{"$f":"IFERROR(VLOOKUP($A31,Filtros!$A$5:$AY$22116,40,FALSE),0)","v":0},{"$f":"IFERROR(VLOOKUP($A31,Filtros!$A$5:$AY$22116,41,FALSE),0)","v":0},"",{"$nulls":37},"",null,"",{"$nulls":5},0,null,0]
["P3130200","DEPENDENCIA SEVERA","ONCOLÓGICA",{"$f":"IFERROR(VLOOKUP($A32,Filtros!$A$5:$AY$22116,2,FALSE),0)","v":211},{"$f":"IFERROR(VLOOKUP($A32,Filtros!$A$5:$AY$22116,3,FALSE),0)","v":101},{"$f":"IFERROR(VLOOKUP($A32,Filtros!$A$5:$AY$22116,4,FALSE),0)","v":110},{"$f":"IFERROR(VLOOKUP($A32,Filtros!$A$5:$AY$22116,5,FALSE),0)","v":0},{"$f":"IFERROR(VLOOKUP($A32,Filtros!$A$5:$AY$22116,6,FALSE),0)","v":0},{"$f":"IFERROR(VLOOKUP($A32,Filtros!$A$5:$AY$22116,7,FALSE),0)","v":0},{"$f":"IFERROR(VLOOKUP($A32,Filtros!$A$5:$AY$22116,8,FALSE),0)","v":0},{"$f":"IFERROR(VLOOKUP($A32,Filtros!$A$5:$AY$22116,9,FALSE),0)","v":0},{"$f":"IFERROR(VLOOKUP($A32,Filtros!$A$5:$AY$22116,10,FALSE),0)","v":0},{"$f":"IFERROR(VLOOKUP($A32,Filtros!$A$5:$AY$22116,11,FALSE),0)","v":0},{"$f":"IFERROR(VLOOKUP($A32,Filtros!$A$5:$AY$22116,12,FALSE),0)","v":0},{"$f":"IFERROR(VLOOKUP($A32,Filtros!$A$5:$AY$22116,13,FALSE),0)","v":1},{"$f":"IFERROR(VLOOKUP($A32,Filtros!$A$5:$AY$22116,14,FALSE),0)","v":0},{"$f":"IFERROR(VLOOKUP($A32,Filtros!$A$5:$AY$22116,15,FALSE),0)","v":0},{"$f":"IFERROR(VLOOKUP($A32,Filtros!$A$5:$AY$22116,16,FALSE),0)","v":1},{"$f":"IFERROR(VLOOKUP($A32,Filtros!$A$5:$AY$22116,17,FALSE),0)","v":1},{"$f":"IFERROR(VLOOKUP($A32,Filtros!$A$5:$AY$22116,18,FALSE),0)","v":1},{"$f":"IFERROR(VLOOKUP($A32,Filtros!$A$5:$AY$22116,19,FALSE),0)","v":0},{"$f":"IFERROR(VLOOKUP($A32,Filtros!$A$5:$AY$22116,20,FALSE),0)","v":1},{"$f":"IFERROR(VLOOKUP($A32,Filtros!$A$5:$AY$22116,21,FALSE),0)","v":2},{"$f":"IFERROR(VLOOKUP($A32,Filtros!$A$5:$AY$22116,22,FALSE),0)","v":1},{"$f":"IFERROR(VLOOKUP($A32,Filtros!$A$5:$AY$22116,23,FALSE),0)","v":0},{"$f":"IFERROR(VLOOKUP($A32,Filtros!$A$5:$AY$22116,24,FALSE),0)","v":1},{"$f":"IFERROR(VLOOKUP($A32,Filtros!$A$5:$AY$22116,25,FALSE),0)","v":4},{"$f":"IFERROR(VLOOKUP($A32,Filtros!$A$5:$AY$22116,26,FALSE),0)","v":5},{"$f":"IFERROR(VLOOKUP($A32,Filtros!$A$5:$AY$22116,27,FALSE),0)","v":2},{"$f":"IFERROR(VLOOKUP($A32,Filtros!$A$5:$AY$22116,28,FALSE),0)","v":4},{"$f":"IFERROR(VLOOKUP($A32,Filtros!$A$5:$AY$22116,29,FALSE),0)","v":4},{"$f":"IFERROR(VLOOKUP($A32,Filtros!$A$5:$AY$22116,30,FALSE),0)","v":5},{"$f":"IFERROR(VLOOKUP($A32,Filtros!$A$5:$AY$22116,31,FALSE),0)","v":11},{"$f":"IFERROR(VLOOKUP($A32,Filtros!$A$5:$AY$22116,32,FALSE),0)","v":13},{"$f":"IFERROR(VLOOKUP($A32,Filtros!$A$5:$AY$22116,33,FALSE),0)","v":8},{"$f":"IFERROR(VLOOKUP($A32,Filtros!$A$5:$AY$22116,34,FALSE),0)","v":18},{"$f":"IFERROR(VLOOKUP($A32,Filtros!$A$5:$AY$22116,35,FALSE),0)","v":15},{"$f":"IFERROR(VLOOKUP($A32,Filtros!$A$5:$AY$22116,36,FALSE),0)","v":15},{"$f":"IFERROR(VLOOKUP($A32,Filtros!$A$5:$AY$22116,37,FALSE),0)","v":53},{"$f":"IFERROR(VLOOKUP($A32,Filtros!$A$5:$AY$22116,38,FALSE),0)","v":45},{"$f":"IFERROR(VLOOKUP($A32,Filtros!$A$5:$AY$22116,39,FALSE),0)","v":0},{"$f":"IFERROR(VLOOKUP($A32,Filtros!$A$5:$AY$22116,40,FALSE),0)","v":0},{"$f":"IFERROR(VLOOKUP($A32,Filtros!$A$5:$AY$22116,41,FALSE),0)","v":0},"",{"$nulls":37},"",null,"",{"$nulls":5},0,null,0]
["P3140400",null,"NO ONCOLÓGICA",{"$f":"IFERROR(VLOOKUP($A33,Filtros!$A$5:$AY$22116,2,FALSE),0)","v":3230},{"$f":"IFERROR(VLOOKUP($A33,Filtros!$A$5:$AY$22116,3,FALSE),0)","v":1168},{"$f":"IFERROR(VLOOKUP($A33,Filtros!$A$5:$AY$22116,4,FALSE),0)","v":2096},{"$f":"IFERROR(VLOOKUP($A33,Filtros!$A$5:$AY$22116,5,FALSE),0)","v":9},{"$f":"IFERROR(VLOOKUP($A33,Filtros!$A$5:$AY$22116,6,FALSE),0)","v":5},{"$f":"IFERROR(VLOOKUP($A33,Filtros!$A$5:$AY$22116,7,FALSE),0)","v":17},{"$f":"IFERROR(VLOOKUP($A33,Filtros!$A$5:$AY$22116,8,FALSE),0)","v":16},{"$f":"IFERROR(VLOOKUP($A33,Filtros!$A$5:$AY$22116,9,FALSE),0)","v":22},{"$f":"IFERROR(VLOOKUP($A33,Filtros!$A$5:$AY$22116,10,FALSE),0)","v":23},{"$f":"IFERROR(VLOOKUP($A33,Filtros!$A$5:$AY$22116,11,FALSE),0)","v":16},{"$f":"IFERROR(VLOOKUP($A33,Filtros!$A$5:$AY$22116,12,FALSE),0)","v":14},{"$f":"IFERROR(VLOOKUP($A33,Filtros!$A$5:$AY$22116,13,FALSE),0)","v":29},{"$f":"IFERROR(VLOOKUP($A33,Filtros!$A$5:$AY$22116,14,FALSE),0)","v":16},{"$f":"IFERROR(VLOOKUP($A33,Filtros!$A$5:$AY$22116,15,FALSE),0)","v":33},{"$f":"IFERROR(VLOOKUP($A33,Filtros!$A$5:$AY$22116,16,FALSE),0)","v":24},{"$f":"IFERROR(VLOOKUP($A33,Filtros!$A$5:$AY$22116,17,FALSE),0)","v":31},{"$f":"IFERROR(VLOOKUP($A33,Filtros!$A$5:$AY$22116,18,FALSE),0)","v":23},{"$f":"IFERROR(VLOOKUP($A33,Filtros!$A$5:$AY$22116,19,FALSE),0)","v":31},{"$f":"IFERROR(VLOOKUP($A33,Filtros!$A$5:$AY$22116,20,FALSE),0)","v":30},{"$f":"IFERROR(VLOOKUP($A33,Filtros!$A$5:$AY$22116,21,FALSE),0)","v":29},{"$f":"IFERROR(VLOOKUP($A33,Filtros!$A$5:$AY$22116,22,FALSE),0)","v":20},{"$f":"IFERROR(VLOOKUP($A33,Filtros!$A$5:$AY$22116,23,FALSE),0)","v":36},{"$f":"IFERROR(VLOOKUP($A33,Filtros!$A$5:$AY$22116,24,FALSE),0)","v":36},{"$f":"IFERROR(VLOOKUP($A33,Filtros!$A$5:$AY$22116,25,FALSE),0)","v":41},{"$f":"IFERROR(VLOOKUP($A33,Filtros!$A$5:$AY$22116,26,FALSE),0)","v":33},{"$f":"IFERROR(VLOOKUP($A33,Filtros!$A$5:$AY$22116,27,FALSE),0)","v":43},{"$f":"IFERROR(VLOOKUP($A33,Filtros!$A$5:$AY$22116,28,FALSE),0)","v":51},{"$f":"IFERROR(VLOOKUP($A33,Filtros!$A$5:$AY$22116,29,FALSE),0)","v":45},{"$f":"IFERROR(VLOOKUP($A33,Filtros!$A$5:$AY$22116,30,FALSE),0)","v":51},{"$f":"IFERROR(VLOOKUP($A33,Filtros!$A$5:$AY$22116,31,FALSE),0)","v":72},{"$f":"IFERROR(VLOOKUP($A33,Filtros!$A$5:$AY$22116,32,FALSE),0)","v":92},{"$f":"IFERROR(VLOOKUP($A33,Filtros!$A$5:$AY$22116,33,FALSE),0)","v":92},{"$f":"IFERROR(VLOOKUP($A33,Filtros!$A$5:$AY$22116,34,FALSE),0)","v":109},{"$f":"IFERROR(VLOOKUP($A33,Filtros!$A$5:$AY$22116,35,FALSE),0)","v":134},{"$f":"IFERROR(VLOOKUP($A33,Filtros!$A$5:$AY$22116,36,FALSE),0)","v":207},{"$f":"IFERROR(VLOOKUP($A33,Filtros!$A$5:$AY$22116,37,FALSE),0)","v":488},{"$f":"IFERROR(VLOOKUP($A33,Filtros!$A$5:$AY$22116,38,FALSE),0)","v":1385},{"$f":"IFERROR(VLOOKUP($A33,Filtros!$A$5:$AY$22116,39,FALSE),0)","v":0},{"$f":"IFERROR(VLOOKUP($A33,Filtros!$A$5:$AY$22116,40,FALSE),0)","v":0},{"$f":"IFERROR(VLOOKUP($A33,Filtros!$A$5:$AY$22116,41,FALSE),0)","v":1},"",{"$nulls":37},"",null,"",{"$nulls":5},0,null,0]
["P3130201",null,"CON ESCARAS (*)",{"$f":"IFERROR(VLOOKUP($A34,Filtros!$A$5:$AY$22116,2,FALSE),0)","v":342},{"$f":"IFERROR(VLOOKUP($A34,Filtros!$A$5:$AY$22116,3,FALSE),0)","v":144},{"$f":"IFERROR(VLOOKUP($A34,Filtros!$A$5:$AY$22116,4,FALSE),0)","v":198},{"$f":"IFERROR(VLOOKUP($A34,Filtros!$A$5:$AY$22116,5,FALSE),0)","v":0},{"$f":"IFERROR(VLOOKUP($A34,Filtros!$A$5:$AY$22116,6,FALSE),0)","v":0},{"$f":"IFERROR(VLOOKUP($A34,Filtros!$A$5:$AY$22116,7,FALSE),0)","v":1},{"$f":"IFERROR(VLOOKUP($A34,Filtros!$A$5:$AY$22116,8,FALSE),0)","v":0},{"$f":"IFERROR(VLOOKUP($A34,Filtros!$A$5:$AY$22116,9,FALSE),0)","v":1},{"$f":"IFERROR(VLOOKUP($A34,Filtros!$A$5:$AY$22116,10,FALSE),0)","v":0},{"$f":"IFERROR(VLOOKUP($A34,Filtros!$A$5:$AY$22116,11,FALSE),0)","v":1},{"$f":"IFERROR(VLOOKUP($A34,Filtros!$A$5:$AY$22116,12,FALSE),0)","v":0},{"$f":"IFERROR(VLOOKUP($A34,Filtros!$A$5:$AY$22116,13,FALSE),0)","v":2},{"$f":"IFERROR(VLOOKUP($A34,Filtros!$A$5:$AY$22116,14,FALSE),0)","v":0},{"$f":"IFERROR(VLOOKUP($A34,Filtros!$A$5:$AY$22116,15,FALSE),0)","v":3},{"$f":"IFERROR(VLOOKUP($A34,Filtros!$A$5:$AY$22116,16,FALSE),0)","v":2},{"$f":"IFERROR(VLOOKUP($A34,Filtros!$A$5:$AY$22116,17,FALSE),0)","v":3},{"$f":"IFERROR(VLOOKUP($A34,Filtros!$A$5:$AY$22116,18,FALSE),0)","v":0},{"$f":"IFERROR(VLOOKUP($A34,Filtros!$A$5:$AY$22116,19,FALSE),0)","v":1},{"$f":"IFERROR(VLOOKUP($A34,Filtros!$A$5:$AY$22116,20,FALSE),0)","v":2},{"$f":"IFERROR(VLOOKUP($A34,Filtros!$A$5:$AY$22116,21,FALSE),0)","v":5},{"$f":"IFERROR(VLOOKUP($A34,Filtros!$A$5:$AY$22116,22,FALSE),0)","v":2},{"$f":"IFERROR(VLOOKUP($A34,Filtros!$A$5:$AY$22116,23,FALSE),0)","v":3},{"$f":"IFERROR(VLOOKUP($A34,Filtros!$A$5:$AY$22116,24,FALSE),0)","v":0},{"$f":"IFERROR(VLOOKUP($A34,Filtros!$A$5:$AY$22116,25,FALSE),0)","v":5},{"$f":"IFERROR(VLOOKUP($A34,Filtros!$A$5:$AY$22116,26,FALSE),0)","v":1},{"$f":"IFERROR(VLOOKUP($A34,Filtros!$A$5:$AY$22116,27,FALSE),0)","v":4},{"$f":"IFERROR(VLOOKUP($A34,Filtros!$A$5:$AY$22116,28,FALSE),0)","v":3},{"$f":"IFERROR(VLOOKUP($A34,Filtros!$A$5:$AY$22116,29,FALSE),0)","v":7},{"$f":"IFERROR(VLOOKUP($A34,Filtros!$A$5:$AY$22116,30,FALSE),0)","v":5},{"$f":"IFERROR(VLOOKUP($A34,Filtros!$A$5:$AY$22116,31,FALSE),0)","v":7},{"$f":"IFERROR(VLOOKUP($A34,Filtros!$A$5:$AY$22116,32,FALSE),0)","v":8},{"$f":"IFERROR(VLOOKUP($A34,Filtros!$A$5:$AY$22116,33,FALSE),0)","v":14},{"$f":"IFERROR(VLOOKUP($A34,Filtros!$A$5:$AY$22116,34,FALSE),0)","v":21},{"$f":"IFERROR(VLOOKUP($A34,Filtros!$A$5:$AY$22116,35,FALSE),0)","v":25},{"$f":"IFERROR(VLOOKUP($A34,Filtros!$A$5:$AY$22116,36,FALSE),0)","v":26},{"$f":"IFERROR(VLOOKUP($A34,Filtros!$A$5:$AY$22116,37,FALSE),0)","v":62},{"$f":"IFERROR(VLOOKUP($A34,Filtros!$A$5:$AY$22116,38,FALSE),0)","v":128},{"$f":"IFERROR(VLOOKUP($A34,Filtros!$A$5:$AY$22116,39,FALSE),0)","v":0},{"$f":"IFERROR(VLOOKUP($A34,Filtros!$A$5:$AY$22116,40,FALSE),0)","v":0},{"$f":"IFERROR(VLOOKUP($A34,Filtros!$A$5:$AY$22116,41,FALSE),0)","v":0},{"$f":"CD34 & CE34 & CF34","v":""},{"$nulls":37},"",{"$f":"IF($D34<=$D32+$D33,\"\",\"Dependencia severa con escaras no debe ser mayor que los Dependientes oncológicos más no Oncológicos. \")","v":""},"",{"$nulls":5},0,{"$f":"IF($D34<=$D32+$D33,0,1)","v":0},0]
["P3160800","ATENCIÓN DOMICILIARIA POR DEPENDENCIA SEVERA","TOTAL PERSONAS",{"$f":"IFERROR(VLOOKUP($A35,Filtros!$A$5:$AY$22116,2,FALSE),0)","v":3340},{"$f":"IFERROR(VLOOKUP($A35,Filtros!$A$5:$AY$22116,3,FALSE),0)","v":1195},{"$f":"IFERROR(VLOOKUP($A35,Filtros!$A$5:$AY$22116,4,FALSE),0)","v":2145},{"$f":"IFERROR(VLOOKUP($A35,Filtros!$A$5:$AY$22116,5,FALSE),0)","v":9},{"$f":"IFERROR(VLOOKUP($A35,Filtros!$A$5:$AY$22116,6,FALSE),0)","v":5},{"$f":"IFERROR(VLOOKUP($A35,Filtros!$A$5:$AY$22116,7,FALSE),0)","v":17},{"$f":"IFERROR(VLOOKUP($A35,Filtros!$A$5:$AY$22116,8,FALSE),0)","v":16},{"$f":"IFERROR(VLOOKUP($A35,Filtros!$A$5:$AY$22116,9,FALSE),0)","v":19},{"$f":"IFERROR(VLOOKUP($A35,Filtros!$A$5:$AY$22116,10,FALSE),0)","v":24},{"$f":"IFERROR(VLOOKUP($A35,Filtros!$A$5:$AY$22116,11,FALSE),0)","v":15},{"$f":"IFERROR(VLOOKUP($A35,Filtros!$A$5:$AY$22116,12,FALSE),0)","v":15},{"$f":"IFERROR(VLOOKUP($A35,Filtros!$A$5:$AY$22116,13,FALSE),0)","v":25},{"$f":"IFERROR(VLOOKUP($A35,Filtros!$A$5:$AY$22116,14,FALSE),0)","v":16},{"$f":"IFERROR(VLOOKUP($A35,Filtros!$A$5:$AY$22116,15,FALSE),0)","v":31},{"$f":"IFERROR(VLOOKUP($A35,Filtros!$A$5:$AY$22116,16,FALSE),0)","v":23},{"$f":"IFERROR(VLOOKUP($A35,Filtros!$A$5:$AY$22116,17,FALSE),0)","v":30},{"$f":"IFERROR(VLOOKUP($A35,Filtros!$A$5:$AY$22116,18,FALSE),0)","v":24},{"$f":"IFERROR(VLOOKUP($A35,Filtros!$A$5:$AY$22116,19,FALSE),0)","v":31},{"$f":"IFERROR(VLOOKUP($A35,Filtros!$A$5:$AY$22116,20,FALSE),0)","v":31},{"$f":"IFERROR(VLOOKUP($A35,Filtros!$A$5:$AY$22116,21,FALSE),0)","v":30},{"$f":"IFERROR(VLOOKUP($A35,Filtros!$A$5:$AY$22116,22,FALSE),0)","v":21},{"$f":"IFERROR(VLOOKUP($A35,Filtros!$A$5:$AY$22116,23,FALSE),0)","v":34},{"$f":"IFERROR(VLOOKUP($A35,Filtros!$A$5:$AY$22116,24,FALSE),0)","v":37},{"$f":"IFERROR(VLOOKUP($A35,Filtros!$A$5:$AY$22116,25,FALSE),0)","v":47},{"$f":"IFERROR(VLOOKUP($A35,Filtros!$A$5:$AY$22116,26,FALSE),0)","v":38},{"$f":"IFERROR(VLOOKUP($A35,Filtros!$A$5:$AY$22116,27,FALSE),0)","v":45},{"$f":"IFERROR(VLOOKUP($A35,Filtros!$A$5:$AY$22116,28,FALSE),0)","v":54},{"$f":"IFERROR(VLOOKUP($A35,Filtros!$A$5:$AY$22116,29,FALSE),0)","v":48},{"$f":"IFERROR(VLOOKUP($A35,Filtros!$A$5:$AY$22116,30,FALSE),0)","v":50},{"$f":"IFERROR(VLOOKUP($A35,Filtros!$A$5:$AY$22116,31,FALSE),0)","v":80},{"$f":"IFERROR(VLOOKUP($A35,Filtros!$A$5:$AY$22116,32,FALSE),0)","v":99},{"$f":"IFERROR(VLOOKUP($A35,Filtros!$A$5:$AY$22116,33,FALSE),0)","v":94},{"$f":"IFERROR(VLOOKUP($A35,Filtros!$A$5:$AY$22116,34,FALSE),0)","v":123},{"$f":"IFERROR(VLOOKUP($A35,Filtros!$A$5:$AY$22116,35,FALSE),0)","v":146},{"$f":"IFERROR(VLOOKUP($A35,Filtros!$A$5:$AY$22116,36,FALSE),0)","v":218},{"$f":"IFERROR(VLOOKUP($A35,Filtros!$A$5:$AY$22116,37,FALSE),0)","v":494},{"$f":"IFERROR(VLOOKUP($A35,Filtros!$A$5:$AY$22116,38,FALSE),0)","v":1351},{"$f":"IFERROR(VLOOKUP($A35,Filtros!$A$5:$AY$22116,39,FALSE),0)","v":0},{"$f":"IFERROR(VLOOKUP($A35,Filtros!$A$5:$AY$22116,40,FALSE),0)","v":0},{"$f":"IFERROR(VLOOKUP($A35,Filtros!$A$5:$AY$22116,41,FALSE),0)","v":1},{"$f":"CD35 & CE35","v":""},{"$nulls":37},"",{"$f":"IF($D35<=$D32+$D33,\"\",\"* Atención Domiciliaria por Dependencia Severa: Total Personas no debe ser mayor que los Dependientes oncológicos más no Oncológicos. \")","v":""},"",{"$nulls":5},0,{"$f":"IF($D35<=$D32+$D33,0,1)","v":0},0]
["P3160900",null,"TOTAL PERSONAS CON ESCARAS",{"$f":"IFERROR(VLOOKUP($A36,Filtros!$A$5:$AY$22116,2,FALSE),0)","v":340},{"$f":"IFERROR(VLOOKUP($A36,Filtros!$A$5:$AY$22116,3,FALSE),0)","v":146},{"$f":"IFERROR(VLOOKUP($A36,Filtros!$A$5:$AY$22116,4,FALSE),0)","v":194},{"$f":"IFERROR(VLOOKUP($A36,Filtros!$A$5:$AY$22116,5,FALSE),0)","v":0},{"$f":"IFERROR(VLOOKUP($A36,Filtros!$A$5:$AY$22116,6,FALSE),0)","v":0},{"$f":"IFERROR(VLOOKUP($A36,Filtros!$A$5:$AY$22116,7,FALSE),0)","v":1},{"$f":"IFERROR(VLOOKUP($A36,Filtros!$A$5:$AY$22116,8,FALSE),0)","v":0},{"$f":"IFERROR(VLOOKUP($A36,Filtros!$A$5:$AY$22116,9,FALSE),0)","v":1},{"$f":"IFERROR(VLOOKUP($A36,Filtros!$A$5:$AY$22116,10,FALSE),0)","v":0},{"$f":"IFERROR(VLOOKUP($A36,Filtros!$A$5:$AY$22116,11,FALSE),0)","v":1},{"$f":"IFERROR(VLOOKUP($A36,Filtros!$A$5:$AY$22116,12,FALSE),0)","v":0},{"$f":"IFERROR(VLOOKUP($A36,Filtros!$A$5:$AY$22116,13,FALSE),0)","v":2},{"$f":"IFERROR(VLOOKUP($A36,Filtros!$A$5:$AY$22116,14,FALSE),0)","v":0},{"$f":"IFERROR(VLOOKUP($A36,Filtros!$A$5:$AY$22116,15,FALSE),0)","v":3},{"$f":"IFERROR(VLOOKUP($A36,Filtros!$A$5:$AY$22116,16,FALSE),0)","v":2},{"$f":"IFERROR(VLOOKUP($A36,Filtros!$A$5:$AY$22116,17,FALSE),0)","v":3},{"$f":"IFERROR(VLOOKUP($A36,Filtros!$A$5:$AY$22116,18,FALSE),0)","v":0},{"$f":"IFERROR(VLOOKUP($A36,Filtros!$A$5:$AY$22116,19,FALSE),0)","v":1},{"$f":"IFERROR(VLOOKUP($A36,Filtros!$A$5:$AY$22116,20,FALSE),0)","v":2},{"$f":"IFERROR(VLOOKUP($A36,Filtros!$A$5:$AY$22116,21,FALSE),0)","v":5},{"$f":"IFERROR(VLOOKUP($A36,Filtros!$A$5:$AY$22116,22,FALSE),0)","v":2},{"$f":"IFERROR(VLOOKUP($A36,Filtros!$A$5:$AY$22116,23,FALSE),0)","v":3},{"$f":"IFERROR(VLOOKUP($A36,Filtros!$A$5:$AY$22116,24,FALSE),0)","v":0},{"$f":"IFERROR(VLOOKUP($A36,Filtros!$A$5:$AY$22116,25,FALSE),0)","v":6},{"$f":"IFERROR(VLOOKUP($A36,Filtros!$A$5:$AY$22116,26,FALSE),0)","v":1},{"$f":"IFERROR(VLOOKUP($A36,Filtros!$A$5:$AY$22116,27,FALSE),0)","v":4},{"$f":"IFERROR(VLOOKUP($A36,Filtros!$A$5:$AY$22116,28,FALSE),0)","v":3},{"$f":"IFERROR(VLOOKUP($A36,Filtros!$A$5:$AY$22116,29,FALSE),0)","v":7},{"$f":"IFERROR(VLOOKUP($A36,Filtros!$A$5:$AY$22116,30,FALSE),0)","v":5},{"$f":"IFERROR(VLOOKUP($A36,Filtros!$A$5:$AY$22116,31,FALSE),0)","v":7},{"$f":"IFERROR(VLOOKUP($A36,Filtros!$A$5:$AY$22116,32,FALSE),0)","v":8},{"$f":"IFERROR(VLOOKUP($A36,Filtros!$A$5:$AY$22116,33,FALSE),0)","v":14},{"$f":"IFERROR(VLOOKUP($A36,Filtros!$A$5:$AY$22116,34,FALSE),0)","v":21},{"$f":"IFERROR(VLOOKUP($A36,Filtros!$A$5:$AY$22116,35,FALSE),0)","v":25},{"$f":"IFERROR(VLOOKUP($A36,Filtros!$A$5:$AY$22116,36,FALSE),0)","v":23},{"$f":"IFERROR(VLOOKUP($A36,Filtros!$A$5:$AY$22116,37,FALSE),0)","v":63},{"$f":"IFERROR(VLOOKUP($A36,Filtros!$A$5:$AY$22116,38,FALSE),0)","v":127},{"$f":"IFERROR(VLOOKUP($A36,Filtros!$A$5:$AY$22116,39,FALSE),0)","v":0},{"$f":"IFERROR(VLOOKUP($A36,Filtros!$A$5:$AY$22116,40,FALSE),0)","v":0},{"$f":"IFERROR(VLOOKUP($A36,Filtros!$A$5:$AY$22116,41,FALSE),0)","v":0},{"$f":"CD36 & CE36 & CF36 & CG36","v":""},{"$nulls":37},"",{"$f":"IF($D36<=$D35,\"\",\"* Atención Domiciliaria por Dependencia Severa: Total Personas con Escaras no debe ser mayor al Total Personas. \")","v":""},"",{"$f":"IF($D36<=$D34,\"\",\"* Atención Domiciliaria por Dependencia Severa: Total Personas con Escaras no debe ser mayor a las personas con Dependencia Severa con Escaras. \")","v":""},{"$nulls":4},0,{"$f":"IF($D36<=$D35,0,1)","v":0},0,{"$f":"IF($D36<=$D34,0,1)","v":0}]
["P3160940",null,"TOTAL PERSONAS CON CUIDADOR QUE RECIBE APOYO MONETARIO",{"$f":"IFERROR(VLOOKUP($A37,Filtros!$A$5:$AY$22116,2,FALSE),0)","v":664},{"$f":"IFERROR(VLOOKUP($A37,Filtros!$A$5:$AY$22116,3,FALSE),0)","v":252},{"$f":"IFERROR(VLOOKUP($A37,Filtros!$A$5:$AY$22116,4,FALSE),0)","v":412},{"$f":"IFERROR(VLOOKUP($A37,Filtros!$A$5:$AY$22116,5,FALSE),0)","v":1},{"$f":"IFERROR(VLOOKUP($A37,Filtros!$A$5:$AY$22116,6,FALSE),0)","v":0},{"$f":"IFERROR(VLOOKUP($A37,Filtros!$A$5:$AY$22116,7,FALSE),0)","v":10},{"$f":"IFERROR(VLOOKUP($A37,Filtros!$A$5:$AY$22116,8,FALSE),0)","v":8},{"$f":"IFERROR(VLOOKUP($A37,Filtros!$A$5:$AY$22116,9,FALSE),0)","v":10},{"$f":"IFERROR(VLOOKUP($A37,Filtros!$A$5:$AY$22116,10,FALSE),0)","v":21},{"$f":"IFERROR(VLOOKUP($A37,Filtros!$A$5:$AY$22116,11,FALSE),0)","v":5},{"$f":"IFERROR(VLOOKUP($A37,Filtros!$A$5:$AY$22116,12,FALSE),0)","v":4},{"$f":"IFERROR(VLOOKUP($A37,Filtros!$A$5:$AY$22116,13,FALSE),0)","v":11},{"$f":"IFERROR(VLOOKUP($A37,Filtros!$A$5:$AY$22116,14,FALSE),0)","v":10},{"$f":"IFERROR(VLOOKUP($A37,Filtros!$A$5:$AY$22116,15,FALSE),0)","v":13},{"$f":"IFERROR(VLOOKUP($A37,Filtros!$A$5:$AY$22116,16,FALSE),0)","v":15},{"$f":"IFERROR(VLOOKUP($A37,Filtros!$A$5:$AY$22116,17,FALSE),0)","v":18},{"$f":"IFERROR(VLOOKUP($A37,Filtros!$A$5:$AY$22116,18,FALSE),0)","v":12},{"$f":"IFERROR(VLOOKUP($A37,Filtros!$A$5:$AY$22116,19,FALSE),0)","v":18},{"$f":"IFERROR(VLOOKUP($A37,Filtros!$A$5:$AY$22116,20,FALSE),0)","v":13},{"$f":"IFERROR(VLOOKUP($A37,Filtros!$A$5:$AY$22116,21,FALSE),0)","v":10},{"$f":"IFERROR(VLOOKUP($A37,Filtros!$A$5:$AY$22116,22,FALSE),0)","v":5},{"$f":"IFERROR(VLOOKUP($A37,Filtros!$A$5:$AY$22116,23,FALSE),0)","v":14},{"$f":"IFERROR(VLOOKUP($A37,Filtros!$A$5:$AY$22116,24,FALSE),0)","v":15},{"$f":"IFERROR(VLOOKUP($A37,Filtros!$A$5:$AY$22116,25,FALSE),0)","v":12},{"$f":"IFERROR(VLOOKUP($A37,Filtros!$A$5:$AY$22116,26,FALSE),0)","v":9},{"$f":"IFERROR(VLOOKUP($A37,Filtros!$A$5:$AY$22116,27,FALSE),0)","v":15},{"$f":"IFERROR(VLOOKUP($A37,Filtros!$A$5:$AY$22116,28,FALSE),0)","v":12},{"$f":"IFERROR(VLOOKUP($A37,Filtros!$A$5:$AY$22116,29,FALSE),0)","v":7},{"$f":"IFERROR(VLOOKUP($A37,Filtros!$A$5:$AY$22116,30,FALSE),0)","v":15},{"$f":"IFERROR(VLOOKUP($A37,Filtros!$A$5:$AY$22116,31,FALSE),0)","v":21},{"$f":"IFERROR(VLOOKUP($A37,Filtros!$A$5:$AY$22116,32,FALSE),0)","v":11},{"$f":"IFERROR(VLOOKUP($A37,Filtros!$A$5:$AY$22116,33,FALSE),0)","v":18},{"$f":"IFERROR(VLOOKUP($A37,Filtros!$A$5:$AY$22116,34,FALSE),0)","v":22},{"$f":"IFERROR(VLOOKUP($A37,Filtros!$A$5:$AY$22116,35,FALSE),0)","v":11},{"$f":"IFERROR(VLOOKUP($A37,Filtros!$A$5:$AY$22116,36,FALSE),0)","v":26},{"$f":"IFERROR(VLOOKUP($A37,Filtros!$A$5:$AY$22116,37,FALSE),0)","v":58},{"$f":"IFERROR(VLOOKUP($A37,Filtros!$A$5:$AY$22116,38,FALSE),0)","v":214},{"$f":"IFERROR(VLOOKUP($A37,Filtros!$A$5:$AY$22116,39,FALSE),0)","v":0},{"$f":"IFERROR(VLOOKUP($A37,Filtros!$A$5:$AY$22116,40,FALSE),0)","v":0},{"$f":"IFERROR(VLOOKUP($A37,Filtros!$A$5:$AY$22116,41,FALSE),0)","v":0},{"$f":"CD37 & CE37 & CF37","v":""},{"$nulls":37},"",{"$f":"IF($D37<=$D35,\"\",\"Total Personas con cuidador que recibe apoyo monetario no debe ser mayor al Total Personas. \")","v":""},"",{"$nulls":5},0,{"$f":"IF($D37<=$D35,0,1)","v":0},0]
["P3170200",null,"CON INDICACIÓN DE NUTRICIÓN ENTERAL DOMICILIARIA (NED) ",{"$f":"IFERROR(VLOOKUP($A38,Filtros!$A$5:$AY$22116,2,FALSE),0)","v":79},{"$f":"IFERROR(VLOOKUP($A38,Filtros!$A$5:$AY$22116,3,FALSE),0)","v":40},{"$f":"IFERROR(VLOOKUP($A38,Filtros!$A$5:$AY$22116,4,FALSE),0)","v":39},{"$f":"IFERROR(VLOOKUP($A38,Filtros!$A$5:$AY$22116,5,FALSE),0)","v":1},{"$f":"IFERROR(VLOOKUP($A38,Filtros!$A$5:$AY$22116,6,FALSE),0)","v":1},{"$f":"IFERROR(VLOOKUP($A38,Filtros!$A$5:$AY$22116,7,FALSE),0)","v":3},{"$f":"IFERROR(VLOOKUP($A38,Filtros!$A$5:$AY$22116,8,FALSE),0)","v":0},{"$f":"IFERROR(VLOOKUP($A38,Filtros!$A$5:$AY$22116,9,FALSE),0)","v":1},{"$f":"IFERROR(VLOOKUP($A38,Filtros!$A$5:$AY$22116,10,FALSE),0)","v":2},{"$f":"IFERROR(VLOOKUP($A38,Filtros!$A$5:$AY$22116,11,FALSE),0)","v":2},{"$f":"IFERROR(VLOOKUP($A38,Filtros!$A$5:$AY$22116,12,FALSE),0)","v":1},{"$f":"IFERROR(VLOOKUP($A38,Filtros!$A$5:$AY$22116,13,FALSE),0)","v":1},{"$f":"IFERROR(VLOOKUP($A38,Filtros!$A$5:$AY$22116,14,FALSE),0)","v":0},{"$f":"IFERROR(VLOOKUP($A38,Filtros!$A$5:$AY$22116,15,FALSE),0)","v":3},{"$f":"IFERROR(VLOOKUP($A38,Filtros!$A$5:$AY$22116,16,FALSE),0)","v":1},{"$f":"IFERROR(VLOOKUP($A38,Filtros!$A$5:$AY$22116,17,FALSE),0)","v":0},{"$f":"IFERROR(VLOOKUP($A38,Filtros!$A$5:$AY$22116,18,FALSE),0)","v":0},{"$f":"IFERROR(VLOOKUP($A38,Filtros!$A$5:$AY$22116,19,FALSE),0)","v":2},{"$f":"IFERROR(VLOOKUP($A38,Filtros!$A$5:$AY$22116,20,FALSE),0)","v":1},{"$f":"IFERROR(VLOOKUP($A38,Filtros!$A$5:$AY$22116,21,FALSE),0)","v":1},{"$f":"IFERROR(VLOOKUP($A38,Filtros!$A$5:$AY$22116,22,FALSE),0)","v":0},{"$f":"IFERROR(VLOOKUP($A38,Filtros!$A$5:$AY$22116,23,FALSE),0)","v":1},{"$f":"IFERROR(VLOOKUP($A38,Filtros!$A$5:$AY$22116,24,FALSE),0)","v":1},{"$f":"IFERROR(VLOOKUP($A38,Filtros!$A$5:$AY$22116,25,FALSE),0)","v":2},{"$f":"IFERROR(VLOOKUP($A38,Filtros!$A$5:$AY$22116,26,FALSE),0)","v":0},{"$f":"IFERROR(VLOOKUP($A38,Filtros!$A$5:$AY$22116,27,FALSE),0)","v":1},{"$f":"IFERROR(VLOOKUP($A38,Filtros!$A$5:$AY$22116,28,FALSE),0)","v":2},{"$f":"IFERROR(VLOOKUP($A38,Filtros!$A$5:$AY$22116,29,FALSE),0)","v":0},{"$f":"IFERROR(VLOOKUP($A38,Filtros!$A$5:$AY$22116,30,FALSE),0)","v":0},{"$f":"IFERROR(VLOOKUP($A38,Filtros!$A$5:$AY$22116,31,FALSE),0)","v":6},{"$f":"IFERROR(VLOOKUP($A38,Filtros!$A$5:$AY$22116,32,FALSE),0)","v":4},{"$f":"IFERROR(VLOOKUP($A38,Filtros!$A$5:$AY$22116,33,FALSE),0)","v":3},{"$f":"IFERROR(VLOOKUP($A38,Filtros!$A$5:$AY$22116,34,FALSE),0)","v":2},{"$f":"IFERROR(VLOOKUP($A38,Filtros!$A$5:$AY$22116,35,FALSE),0)","v":3},{"$f":"IFERROR(VLOOKUP($A38,Filtros!$A$5:$AY$22116,36,FALSE),0)","v":5},{"$f":"IFERROR(VLOOKUP($A38,Filtros!$A$5:$AY$22116,37,FALSE),0)","v":10},{"$f":"IFERROR(VLOOKUP($A38,Filtros!$A$5:$AY$22116,38,FALSE),0)","v":19},{"$f":"IFERROR(VLOOKUP($A38,Filtros!$A$5:$AY$22116,39,FALSE),0)","v":0},{"$f":"IFERROR(VLOOKUP($A38,Filtros!$A$5:$AY$22116,40,FALSE),0)","v":0},{"$f":"IFERROR(VLOOKUP($A38,Filtros!$A$5:$AY$22116,41,FALSE),0)","v":0},{"$f":"CD38 & CE38 & CF38","v":""},{"$nulls":37},"",{"$f":"IF($D38<=$D35,\"\",\"Total Personas con indicación de Nutrición Enteral Domiciliaria no debe ser mayor al Total Personas. \")","v":""},"",{"$nulls":5},{"$f":"IF($D38>=$AP38+$AQ38,0,1)","v":0},{"$f":"IF($D38<=$D35,0,1)","v":0},0]
[null,"(*) Incluidos en Dependencia Severa Oncológica y NO Oncológica"]
[null,"SECCION B: CUIDADORES DE PACIENTES CON DEPENDENCIA SEVERA"]
[null,"CONCEPTO",null,"Total Cuidadoras/es","ATENCIÓN DOMICILIARIA POR DEPENDENCIA SEVERA"]
[{"$nulls":4},"Total Cuidadoras/es capacitadas/dos","Total cuidadoras/es con examen preventivo vigente","Cuidadoras/es con apoyo monetario","Cuidadoras/es Capacitadas/os con apoyo monetario"]
["P5300600","NÚMERO DE CUIDADORES",null,{"$f":"IFERROR(VLOOKUP($A43,Filtros!$A$5:$AY$22116,2,FALSE),0)","v":3428},{"$f":"IFERROR(VLOOKUP($A43,Filtros!$A$5:$AY$22116,3,FALSE),0)","v":2220},{"$f":"IFERROR(VLOOKUP($A43,Filtros!$A$5:$AY$22116,4,FALSE),0)","v":715},{"$f":"IFERROR(VLOOKUP($A43,Filtros!$A$5:$AY$22116,5,FALSE),0)","v":661},{"$f":"IFERROR(VLOOKUP($A43,Filtros!$A$5:$AY$22116,6,FALSE),0)","v":487},{"$f":"CD43 & CE43 & CF43 & CG43 & CH43","v":"* Los Cuidadores con apoyo monetario debe ser igual al Total de personas 'con cuidador que recibe apoyo monetario' de la sección A. "},{"$nulls":72},{"$f":"IF($D43>=$G43,\"\",\"* Los Cuidadores con apoyo monetario no debe ser mayor al Total de Cuidadores. \")","v":""},{"$f":"IF($D43>=$E43,\"\",\"* Los Cuidadores Capacitados no debe ser mayor al Total Cuidadores. \")","v":""},{"$f":"IF($G$43=$D$37,\"\",\"* Los Cuidadores con apoyo monetario debe ser igual al Total de personas 'con cuidador que recibe apoyo monetario' de la sección A. \")","v":"* Los Cuidadores con apoyo monetario debe ser igual al Total de personas 'con cuidador que recibe apoyo monetario' de la sección A. "},{"$f":"IF(E43<H43,\"* El total de Cuidadores capacitados con apoyo monetario no puede ser mayor al Total de Cuidadores Capacitados\",\"\")","v":""},{"$f":"IF(H43>G43,\"* El N° de cuidadores con apoyo monetario deben ser mayor o igual a los cuidadores capacitados con apoyo monetarios. \",\"\")","v":""},{"$nulls":3},{"$f":"IF($D43>=$G43,0,1)","v":0},{"$f":"IF($D43>=$E43,0,1)","v":0},{"$f":"IF($G$43=$D$37,0,1)","v":1},{"$f":"IF(G43<H43,1,0)","v":0},{"$f":"IF(H43>G43,1,0)","v":0}]
[null,"SECCION C: POBLACIÓN EN CONTROL EN PROGRAMA DE REHABILITACIÓN PULMONAR EN SALA IRA-ERA"]
[null,"PROGRAMA",null,null,"TOTAL",null,null,"GRUPOS DE EDAD (en años) Y SEXO"]
[{"$nulls":7},"0 a 4 años",null,"5 a 9 años",null,"10 a 14 años",null,"15 a 19 años",null,"20 a 24 años",null,"25 a 29 años",null,"30 a 34 años",null,"35 a 39 años",null,"40 a 44 años",null,"45 a 49 años",null,"50 a 54 años",null,"55 a 59 años",null,"60 a 64 años",null,"65 a 69 años",null,"70 a 74 años",null,"75 a 79 años",null,"80 y más años"]
[{"$nulls":4},"Ambos\nsexos","Hombres","Mujeres","Hombres","Mujeres","Hombres","Mujeres","Hombres","Mujeres","Hombres","Mujeres","Hombres","Mujeres","Hombres","Mujeres","Hombres","Mujeres","Hombres","Mujeres","Hombres","Mujeres","Hombres","Mujeres","Hombres","Mujeres","Hombres","Mujeres","Hombres","Mujeres","Hombres ","Mujeres","Hombres ","Mujeres","Hombres ","Mujeres","Hombres ","Mujeres"]
["P3170400","REHABILITACIÓN PULMONAR",null,"Ingresos",{"$f":"IFERROR(VLOOKUP($A48,Filtros!$A$5:$AY$22116,2,FALSE),0)","v":93},{"$f":"IFERROR(VLOOKUP($A48,Filtros!$A$5:$AY$22116,3,FALSE),0)","v":42},{"$f":"IFERROR(VLOOKUP($A48,Filtros!$A$5:$AY$22116,4,FALSE),0)","v":51},{"$f":"IFERROR(VLOOKUP($A48,Filtros!$A$5:$AY$22116,5,FALSE),0)","v":0},{"$f":"IFERROR(VLOOKUP($A48,Filtros!$A$5:$AY$22116,6,FALSE),0)","v":0},{"$f":"IFERROR(VLOOKUP($A48,Filtros!$A$5:$AY$22116,7,FALSE),0)","v":0},{"$f":"IFERROR(VLOOKUP($A48,Filtros!$A$5:$AY$22116,8,FALSE),0)","v":0},{"$f":"IFERROR(VLOOKUP($A48,Filtros!$A$5:$AY$22116,9,FALSE),0)","v":0},{"$f":"IFERROR(VLOOKUP($A48,Filtros!$A$5:$AY$22116,10,FALSE),0)","v":0},{"$f":"IFERROR(VLOOKUP($A48,Filtros!$A$5:$AY$22116,11,FALSE),0)","v":0},{"$f":"IFERROR(VLOOKUP($A48,Filtros!$A$5:$AY$22116,12,FALSE),0)","v":0},{"$f":"IFERROR(VLOOKUP($A48,Filtros!$A$5:$AY$22116,13,FALSE),0)","v":13},{"$f":"IFERROR(VLOOKUP($A48,Filtros!$A$5:$AY$22116,14,FALSE),0)","v":12},{"$f":"IFERROR(VLOOKUP($A48,Filtros!$A$5:$AY$22116,15,FALSE),0)","v":2},{"$f":"IFERROR(VLOOKUP($A48,Filtros!$A$5:$AY$22116,16,FALSE),0)","v":2},{"$f":"IFERROR(VLOOKUP($A48,Filtros!$A$5:$AY$22116,17,FALSE),0)","v":1},{"$f":"IFERROR(VLOOKUP($A48,Filtros!$A$5:$AY$22116,18,FALSE),0)","v":1},{"$f":"IFERROR(VLOOKUP($A48,Filtros!$A$5:$AY$22116,19,FALSE),0)","v":1},{"$f":"IFERROR(VLOOKUP($A48,Filtros!$A$5:$AY$22116,20,FALSE),0)","v":1},{"$f":"IFERROR(VLOOKUP($A48,Filtros!$A$5:$AY$22116,21,FALSE),0)","v":2},{"$f":"IFERROR(VLOOKUP($A48,Filtros!$A$5:$AY$22116,22,FALSE),0)","v":7},{"$f":"IFERROR(VLOOKUP($A48,Filtros!$A$5:$AY$22116,23,FALSE),0)","v":0},{"$f":"IFERROR(VLOOKUP($A48,Filtros!$A$5:$AY$22116,24,FALSE),0)","v":5},{"$f":"IFERROR(VLOOKUP($A48,Filtros!$A$5:$AY$22116,25,FALSE),0)","v":3},{"$f":"IFERROR(VLOOKUP($A48,Filtros!$A$5:$AY$22116,26,FALSE),0)","v":3},{"$f":"IFERROR(VLOOKUP($A48,Filtros!$A$5:$AY$22116,27,FALSE),0)","v":1},{"$f":"IFERROR(VLOOKUP($A48,Filtros!$A$5:$AY$22116,28,FALSE),0)","v":2},{"$f":"IFERROR(VLOOKUP($A48,Filtros!$A$5:$AY$22116,29,FALSE),0)","v":2},{"$f":"IFERROR(VLOOKUP($A48,Filtros!$A$5:$AY$22116,30,FALSE),0)","v":3},{"$f":"IFERROR(VLOOKUP($A48,Filtros!$A$5:$AY$22116,31,FALSE),0)","v":6},{"$f":"IFERROR(VLOOKUP($A48,Filtros!$A$5:$AY$22116,32,FALSE),0)","v":3},{"$f":"IFERROR(VLOOKUP($A48,Filtros!$A$5:$AY$22116,33,FALSE),0)","v":5},{"$f":"IFERROR(VLOOKUP($A48,Filtros!$A$5:$AY$22116,34,FALSE),0)","v":3},{"$f":"IFERROR(VLOOKUP($A48,Filtros!$A$5:$AY$22116,35,FALSE),0)","v":3},{"$f":"IFERROR(VLOOKUP($A48,Filtros!$A$5:$AY$22116,36,FALSE),0)","v":5},{"$f":"IFERROR(VLOOKUP($A48,Filtros!$A$5:$AY$22116,37,FALSE),0)","v":3},{"$f":"IFERROR(VLOOKUP($A48,Filtros!$A$5:$AY$22116,38,FALSE),0)","v":4}]
["P3170500",null,null,"Abandonos",{"$f":"IFERROR(VLOOKUP($A49,Filtros!$A$5:$AY$22116,2,FALSE),0)","v":115},{"$f":"IFERROR(VLOOKUP($A49,Filtros!$A$5:$AY$22116,3,FALSE),0)","v":40},{"$f":"IFERROR(VLOOKUP($A49,Filtros!$A$5:$AY$22116,4,FALSE),0)","v":75},{"$f":"IFERROR(VLOOKUP($A49,Filtros!$A$5:$AY$22116,5,FALSE),0)","v":0},{"$f":"IFERROR(VLOOKUP($A49,Filtros!$A$5:$AY$22116,6,FALSE),0)","v":0},{"$f":"IFERROR(VLOOKUP($A49,Filtros!$A$5:$AY$22116,7,FALSE),0)","v":1},{"$f":"IFERROR(VLOOKUP($A49,Filtros!$A$5:$AY$22116,8,FALSE),0)","v":2},{"$f":"IFERROR(VLOOKUP($A49,Filtros!$A$5:$AY$22116,9,FALSE),0)","v":3},{"$f":"IFERROR(VLOOKUP($A49,Filtros!$A$5:$AY$22116,10,FALSE),0)","v":1},{"$f":"IFERROR(VLOOKUP($A49,Filtros!$A$5:$AY$22116,11,FALSE),0)","v":3},{"$f":"IFERROR(VLOOKUP($A49,Filtros!$A$5:$AY$22116,12,FALSE),0)","v":2},{"$f":"IFERROR(VLOOKUP($A49,Filtros!$A$5:$AY$22116,13,FALSE),0)","v":2},{"$f":"IFERROR(VLOOKUP($A49,Filtros!$A$5:$AY$22116,14,FALSE),0)","v":3},{"$f":"IFERROR(VLOOKUP($A49,Filtros!$A$5:$AY$22116,15,FALSE),0)","v":1},{"$f":"IFERROR(VLOOKUP($A49,Filtros!$A$5:$AY$22116,16,FALSE),0)","v":4},{"$f":"IFERROR(VLOOKUP($A49,Filtros!$A$5:$AY$22116,17,FALSE),0)","v":2},{"$f":"IFERROR(VLOOKUP($A49,Filtros!$A$5:$AY$22116,18,FALSE),0)","v":3},{"$f":"IFERROR(VLOOKUP($A49,Filtros!$A$5:$AY$22116,19,FALSE),0)","v":2},{"$f":"IFERROR(VLOOKUP($A49,Filtros!$A$5:$AY$22116,20,FALSE),0)","v":3},{"$f":"IFERROR(VLOOKUP($A49,Filtros!$A$5:$AY$22116,21,FALSE),0)","v":1},{"$f":"IFERROR(VLOOKUP($A49,Filtros!$A$5:$AY$22116,22,FALSE),0)","v":4},{"$f":"IFERROR(VLOOKUP($A49,Filtros!$A$5:$AY$22116,23,FALSE),0)","v":0},{"$f":"IFERROR(VLOOKUP($A49,Filtros!$A$5:$AY$22116,24,FALSE),0)","v":8},{"$f":"IFERROR(VLOOKUP($A49,Filtros!$A$5:$AY$22116,25,FALSE),0)","v":2},{"$f":"IFERROR(VLOOKUP($A49,Filtros!$A$5:$AY$22116,26,FALSE),0)","v":2},{"$f":"IFERROR(VLOOKUP($A49,Filtros!$A$5:$AY$22116,27,FALSE),0)","v":0},{"$f":"IFERROR(VLOOKUP($A49,Filtros!$A$5:$AY$22116,28,FALSE),0)","v":4},{"$f":"IFERROR(VLOOKUP($A49,Filtros!$A$5:$AY$22116,29,FALSE),0)","v":4},{"$f":"IFERROR(VLOOKUP($A49,Filtros!$A$5:$AY$22116,30,FALSE),0)","v":7},{"$f":"IFERROR(VLOOKUP($A49,Filtros!$A$5:$AY$22116,31,FALSE),0)","v":3},{"$f":"IFERROR(VLOOKUP($A49,Filtros!$A$5:$AY$22116,32,FALSE),0)","v":12},{"$f":"IFERROR(VLOOKUP($A49,Filtros!$A$5:$AY$22116,33,FALSE),0)","v":5},{"$f":"IFERROR(VLOOKUP($A49,Filtros!$A$5:$AY$22116,34,FALSE),0)","v":8},{"$f":"IFERROR(VLOOKUP($A49,Filtros!$A$5:$AY$22116,35,FALSE),0)","v":6},{"$f":"IFERROR(VLOOKUP($A49,Filtros!$A$5:$AY$22116,36,FALSE),0)","v":6},{"$f":"IFERROR(VLOOKUP($A49,Filtros!$A$5:$AY$22116,37,FALSE),0)","v":5},{"$f":"IFERROR(VLOOKUP($A49,Filtros!$A$5:$AY$22116,38,FALSE),0)","v":6}]
["P3170600",null,null,"Egresos por termino de ciclo",{"$f":"IFERROR(VLOOKUP($A50,Filtros!$A$5:$AY$22116,2,FALSE),0)","v":57},{"$f":"IFERROR(VLOOKUP($A50,Filtros!$A$5:$AY$22116,3,FALSE),0)","v":26},{"$f":"IFERROR(VLOOKUP($A50,Filtros!$A$5:$AY$22116,4,FALSE),0)","v":31},{"$f":"IFERROR(VLOOKUP($A50,Filtros!$A$5:$AY$22116,5,FALSE),0)","v":0},{"$f":"IFERROR(VLOOKUP($A50,Filtros!$A$5:$AY$22116,6,FALSE),0)","v":0},{"$f":"IFERROR(VLOOKUP($A50,Filtros!$A$5:$AY$22116,7,FALSE),0)","v":0},{"$f":"IFERROR(VLOOKUP($A50,Filtros!$A$5:$AY$22116,8,FALSE),0)","v":0},{"$f":"IFERROR(VLOOKUP($A50,Filtros!$A$5:$AY$22116,9,FALSE),0)","v":0},{"$f":"IFERROR(VLOOKUP($A50,Filtros!$A$5:$AY$22116,10,FALSE),0)","v":0},{"$f":"IFERROR(VLOOKUP($A50,Filtros!$A$5:$AY$22116,11,FALSE),0)","v":0},{"$f":"IFERROR(VLOOKUP($A50,Filtros!$A$5:$AY$22116,12,FALSE),0)","v":0},{"$f":"IFERROR(VLOOKUP($A50,Filtros!$A$5:$AY$22116,13,FALSE),0)","v":0},{"$f":"IFERROR(VLOOKUP($A50,Filtros!$A$5:$AY$22116,14,FALSE),0)","v":1},{"$f":"IFERROR(VLOOKUP($A50,Filtros!$A$5:$AY$22116,15,FALSE),0)","v":1},{"$f":"IFERROR(VLOOKUP($A50,Filtros!$A$5:$AY$22116,16,FALSE),0)","v":1},{"$f":"IFERROR(VLOOKUP($A50,Filtros!$A$5:$AY$22116,17,FALSE),0)","v":2},{"$f":"IFERROR(VLOOKUP($A50,Filtros!$A$5:$AY$22116,18,FALSE),0)","v":1},{"$f":"IFERROR(VLOOKUP($A50,Filtros!$A$5:$AY$22116,19,FALSE),0)","v":1},{"$f":"IFERROR(VLOOKUP($A50,Filtros!$A$5:$AY$22116,20,FALSE),0)","v":1},{"$f":"IFERROR(VLOOKUP($A50,Filtros!$A$5:$AY$22116,21,FALSE),0)","v":1},{"$f":"IFERROR(VLOOKUP($A50,Filtros!$A$5:$AY$22116,22,FALSE),0)","v":4},{"$f":"IFERROR(VLOOKUP($A50,Filtros!$A$5:$AY$22116,23,FALSE),0)","v":1},{"$f":"IFERROR(VLOOKUP($A50,Filtros!$A$5:$AY$22116,24,FALSE),0)","v":1},{"$f":"IFERROR(VLOOKUP($A50,Filtros!$A$5:$AY$22116,25,FALSE),0)","v":2},{"$f":"IFERROR(VLOOKUP($A50,Filtros!$A$5:$AY$22116,26,FALSE),0)","v":0},{"$f":"IFERROR(VLOOKUP($A50,Filtros!$A$5:$AY$22116,27,FALSE),0)","v":0},{"$f":"IFERROR(VLOOKUP($A50,Filtros!$A$5:$AY$22116,28,FALSE),0)","v":1},{"$f":"IFERROR(VLOOKUP($A50,Filtros!$A$5:$AY$22116,29,FALSE),0)","v":1},{"$f":"IFERROR(VLOOKUP($A50,Filtros!$A$5:$AY$22116,30,FALSE),0)","v":0},{"$f":"IFERROR(VLOOKUP($A50,Filtros!$A$5:$AY$22116,31,FALSE),0)","v":6},{"$f":"IFERROR(VLOOKUP($A50,Filtros!$A$5:$AY$22116,32,FALSE),0)","v":4},{"$f":"IFERROR(VLOOKUP($A50,Filtros!$A$5:$AY$22116,33,FALSE),0)","v":1},{"$f":"IFERROR(VLOOKUP($A50,Filtros!$A$5:$AY$22116,34,FALSE),0)","v":4},{"$f":"IFERROR(VLOOKUP($A50,Filtros!$A$5:$AY$22116,35,FALSE),0)","v":3},{"$f":"IFERROR(VLOOKUP($A50,Filtros!$A$5:$AY$22116,36,FALSE),0)","v":3},{"$f":"IFERROR(VLOOKUP($A50,Filtros!$A$5:$AY$22116,37,FALSE),0)","v":7},{"$f":"IFERROR(VLOOKUP($A50,Filtros!$A$5:$AY$22116,38,FALSE),0)","v":10}]
["P3170700",null,null,"Articulacion continuidad en intersector",{"$f":"IFERROR(VLOOKUP($A51,Filtros!$A$5:$AY$22116,2,FALSE),0)","v":1},{"$f":"IFERROR(VLOOKUP($A51,Filtros!$A$5:$AY$22116,3,FALSE),0)","v":0},{"$f":"IFERROR(VLOOKUP($A51,Filtros!$A$5:$AY$22116,4,FALSE),0)","v":1},{"$f":"IFERROR(VLOOKUP($A51,Filtros!$A$5:$AY$22116,5,FALSE),0)","v":0},{"$f":"IFERROR(VLOOKUP($A51,Filtros!$A$5:$AY$22116,6,FALSE),0)","v":0},{"$f":"IFERROR(VLOOKUP($A51,Filtros!$A$5:$AY$22116,7,FALSE),0)","v":0},{"$f":"IFERROR(VLOOKUP($A51,Filtros!$A$5:$AY$22116,8,FALSE),0)","v":0},{"$f":"IFERROR(VLOOKUP($A51,Filtros!$A$5:$AY$22116,9,FALSE),0)","v":0},{"$f":"IFERROR(VLOOKUP($A51,Filtros!$A$5:$AY$22116,10,FALSE),0)","v":0},{"$f":"IFERROR(VLOOKUP($A51,Filtros!$A$5:$AY$22116,11,FALSE),0)","v":0},{"$f":"IFERROR(VLOOKUP($A51,Filtros!$A$5:$AY$22116,12,FALSE),0)","v":0},{"$f":"IFERROR(VLOOKUP($A51,Filtros!$A$5:$AY$22116,13,FALSE),0)","v":0},{"$f":"IFERROR(VLOOKUP($A51,Filtros!$A$5:$AY$22116,14,FALSE),0)","v":0},{"$f":"IFERROR(VLOOKUP($A51,Filtros!$A$5:$AY$22116,15,FALSE),0)","v":0},{"$f":"IFERROR(VLOOKUP($A51,Filtros!$A$5:$AY$22116,16,FALSE),0)","v":0},{"$f":"IFERROR(VLOOKUP($A51,Filtros!$A$5:$AY$22116,17,FALSE),0)","v":0},{"$f":"IFERROR(VLOOKUP($A51,Filtros!$A$5:$AY$22116,18,FALSE),0)","v":0},{"$f":"IFERROR(VLOOKUP($A51,Filtros!$A$5:$AY$22116,19,FALSE),0)","v":0},{"$f":"IFERROR(VLOOKUP($A51,Filtros!$A$5:$AY$22116,20,FALSE),0)","v":0},{"$f":"IFERROR(VLOOKUP($A51,Filtros!$A$5:$AY$22116,21,FALSE),0)","v":0},{"$f":"IFERROR(VLOOKUP($A51,Filtros!$A$5:$AY$22116,22,FALSE),0)","v":1},{"$f":"IFERROR(VLOOKUP($A51,Filtros!$A$5:$AY$22116,23,FALSE),0)","v":0},{"$f":"IFERROR(VLOOKUP($A51,Filtros!$A$5:$AY$22116,24,FALSE),0)","v":0},{"$f":"IFERROR(VLOOKUP($A51,Filtros!$A$5:$AY$22116,25,FALSE),0)","v":0},{"$f":"IFERROR(VLOOKUP($A51,Filtros!$A$5:$AY$22116,26,FALSE),0)","v":0},{"$f":"IFERROR(VLOOKUP($A51,Filtros!$A$5:$AY$22116,27,FALSE),0)","v":0},{"$f":"IFERROR(VLOOKUP($A51,Filtros!$A$5:$AY$22116,28,FALSE),0)","v":0},{"$f":"IFERROR(VLOOKUP($A51,Filtros!$A$5:$AY$22116,29,FALSE),0)","v":0},{"$f":"IFERROR(VLOOKUP($A51,Filtros!$A$5:$AY$22116,30,FALSE),0)","v":0},{"$f":"IFERROR(VLOOKUP($A51,Filtros!$A$5:$AY$22116,31,FALSE),0)","v":0},{"$f":"IFERROR(VLOOKUP($A51,Filtros!$A$5:$AY$22116,32,FALSE),0)","v":0},{"$f":"IFERROR(VLOOKUP($A51,Filtros!$A$5:$AY$22116,33,FALSE),0)","v":0},{"$f":"IFERROR(VLOOKUP($A51,Filtros!$A$5:$AY$22116,34,FALSE),0)","v":0},{"$f":"IFERROR(VLOOKUP($A51,Filtros!$A$5:$AY$22116,35,FALSE),0)","v":0},{"$f":"IFERROR(VLOOKUP($A51,Filtros!$A$5:$AY$22116,36,FALSE),0)","v":0},{"$f":"IFERROR(VLOOKUP($A51,Filtros!$A$5:$AY$22116,37,FALSE),0)","v":0},{"$f":"IFERROR(VLOOKUP($A51,Filtros!$A$5:$AY$22116,38,FALSE),0)","v":0}]
[null,"SECCION D: NIVEL DE CONTROL DE POBLACION RESPIRATORIA CRONICA"]
[null,"PROGRAMAS",null,"TOTAL",null,null,"GRUPOS DE EDAD (en años) Y SEXO"]
[{"$nulls":6},"0 a 4 años",null,"5 a 9 años",null,"10 a 14 años",null,"15 a 19 años",null,"20 a 24 años",null,"25 a 29 años",null,"30 a 34 años",null,"35 a 39 años",null,"40 a 44 años",null,"45 a 49 años",null,"50 a 54 años",null,"55 a 59 años",null,"60 a 64 años",null,"65 a 69 años",null,"70 a 74 años",null,"75 a 79 años",null,"80 y más años"]
[{"$nulls":3},"Ambos\nsexos","Hombres","Mujeres","Hombres","Mujeres","Hombres","Mujeres","Hombres","Mujeres","Hombres","Mujeres","Hombres","Mujeres","Hombres","Mujeres","Hombres","Mujeres","Hombres","Mujeres","Hombres","Mujeres","Hombres","Mujeres","Hombres","Mujeres","Hombres","Mujeres","Hombres","Mujeres","Hombres ","Mujeres","Hombres ","Mujeres","Hombres ","Mujeres","Hombres ","Mujeres"]
["P3161041","ASMA BRONQUIAL","Controlado",{"$f":"IFERROR(VLOOKUP($A56,Filtros!$A$5:$AY$22116,2,FALSE),0)","v":8047},{"$f":"IFERROR(VLOOKUP($A56,Filtros!$A$5:$AY$22116,3,FALSE),0)","v":3094},{"$f":"IFERROR(VLOOKUP($A56,Filtros!$A$5:$AY$22116,4,FALSE),0)","v":4953},{"$f":"IFERROR(VLOOKUP($A56,Filtros!$A$5:$AY$22116,5,FALSE),0)","v":85},{"$f":"IFERROR(VLOOKUP($A56,Filtros!$A$5:$AY$22116,6,FALSE),0)","v":53},{"$f":"IFERROR(VLOOKUP($A56,Filtros!$A$5:$AY$22116,7,FALSE),0)","v":838},{"$f":"IFERROR(VLOOKUP($A56,Filtros!$A$5:$AY$22116,8,FALSE),0)","v":642},{"$f":"IFERROR(VLOOKUP($A56,Filtros!$A$5:$AY$22116,9,FALSE),0)","v":798},{"$f":"IFERROR(VLOOKUP($A56,Filtros!$A$5:$AY$22116,10,FALSE),0)","v":580},{"$f":"IFERROR(VLOOKUP($A56,Filtros!$A$5:$AY$22116,11,FALSE),0)","v":369},{"$f":"IFERROR(VLOOKUP($A56,Filtros!$A$5:$AY$22116,12,FALSE),0)","v":355},{"$f":"IFERROR(VLOOKUP($A56,Filtros!$A$5:$AY$22116,13,FALSE),0)","v":130},{"$f":"IFERROR(VLOOKUP($A56,Filtros!$A$5:$AY$22116,14,FALSE),0)","v":187},{"$f":"IFERROR(VLOOKUP($A56,Filtros!$A$5:$AY$22116,15,FALSE),0)","v":73},{"$f":"IFERROR(VLOOKUP($A56,Filtros!$A$5:$AY$22116,16,FALSE),0)","v":182},{"$f":"IFERROR(VLOOKUP($A56,Filtros!$A$5:$AY$22116,17,FALSE),0)","v":66},{"$f":"IFERROR(VLOOKUP($A56,Filtros!$A$5:$AY$22116,18,FALSE),0)","v":189},{"$f":"IFERROR(VLOOKUP($A56,Filtros!$A$5:$AY$22116,19,FALSE),0)","v":45},{"$f":"IFERROR(VLOOKUP($A56,Filtros!$A$5:$AY$22116,20,FALSE),0)","v":175},{"$f":"IFERROR(VLOOKUP($A56,Filtros!$A$5:$AY$22116,21,FALSE),0)","v":39},{"$f":"IFERROR(VLOOKUP($A56,Filtros!$A$5:$AY$22116,22,FALSE),0)","v":183},{"$f":"IFERROR(VLOOKUP($A56,Filtros!$A$5:$AY$22116,23,FALSE),0)","v":43},{"$f":"IFERROR(VLOOKUP($A56,Filtros!$A$5:$AY$22116,24,FALSE),0)","v":244},{"$f":"IFERROR(VLOOKUP($A56,Filtros!$A$5:$AY$22116,25,FALSE),0)","v":52},{"$f":"IFERROR(VLOOKUP($A56,Filtros!$A$5:$AY$22116,26,FALSE),0)","v":265},{"$f":"IFERROR(VLOOKUP($A56,Filtros!$A$5:$AY$22116,27,FALSE),0)","v":71},{"$f":"IFERROR(VLOOKUP($A56,Filtros!$A$5:$AY$22116,28,FALSE),0)","v":305},{"$f":"IFERROR(VLOOKUP($A56,Filtros!$A$5:$AY$22116,29,FALSE),0)","v":98},{"$f":"IFERROR(VLOOKUP($A56,Filtros!$A$5:$AY$22116,30,FALSE),0)","v":320},{"$f":"IFERROR(VLOOKUP($A56,Filtros!$A$5:$AY$22116,31,FALSE),0)","v":92},{"$f":"IFERROR(VLOOKUP($A56,Filtros!$A$5:$AY$22116,32,FALSE),0)","v":327},{"$f":"IFERROR(VLOOKUP($A56,Filtros!$A$5:$AY$22116,33,FALSE),0)","v":100},{"$f":"IFERROR(VLOOKUP($A56,Filtros!$A$5:$AY$22116,34,FALSE),0)","v":363},{"$f":"IFERROR(VLOOKUP($A56,Filtros!$A$5:$AY$22116,35,FALSE),0)","v":89},{"$f":"IFERROR(VLOOKUP($A56,Filtros!$A$5:$AY$22116,36,FALSE),0)","v":274},{"$f":"IFERROR(VLOOKUP($A56,Filtros!$A$5:$AY$22116,37,FALSE),0)","v":106},{"$f":"IFERROR(VLOOKUP($A56,Filtros!$A$5:$AY$22116,38,FALSE),0)","v":309}]
["P3161042",null,"Parcialmente Controlado",{"$f":"IFERROR(VLOOKUP($A57,Filtros!$A$5:$AY$22116,2,FALSE),0)","v":1765},{"$f":"IFERROR(VLOOKUP($A57,Filtros!$A$5:$AY$22116,3,FALSE),0)","v":489},{"$f":"IFERROR(VLOOKUP($A57,Filtros!$A$5:$AY$22116,4,FALSE),0)","v":1276},{"$f":"IFERROR(VLOOKUP($A57,Filtros!$A$5:$AY$22116,5,FALSE),0)","v":6},{"$f":"IFERROR(VLOOKUP($A57,Filtros!$A$5:$AY$22116,6,FALSE),0)","v":8},{"$f":"IFERROR(VLOOKUP($A57,Filtros!$A$5:$AY$22116,7,FALSE),0)","v":96},{"$f":"IFERROR(VLOOKUP($A57,Filtros!$A$5:$AY$22116,8,FALSE),0)","v":77},{"$f":"IFERROR(VLOOKUP($A57,Filtros!$A$5:$AY$22116,9,FALSE),0)","v":83},{"$f":"IFERROR(VLOOKUP($A57,Filtros!$A$5:$AY$22116,10,FALSE),0)","v":74},{"$f":"IFERROR(VLOOKUP($A57,Filtros!$A$5:$AY$22116,11,FALSE),0)","v":49},{"$f":"IFERROR(VLOOKUP($A57,Filtros!$A$5:$AY$22116,12,FALSE),0)","v":70},{"$f":"IFERROR(VLOOKUP($A57,Filtros!$A$5:$AY$22116,13,FALSE),0)","v":20},{"$f":"IFERROR(VLOOKUP($A57,Filtros!$A$5:$AY$22116,14,FALSE),0)","v":51},{"$f":"IFERROR(VLOOKUP($A57,Filtros!$A$5:$AY$22116,15,FALSE),0)","v":19},{"$f":"IFERROR(VLOOKUP($A57,Filtros!$A$5:$AY$22116,16,FALSE),0)","v":63},{"$f":"IFERROR(VLOOKUP($A57,Filtros!$A$5:$AY$22116,17,FALSE),0)","v":18},{"$f":"IFERROR(VLOOKUP($A57,Filtros!$A$5:$AY$22116,18,FALSE),0)","v":65},{"$f":"IFERROR(VLOOKUP($A57,Filtros!$A$5:$AY$22116,19,FALSE),0)","v":16},{"$f":"IFERROR(VLOOKUP($A57,Filtros!$A$5:$AY$22116,20,FALSE),0)","v":63},{"$f":"IFERROR(VLOOKUP($A57,Filtros!$A$5:$AY$22116,21,FALSE),0)","v":6},{"$f":"IFERROR(VLOOKUP($A57,Filtros!$A$5:$AY$22116,22,FALSE),0)","v":69},{"$f":"IFERROR(VLOOKUP($A57,Filtros!$A$5:$AY$22116,23,FALSE),0)","v":14},{"$f":"IFERROR(VLOOKUP($A57,Filtros!$A$5:$AY$22116,24,FALSE),0)","v":85},{"$f":"IFERROR(VLOOKUP($A57,Filtros!$A$5:$AY$22116,25,FALSE),0)","v":20},{"$f":"IFERROR(VLOOKUP($A57,Filtros!$A$5:$AY$22116,26,FALSE),0)","v":92},{"$f":"IFERROR(VLOOKUP($A57,Filtros!$A$5:$AY$22116,27,FALSE),0)","v":15},{"$f":"IFERROR(VLOOKUP($A57,Filtros!$A$5:$AY$22116,28,FALSE),0)","v":94},{"$f":"IFERROR(VLOOKUP($A57,Filtros!$A$5:$AY$22116,29,FALSE),0)","v":21},{"$f":"IFERROR(VLOOKUP($A57,Filtros!$A$5:$AY$22116,30,FALSE),0)","v":123},{"$f":"IFERROR(VLOOKUP($A57,Filtros!$A$5:$AY$22116,31,FALSE),0)","v":34},{"$f":"IFERROR(VLOOKUP($A57,Filtros!$A$5:$AY$22116,32,FALSE),0)","v":94},{"$f":"IFERROR(VLOOKUP($A57,Filtros!$A$5:$AY$22116,33,FALSE),0)","v":27},{"$f":"IFERROR(VLOOKUP($A57,Filtros!$A$5:$AY$22116,34,FALSE),0)","v":96},{"$f":"IFERROR(VLOOKUP($A57,Filtros!$A$5:$AY$22116,35,FALSE),0)","v":27},{"$f":"IFERROR(VLOOKUP($A57,Filtros!$A$5:$AY$22116,36,FALSE),0)","v":61},{"$f":"IFERROR(VLOOKUP($A57,Filtros!$A$5:$AY$22116,37,FALSE),0)","v":18},{"$f":"IFERROR(VLOOKUP($A57,Filtros!$A$5:$AY$22116,38,FALSE),0)","v":91}]
["P3161043",null,"No Controlado",{"$f":"IFERROR(VLOOKUP($A58,Filtros!$A$5:$AY$22116,2,FALSE),0)","v":533},{"$f":"IFERROR(VLOOKUP($A58,Filtros!$A$5:$AY$22116,3,FALSE),0)","v":127},{"$f":"IFERROR(VLOOKUP($A58,Filtros!$A$5:$AY$22116,4,FALSE),0)","v":406},{"$f":"IFERROR(VLOOKUP($A58,Filtros!$A$5:$AY$22116,5,FALSE),0)","v":2},{"$f":"IFERROR(VLOOKUP($A58,Filtros!$A$5:$AY$22116,6,FALSE),0)","v":4},{"$f":"IFERROR(VLOOKUP($A58,Filtros!$A$5:$AY$22116,7,FALSE),0)","v":14},{"$f":"IFERROR(VLOOKUP($A58,Filtros!$A$5:$AY$22116,8,FALSE),0)","v":23},{"$f":"IFERROR(VLOOKUP($A58,Filtros!$A$5:$AY$22116,9,FALSE),0)","v":17},{"$f":"IFERROR(VLOOKUP($A58,Filtros!$A$5:$AY$22116,10,FALSE),0)","v":17},{"$f":"IFERROR(VLOOKUP($A58,Filtros!$A$5:$AY$22116,11,FALSE),0)","v":13},{"$f":"IFERROR(VLOOKUP($A58,Filtros!$A$5:$AY$22116,12,FALSE),0)","v":13},{"$f":"IFERROR(VLOOKUP($A58,Filtros!$A$5:$AY$22116,13,FALSE),0)","v":6},{"$f":"IFERROR(VLOOKUP($A58,Filtros!$A$5:$AY$22116,14,FALSE),0)","v":23},{"$f":"IFERROR(VLOOKUP($A58,Filtros!$A$5:$AY$22116,15,FALSE),0)","v":7},{"$f":"IFERROR(VLOOKUP($A58,Filtros!$A$5:$AY$22116,16,FALSE),0)","v":29},{"$f":"IFERROR(VLOOKUP($A58,Filtros!$A$5:$AY$22116,17,FALSE),0)","v":1},{"$f":"IFERROR(VLOOKUP($A58,Filtros!$A$5:$AY$22116,18,FALSE),0)","v":30},{"$f":"IFERROR(VLOOKUP($A58,Filtros!$A$5:$AY$22116,19,FALSE),0)","v":5},{"$f":"IFERROR(VLOOKUP($A58,Filtros!$A$5:$AY$22116,20,FALSE),0)","v":17},{"$f":"IFERROR(VLOOKUP($A58,Filtros!$A$5:$AY$22116,21,FALSE),0)","v":3},{"$f":"IFERROR(VLOOKUP($A58,Filtros!$A$5:$AY$22116,22,FALSE),0)","v":23},{"$f":"IFERROR(VLOOKUP($A58,Filtros!$A$5:$AY$22116,23,FALSE),0)","v":4},{"$f":"IFERROR(VLOOKUP($A58,Filtros!$A$5:$AY$22116,24,FALSE),0)","v":22},{"$f":"IFERROR(VLOOKUP($A58,Filtros!$A$5:$AY$22116,25,FALSE),0)","v":4},{"$f":"IFERROR(VLOOKUP($A58,Filtros!$A$5:$AY$22116,26,FALSE),0)","v":34},{"$f":"IFERROR(VLOOKUP($A58,Filtros!$A$5:$AY$22116,27,FALSE),0)","v":7},{"$f":"IFERROR(VLOOKUP($A58,Filtros!$A$5:$AY$22116,28,FALSE),0)","v":30},{"$f":"IFERROR(VLOOKUP($A58,Filtros!$A$5:$AY$22116,29,FALSE),0)","v":11},{"$f":"IFERROR(VLOOKUP($A58,Filtros!$A$5:$AY$22116,30,FALSE),0)","v":30},{"$f":"IFERROR(VLOOKUP($A58,Filtros!$A$5:$AY$22116,31,FALSE),0)","v":10},{"$f":"IFERROR(VLOOKUP($A58,Filtros!$A$5:$AY$22116,32,FALSE),0)","v":33},{"$f":"IFERROR(VLOOKUP($A58,Filtros!$A$5:$AY$22116,33,FALSE),0)","v":10},{"$f":"IFERROR(VLOOKUP($A58,Filtros!$A$5:$AY$22116,34,FALSE),0)","v":30},{"$f":"IFERROR(VLOOKUP($A58,Filtros!$A$5:$AY$22116,35,FALSE),0)","v":6},{"$f":"IFERROR(VLOOKUP($A58,Filtros!$A$5:$AY$22116,36,FALSE),0)","v":16},{"$f":"IFERROR(VLOOKUP($A58,Filtros!$A$5:$AY$22116,37,FALSE),0)","v":7},{"$f":"IFERROR(VLOOKUP($A58,Filtros!$A$5:$AY$22116,38,FALSE),0)","v":32}]
["P3161044",null,"No evaluada",{"$f":"IFERROR(VLOOKUP($A59,Filtros!$A$5:$AY$22116,2,FALSE),0)","v":1539},{"$f":"IFERROR(VLOOKUP($A59,Filtros!$A$5:$AY$22116,3,FALSE),0)","v":658},{"$f":"IFERROR(VLOOKUP($A59,Filtros!$A$5:$AY$22116,4,FALSE),0)","v":881},{"$f":"IFERROR(VLOOKUP($A59,Filtros!$A$5:$AY$22116,5,FALSE),0)","v":31},{"$f":"IFERROR(VLOOKUP($A59,Filtros!$A$5:$AY$22116,6,FALSE),0)","v":24},{"$f":"IFERROR(VLOOKUP($A59,Filtros!$A$5:$AY$22116,7,FALSE),0)","v":220},{"$f":"IFERROR(VLOOKUP($A59,Filtros!$A$5:$AY$22116,8,FALSE),0)","v":151},{"$f":"IFERROR(VLOOKUP($A59,Filtros!$A$5:$AY$22116,9,FALSE),0)","v":144},{"$f":"IFERROR(VLOOKUP($A59,Filtros!$A$5:$AY$22116,10,FALSE),0)","v":112},{"$f":"IFERROR(VLOOKUP($A59,Filtros!$A$5:$AY$22116,11,FALSE),0)","v":86},{"$f":"IFERROR(VLOOKUP($A59,Filtros!$A$5:$AY$22116,12,FALSE),0)","v":76},{"$f":"IFERROR(VLOOKUP($A59,Filtros!$A$5:$AY$22116,13,FALSE),0)","v":28},{"$f":"IFERROR(VLOOKUP($A59,Filtros!$A$5:$AY$22116,14,FALSE),0)","v":44},{"$f":"IFERROR(VLOOKUP($A59,Filtros!$A$5:$AY$22116,15,FALSE),0)","v":25},{"$f":"IFERROR(VLOOKUP($A59,Filtros!$A$5:$AY$22116,16,FALSE),0)","v":49},{"$f":"IFERROR(VLOOKUP($A59,Filtros!$A$5:$AY$22116,17,FALSE),0)","v":7},{"$f":"IFERROR(VLOOKUP($A59,Filtros!$A$5:$AY$22116,18,FALSE),0)","v":43},{"$f":"IFERROR(VLOOKUP($A59,Filtros!$A$5:$AY$22116,19,FALSE),0)","v":13},{"$f":"IFERROR(VLOOKUP($A59,Filtros!$A$5:$AY$22116,20,FALSE),0)","v":35},{"$f":"IFERROR(VLOOKUP($A59,Filtros!$A$5:$AY$22116,21,FALSE),0)","v":9},{"$f":"IFERROR(VLOOKUP($A59,Filtros!$A$5:$AY$22116,22,FALSE),0)","v":44},{"$f":"IFERROR(VLOOKUP($A59,Filtros!$A$5:$AY$22116,23,FALSE),0)","v":5},{"$f":"IFERROR(VLOOKUP($A59,Filtros!$A$5:$AY$22116,24,FALSE),0)","v":32},{"$f":"IFERROR(VLOOKUP($A59,Filtros!$A$5:$AY$22116,25,FALSE),0)","v":11},{"$f":"IFERROR(VLOOKUP($A59,Filtros!$A$5:$AY$22116,26,FALSE),0)","v":43},{"$f":"IFERROR(VLOOKUP($A59,Filtros!$A$5:$AY$22116,27,FALSE),0)","v":13},{"$f":"IFERROR(VLOOKUP($A59,Filtros!$A$5:$AY$22116,28,FALSE),0)","v":41},{"$f":"IFERROR(VLOOKUP($A59,Filtros!$A$5:$AY$22116,29,FALSE),0)","v":8},{"$f":"IFERROR(VLOOKUP($A59,Filtros!$A$5:$AY$22116,30,FALSE),0)","v":48},{"$f":"IFERROR(VLOOKUP($A59,Filtros!$A$5:$AY$22116,31,FALSE),0)","v":17},{"$f":"IFERROR(VLOOKUP($A59,Filtros!$A$5:$AY$22116,32,FALSE),0)","v":51},{"$f":"IFERROR(VLOOKUP($A59,Filtros!$A$5:$AY$22116,33,FALSE),0)","v":13},{"$f":"IFERROR(VLOOKUP($A59,Filtros!$A$5:$AY$22116,34,FALSE),0)","v":29},{"$f":"IFERROR(VLOOKUP($A59,Filtros!$A$5:$AY$22116,35,FALSE),0)","v":9},{"$f":"IFERROR(VLOOKUP($A59,Filtros!$A$5:$AY$22116,36,FALSE),0)","v":17},{"$f":"IFERROR(VLOOKUP($A59,Filtros!$A$5:$AY$22116,37,FALSE),0)","v":19},{"$f":"IFERROR(VLOOKUP($A59,Filtros!$A$5:$AY$22116,38,FALSE),0)","v":42},{"$nulls":40},{"$f":"IF(SUM(D15:D17)>=SUM(D56:D59),\"\",\"* El total de Asma Bronquial en ambos sexo no puede ser mayor al total de Asma Bronquial de ambos sexo de la Sección A. \")","v":""},{"$nulls":7},{"$f":"IF(SUM(D15:D17)>=SUM(D56:D59),0,1)","v":0}]
["P3161045","ENFERMEDAD PULMONAR OBSTRUCTIVA CRÓNICA (EPOC)","Logra Control Adecuado",{"$f":"IFERROR(VLOOKUP($A60,Filtros!$A$5:$AY$22116,2,FALSE),0)","v":2106},{"$f":"IFERROR(VLOOKUP($A60,Filtros!$A$5:$AY$22116,3,FALSE),0)","v":1041},{"$f":"IFERROR(VLOOKUP($A60,Filtros!$A$5:$AY$22116,4,FALSE),0)","v":1065},{"$f":"IFERROR(VLOOKUP($A60,Filtros!$A$5:$AY$22116,5,FALSE),0)","v":0},{"$f":"IFERROR(VLOOKUP($A60,Filtros!$A$5:$AY$22116,6,FALSE),0)","v":0},{"$f":"IFERROR(VLOOKUP($A60,Filtros!$A$5:$AY$22116,7,FALSE),0)","v":0},{"$f":"IFERROR(VLOOKUP($A60,Filtros!$A$5:$AY$22116,8,FALSE),0)","v":0},{"$f":"IFERROR(VLOOKUP($A60,Filtros!$A$5:$AY$22116,9,FALSE),0)","v":0},{"$f":"IFERROR(VLOOKUP($A60,Filtros!$A$5:$AY$22116,10,FALSE),0)","v":0},{"$f":"IFERROR(VLOOKUP($A60,Filtros!$A$5:$AY$22116,11,FALSE),0)","v":0},{"$f":"IFERROR(VLOOKUP($A60,Filtros!$A$5:$AY$22116,12,FALSE),0)","v":0},{"$f":"IFERROR(VLOOKUP($A60,Filtros!$A$5:$AY$22116,13,FALSE),0)","v":0},{"$f":"IFERROR(VLOOKUP($A60,Filtros!$A$5:$AY$22116,14,FALSE),0)","v":0},{"$f":"IFERROR(VLOOKUP($A60,Filtros!$A$5:$AY$22116,15,FALSE),0)","v":0},{"$f":"IFERROR(VLOOKUP($A60,Filtros!$A$5:$AY$22116,16,FALSE),0)","v":0},{"$f":"IFERROR(VLOOKUP($A60,Filtros!$A$5:$AY$22116,17,FALSE),0)","v":0},{"$f":"IFERROR(VLOOKUP($A60,Filtros!$A$5:$AY$22116,18,FALSE),0)","v":0},{"$f":"IFERROR(VLOOKUP($A60,Filtros!$A$5:$AY$22116,19,FALSE),0)","v":0},{"$f":"IFERROR(VLOOKUP($A60,Filtros!$A$5:$AY$22116,20,FALSE),0)","v":0},{"$f":"IFERROR(VLOOKUP($A60,Filtros!$A$5:$AY$22116,21,FALSE),0)","v":2},{"$f":"IFERROR(VLOOKUP($A60,Filtros!$A$5:$AY$22116,22,FALSE),0)","v":6},{"$f":"IFERROR(VLOOKUP($A60,Filtros!$A$5:$AY$22116,23,FALSE),0)","v":10},{"$f":"IFERROR(VLOOKUP($A60,Filtros!$A$5:$AY$22116,24,FALSE),0)","v":10},{"$f":"IFERROR(VLOOKUP($A60,Filtros!$A$5:$AY$22116,25,FALSE),0)","v":13},{"$f":"IFERROR(VLOOKUP($A60,Filtros!$A$5:$AY$22116,26,FALSE),0)","v":24},{"$f":"IFERROR(VLOOKUP($A60,Filtros!$A$5:$AY$22116,27,FALSE),0)","v":38},{"$f":"IFERROR(VLOOKUP($A60,Filtros!$A$5:$AY$22116,28,FALSE),0)","v":57},{"$f":"IFERROR(VLOOKUP($A60,Filtros!$A$5:$AY$22116,29,FALSE),0)","v":79},{"$f":"IFERROR(VLOOKUP($A60,Filtros!$A$5:$AY$22116,30,FALSE),0)","v":116},{"$f":"IFERROR(VLOOKUP($A60,Filtros!$A$5:$AY$22116,31,FALSE),0)","v":132},{"$f":"IFERROR(VLOOKUP($A60,Filtros!$A$5:$AY$22116,32,FALSE),0)","v":159},{"$f":"IFERROR(VLOOKUP($A60,Filtros!$A$5:$AY$22116,33,FALSE),0)","v":184},{"$f":"IFERROR(VLOOKUP($A60,Filtros!$A$5:$AY$22116,34,FALSE),0)","v":153},{"$f":"IFERROR(VLOOKUP($A60,Filtros!$A$5:$AY$22116,35,FALSE),0)","v":222},{"$f":"IFERROR(VLOOKUP($A60,Filtros!$A$5:$AY$22116,36,FALSE),0)","v":189},{"$f":"IFERROR(VLOOKUP($A60,Filtros!$A$5:$AY$22116,37,FALSE),0)","v":361},{"$f":"IFERROR(VLOOKUP($A60,Filtros!$A$5:$AY$22116,38,FALSE),0)","v":351}]
["P3161046",null,"No Logra Control Adecuado",{"$f":"IFERROR(VLOOKUP($A61,Filtros!$A$5:$AY$22116,2,FALSE),0)","v":391},{"$f":"IFERROR(VLOOKUP($A61,Filtros!$A$5:$AY$22116,3,FALSE),0)","v":177},{"$f":"IFERROR(VLOOKUP($A61,Filtros!$A$5:$AY$22116,4,FALSE),0)","v":214},{"$f":"IFERROR(VLOOKUP($A61,Filtros!$A$5:$AY$22116,5,FALSE),0)","v":0},{"$f":"IFERROR(VLOOKUP($A61,Filtros!$A$5:$AY$22116,6,FALSE),0)","v":0},{"$f":"IFERROR(VLOOKUP($A61,Filtros!$A$5:$AY$22116,7,FALSE),0)","v":0},{"$f":"IFERROR(VLOOKUP($A61,Filtros!$A$5:$AY$22116,8,FALSE),0)","v":0},{"$f":"IFERROR(VLOOKUP($A61,Filtros!$A$5:$AY$22116,9,FALSE),0)","v":0},{"$f":"IFERROR(VLOOKUP($A61,Filtros!$A$5:$AY$22116,10,FALSE),0)","v":0},{"$f":"IFERROR(VLOOKUP($A61,Filtros!$A$5:$AY$22116,11,FALSE),0)","v":0},{"$f":"IFERROR(VLOOKUP($A61,Filtros!$A$5:$AY$22116,12,FALSE),0)","v":0},{"$f":"IFERROR(VLOOKUP($A61,Filtros!$A$5:$AY$22116,13,FALSE),0)","v":0},{"$f":"IFERROR(VLOOKUP($A61,Filtros!$A$5:$AY$22116,14,FALSE),0)","v":0},{"$f":"IFERROR(VLOOKUP($A61,Filtros!$A$5:$AY$22116,15,FALSE),0)","v":0},{"$f":"IFERROR(VLOOKUP($A61,Filtros!$A$5:$AY$22116,16,FALSE),0)","v":0},{"$f":"IFERROR(VLOOKUP($A61,Filtros!$A$5:$AY$22116,17,FALSE),0)","v":0},{"$f":"IFERROR(VLOOKUP($A61,Filtros!$A$5:$AY$22116,18,FALSE),0)","v":0},{"$f":"IFERROR(VLOOKUP($A61,Filtros!$A$5:$AY$22116,19,FALSE),0)","v":0},{"$f":"IFERROR(VLOOKUP($A61,Filtros!$A$5:$AY$22116,20,FALSE),0)","v":0},{"$f":"IFERROR(VLOOKUP($A61,Filtros!$A$5:$AY$22116,21,FALSE),0)","v":0},{"$f":"IFERROR(VLOOKUP($A61,Filtros!$A$5:$AY$22116,22,FALSE),0)","v":0},{"$f":"IFERROR(VLOOKUP($A61,Filtros!$A$5:$AY$22116,23,FALSE),0)","v":2},{"$f":"IFERROR(VLOOKUP($A61,Filtros!$A$5:$AY$22116,24,FALSE),0)","v":0},{"$f":"IFERROR(VLOOKUP($A61,Filtros!$A$5:$AY$22116,25,FALSE),0)","v":3},{"$f":"IFERROR(VLOOKUP($A61,Filtros!$A$5:$AY$22116,26,FALSE),0)","v":7},{"$f":"IFERROR(VLOOKUP($A61,Filtros!$A$5:$AY$22116,27,FALSE),0)","v":8},{"$f":"IFERROR(VLOOKUP($A61,Filtros!$A$5:$AY$22116,28,FALSE),0)","v":13},{"$f":"IFERROR(VLOOKUP($A61,Filtros!$A$5:$AY$22116,29,FALSE),0)","v":12},{"$f":"IFERROR(VLOOKUP($A61,Filtros!$A$5:$AY$22116,30,FALSE),0)","v":13},{"$f":"IFERROR(VLOOKUP($A61,Filtros!$A$5:$AY$22116,31,FALSE),0)","v":27},{"$f":"IFERROR(VLOOKUP($A61,Filtros!$A$5:$AY$22116,32,FALSE),0)","v":35},{"$f":"IFERROR(VLOOKUP($A61,Filtros!$A$5:$AY$22116,33,FALSE),0)","v":25},{"$f":"IFERROR(VLOOKUP($A61,Filtros!$A$5:$AY$22116,34,FALSE),0)","v":37},{"$f":"IFERROR(VLOOKUP($A61,Filtros!$A$5:$AY$22116,35,FALSE),0)","v":36},{"$f":"IFERROR(VLOOKUP($A61,Filtros!$A$5:$AY$22116,36,FALSE),0)","v":37},{"$f":"IFERROR(VLOOKUP($A61,Filtros!$A$5:$AY$22116,37,FALSE),0)","v":64},{"$f":"IFERROR(VLOOKUP($A61,Filtros!$A$5:$AY$22116,38,FALSE),0)","v":72}]
["P3161047",null,"No evaluada",{"$f":"IFERROR(VLOOKUP($A62,Filtros!$A$5:$AY$22116,2,FALSE),0)","v":432},{"$f":"IFERROR(VLOOKUP($A62,Filtros!$A$5:$AY$22116,3,FALSE),0)","v":244},{"$f":"IFERROR(VLOOKUP($A62,Filtros!$A$5:$AY$22116,4,FALSE),0)","v":188},{"$f":"IFERROR(VLOOKUP($A62,Filtros!$A$5:$AY$22116,5,FALSE),0)","v":0},{"$f":"IFERROR(VLOOKUP($A62,Filtros!$A$5:$AY$22116,6,FALSE),0)","v":0},{"$f":"IFERROR(VLOOKUP($A62,Filtros!$A$5:$AY$22116,7,FALSE),0)","v":0},{"$f":"IFERROR(VLOOKUP($A62,Filtros!$A$5:$AY$22116,8,FALSE),0)","v":0},{"$f":"IFERROR(VLOOKUP($A62,Filtros!$A$5:$AY$22116,9,FALSE),0)","v":0},{"$f":"IFERROR(VLOOKUP($A62,Filtros!$A$5:$AY$22116,10,FALSE),0)","v":0},{"$f":"IFERROR(VLOOKUP($A62,Filtros!$A$5:$AY$22116,11,FALSE),0)","v":0},{"$f":"IFERROR(VLOOKUP($A62,Filtros!$A$5:$AY$22116,12,FALSE),0)","v":0},{"$f":"IFERROR(VLOOKUP($A62,Filtros!$A$5:$AY$22116,13,FALSE),0)","v":0},{"$f":"IFERROR(VLOOKUP($A62,Filtros!$A$5:$AY$22116,14,FALSE),0)","v":0},{"$f":"IFERROR(VLOOKUP($A62,Filtros!$A$5:$AY$22116,15,FALSE),0)","v":0},{"$f":"IFERROR(VLOOKUP($A62,Filtros!$A$5:$AY$22116,16,FALSE),0)","v":0},{"$f":"IFERROR(VLOOKUP($A62,Filtros!$A$5:$AY$22116,17,FALSE),0)","v":0},{"$f":"IFERROR(VLOOKUP($A62,Filtros!$A$5:$AY$22116,18,FALSE),0)","v":0},{"$f":"IFERROR(VLOOKUP($A62,Filtros!$A$5:$AY$22116,19,FALSE),0)","v":0},{"$f":"IFERROR(VLOOKUP($A62,Filtros!$A$5:$AY$22116,20,FALSE),0)","v":0},{"$f":"IFERROR(VLOOKUP($A62,Filtros!$A$5:$AY$22116,21,FALSE),0)","v":1},{"$f":"IFERROR(VLOOKUP($A62,Filtros!$A$5:$AY$22116,22,FALSE),0)","v":1},{"$f":"IFERROR(VLOOKUP($A62,Filtros!$A$5:$AY$22116,23,FALSE),0)","v":2},{"$f":"IFERROR(VLOOKUP($A62,Filtros!$A$5:$AY$22116,24,FALSE),0)","v":4},{"$f":"IFERROR(VLOOKUP($A62,Filtros!$A$5:$AY$22116,25,FALSE),0)","v":9},{"$f":"IFERROR(VLOOKUP($A62,Filtros!$A$5:$AY$22116,26,FALSE),0)","v":8},{"$f":"IFERROR(VLOOKUP($A62,Filtros!$A$5:$AY$22116,27,FALSE),0)","v":8},{"$f":"IFERROR(VLOOKUP($A62,Filtros!$A$5:$AY$22116,28,FALSE),0)","v":13},{"$f":"IFERROR(VLOOKUP($A62,Filtros!$A$5:$AY$22116,29,FALSE),0)","v":31},{"$f":"IFERROR(VLOOKUP($A62,Filtros!$A$5:$AY$22116,30,FALSE),0)","v":24},{"$f":"IFERROR(VLOOKUP($A62,Filtros!$A$5:$AY$22116,31,FALSE),0)","v":44},{"$f":"IFERROR(VLOOKUP($A62,Filtros!$A$5:$AY$22116,32,FALSE),0)","v":23},{"$f":"IFERROR(VLOOKUP($A62,Filtros!$A$5:$AY$22116,33,FALSE),0)","v":49},{"$f":"IFERROR(VLOOKUP($A62,Filtros!$A$5:$AY$22116,34,FALSE),0)","v":24},{"$f":"IFERROR(VLOOKUP($A62,Filtros!$A$5:$AY$22116,35,FALSE),0)","v":49},{"$f":"IFERROR(VLOOKUP($A62,Filtros!$A$5:$AY$22116,36,FALSE),0)","v":31},{"$f":"IFERROR(VLOOKUP($A62,Filtros!$A$5:$AY$22116,37,FALSE),0)","v":51},{"$f":"IFERROR(VLOOKUP($A62,Filtros!$A$5:$AY$22116,38,FALSE),0)","v":60},{"$nulls":40},{"$f":"IF(SUM(D60:D62)>SUM(D18:D19),\"* El total de EPOC en ambos sexos no puede ser superior al total de EPOC en ambos sexos de la sección A. \",\"\")","v":""},{"$nulls":7},{"$f":"IF(SUM(D60:D62)>SUM(D18:D19),1,0)","v":0}]
[null,"SECCIÓN E:  RESULTADO DE ENCUESTA CALIDAD DE VIDA"]
[null,"DIAGNÓSTICO",null,"ACTIVIDAD","TOTAL",null,null,"POR EDAD"]
[{"$nulls":7},"0 a 4 años",null,"5 - 9 \naños",null,"10 - 14\naños",null,"15 - 19\naños",null,"20 a 24 años\n",null,"25 a 29 años",null,"30 a 34 años",null,"35 a 39 años",null,"40 - 44 años",null,"45 - 49 años",null,"50 - 54 años",null,"55 - 59 años",null,"60 - 64 años",null,"65 - 69 años",null,"70 - 74 años",null,"75 - 79 años",null,"80 y mas años"]
[{"$nulls":4},"Ambos Sexos","Hombres","Mujeres","Hombres","Mujeres","Hombres","Mujeres","Hombres","Mujeres","Hombres","Mujeres","Hombres","Mujeres","Hombres","Mujeres","Hombres","Mujeres","Hombres","Mujeres","Hombres","Mujeres","Hombres","Mujeres","Hombres","Mujeres","Hombres","Mujeres","Hombres","Mujeres","Hombres","Mujeres","Hombres","Mujeres","Hombres","Mujeres","Hombres","Mujeres"]
["P3170800","ENFERMEDAD PULMONAR OBSTRUCTIVA CRÓNICA (EPOC)",null,"Evaluados",{"$f":"IFERROR(VLOOKUP($A67,Filtros!$A$5:$AY$22116,2,FALSE),0)","v":552},{"$f":"IFERROR(VLOOKUP($A67,Filtros!$A$5:$AY$22116,3,FALSE),0)","v":294},{"$f":"IFERROR(VLOOKUP($A67,Filtros!$A$5:$AY$22116,4,FALSE),0)","v":258},{"$f":"IFERROR(VLOOKUP($A67,Filtros!$A$5:$AY$22116,5,FALSE),0)","v":0},{"$f":"IFERROR(VLOOKUP($A67,Filtros!$A$5:$AY$22116,6,FALSE),0)","v":0},{"$f":"IFERROR(VLOOKUP($A67,Filtros!$A$5:$AY$22116,7,FALSE),0)","v":0},{"$f":"IFERROR(VLOOKUP($A67,Filtros!$A$5:$AY$22116,8,FALSE),0)","v":0},{"$f":"IFERROR(VLOOKUP($A67,Filtros!$A$5:$AY$22116,9,FALSE),0)","v":0},{"$f":"IFERROR(VLOOKUP($A67,Filtros!$A$5:$AY$22116,10,FALSE),0)","v":0},{"$f":"IFERROR(VLOOKUP($A67,Filtros!$A$5:$AY$22116,11,FALSE),0)","v":0},{"$f":"IFERROR(VLOOKUP($A67,Filtros!$A$5:$AY$22116,12,FALSE),0)","v":0},{"$f":"IFERROR(VLOOKUP($A67,Filtros!$A$5:$AY$22116,13,FALSE),0)","v":0},{"$f":"IFERROR(VLOOKUP($A67,Filtros!$A$5:$AY$22116,14,FALSE),0)","v":0},{"$f":"IFERROR(VLOOKUP($A67,Filtros!$A$5:$AY$22116,15,FALSE),0)","v":0},{"$f":"IFERROR(VLOOKUP($A67,Filtros!$A$5:$AY$22116,16,FALSE),0)","v":0},{"$f":"IFERROR(VLOOKUP($A67,Filtros!$A$5:$AY$22116,17,FALSE),0)","v":0},{"$f":"IFERROR(VLOOKUP($A67,Filtros!$A$5:$AY$22116,18,FALSE),0)","v":0},{"$f":"IFERROR(VLOOKUP($A67,Filtros!$A$5:$AY$22116,19,FALSE),0)","v":0},{"$f":"IFERROR(VLOOKUP($A67,Filtros!$A$5:$AY$22116,20,FALSE),0)","v":0},{"$f":"IFERROR(VLOOKUP($A67,Filtros!$A$5:$AY$22116,21,FALSE),0)","v":1},{"$f":"IFERROR(VLOOKUP($A67,Filtros!$A$5:$AY$22116,22,FALSE),0)","v":0},{"$f":"IFERROR(VLOOKUP($A67,Filtros!$A$5:$AY$22116,23,FALSE),0)","v":1},{"$f":"IFERROR(VLOOKUP($A67,Filtros!$A$5:$AY$22116,24,FALSE),0)","v":3},{"$f":"IFERROR(VLOOKUP($A67,Filtros!$A$5:$AY$22116,25,FALSE),0)","v":9},{"$f":"IFERROR(VLOOKUP($A67,Filtros!$A$5:$AY$22116,26,FALSE),0)","v":6},{"$f":"IFERROR(VLOOKUP($A67,Filtros!$A$5:$AY$22116,27,FALSE),0)","v":14},{"$f":"IFERROR(VLOOKUP($A67,Filtros!$A$5:$AY$22116,28,FALSE),0)","v":19},{"$f":"IFERROR(VLOOKUP($A67,Filtros!$A$5:$AY$22116,29,FALSE),0)","v":35},{"$f":"IFERROR(VLOOKUP($A67,Filtros!$A$5:$AY$22116,30,FALSE),0)","v":28},{"$f":"IFERROR(VLOOKUP($A67,Filtros!$A$5:$AY$22116,31,FALSE),0)","v":44},{"$f":"IFERROR(VLOOKUP($A67,Filtros!$A$5:$AY$22116,32,FALSE),0)","v":52},{"$f":"IFERROR(VLOOKUP($A67,Filtros!$A$5:$AY$22116,33,FALSE),0)","v":44},{"$f":"IFERROR(VLOOKUP($A67,Filtros!$A$5:$AY$22116,34,FALSE),0)","v":36},{"$f":"IFERROR(VLOOKUP($A67,Filtros!$A$5:$AY$22116,35,FALSE),0)","v":63},{"$f":"IFERROR(VLOOKUP($A67,Filtros!$A$5:$AY$22116,36,FALSE),0)","v":48},{"$f":"IFERROR(VLOOKUP($A67,Filtros!$A$5:$AY$22116,37,FALSE),0)","v":83},{"$f":"IFERROR(VLOOKUP($A67,Filtros!$A$5:$AY$22116,38,FALSE),0)","v":66}]
["P3170900",null,null,"Mejora en relación a  año anterior",{"$f":"IFERROR(VLOOKUP($A68,Filtros!$A$5:$AY$22116,2,FALSE),0)","v":301},{"$f":"IFERROR(VLOOKUP($A68,Filtros!$A$5:$AY$22116,3,FALSE),0)","v":158},{"$f":"IFERROR(VLOOKUP($A68,Filtros!$A$5:$AY$22116,4,FALSE),0)","v":143},{"$f":"IFERROR(VLOOKUP($A68,Filtros!$A$5:$AY$22116,5,FALSE),0)","v":0},{"$f":"IFERROR(VLOOKUP($A68,Filtros!$A$5:$AY$22116,6,FALSE),0)","v":0},{"$f":"IFERROR(VLOOKUP($A68,Filtros!$A$5:$AY$22116,7,FALSE),0)","v":0},{"$f":"IFERROR(VLOOKUP($A68,Filtros!$A$5:$AY$22116,8,FALSE),0)","v":0},{"$f":"IFERROR(VLOOKUP($A68,Filtros!$A$5:$AY$22116,9,FALSE),0)","v":0},{"$f":"IFERROR(VLOOKUP($A68,Filtros!$A$5:$AY$22116,10,FALSE),0)","v":0},{"$f":"IFERROR(VLOOKUP($A68,Filtros!$A$5:$AY$22116,11,FALSE),0)","v":0},{"$f":"IFERROR(VLOOKUP($A68,Filtros!$A$5:$AY$22116,12,FALSE),0)","v":0},{"$f":"IFERROR(VLOOKUP($A68,Filtros!$A$5:$AY$22116,13,FALSE),0)","v":0},{"$f":"IFERROR(VLOOKUP($A68,Filtros!$A$5:$AY$22116,14,FALSE),0)","v":0},{"$f":"IFERROR(VLOOKUP($A68,Filtros!$A$5:$AY$22116,15,FALSE),0)","v":0},{"$f":"IFERROR(VLOOKUP($A68,Filtros!$A$5:$AY$22116,16,FALSE),0)","v":0},{"$f":"IFERROR(VLOOKUP($A68,Filtros!$A$5:$AY$22116,17,FALSE),0)","v":0},{"$f":"IFERROR(VLOOKUP($A68,Filtros!$A$5:$AY$22116,18,FALSE),0)","v":0},{"$f":"IFERROR(VLOOKUP($A68,Filtros!$A$5:$AY$22116,19,FALSE),0)","v":0},{"$f":"IFERROR(VLOOKUP($A68,Filtros!$A$5:$AY$22116,20,FALSE),0)","v":0},{"$f":"IFERROR(VLOOKUP($A68,Filtros!$A$5:$AY$22116,21,FALSE),0)","v":0},{"$f":"IFERROR(VLOOKUP($A68,Filtros!$A$5:$AY$22116,22,FALSE),0)","v":0},{"$f":"IFERROR(VLOOKUP($A68,Filtros!$A$5:$AY$22116,23,FALSE),0)","v":2},{"$f":"IFERROR(VLOOKUP($A68,Filtros!$A$5:$AY$22116,24,FALSE),0)","v":1},{"$f":"IFERROR(VLOOKUP($A68,Filtros!$A$5:$AY$22116,25,FALSE),0)","v":5},{"$f":"IFERROR(VLOOKUP($A68,Filtros!$A$5:$AY$22116,26,FALSE),0)","v":3},{"$f":"IFERROR(VLOOKUP($A68,Filtros!$A$5:$AY$22116,27,FALSE),0)","v":9},{"$f":"IFERROR(VLOOKUP($A68,Filtros!$A$5:$AY$22116,28,FALSE),0)","v":12},{"$f":"IFERROR(VLOOKUP($A68,Filtros!$A$5:$AY$22116,29,FALSE),0)","v":13},{"$f":"IFERROR(VLOOKUP($A68,Filtros!$A$5:$AY$22116,30,FALSE),0)","v":17},{"$f":"IFERROR(VLOOKUP($A68,Filtros!$A$5:$AY$22116,31,FALSE),0)","v":22},{"$f":"IFERROR(VLOOKUP($A68,Filtros!$A$5:$AY$22116,32,FALSE),0)","v":26},{"$f":"IFERROR(VLOOKUP($A68,Filtros!$A$5:$AY$22116,33,FALSE),0)","v":32},{"$f":"IFERROR(VLOOKUP($A68,Filtros!$A$5:$AY$22116,34,FALSE),0)","v":26},{"$f":"IFERROR(VLOOKUP($A68,Filtros!$A$5:$AY$22116,35,FALSE),0)","v":41},{"$f":"IFERROR(VLOOKUP($A68,Filtros!$A$5:$AY$22116,36,FALSE),0)","v":25},{"$f":"IFERROR(VLOOKUP($A68,Filtros!$A$5:$AY$22116,37,FALSE),0)","v":34},{"$f":"IFERROR(VLOOKUP($A68,Filtros!$A$5:$AY$22116,38,FALSE),0)","v":33}]
["P3171000",null,null,"No mejora en relación a año anterior",{"$f":"IFERROR(VLOOKUP($A69,Filtros!$A$5:$AY$22116,2,FALSE),0)","v":194},{"$f":"IFERROR(VLOOKUP($A69,Filtros!$A$5:$AY$22116,3,FALSE),0)","v":106},{"$f":"IFERROR(VLOOKUP($A69,Filtros!$A$5:$AY$22116,4,FALSE),0)","v":88},{"$f":"IFERROR(VLOOKUP($A69,Filtros!$A$5:$AY$22116,5,FALSE),0)","v":0},{"$f":"IFERROR(VLOOKUP($A69,Filtros!$A$5:$AY$22116,6,FALSE),0)","v":0},{"$f":"IFERROR(VLOOKUP($A69,Filtros!$A$5:$AY$22116,7,FALSE),0)","v":0},{"$f":"IFERROR(VLOOKUP($A69,Filtros!$A$5:$AY$22116,8,FALSE),0)","v":0},{"$f":"IFERROR(VLOOKUP($A69,Filtros!$A$5:$AY$22116,9,FALSE),0)","v":0},{"$f":"IFERROR(VLOOKUP($A69,Filtros!$A$5:$AY$22116,10,FALSE),0)","v":0},{"$f":"IFERROR(VLOOKUP($A69,Filtros!$A$5:$AY$22116,11,FALSE),0)","v":0},{"$f":"IFERROR(VLOOKUP($A69,Filtros!$A$5:$AY$22116,12,FALSE),0)","v":0},{"$f":"IFERROR(VLOOKUP($A69,Filtros!$A$5:$AY$22116,13,FALSE),0)","v":0},{"$f":"IFERROR(VLOOKUP($A69,Filtros!$A$5:$AY$22116,14,FALSE),0)","v":0},{"$f":"IFERROR(VLOOKUP($A69,Filtros!$A$5:$AY$22116,15,FALSE),0)","v":0},{"$f":"IFERROR(VLOOKUP($A69,Filtros!$A$5:$AY$22116,16,FALSE),0)","v":0},{"$f":"IFERROR(VLOOKUP($A69,Filtros!$A$5:$AY$22116,17,FALSE),0)","v":0},{"$f":"IFERROR(VLOOKUP($A69,Filtros!$A$5:$AY$22116,18,FALSE),0)","v":0},{"$f":"IFERROR(VLOOKUP($A69,Filtros!$A$5:$AY$22116,19,FALSE),0)","v":0},{"$f":"IFERROR(VLOOKUP($A69,Filtros!$A$5:$AY$22116,20,FALSE),0)","v":0},{"$f":"IFERROR(VLOOKUP($A69,Filtros!$A$5:$AY$22116,21,FALSE),0)","v":0},{"$f":"IFERROR(VLOOKUP($A69,Filtros!$A$5:$AY$22116,22,FALSE),0)","v":0},{"$f":"IFERROR(VLOOKUP($A69,Filtros!$A$5:$AY$22116,23,FALSE),0)","v":1},{"$f":"IFERROR(VLOOKUP($A69,Filtros!$A$5:$AY$22116,24,FALSE),0)","v":1},{"$f":"IFERROR(VLOOKUP($A69,Filtros!$A$5:$AY$22116,25,FALSE),0)","v":3},{"$f":"IFERROR(VLOOKUP($A69,Filtros!$A$5:$AY$22116,26,FALSE),0)","v":1},{"$f":"IFERROR(VLOOKUP($A69,Filtros!$A$5:$AY$22116,27,FALSE),0)","v":4},{"$f":"IFERROR(VLOOKUP($A69,Filtros!$A$5:$AY$22116,28,FALSE),0)","v":5},{"$f":"IFERROR(VLOOKUP($A69,Filtros!$A$5:$AY$22116,29,FALSE),0)","v":9},{"$f":"IFERROR(VLOOKUP($A69,Filtros!$A$5:$AY$22116,30,FALSE),0)","v":9},{"$f":"IFERROR(VLOOKUP($A69,Filtros!$A$5:$AY$22116,31,FALSE),0)","v":16},{"$f":"IFERROR(VLOOKUP($A69,Filtros!$A$5:$AY$22116,32,FALSE),0)","v":15},{"$f":"IFERROR(VLOOKUP($A69,Filtros!$A$5:$AY$22116,33,FALSE),0)","v":15},{"$f":"IFERROR(VLOOKUP($A69,Filtros!$A$5:$AY$22116,34,FALSE),0)","v":17},{"$f":"IFERROR(VLOOKUP($A69,Filtros!$A$5:$AY$22116,35,FALSE),0)","v":22},{"$f":"IFERROR(VLOOKUP($A69,Filtros!$A$5:$AY$22116,36,FALSE),0)","v":19},{"$f":"IFERROR(VLOOKUP($A69,Filtros!$A$5:$AY$22116,37,FALSE),0)","v":36},{"$f":"IFERROR(VLOOKUP($A69,Filtros!$A$5:$AY$22116,38,FALSE),0)","v":21}]
["P3171100","ASMA BRONQUIAL",null,"Evaluados",{"$f":"IFERROR(VLOOKUP($A70,Filtros!$A$5:$AY$22116,2,FALSE),0)","v":1453},{"$f":"IFERROR(VLOOKUP($A70,Filtros!$A$5:$AY$22116,3,FALSE),0)","v":458},{"$f":"IFERROR(VLOOKUP($A70,Filtros!$A$5:$AY$22116,4,FALSE),0)","v":995},{"$f":"IFERROR(VLOOKUP($A70,Filtros!$A$5:$AY$22116,5,FALSE),0)","v":16},{"$f":"IFERROR(VLOOKUP($A70,Filtros!$A$5:$AY$22116,6,FALSE),0)","v":1},{"$f":"IFERROR(VLOOKUP($A70,Filtros!$A$5:$AY$22116,7,FALSE),0)","v":48},{"$f":"IFERROR(VLOOKUP($A70,Filtros!$A$5:$AY$22116,8,FALSE),0)","v":30},{"$f":"IFERROR(VLOOKUP($A70,Filtros!$A$5:$AY$22116,9,FALSE),0)","v":63},{"$f":"IFERROR(VLOOKUP($A70,Filtros!$A$5:$AY$22116,10,FALSE),0)","v":32},{"$f":"IFERROR(VLOOKUP($A70,Filtros!$A$5:$AY$22116,11,FALSE),0)","v":48},{"$f":"IFERROR(VLOOKUP($A70,Filtros!$A$5:$AY$22116,12,FALSE),0)","v":24},{"$f":"IFERROR(VLOOKUP($A70,Filtros!$A$5:$AY$22116,13,FALSE),0)","v":35},{"$f":"IFERROR(VLOOKUP($A70,Filtros!$A$5:$AY$22116,14,FALSE),0)","v":54},{"$f":"IFERROR(VLOOKUP($A70,Filtros!$A$5:$AY$22116,15,FALSE),0)","v":20},{"$f":"IFERROR(VLOOKUP($A70,Filtros!$A$5:$AY$22116,16,FALSE),0)","v":55},{"$f":"IFERROR(VLOOKUP($A70,Filtros!$A$5:$AY$22116,17,FALSE),0)","v":18},{"$f":"IFERROR(VLOOKUP($A70,Filtros!$A$5:$AY$22116,18,FALSE),0)","v":54},{"$f":"IFERROR(VLOOKUP($A70,Filtros!$A$5:$AY$22116,19,FALSE),0)","v":13},{"$f":"IFERROR(VLOOKUP($A70,Filtros!$A$5:$AY$22116,20,FALSE),0)","v":47},{"$f":"IFERROR(VLOOKUP($A70,Filtros!$A$5:$AY$22116,21,FALSE),0)","v":10},{"$f":"IFERROR(VLOOKUP($A70,Filtros!$A$5:$AY$22116,22,FALSE),0)","v":57},{"$f":"IFERROR(VLOOKUP($A70,Filtros!$A$5:$AY$22116,23,FALSE),0)","v":15},{"$f":"IFERROR(VLOOKUP($A70,Filtros!$A$5:$AY$22116,24,FALSE),0)","v":79},{"$f":"IFERROR(VLOOKUP($A70,Filtros!$A$5:$AY$22116,25,FALSE),0)","v":17},{"$f":"IFERROR(VLOOKUP($A70,Filtros!$A$5:$AY$22116,26,FALSE),0)","v":82},{"$f":"IFERROR(VLOOKUP($A70,Filtros!$A$5:$AY$22116,27,FALSE),0)","v":26},{"$f":"IFERROR(VLOOKUP($A70,Filtros!$A$5:$AY$22116,28,FALSE),0)","v":102},{"$f":"IFERROR(VLOOKUP($A70,Filtros!$A$5:$AY$22116,29,FALSE),0)","v":30},{"$f":"IFERROR(VLOOKUP($A70,Filtros!$A$5:$AY$22116,30,FALSE),0)","v":114},{"$f":"IFERROR(VLOOKUP($A70,Filtros!$A$5:$AY$22116,31,FALSE),0)","v":26},{"$f":"IFERROR(VLOOKUP($A70,Filtros!$A$5:$AY$22116,32,FALSE),0)","v":73},{"$f":"IFERROR(VLOOKUP($A70,Filtros!$A$5:$AY$22116,33,FALSE),0)","v":28},{"$f":"IFERROR(VLOOKUP($A70,Filtros!$A$5:$AY$22116,34,FALSE),0)","v":72},{"$f":"IFERROR(VLOOKUP($A70,Filtros!$A$5:$AY$22116,35,FALSE),0)","v":21},{"$f":"IFERROR(VLOOKUP($A70,Filtros!$A$5:$AY$22116,36,FALSE),0)","v":59},{"$f":"IFERROR(VLOOKUP($A70,Filtros!$A$5:$AY$22116,37,FALSE),0)","v":24},{"$f":"IFERROR(VLOOKUP($A70,Filtros!$A$5:$AY$22116,38,FALSE),0)","v":60}]
["P3171200",null,null,"Mejora en relación a  año anterior",{"$f":"IFERROR(VLOOKUP($A71,Filtros!$A$5:$AY$22116,2,FALSE),0)","v":516},{"$f":"IFERROR(VLOOKUP($A71,Filtros!$A$5:$AY$22116,3,FALSE),0)","v":158},{"$f":"IFERROR(VLOOKUP($A71,Filtros!$A$5:$AY$22116,4,FALSE),0)","v":358},{"$f":"IFERROR(VLOOKUP($A71,Filtros!$A$5:$AY$22116,5,FALSE),0)","v":7},{"$f":"IFERROR(VLOOKUP($A71,Filtros!$A$5:$AY$22116,6,FALSE),0)","v":1},{"$f":"IFERROR(VLOOKUP($A71,Filtros!$A$5:$AY$22116,7,FALSE),0)","v":16},{"$f":"IFERROR(VLOOKUP($A71,Filtros!$A$5:$AY$22116,8,FALSE),0)","v":15},{"$f":"IFERROR(VLOOKUP($A71,Filtros!$A$5:$AY$22116,9,FALSE),0)","v":24},{"$f":"IFERROR(VLOOKUP($A71,Filtros!$A$5:$AY$22116,10,FALSE),0)","v":13},{"$f":"IFERROR(VLOOKUP($A71,Filtros!$A$5:$AY$22116,11,FALSE),0)","v":11},{"$f":"IFERROR(VLOOKUP($A71,Filtros!$A$5:$AY$22116,12,FALSE),0)","v":8},{"$f":"IFERROR(VLOOKUP($A71,Filtros!$A$5:$AY$22116,13,FALSE),0)","v":11},{"$f":"IFERROR(VLOOKUP($A71,Filtros!$A$5:$AY$22116,14,FALSE),0)","v":16},{"$f":"IFERROR(VLOOKUP($A71,Filtros!$A$5:$AY$22116,15,FALSE),0)","v":7},{"$f":"IFERROR(VLOOKUP($A71,Filtros!$A$5:$AY$22116,16,FALSE),0)","v":16},{"$f":"IFERROR(VLOOKUP($A71,Filtros!$A$5:$AY$22116,17,FALSE),0)","v":7},{"$f":"IFERROR(VLOOKUP($A71,Filtros!$A$5:$AY$22116,18,FALSE),0)","v":14},{"$f":"IFERROR(VLOOKUP($A71,Filtros!$A$5:$AY$22116,19,FALSE),0)","v":5},{"$f":"IFERROR(VLOOKUP($A71,Filtros!$A$5:$AY$22116,20,FALSE),0)","v":18},{"$f":"IFERROR(VLOOKUP($A71,Filtros!$A$5:$AY$22116,21,FALSE),0)","v":5},{"$f":"IFERROR(VLOOKUP($A71,Filtros!$A$5:$AY$22116,22,FALSE),0)","v":21},{"$f":"IFERROR(VLOOKUP($A71,Filtros!$A$5:$AY$22116,23,FALSE),0)","v":5},{"$f":"IFERROR(VLOOKUP($A71,Filtros!$A$5:$AY$22116,24,FALSE),0)","v":38},{"$f":"IFERROR(VLOOKUP($A71,Filtros!$A$5:$AY$22116,25,FALSE),0)","v":9},{"$f":"IFERROR(VLOOKUP($A71,Filtros!$A$5:$AY$22116,26,FALSE),0)","v":39},{"$f":"IFERROR(VLOOKUP($A71,Filtros!$A$5:$AY$22116,27,FALSE),0)","v":9},{"$f":"IFERROR(VLOOKUP($A71,Filtros!$A$5:$AY$22116,28,FALSE),0)","v":36},{"$f":"IFERROR(VLOOKUP($A71,Filtros!$A$5:$AY$22116,29,FALSE),0)","v":11},{"$f":"IFERROR(VLOOKUP($A71,Filtros!$A$5:$AY$22116,30,FALSE),0)","v":28},{"$f":"IFERROR(VLOOKUP($A71,Filtros!$A$5:$AY$22116,31,FALSE),0)","v":13},{"$f":"IFERROR(VLOOKUP($A71,Filtros!$A$5:$AY$22116,32,FALSE),0)","v":28},{"$f":"IFERROR(VLOOKUP($A71,Filtros!$A$5:$AY$22116,33,FALSE),0)","v":6},{"$f":"IFERROR(VLOOKUP($A71,Filtros!$A$5:$AY$22116,34,FALSE),0)","v":25},{"$f":"IFERROR(VLOOKUP($A71,Filtros!$A$5:$AY$22116,35,FALSE),0)","v":5},{"$f":"IFERROR(VLOOKUP($A71,Filtros!$A$5:$AY$22116,36,FALSE),0)","v":23},{"$f":"IFERROR(VLOOKUP($A71,Filtros!$A$5:$AY$22116,37,FALSE),0)","v":7},{"$f":"IFERROR(VLOOKUP($A71,Filtros!$A$5:$AY$22116,38,FALSE),0)","v":19}]
["P3171300",null,null,"No mejora en relación a año anterior",{"$f":"IFERROR(VLOOKUP($A72,Filtros!$A$5:$AY$22116,2,FALSE),0)","v":468},{"$f":"IFERROR(VLOOKUP($A72,Filtros!$A$5:$AY$22116,3,FALSE),0)","v":119},{"$f":"IFERROR(VLOOKUP($A72,Filtros!$A$5:$AY$22116,4,FALSE),0)","v":349},{"$f":"IFERROR(VLOOKUP($A72,Filtros!$A$5:$AY$22116,5,FALSE),0)","v":8},{"$f":"IFERROR(VLOOKUP($A72,Filtros!$A$5:$AY$22116,6,FALSE),0)","v":0},{"$f":"IFERROR(VLOOKUP($A72,Filtros!$A$5:$AY$22116,7,FALSE),0)","v":0},{"$f":"IFERROR(VLOOKUP($A72,Filtros!$A$5:$AY$22116,8,FALSE),0)","v":2},{"$f":"IFERROR(VLOOKUP($A72,Filtros!$A$5:$AY$22116,9,FALSE),0)","v":1},{"$f":"IFERROR(VLOOKUP($A72,Filtros!$A$5:$AY$22116,10,FALSE),0)","v":0},{"$f":"IFERROR(VLOOKUP($A72,Filtros!$A$5:$AY$22116,11,FALSE),0)","v":4},{"$f":"IFERROR(VLOOKUP($A72,Filtros!$A$5:$AY$22116,12,FALSE),0)","v":1},{"$f":"IFERROR(VLOOKUP($A72,Filtros!$A$5:$AY$22116,13,FALSE),0)","v":7},{"$f":"IFERROR(VLOOKUP($A72,Filtros!$A$5:$AY$22116,14,FALSE),0)","v":13},{"$f":"IFERROR(VLOOKUP($A72,Filtros!$A$5:$AY$22116,15,FALSE),0)","v":3},{"$f":"IFERROR(VLOOKUP($A72,Filtros!$A$5:$AY$22116,16,FALSE),0)","v":14},{"$f":"IFERROR(VLOOKUP($A72,Filtros!$A$5:$AY$22116,17,FALSE),0)","v":6},{"$f":"IFERROR(VLOOKUP($A72,Filtros!$A$5:$AY$22116,18,FALSE),0)","v":16},{"$f":"IFERROR(VLOOKUP($A72,Filtros!$A$5:$AY$22116,19,FALSE),0)","v":4},{"$f":"IFERROR(VLOOKUP($A72,Filtros!$A$5:$AY$22116,20,FALSE),0)","v":14},{"$f":"IFERROR(VLOOKUP($A72,Filtros!$A$5:$AY$22116,21,FALSE),0)","v":2},{"$f":"IFERROR(VLOOKUP($A72,Filtros!$A$5:$AY$22116,22,FALSE),0)","v":25},{"$f":"IFERROR(VLOOKUP($A72,Filtros!$A$5:$AY$22116,23,FALSE),0)","v":6},{"$f":"IFERROR(VLOOKUP($A72,Filtros!$A$5:$AY$22116,24,FALSE),0)","v":27},{"$f":"IFERROR(VLOOKUP($A72,Filtros!$A$5:$AY$22116,25,FALSE),0)","v":3},{"$f":"IFERROR(VLOOKUP($A72,Filtros!$A$5:$AY$22116,26,FALSE),0)","v":20},{"$f":"IFERROR(VLOOKUP($A72,Filtros!$A$5:$AY$22116,27,FALSE),0)","v":14},{"$f":"IFERROR(VLOOKUP($A72,Filtros!$A$5:$AY$22116,28,FALSE),0)","v":41},{"$f":"IFERROR(VLOOKUP($A72,Filtros!$A$5:$AY$22116,29,FALSE),0)","v":12},{"$f":"IFERROR(VLOOKUP($A72,Filtros!$A$5:$AY$22116,30,FALSE),0)","v":48},{"$f":"IFERROR(VLOOKUP($A72,Filtros!$A$5:$AY$22116,31,FALSE),0)","v":11},{"$f":"IFERROR(VLOOKUP($A72,Filtros!$A$5:$AY$22116,32,FALSE),0)","v":35},{"$f":"IFERROR(VLOOKUP($A72,Filtros!$A$5:$AY$22116,33,FALSE),0)","v":14},{"$f":"IFERROR(VLOOKUP($A72,Filtros!$A$5:$AY$22116,34,FALSE),0)","v":41},{"$f":"IFERROR(VLOOKUP($A72,Filtros!$A$5:$AY$22116,35,FALSE),0)","v":12},{"$f":"IFERROR(VLOOKUP($A72,Filtros!$A$5:$AY$22116,36,FALSE),0)","v":24},{"$f":"IFERROR(VLOOKUP($A72,Filtros!$A$5:$AY$22116,37,FALSE),0)","v":12},{"$f":"IFERROR(VLOOKUP($A72,Filtros!$A$5:$AY$22116,38,FALSE),0)","v":28}]
["P3171400","OTRAS CRÓNICAS RESPIRATORIAS",null,"Evaluados",{"$f":"IFERROR(VLOOKUP($A73,Filtros!$A$5:$AY$22116,2,FALSE),0)","v":113},{"$f":"IFERROR(VLOOKUP($A73,Filtros!$A$5:$AY$22116,3,FALSE),0)","v":60},{"$f":"IFERROR(VLOOKUP($A73,Filtros!$A$5:$AY$22116,4,FALSE),0)","v":53},{"$f":"IFERROR(VLOOKUP($A73,Filtros!$A$5:$AY$22116,5,FALSE),0)","v":4},{"$f":"IFERROR(VLOOKUP($A73,Filtros!$A$5:$AY$22116,6,FALSE),0)","v":2},{"$f":"IFERROR(VLOOKUP($A73,Filtros!$A$5:$AY$22116,7,FALSE),0)","v":0},{"$f":"IFERROR(VLOOKUP($A73,Filtros!$A$5:$AY$22116,8,FALSE),0)","v":0},{"$f":"IFERROR(VLOOKUP($A73,Filtros!$A$5:$AY$22116,9,FALSE),0)","v":0},{"$f":"IFERROR(VLOOKUP($A73,Filtros!$A$5:$AY$22116,10,FALSE),0)","v":0},{"$f":"IFERROR(VLOOKUP($A73,Filtros!$A$5:$AY$22116,11,FALSE),0)","v":0},{"$f":"IFERROR(VLOOKUP($A73,Filtros!$A$5:$AY$22116,12,FALSE),0)","v":0},{"$f":"IFERROR(VLOOKUP($A73,Filtros!$A$5:$AY$22116,13,FALSE),0)","v":0},{"$f":"IFERROR(VLOOKUP($A73,Filtros!$A$5:$AY$22116,14,FALSE),0)","v":2},{"$f":"IFERROR(VLOOKUP($A73,Filtros!$A$5:$AY$22116,15,FALSE),0)","v":0},{"$f":"IFERROR(VLOOKUP($A73,Filtros!$A$5:$AY$22116,16,FALSE),0)","v":0},{"$f":"IFERROR(VLOOKUP($A73,Filtros!$A$5:$AY$22116,17,FALSE),0)","v":0},{"$f":"IFERROR(VLOOKUP($A73,Filtros!$A$5:$AY$22116,18,FALSE),0)","v":0},{"$f":"IFERROR(VLOOKUP($A73,Filtros!$A$5:$AY$22116,19,FALSE),0)","v":0},{"$f":"IFERROR(VLOOKUP($A73,Filtros!$A$5:$AY$22116,20,FALSE),0)","v":0},{"$f":"IFERROR(VLOOKUP($A73,Filtros!$A$5:$AY$22116,21,FALSE),0)","v":1},{"$f":"IFERROR(VLOOKUP($A73,Filtros!$A$5:$AY$22116,22,FALSE),0)","v":1},{"$f":"IFERROR(VLOOKUP($A73,Filtros!$A$5:$AY$22116,23,FALSE),0)","v":2},{"$f":"IFERROR(VLOOKUP($A73,Filtros!$A$5:$AY$22116,24,FALSE),0)","v":2},{"$f":"IFERROR(VLOOKUP($A73,Filtros!$A$5:$AY$22116,25,FALSE),0)","v":1},{"$f":"IFERROR(VLOOKUP($A73,Filtros!$A$5:$AY$22116,26,FALSE),0)","v":1},{"$f":"IFERROR(VLOOKUP($A73,Filtros!$A$5:$AY$22116,27,FALSE),0)","v":5},{"$f":"IFERROR(VLOOKUP($A73,Filtros!$A$5:$AY$22116,28,FALSE),0)","v":6},{"$f":"IFERROR(VLOOKUP($A73,Filtros!$A$5:$AY$22116,29,FALSE),0)","v":4},{"$f":"IFERROR(VLOOKUP($A73,Filtros!$A$5:$AY$22116,30,FALSE),0)","v":5},{"$f":"IFERROR(VLOOKUP($A73,Filtros!$A$5:$AY$22116,31,FALSE),0)","v":5},{"$f":"IFERROR(VLOOKUP($A73,Filtros!$A$5:$AY$22116,32,FALSE),0)","v":8},{"$f":"IFERROR(VLOOKUP($A73,Filtros!$A$5:$AY$22116,33,FALSE),0)","v":12},{"$f":"IFERROR(VLOOKUP($A73,Filtros!$A$5:$AY$22116,34,FALSE),0)","v":10},{"$f":"IFERROR(VLOOKUP($A73,Filtros!$A$5:$AY$22116,35,FALSE),0)","v":14},{"$f":"IFERROR(VLOOKUP($A73,Filtros!$A$5:$AY$22116,36,FALSE),0)","v":7},{"$f":"IFERROR(VLOOKUP($A73,Filtros!$A$5:$AY$22116,37,FALSE),0)","v":12},{"$f":"IFERROR(VLOOKUP($A73,Filtros!$A$5:$AY$22116,38,FALSE),0)","v":9}]
["P3171500",null,null,"Mejora en relación a  año anterior",{"$f":"IFERROR(VLOOKUP($A74,Filtros!$A$5:$AY$22116,2,FALSE),0)","v":35},{"$f":"IFERROR(VLOOKUP($A74,Filtros!$A$5:$AY$22116,3,FALSE),0)","v":21},{"$f":"IFERROR(VLOOKUP($A74,Filtros!$A$5:$AY$22116,4,FALSE),0)","v":14},{"$f":"IFERROR(VLOOKUP($A74,Filtros!$A$5:$AY$22116,5,FALSE),0)","v":0},{"$f":"IFERROR(VLOOKUP($A74,Filtros!$A$5:$AY$22116,6,FALSE),0)","v":0},{"$f":"IFERROR(VLOOKUP($A74,Filtros!$A$5:$AY$22116,7,FALSE),0)","v":0},{"$f":"IFERROR(VLOOKUP($A74,Filtros!$A$5:$AY$22116,8,FALSE),0)","v":0},{"$f":"IFERROR(VLOOKUP($A74,Filtros!$A$5:$AY$22116,9,FALSE),0)","v":0},{"$f":"IFERROR(VLOOKUP($A74,Filtros!$A$5:$AY$22116,10,FALSE),0)","v":0},{"$f":"IFERROR(VLOOKUP($A74,Filtros!$A$5:$AY$22116,11,FALSE),0)","v":0},{"$f":"IFERROR(VLOOKUP($A74,Filtros!$A$5:$AY$22116,12,FALSE),0)","v":0},{"$f":"IFERROR(VLOOKUP($A74,Filtros!$A$5:$AY$22116,13,FALSE),0)","v":0},{"$f":"IFERROR(VLOOKUP($A74,Filtros!$A$5:$AY$22116,14,FALSE),0)","v":0},{"$f":"IFERROR(VLOOKUP($A74,Filtros!$A$5:$AY$22116,15,FALSE),0)","v":0},{"$f":"IFERROR(VLOOKUP($A74,Filtros!$A$5:$AY$22116,16,FALSE),0)","v":0},{"$f":"IFERROR(VLOOKUP($A74,Filtros!$A$5:$AY$22116,17,FALSE),0)","v":0},{"$f":"IFERROR(VLOOKUP($A74,Filtros!$A$5:$AY$22116,18,FALSE),0)","v":1},{"$f":"IFERROR(VLOOKUP($A74,Filtros!$A$5:$AY$22116,19,FALSE),0)","v":0},{"$f":"IFERROR(VLOOKUP($A74,Filtros!$A$5:$AY$22116,20,FALSE),0)","v":0},{"$f":"IFERROR(VLOOKUP($A74,Filtros!$A$5:$AY$22116,21,FALSE),0)","v":0},{"$f":"IFERROR(VLOOKUP($A74,Filtros!$A$5:$AY$22116,22,FALSE),0)","v":0},{"$f":"IFERROR(VLOOKUP($A74,Filtros!$A$5:$AY$22116,23,FALSE),0)","v":1},{"$f":"IFERROR(VLOOKUP($A74,Filtros!$A$5:$AY$22116,24,FALSE),0)","v":2},{"$f":"IFERROR(VLOOKUP($A74,Filtros!$A$5:$AY$22116,25,FALSE),0)","v":0},{"$f":"IFERROR(VLOOKUP($A74,Filtros!$A$5:$AY$22116,26,FALSE),0)","v":0},{"$f":"IFERROR(VLOOKUP($A74,Filtros!$A$5:$AY$22116,27,FALSE),0)","v":1},{"$f":"IFERROR(VLOOKUP($A74,Filtros!$A$5:$AY$22116,28,FALSE),0)","v":1},{"$f":"IFERROR(VLOOKUP($A74,Filtros!$A$5:$AY$22116,29,FALSE),0)","v":2},{"$f":"IFERROR(VLOOKUP($A74,Filtros!$A$5:$AY$22116,30,FALSE),0)","v":1},{"$f":"IFERROR(VLOOKUP($A74,Filtros!$A$5:$AY$22116,31,FALSE),0)","v":0},{"$f":"IFERROR(VLOOKUP($A74,Filtros!$A$5:$AY$22116,32,FALSE),0)","v":2},{"$f":"IFERROR(VLOOKUP($A74,Filtros!$A$5:$AY$22116,33,FALSE),0)","v":6},{"$f":"IFERROR(VLOOKUP($A74,Filtros!$A$5:$AY$22116,34,FALSE),0)","v":3},{"$f":"IFERROR(VLOOKUP($A74,Filtros!$A$5:$AY$22116,35,FALSE),0)","v":3},{"$f":"IFERROR(VLOOKUP($A74,Filtros!$A$5:$AY$22116,36,FALSE),0)","v":1},{"$f":"IFERROR(VLOOKUP($A74,Filtros!$A$5:$AY$22116,37,FALSE),0)","v":8},{"$f":"IFERROR(VLOOKUP($A74,Filtros!$A$5:$AY$22116,38,FALSE),0)","v":3}]
["P3171600",null,null,"No mejora en relación a año anterior",{"$f":"IFERROR(VLOOKUP($A75,Filtros!$A$5:$AY$22116,2,FALSE),0)","v":34},{"$f":"IFERROR(VLOOKUP($A75,Filtros!$A$5:$AY$22116,3,FALSE),0)","v":17},{"$f":"IFERROR(VLOOKUP($A75,Filtros!$A$5:$AY$22116,4,FALSE),0)","v":17},{"$f":"IFERROR(VLOOKUP($A75,Filtros!$A$5:$AY$22116,5,FALSE),0)","v":0},{"$f":"IFERROR(VLOOKUP($A75,Filtros!$A$5:$AY$22116,6,FALSE),0)","v":0},{"$f":"IFERROR(VLOOKUP($A75,Filtros!$A$5:$AY$22116,7,FALSE),0)","v":0},{"$f":"IFERROR(VLOOKUP($A75,Filtros!$A$5:$AY$22116,8,FALSE),0)","v":0},{"$f":"IFERROR(VLOOKUP($A75,Filtros!$A$5:$AY$22116,9,FALSE),0)","v":0},{"$f":"IFERROR(VLOOKUP($A75,Filtros!$A$5:$AY$22116,10,FALSE),0)","v":0},{"$f":"IFERROR(VLOOKUP($A75,Filtros!$A$5:$AY$22116,11,FALSE),0)","v":0},{"$f":"IFERROR(VLOOKUP($A75,Filtros!$A$5:$AY$22116,12,FALSE),0)","v":0},{"$f":"IFERROR(VLOOKUP($A75,Filtros!$A$5:$AY$22116,13,FALSE),0)","v":0},{"$f":"IFERROR(VLOOKUP($A75,Filtros!$A$5:$AY$22116,14,FALSE),0)","v":0},{"$f":"IFERROR(VLOOKUP($A75,Filtros!$A$5:$AY$22116,15,FALSE),0)","v":0},{"$f":"IFERROR(VLOOKUP($A75,Filtros!$A$5:$AY$22116,16,FALSE),0)","v":0},{"$f":"IFERROR(VLOOKUP($A75,Filtros!$A$5:$AY$22116,17,FALSE),0)","v":0},{"$f":"IFERROR(VLOOKUP($A75,Filtros!$A$5:$AY$22116,18,FALSE),0)","v":0},{"$f":"IFERROR(VLOOKUP($A75,Filtros!$A$5:$AY$22116,19,FALSE),0)","v":0},{"$f":"IFERROR(VLOOKUP($A75,Filtros!$A$5:$AY$22116,20,FALSE),0)","v":0},{"$f":"IFERROR(VLOOKUP($A75,Filtros!$A$5:$AY$22116,21,FALSE),0)","v":1},{"$f":"IFERROR(VLOOKUP($A75,Filtros!$A$5:$AY$22116,22,FALSE),0)","v":0},{"$f":"IFERROR(VLOOKUP($A75,Filtros!$A$5:$AY$22116,23,FALSE),0)","v":0},{"$f":"IFERROR(VLOOKUP($A75,Filtros!$A$5:$AY$22116,24,FALSE),0)","v":0},{"$f":"IFERROR(VLOOKUP($A75,Filtros!$A$5:$AY$22116,25,FALSE),0)","v":0},{"$f":"IFERROR(VLOOKUP($A75,Filtros!$A$5:$AY$22116,26,FALSE),0)","v":0},{"$f":"IFERROR(VLOOKUP($A75,Filtros!$A$5:$AY$22116,27,FALSE),0)","v":1},{"$f":"IFERROR(VLOOKUP($A75,Filtros!$A$5:$AY$22116,28,FALSE),0)","v":1},{"$f":"IFERROR(VLOOKUP($A75,Filtros!$A$5:$AY$22116,29,FALSE),0)","v":1},{"$f":"IFERROR(VLOOKUP($A75,Filtros!$A$5:$AY$22116,30,FALSE),0)","v":1},{"$f":"IFERROR(VLOOKUP($A75,Filtros!$A$5:$AY$22116,31,FALSE),0)","v":2},{"$f":"IFERROR(VLOOKUP($A75,Filtros!$A$5:$AY$22116,32,FALSE),0)","v":4},{"$f":"IFERROR(VLOOKUP($A75,Filtros!$A$5:$AY$22116,33,FALSE),0)","v":2},{"$f":"IFERROR(VLOOKUP($A75,Filtros!$A$5:$AY$22116,34,FALSE),0)","v":4},{"$f":"IFERROR(VLOOKUP($A75,Filtros!$A$5:$AY$22116,35,FALSE),0)","v":6},{"$f":"IFERROR(VLOOKUP($A75,Filtros!$A$5:$AY$22116,36,FALSE),0)","v":3},{"$f":"IFERROR(VLOOKUP($A75,Filtros!$A$5:$AY$22116,37,FALSE),0)","v":4},{"$f":"IFERROR(VLOOKUP($A75,Filtros!$A$5:$AY$22116,38,FALSE),0)","v":4}]
[]
[]
[]
[]
["CODIGOS ELIMINADOS"]
["P3160930"]
[]
[]
[null,{"$f":"SUM(D12:AQ37,D43:H43,E48:AO48,D56:AN62)","v":257198},"datos"]
[null,{"$f":"SUM(CJ11:CP75)","v":1},"errores"]
[]
[]
["CODIGOS NUEVOS"]
["P3170400"]
["P3170500"]
["P3170600"]
["P3170700"]
["P3170800"]
["P3170900"]
["P3171000"]
["P3171100"]
["P3171200"]
["P3171300"]
["P3171400"]
["P3171500"]
["P3171600"]

{"sheet":"P4","index":4,"n_rows":90,"n_cols":124,"rows_kept":90,"merged":[[6,1,6,21],[8,1,10,2],[8,3,9,5],[8,6,8,33],[8,34,9,35],[8,36,9,37],[8,38,10,38],[8,56,9,57],[8,58,9,59],[8,60,10,60],[8,62,9,62],[8,63,9,63],[9,6,9,7],[9,8,9,9],[9,10,9,11],[9,12,9,13],[9,14,9,15],[9,16,9,17],[9,18,9,19],[9,20,9,21],[9,22,9,23],[9,24,9,25],[9,26,9,27],[9,28,9,29],[9,30,9,31],[9,32,9,33],[11,1,11,2],[12,1,14,1],[15,1,20,1],[21,1,27,1],[28,1,28,2],[29,1,31,2],[29,3,30,5],[29,6,29,33],[29,34,30,35],[29,36,30,37],[30,6,30,7],[30,8,30,9],[30,10,30,11],[30,12,30,13],[30,14,30,15],[30,16,30,17],[30,18,30,19],[30,20,30,21],[30,22,30,23],[30,24,30,25],[30,26,30,27],[30,28,30,29],[30,30,30,31],[30,32,30,33],[32,1,33,1],[34,1,36,1],[38,1,39,1],[41,1,43,2],[41,3,42,5],[41,6,41,33],[41,34,42,35],[41,36,42,37],[42,6,42,7],[42,8,42,9],[42,10,42,11],[42,12,42,13],[42,14,42,15],[42,16,42,17],[42,18,42,19],[42,20,42,21],[42,22,42,23],[42,24,42,25],[42,26,42,27],[42,28,42,29],[42,30,42,31],[42,32,42,33],[45,1,45,2],[46,1,46,2],[47,1,47,2],[48,1,48,2],[49,1,49,2],[50,1,50,2],[51,1,51,2],[52,1,52,2],[53,1,53,2],[54,1,54,2],[55,1,58,1],[59,1,60,1],[61,1,61,2],[62,1,62,2],[66,1,66,2],[67,1,67,2],[68,1,68,2],[69,1,69,2],[70,1,70,2],[71,1,71,2],[72,1,72,2],[73,1,73,2]]}
[]
[]
[]
[]
[]
[]
[null,"REM-P4. POBLACIÓN EN CONTROL PROGRAMA DE SALUD CARDIOVASCULAR (PSCV)"]
[null,"SECCIÓN A: PROGRAMA SALUD CARDIOVASCULAR (PSCV)"]
[null,"CONCEPTO",null,"TOTAL ",null,null,"GRUPOS DE EDAD (en años) Y SEXO",{"$nulls":27},"Pueblos Originarios",null,"Población Migrantes",null,"Pacientes Diabéticos",{"$nulls":17},"Pueblos Originarios",null,"Población Migrantes",null,"Pacientes Diabéticos",null,"Pueblos Originarios","Población Migrantes"]
[{"$nulls":6},"15 a 19 años",null,"20 a 24 años",null,"25 a 29 años",null,"30 a 34 años",null,"35 a 39 años",null,"40 a 44 años",null,"45 a 49 años",null,"50 a 54 años",null,"55 a 59 años",null,"60 a 64 años",null,"65 a 69 años",null,"70 a 74 años",null,"75 a 79 años",null,"80 y más años"]
[{"$nulls":3},"Ambos sexos","Hombres","Mujeres","Hombres","Mujeres","Hombres","Mujeres","Hombres","Mujeres","Hombres","Mujeres","Hombres","Mujeres","Hombres","Mujeres","Hombres","Mujeres","Hombres","Mujeres","Hombres","Mujeres","Hombres","Mujeres","Hombres ","Mujeres","Hombres ","Mujeres","Hombres ","Mujeres","Hombres ","Mujeres","Hombres","Mujeres","Hombres","Mujeres",{"$nulls":18},"Hombres","Mujeres","Hombres","Mujeres",null,null,"No Olvide","No Olvide"]
["P4150100","NUMERO DE PERSONAS EN PSCV",null,{"$f":"IFERROR(VLOOKUP($A12,Filtros!$A$5:$AY$22116,2,FALSE),0)","v":87889},{"$f":"IFERROR(VLOOKUP($A12,Filtros!$A$5:$AY$22116,3,FALSE),0)","v":31327},{"$f":"IFERROR(VLOOKUP($A12,Filtros!$A$5:$AY$22116,4,FALSE),0)","v":56562},{"$f":"IFERROR(VLOOKUP($A12,Filtros!$A$5:$AY$22116,5,FALSE),0)","v":58},{"$f":"IFERROR(VLOOKUP($A12,Filtros!$A$5:$AY$22116,6,FALSE),0)","v":65},{"$f":"IFERROR(VLOOKUP($A12,Filtros!$A$5:$AY$22116,7,FALSE),0)","v":78},{"$f":"IFERROR(VLOOKUP($A12,Filtros!$A$5:$AY$22116,8,FALSE),0)","v":164},{"$f":"IFERROR(VLOOKUP($A12,Filtros!$A$5:$AY$22116,9,FALSE),0)","v":136},{"$f":"IFERROR(VLOOKUP($A12,Filtros!$A$5:$AY$22116,10,FALSE),0)","v":350},{"$f":"IFERROR(VLOOKUP($A12,Filtros!$A$5:$AY$22116,11,FALSE),0)","v":282},{"$f":"IFERROR(VLOOKUP($A12,Filtros!$A$5:$AY$22116,12,FALSE),0)","v":642},{"$f":"IFERROR(VLOOKUP($A12,Filtros!$A$5:$AY$22116,13,FALSE),0)","v":499},{"$f":"IFERROR(VLOOKUP($A12,Filtros!$A$5:$AY$22116,14,FALSE),0)","v":1136},{"$f":"IFERROR(VLOOKUP($A12,Filtros!$A$5:$AY$22116,15,FALSE),0)","v":821},{"$f":"IFERROR(VLOOKUP($A12,Filtros!$A$5:$AY$22116,16,FALSE),0)","v":1934},{"$f":"IFERROR(VLOOKUP($A12,Filtros!$A$5:$AY$22116,17,FALSE),0)","v":1414},{"$f":"IFERROR(VLOOKUP($A12,Filtros!$A$5:$AY$22116,18,FALSE),0)","v":3146},{"$f":"IFERROR(VLOOKUP($A12,Filtros!$A$5:$AY$22116,19,FALSE),0)","v":2251},{"$f":"IFERROR(VLOOKUP($A12,Filtros!$A$5:$AY$22116,20,FALSE),0)","v":4996},{"$f":"IFERROR(VLOOKUP($A12,Filtros!$A$5:$AY$22116,21,FALSE),0)","v":3252},{"$f":"IFERROR(VLOOKUP($A12,Filtros!$A$5:$AY$22116,22,FALSE),0)","v":7033},{"$f":"IFERROR(VLOOKUP($A12,Filtros!$A$5:$AY$22116,23,FALSE),0)","v":4144},{"$f":"IFERROR(VLOOKUP($A12,Filtros!$A$5:$AY$22116,24,FALSE),0)","v":7636},{"$f":"IFERROR(VLOOKUP($A12,Filtros!$A$5:$AY$22116,25,FALSE),0)","v":4680},{"$f":"IFERROR(VLOOKUP($A12,Filtros!$A$5:$AY$22116,26,FALSE),0)","v":7828},{"$f":"IFERROR(VLOOKUP($A12,Filtros!$A$5:$AY$22116,27,FALSE),0)","v":4620},{"$f":"IFERROR(VLOOKUP($A12,Filtros!$A$5:$AY$22116,28,FALSE),0)","v":7188},{"$f":"IFERROR(VLOOKUP($A12,Filtros!$A$5:$AY$22116,29,FALSE),0)","v":4107},{"$f":"IFERROR(VLOOKUP($A12,Filtros!$A$5:$AY$22116,30,FALSE),0)","v":5925},{"$f":"IFERROR(VLOOKUP($A12,Filtros!$A$5:$AY$22116,31,FALSE),0)","v":4985},{"$f":"IFERROR(VLOOKUP($A12,Filtros!$A$5:$AY$22116,32,FALSE),0)","v":8519},{"$f":"IFERROR(VLOOKUP($A12,Filtros!$A$5:$AY$22116,33,FALSE),0)","v":86},{"$f":"IFERROR(VLOOKUP($A12,Filtros!$A$5:$AY$22116,34,FALSE),0)","v":167},{"$f":"IFERROR(VLOOKUP($A12,Filtros!$A$5:$AY$22116,35,FALSE),0)","v":148},{"$f":"IFERROR(VLOOKUP($A12,Filtros!$A$5:$AY$22116,36,FALSE),0)","v":250},{"$f":"IFERROR(VLOOKUP($A12,Filtros!$A$5:$AY$22116,37,FALSE),0)","v":0}]
["P4190100","CLASIFICACIÓN DEL\nRIESGO\nCARDIOVASCULAR","BAJO",{"$f":"IFERROR(VLOOKUP($A13,Filtros!$A$5:$AY$22116,2,FALSE),0)","v":18456},{"$f":"IFERROR(VLOOKUP($A13,Filtros!$A$5:$AY$22116,3,FALSE),0)","v":5273},{"$f":"IFERROR(VLOOKUP($A13,Filtros!$A$5:$AY$22116,4,FALSE),0)","v":13183},{"$f":"IFERROR(VLOOKUP($A13,Filtros!$A$5:$AY$22116,5,FALSE),0)","v":24},{"$f":"IFERROR(VLOOKUP($A13,Filtros!$A$5:$AY$22116,6,FALSE),0)","v":27},{"$f":"IFERROR(VLOOKUP($A13,Filtros!$A$5:$AY$22116,7,FALSE),0)","v":33},{"$f":"IFERROR(VLOOKUP($A13,Filtros!$A$5:$AY$22116,8,FALSE),0)","v":65},{"$f":"IFERROR(VLOOKUP($A13,Filtros!$A$5:$AY$22116,9,FALSE),0)","v":39},{"$f":"IFERROR(VLOOKUP($A13,Filtros!$A$5:$AY$22116,10,FALSE),0)","v":119},{"$f":"IFERROR(VLOOKUP($A13,Filtros!$A$5:$AY$22116,11,FALSE),0)","v":83},{"$f":"IFERROR(VLOOKUP($A13,Filtros!$A$5:$AY$22116,12,FALSE),0)","v":195},{"$f":"IFERROR(VLOOKUP($A13,Filtros!$A$5:$AY$22116,13,FALSE),0)","v":140},{"$f":"IFERROR(VLOOKUP($A13,Filtros!$A$5:$AY$22116,14,FALSE),0)","v":363},{"$f":"IFERROR(VLOOKUP($A13,Filtros!$A$5:$AY$22116,15,FALSE),0)","v":203},{"$f":"IFERROR(VLOOKUP($A13,Filtros!$A$5:$AY$22116,16,FALSE),0)","v":578},{"$f":"IFERROR(VLOOKUP($A13,Filtros!$A$5:$AY$22116,17,FALSE),0)","v":309},{"$f":"IFERROR(VLOOKUP($A13,Filtros!$A$5:$AY$22116,18,FALSE),0)","v":956},{"$f":"IFERROR(VLOOKUP($A13,Filtros!$A$5:$AY$22116,19,FALSE),0)","v":484},{"$f":"IFERROR(VLOOKUP($A13,Filtros!$A$5:$AY$22116,20,FALSE),0)","v":1344},{"$f":"IFERROR(VLOOKUP($A13,Filtros!$A$5:$AY$22116,21,FALSE),0)","v":621},{"$f":"IFERROR(VLOOKUP($A13,Filtros!$A$5:$AY$22116,22,FALSE),0)","v":1788},{"$f":"IFERROR(VLOOKUP($A13,Filtros!$A$5:$AY$22116,23,FALSE),0)","v":765},{"$f":"IFERROR(VLOOKUP($A13,Filtros!$A$5:$AY$22116,24,FALSE),0)","v":1874},{"$f":"IFERROR(VLOOKUP($A13,Filtros!$A$5:$AY$22116,25,FALSE),0)","v":708},{"$f":"IFERROR(VLOOKUP($A13,Filtros!$A$5:$AY$22116,26,FALSE),0)","v":1830},{"$f":"IFERROR(VLOOKUP($A13,Filtros!$A$5:$AY$22116,27,FALSE),0)","v":666},{"$f":"IFERROR(VLOOKUP($A13,Filtros!$A$5:$AY$22116,28,FALSE),0)","v":1658},{"$f":"IFERROR(VLOOKUP($A13,Filtros!$A$5:$AY$22116,29,FALSE),0)","v":574},{"$f":"IFERROR(VLOOKUP($A13,Filtros!$A$5:$AY$22116,30,FALSE),0)","v":1142},{"$f":"IFERROR(VLOOKUP($A13,Filtros!$A$5:$AY$22116,31,FALSE),0)","v":624},{"$f":"IFERROR(VLOOKUP($A13,Filtros!$A$5:$AY$22116,32,FALSE),0)","v":1244},{"$f":"IFERROR(VLOOKUP($A13,Filtros!$A$5:$AY$22116,33,FALSE),0)","v":22},{"$f":"IFERROR(VLOOKUP($A13,Filtros!$A$5:$AY$22116,34,FALSE),0)","v":38},{"$f":"IFERROR(VLOOKUP($A13,Filtros!$A$5:$AY$22116,35,FALSE),0)","v":36},{"$f":"IFERROR(VLOOKUP($A13,Filtros!$A$5:$AY$22116,36,FALSE),0)","v":81},{"$f":"IFERROR(VLOOKUP($A13,Filtros!$A$5:$AY$22116,37,FALSE),0)","v":0},{"$f":" BE13 & BF13 & BG13 & BH13 & BI13 & BK13 & BL13","v":"* El numero de Personas en PSCV de ambos sexo debe ser igua al total de detección y prevención de la progresión de la enfermedad renal crónica de ambos sexo. "},{"$nulls":16},{"$f":"IF($E13>=$AI13,\"\",\"* Pueblos Originarios-Hombres no debe ser mayor al Total de personas en PSCV. \")","v":""},{"$f":"IF($F13>=$AJ13,\"\",\"* Pueblos Originarios-Mujeres no debe ser mayor al Total de personas en PSCV. \")","v":""},{"$f":"IF($E13>=$AK13,\"\",\"* Población Migrantes-Hombres no debe ser mayor al Total de personas en PSCV. \")","v":""},{"$f":"IF($F13>=$AL13,\"\",\"* Población Migrantes-Mujeres no debe ser mayor al Total de personas en PSCV. \")","v":""},{"$f":"IF(D12<>D28, \"* El numero de Personas en PSCV de ambos sexo debe ser igua al total de detección y prevención de la progresión de la enfermedad renal crónica de ambos sexo. \",\"\")","v":"* El numero de Personas en PSCV de ambos sexo debe ser igua al total de detección y prevención de la progresión de la enfermedad renal crónica de ambos sexo. "},null,{"$f":"IF(AND(E13<>0,AI13=\"\"),\"* No olvide escribir en la celda de 'Pueblos Originarios' (Digite CERO si no tiene). \",IF(AND(F13<>0,AJ13=\"\"),\"* No olvide escribir en la celda de 'Pueblos Originarios' (Digite CERO si no tiene). \",\"\"))","v":""},{"$f":"IF(AND(E13<>0,AK13=\"\"),\"* No olvide escribir en la celda de 'Población Migrantes' (Digite CERO si no tiene). \",IF(AND(F13<>0,AL13=\"\"),\"* No olvide escribir en la celda de 'Población Migrantes' (Digite CERO si no tiene). \",\"\"))","v":""},{"$nulls":28},{"$f":"IF($E13>=$AI13,0,1)","v":0},{"$f":"IF($F13>=$AJ13,0,1)","v":0},{"$f":"IF($E13>=$AK13,0,1)","v":0},{"$f":"IF($F13>=$AL13,0,1)","v":0},{"$f":"IF(D12<>D28, 1,0)","v":1},{"$nulls":3},{"$f":"IF(AND(E15<>0,AI15=\"\"),1,IF(AND(F15<>0,AJ15=\"\"),1,0))","v":0},{"$f":"IF(AND(E15<>0,AK15=\"\"),1,IF(AND(F15<>0,AL15=\"\"),1,0))","v":0}]
["P4150703",null,"MODERADO",{"$f":"IFERROR(VLOOKUP($A14,Filtros!$A$5:$AY$22116,2,FALSE),0)","v":24394},{"$f":"IFERROR(VLOOKUP($A14,Filtros!$A$5:$AY$22116,3,FALSE),0)","v":8312},{"$f":"IFERROR(VLOOKUP($A14,Filtros!$A$5:$AY$22116,4,FALSE),0)","v":16082},{"$f":"IFERROR(VLOOKUP($A14,Filtros!$A$5:$AY$22116,5,FALSE),0)","v":11},{"$f":"IFERROR(VLOOKUP($A14,Filtros!$A$5:$AY$22116,6,FALSE),0)","v":14},{"$f":"IFERROR(VLOOKUP($A14,Filtros!$A$5:$AY$22116,7,FALSE),0)","v":20},{"$f":"IFERROR(VLOOKUP($A14,Filtros!$A$5:$AY$22116,8,FALSE),0)","v":41},{"$f":"IFERROR(VLOOKUP($A14,Filtros!$A$5:$AY$22116,9,FALSE),0)","v":38},{"$f":"IFERROR(VLOOKUP($A14,Filtros!$A$5:$AY$22116,10,FALSE),0)","v":87},{"$f":"IFERROR(VLOOKUP($A14,Filtros!$A$5:$AY$22116,11,FALSE),0)","v":71},{"$f":"IFERROR(VLOOKUP($A14,Filtros!$A$5:$AY$22116,12,FALSE),0)","v":156},{"$f":"IFERROR(VLOOKUP($A14,Filtros!$A$5:$AY$22116,13,FALSE),0)","v":141},{"$f":"IFERROR(VLOOKUP($A14,Filtros!$A$5:$AY$22116,14,FALSE),0)","v":299},{"$f":"IFERROR(VLOOKUP($A14,Filtros!$A$5:$AY$22116,15,FALSE),0)","v":197},{"$f":"IFERROR(VLOOKUP($A14,Filtros!$A$5:$AY$22116,16,FALSE),0)","v":553},{"$f":"IFERROR(VLOOKUP($A14,Filtros!$A$5:$AY$22116,17,FALSE),0)","v":355},{"$f":"IFERROR(VLOOKUP($A14,Filtros!$A$5:$AY$22116,18,FALSE),0)","v":904},{"$f":"IFERROR(VLOOKUP($A14,Filtros!$A$5:$AY$22116,19,FALSE),0)","v":601},{"$f":"IFERROR(VLOOKUP($A14,Filtros!$A$5:$AY$22116,20,FALSE),0)","v":1473},{"$f":"IFERROR(VLOOKUP($A14,Filtros!$A$5:$AY$22116,21,FALSE),0)","v":821},{"$f":"IFERROR(VLOOKUP($A14,Filtros!$A$5:$AY$22116,22,FALSE),0)","v":2002},{"$f":"IFERROR(VLOOKUP($A14,Filtros!$A$5:$AY$22116,23,FALSE),0)","v":1055},{"$f":"IFERROR(VLOOKUP($A14,Filtros!$A$5:$AY$22116,24,FALSE),0)","v":2168},{"$f":"IFERROR(VLOOKUP($A14,Filtros!$A$5:$AY$22116,25,FALSE),0)","v":1176},{"$f":"IFERROR(VLOOKUP($A14,Filtros!$A$5:$AY$22116,26,FALSE),0)","v":2233},{"$f":"IFERROR(VLOOKUP($A14,Filtros!$A$5:$AY$22116,27,FALSE),0)","v":1251},{"$f":"IFERROR(VLOOKUP($A14,Filtros!$A$5:$AY$22116,28,FALSE),0)","v":1980},{"$f":"IFERROR(VLOOKUP($A14,Filtros!$A$5:$AY$22116,29,FALSE),0)","v":1209},{"$f":"IFERROR(VLOOKUP($A14,Filtros!$A$5:$AY$22116,30,FALSE),0)","v":1791},{"$f":"IFERROR(VLOOKUP($A14,Filtros!$A$5:$AY$22116,31,FALSE),0)","v":1366},{"$f":"IFERROR(VLOOKUP($A14,Filtros!$A$5:$AY$22116,32,FALSE),0)","v":2381},{"$f":"IFERROR(VLOOKUP($A14,Filtros!$A$5:$AY$22116,33,FALSE),0)","v":16},{"$f":"IFERROR(VLOOKUP($A14,Filtros!$A$5:$AY$22116,34,FALSE),0)","v":36},{"$f":"IFERROR(VLOOKUP($A14,Filtros!$A$5:$AY$22116,35,FALSE),0)","v":55},{"$f":"IFERROR(VLOOKUP($A14,Filtros!$A$5:$AY$22116,36,FALSE),0)","v":62},{"$f":"IFERROR(VLOOKUP($A14,Filtros!$A$5:$AY$22116,37,FALSE),0)","v":0},{"$f":" BE14 & BF14 & BG14 & BH14 & BK14 & BL14","v":""},{"$nulls":16},"","","","",null,null,"","",{"$nulls":28},{"$f":"IF($E14>=$AI14,0,1)","v":0},{"$f":"IF($F14>=$AJ14,0,1)","v":0},{"$f":"IF($E14>=$AK14,0,1)","v":0},{"$f":"IF($F14>=$AL14,0,1)","v":0},{"$nulls":4},{"$f":"IF(AND(E16<>0,AI16=\"\"),1,IF(AND(F16<>0,AJ16=\"\"),1,0))","v":0},{"$f":"IF(AND(E16<>0,AK16=\"\"),1,IF(AND(F16<>0,AL16=\"\"),1,0))","v":0}]
["P4150801",null,"ALTO",{"$f":"IFERROR(VLOOKUP($A15,Filtros!$A$5:$AY$22116,2,FALSE),0)","v":45039},{"$f":"IFERROR(VLOOKUP($A15,Filtros!$A$5:$AY$22116,3,FALSE),0)","v":17742},{"$f":"IFERROR(VLOOKUP($A15,Filtros!$A$5:$AY$22116,4,FALSE),0)","v":27297},{"$f":"IFERROR(VLOOKUP($A15,Filtros!$A$5:$AY$22116,5,FALSE),0)","v":23},{"$f":"IFERROR(VLOOKUP($A15,Filtros!$A$5:$AY$22116,6,FALSE),0)","v":24},{"$f":"IFERROR(VLOOKUP($A15,Filtros!$A$5:$AY$22116,7,FALSE),0)","v":25},{"$f":"IFERROR(VLOOKUP($A15,Filtros!$A$5:$AY$22116,8,FALSE),0)","v":58},{"$f":"IFERROR(VLOOKUP($A15,Filtros!$A$5:$AY$22116,9,FALSE),0)","v":59},{"$f":"IFERROR(VLOOKUP($A15,Filtros!$A$5:$AY$22116,10,FALSE),0)","v":144},{"$f":"IFERROR(VLOOKUP($A15,Filtros!$A$5:$AY$22116,11,FALSE),0)","v":128},{"$f":"IFERROR(VLOOKUP($A15,Filtros!$A$5:$AY$22116,12,FALSE),0)","v":291},{"$f":"IFERROR(VLOOKUP($A15,Filtros!$A$5:$AY$22116,13,FALSE),0)","v":218},{"$f":"IFERROR(VLOOKUP($A15,Filtros!$A$5:$AY$22116,14,FALSE),0)","v":474},{"$f":"IFERROR(VLOOKUP($A15,Filtros!$A$5:$AY$22116,15,FALSE),0)","v":421},{"$f":"IFERROR(VLOOKUP($A15,Filtros!$A$5:$AY$22116,16,FALSE),0)","v":803},{"$f":"IFERROR(VLOOKUP($A15,Filtros!$A$5:$AY$22116,17,FALSE),0)","v":750},{"$f":"IFERROR(VLOOKUP($A15,Filtros!$A$5:$AY$22116,18,FALSE),0)","v":1286},{"$f":"IFERROR(VLOOKUP($A15,Filtros!$A$5:$AY$22116,19,FALSE),0)","v":1166},{"$f":"IFERROR(VLOOKUP($A15,Filtros!$A$5:$AY$22116,20,FALSE),0)","v":2179},{"$f":"IFERROR(VLOOKUP($A15,Filtros!$A$5:$AY$22116,21,FALSE),0)","v":1810},{"$f":"IFERROR(VLOOKUP($A15,Filtros!$A$5:$AY$22116,22,FALSE),0)","v":3243},{"$f":"IFERROR(VLOOKUP($A15,Filtros!$A$5:$AY$22116,23,FALSE),0)","v":2324},{"$f":"IFERROR(VLOOKUP($A15,Filtros!$A$5:$AY$22116,24,FALSE),0)","v":3594},{"$f":"IFERROR(VLOOKUP($A15,Filtros!$A$5:$AY$22116,25,FALSE),0)","v":2796},{"$f":"IFERROR(VLOOKUP($A15,Filtros!$A$5:$AY$22116,26,FALSE),0)","v":3765},{"$f":"IFERROR(VLOOKUP($A15,Filtros!$A$5:$AY$22116,27,FALSE),0)","v":2703},{"$f":"IFERROR(VLOOKUP($A15,Filtros!$A$5:$AY$22116,28,FALSE),0)","v":3550},{"$f":"IFERROR(VLOOKUP($A15,Filtros!$A$5:$AY$22116,29,FALSE),0)","v":2324},{"$f":"IFERROR(VLOOKUP($A15,Filtros!$A$5:$AY$22116,30,FALSE),0)","v":2992},{"$f":"IFERROR(VLOOKUP($A15,Filtros!$A$5:$AY$22116,31,FALSE),0)","v":2995},{"$f":"IFERROR(VLOOKUP($A15,Filtros!$A$5:$AY$22116,32,FALSE),0)","v":4894},{"$f":"IFERROR(VLOOKUP($A15,Filtros!$A$5:$AY$22116,33,FALSE),0)","v":48},{"$f":"IFERROR(VLOOKUP($A15,Filtros!$A$5:$AY$22116,34,FALSE),0)","v":93},{"$f":"IFERROR(VLOOKUP($A15,Filtros!$A$5:$AY$22116,35,FALSE),0)","v":57},{"$f":"IFERROR(VLOOKUP($A15,Filtros!$A$5:$AY$22116,36,FALSE),0)","v":107},{"$f":"IFERROR(VLOOKUP($A15,Filtros!$A$5:$AY$22116,37,FALSE),0)","v":0},"",{"$nulls":16},"","","","",null,null,"","",{"$nulls":28},0,0,0,0,{"$nulls":4},0,0]
["P4150601","PERSONAS BAJO CONTROL SEGÚN PATOLOGÍA Y FACTORES DE RIESGO (EXISTENCIA)","HIPERTENSOS",{"$f":"IFERROR(VLOOKUP($A16,Filtros!$A$5:$AY$22116,2,FALSE),0)","v":66786},{"$f":"IFERROR(VLOOKUP($A16,Filtros!$A$5:$AY$22116,3,FALSE),0)","v":24226},{"$f":"IFERROR(VLOOKUP($A16,Filtros!$A$5:$AY$22116,4,FALSE),0)","v":42560},{"$f":"IFERROR(VLOOKUP($A16,Filtros!$A$5:$AY$22116,5,FALSE),0)","v":19},{"$f":"IFERROR(VLOOKUP($A16,Filtros!$A$5:$AY$22116,6,FALSE),0)","v":13},{"$f":"IFERROR(VLOOKUP($A16,Filtros!$A$5:$AY$22116,7,FALSE),0)","v":45},{"$f":"IFERROR(VLOOKUP($A16,Filtros!$A$5:$AY$22116,8,FALSE),0)","v":53},{"$f":"IFERROR(VLOOKUP($A16,Filtros!$A$5:$AY$22116,9,FALSE),0)","v":60},{"$f":"IFERROR(VLOOKUP($A16,Filtros!$A$5:$AY$22116,10,FALSE),0)","v":122},{"$f":"IFERROR(VLOOKUP($A16,Filtros!$A$5:$AY$22116,11,FALSE),0)","v":145},{"$f":"IFERROR(VLOOKUP($A16,Filtros!$A$5:$AY$22116,12,FALSE),0)","v":279},{"$f":"IFERROR(VLOOKUP($A16,Filtros!$A$5:$AY$22116,13,FALSE),0)","v":250},{"$f":"IFERROR(VLOOKUP($A16,Filtros!$A$5:$AY$22116,14,FALSE),0)","v":522},{"$f":"IFERROR(VLOOKUP($A16,Filtros!$A$5:$AY$22116,15,FALSE),0)","v":432},{"$f":"IFERROR(VLOOKUP($A16,Filtros!$A$5:$AY$22116,16,FALSE),0)","v":1060},{"$f":"IFERROR(VLOOKUP($A16,Filtros!$A$5:$AY$22116,17,FALSE),0)","v":810},{"$f":"IFERROR(VLOOKUP($A16,Filtros!$A$5:$AY$22116,18,FALSE),0)","v":1866},{"$f":"IFERROR(VLOOKUP($A16,Filtros!$A$5:$AY$22116,19,FALSE),0)","v":1447},{"$f":"IFERROR(VLOOKUP($A16,Filtros!$A$5:$AY$22116,20,FALSE),0)","v":3272},{"$f":"IFERROR(VLOOKUP($A16,Filtros!$A$5:$AY$22116,21,FALSE),0)","v":2286},{"$f":"IFERROR(VLOOKUP($A16,Filtros!$A$5:$AY$22116,22,FALSE),0)","v":4810},{"$f":"IFERROR(VLOOKUP($A16,Filtros!$A$5:$AY$22116,23,FALSE),0)","v":3120},{"$f":"IFERROR(VLOOKUP($A16,Filtros!$A$5:$AY$22116,24,FALSE),0)","v":5582},{"$f":"IFERROR(VLOOKUP($A16,Filtros!$A$5:$AY$22116,25,FALSE),0)","v":3688},{"$f":"IFERROR(VLOOKUP($A16,Filtros!$A$5:$AY$22116,26,FALSE),0)","v":6125},{"$f":"IFERROR(VLOOKUP($A16,Filtros!$A$5:$AY$22116,27,FALSE),0)","v":3852},{"$f":"IFERROR(VLOOKUP($A16,Filtros!$A$5:$AY$22116,28,FALSE),0)","v":5975},{"$f":"IFERROR(VLOOKUP($A16,Filtros!$A$5:$AY$22116,29,FALSE),0)","v":3538},{"$f":"IFERROR(VLOOKUP($A16,Filtros!$A$5:$AY$22116,30,FALSE),0)","v":5337},{"$f":"IFERROR(VLOOKUP($A16,Filtros!$A$5:$AY$22116,31,FALSE),0)","v":4534},{"$f":"IFERROR(VLOOKUP($A16,Filtros!$A$5:$AY$22116,32,FALSE),0)","v":7544},{"$f":"IFERROR(VLOOKUP($A16,Filtros!$A$5:$AY$22116,33,FALSE),0)","v":62},{"$f":"IFERROR(VLOOKUP($A16,Filtros!$A$5:$AY$22116,34,FALSE),0)","v":114},{"$f":"IFERROR(VLOOKUP($A16,Filtros!$A$5:$AY$22116,35,FALSE),0)","v":64},{"$f":"IFERROR(VLOOKUP($A16,Filtros!$A$5:$AY$22116,36,FALSE),0)","v":128},{"$f":"IFERROR(VLOOKUP($A16,Filtros!$A$5:$AY$22116,37,FALSE),0)","v":0},"",{"$nulls":16},"","","","",null,null,"","",{"$nulls":28},0,0,0,0,{"$nulls":4},0,0]
["P4150602",null,"DIABETICOS",{"$f":"IFERROR(VLOOKUP($A17,Filtros!$A$5:$AY$22116,2,FALSE),0)","v":35657},{"$f":"IFERROR(VLOOKUP($A17,Filtros!$A$5:$AY$22116,3,FALSE),0)","v":13435},{"$f":"IFERROR(VLOOKUP($A17,Filtros!$A$5:$AY$22116,4,FALSE),0)","v":22222},{"$f":"IFERROR(VLOOKUP($A17,Filtros!$A$5:$AY$22116,5,FALSE),0)","v":22},{"$f":"IFERROR(VLOOKUP($A17,Filtros!$A$5:$AY$22116,6,FALSE),0)","v":22},{"$f":"IFERROR(VLOOKUP($A17,Filtros!$A$5:$AY$22116,7,FALSE),0)","v":20},{"$f":"IFERROR(VLOOKUP($A17,Filtros!$A$5:$AY$22116,8,FALSE),0)","v":51},{"$f":"IFERROR(VLOOKUP($A17,Filtros!$A$5:$AY$22116,9,FALSE),0)","v":53},{"$f":"IFERROR(VLOOKUP($A17,Filtros!$A$5:$AY$22116,10,FALSE),0)","v":139},{"$f":"IFERROR(VLOOKUP($A17,Filtros!$A$5:$AY$22116,11,FALSE),0)","v":119},{"$f":"IFERROR(VLOOKUP($A17,Filtros!$A$5:$AY$22116,12,FALSE),0)","v":265},{"$f":"IFERROR(VLOOKUP($A17,Filtros!$A$5:$AY$22116,13,FALSE),0)","v":188},{"$f":"IFERROR(VLOOKUP($A17,Filtros!$A$5:$AY$22116,14,FALSE),0)","v":435},{"$f":"IFERROR(VLOOKUP($A17,Filtros!$A$5:$AY$22116,15,FALSE),0)","v":360},{"$f":"IFERROR(VLOOKUP($A17,Filtros!$A$5:$AY$22116,16,FALSE),0)","v":745},{"$f":"IFERROR(VLOOKUP($A17,Filtros!$A$5:$AY$22116,17,FALSE),0)","v":629},{"$f":"IFERROR(VLOOKUP($A17,Filtros!$A$5:$AY$22116,18,FALSE),0)","v":1150},{"$f":"IFERROR(VLOOKUP($A17,Filtros!$A$5:$AY$22116,19,FALSE),0)","v":1011},{"$f":"IFERROR(VLOOKUP($A17,Filtros!$A$5:$AY$22116,20,FALSE),0)","v":1924},{"$f":"IFERROR(VLOOKUP($A17,Filtros!$A$5:$AY$22116,21,FALSE),0)","v":1487},{"$f":"IFERROR(VLOOKUP($A17,Filtros!$A$5:$AY$22116,22,FALSE),0)","v":2826},{"$f":"IFERROR(VLOOKUP($A17,Filtros!$A$5:$AY$22116,23,FALSE),0)","v":1918},{"$f":"IFERROR(VLOOKUP($A17,Filtros!$A$5:$AY$22116,24,FALSE),0)","v":3122},{"$f":"IFERROR(VLOOKUP($A17,Filtros!$A$5:$AY$22116,25,FALSE),0)","v":2231},{"$f":"IFERROR(VLOOKUP($A17,Filtros!$A$5:$AY$22116,26,FALSE),0)","v":3269},{"$f":"IFERROR(VLOOKUP($A17,Filtros!$A$5:$AY$22116,27,FALSE),0)","v":1978},{"$f":"IFERROR(VLOOKUP($A17,Filtros!$A$5:$AY$22116,28,FALSE),0)","v":2978},{"$f":"IFERROR(VLOOKUP($A17,Filtros!$A$5:$AY$22116,29,FALSE),0)","v":1671},{"$f":"IFERROR(VLOOKUP($A17,Filtros!$A$5:$AY$22116,30,FALSE),0)","v":2396},{"$f":"IFERROR(VLOOKUP($A17,Filtros!$A$5:$AY$22116,31,FALSE),0)","v":1748},{"$f":"IFERROR(VLOOKUP($A17,Filtros!$A$5:$AY$22116,32,FALSE),0)","v":2900},{"$f":"IFERROR(VLOOKUP($A17,Filtros!$A$5:$AY$22116,33,FALSE),0)","v":34},{"$f":"IFERROR(VLOOKUP($A17,Filtros!$A$5:$AY$22116,34,FALSE),0)","v":73},{"$f":"IFERROR(VLOOKUP($A17,Filtros!$A$5:$AY$22116,35,FALSE),0)","v":33},{"$f":"IFERROR(VLOOKUP($A17,Filtros!$A$5:$AY$22116,36,FALSE),0)","v":61},{"$f":"IFERROR(VLOOKUP($A17,Filtros!$A$5:$AY$22116,37,FALSE),0)","v":0},"",{"$nulls":16},"","","","",null,null,"","",{"$nulls":28},0,0,0,0,{"$nulls":4},0,0]
["P4150603",null,"DISLIPIDEMICOS",{"$f":"IFERROR(VLOOKUP($A18,Filtros!$A$5:$AY$22116,2,FALSE),0)","v":47088},{"$f":"IFERROR(VLOOKUP($A18,Filtros!$A$5:$AY$22116,3,FALSE),0)","v":15548},{"$f":"IFERROR(VLOOKUP($A18,Filtros!$A$5:$AY$22116,4,FALSE),0)","v":31540},{"$f":"IFERROR(VLOOKUP($A18,Filtros!$A$5:$AY$22116,5,FALSE),0)","v":23},{"$f":"IFERROR(VLOOKUP($A18,Filtros!$A$5:$AY$22116,6,FALSE),0)","v":32},{"$f":"IFERROR(VLOOKUP($A18,Filtros!$A$5:$AY$22116,7,FALSE),0)","v":34},{"$f":"IFERROR(VLOOKUP($A18,Filtros!$A$5:$AY$22116,8,FALSE),0)","v":82},{"$f":"IFERROR(VLOOKUP($A18,Filtros!$A$5:$AY$22116,9,FALSE),0)","v":60},{"$f":"IFERROR(VLOOKUP($A18,Filtros!$A$5:$AY$22116,10,FALSE),0)","v":150},{"$f":"IFERROR(VLOOKUP($A18,Filtros!$A$5:$AY$22116,11,FALSE),0)","v":128},{"$f":"IFERROR(VLOOKUP($A18,Filtros!$A$5:$AY$22116,12,FALSE),0)","v":242},{"$f":"IFERROR(VLOOKUP($A18,Filtros!$A$5:$AY$22116,13,FALSE),0)","v":238},{"$f":"IFERROR(VLOOKUP($A18,Filtros!$A$5:$AY$22116,14,FALSE),0)","v":478},{"$f":"IFERROR(VLOOKUP($A18,Filtros!$A$5:$AY$22116,15,FALSE),0)","v":395},{"$f":"IFERROR(VLOOKUP($A18,Filtros!$A$5:$AY$22116,16,FALSE),0)","v":860},{"$f":"IFERROR(VLOOKUP($A18,Filtros!$A$5:$AY$22116,17,FALSE),0)","v":678},{"$f":"IFERROR(VLOOKUP($A18,Filtros!$A$5:$AY$22116,18,FALSE),0)","v":1467},{"$f":"IFERROR(VLOOKUP($A18,Filtros!$A$5:$AY$22116,19,FALSE),0)","v":1143},{"$f":"IFERROR(VLOOKUP($A18,Filtros!$A$5:$AY$22116,20,FALSE),0)","v":2556},{"$f":"IFERROR(VLOOKUP($A18,Filtros!$A$5:$AY$22116,21,FALSE),0)","v":1687},{"$f":"IFERROR(VLOOKUP($A18,Filtros!$A$5:$AY$22116,22,FALSE),0)","v":4060},{"$f":"IFERROR(VLOOKUP($A18,Filtros!$A$5:$AY$22116,23,FALSE),0)","v":2135},{"$f":"IFERROR(VLOOKUP($A18,Filtros!$A$5:$AY$22116,24,FALSE),0)","v":4632},{"$f":"IFERROR(VLOOKUP($A18,Filtros!$A$5:$AY$22116,25,FALSE),0)","v":2431},{"$f":"IFERROR(VLOOKUP($A18,Filtros!$A$5:$AY$22116,26,FALSE),0)","v":4750},{"$f":"IFERROR(VLOOKUP($A18,Filtros!$A$5:$AY$22116,27,FALSE),0)","v":2254},{"$f":"IFERROR(VLOOKUP($A18,Filtros!$A$5:$AY$22116,28,FALSE),0)","v":4377},{"$f":"IFERROR(VLOOKUP($A18,Filtros!$A$5:$AY$22116,29,FALSE),0)","v":2022},{"$f":"IFERROR(VLOOKUP($A18,Filtros!$A$5:$AY$22116,30,FALSE),0)","v":3565},{"$f":"IFERROR(VLOOKUP($A18,Filtros!$A$5:$AY$22116,31,FALSE),0)","v":2320},{"$f":"IFERROR(VLOOKUP($A18,Filtros!$A$5:$AY$22116,32,FALSE),0)","v":4289},{"$f":"IFERROR(VLOOKUP($A18,Filtros!$A$5:$AY$22116,33,FALSE),0)","v":47},{"$f":"IFERROR(VLOOKUP($A18,Filtros!$A$5:$AY$22116,34,FALSE),0)","v":111},{"$f":"IFERROR(VLOOKUP($A18,Filtros!$A$5:$AY$22116,35,FALSE),0)","v":30},{"$f":"IFERROR(VLOOKUP($A18,Filtros!$A$5:$AY$22116,36,FALSE),0)","v":70},{"$f":"IFERROR(VLOOKUP($A18,Filtros!$A$5:$AY$22116,37,FALSE),0)","v":0},"",{"$nulls":16},"","","","",null,null,"","",{"$nulls":28},0,0,0,0,{"$nulls":4},0,0]
["P4150701",null,"TABAQUISMO ≥ 55 AÑOS",{"$f":"IFERROR(VLOOKUP($A19,Filtros!$A$5:$AY$22116,2,FALSE),0)","v":5201},{"$f":"IFERROR(VLOOKUP($A19,Filtros!$A$5:$AY$22116,3,FALSE),0)","v":2152},{"$f":"IFERROR(VLOOKUP($A19,Filtros!$A$5:$AY$22116,4,FALSE),0)","v":3049},{"$f":"IFERROR(VLOOKUP($A19,Filtros!$A$5:$AY$22116,5,FALSE),0)","v":0},{"$f":"IFERROR(VLOOKUP($A19,Filtros!$A$5:$AY$22116,6,FALSE),0)","v":0},{"$f":"IFERROR(VLOOKUP($A19,Filtros!$A$5:$AY$22116,7,FALSE),0)","v":0},{"$f":"IFERROR(VLOOKUP($A19,Filtros!$A$5:$AY$22116,8,FALSE),0)","v":0},{"$f":"IFERROR(VLOOKUP($A19,Filtros!$A$5:$AY$22116,9,FALSE),0)","v":0},{"$f":"IFERROR(VLOOKUP($A19,Filtros!$A$5:$AY$22116,10,FALSE),0)","v":0},{"$f":"IFERROR(VLOOKUP($A19,Filtros!$A$5:$AY$22116,11,FALSE),0)","v":0},{"$f":"IFERROR(VLOOKUP($A19,Filtros!$A$5:$AY$22116,12,FALSE),0)","v":0},{"$f":"IFERROR(VLOOKUP($A19,Filtros!$A$5:$AY$22116,13,FALSE),0)","v":0},{"$f":"IFERROR(VLOOKUP($A19,Filtros!$A$5:$AY$22116,14,FALSE),0)","v":0},{"$f":"IFERROR(VLOOKUP($A19,Filtros!$A$5:$AY$22116,15,FALSE),0)","v":0},{"$f":"IFERROR(VLOOKUP($A19,Filtros!$A$5:$AY$22116,16,FALSE),0)","v":0},{"$f":"IFERROR(VLOOKUP($A19,Filtros!$A$5:$AY$22116,17,FALSE),0)","v":0},{"$f":"IFERROR(VLOOKUP($A19,Filtros!$A$5:$AY$22116,18,FALSE),0)","v":0},{"$f":"IFERROR(VLOOKUP($A19,Filtros!$A$5:$AY$22116,19,FALSE),0)","v":0},{"$f":"IFERROR(VLOOKUP($A19,Filtros!$A$5:$AY$22116,20,FALSE),0)","v":0},{"$f":"IFERROR(VLOOKUP($A19,Filtros!$A$5:$AY$22116,21,FALSE),0)","v":449},{"$f":"IFERROR(VLOOKUP($A19,Filtros!$A$5:$AY$22116,22,FALSE),0)","v":758},{"$f":"IFERROR(VLOOKUP($A19,Filtros!$A$5:$AY$22116,23,FALSE),0)","v":502},{"$f":"IFERROR(VLOOKUP($A19,Filtros!$A$5:$AY$22116,24,FALSE),0)","v":816},{"$f":"IFERROR(VLOOKUP($A19,Filtros!$A$5:$AY$22116,25,FALSE),0)","v":453},{"$f":"IFERROR(VLOOKUP($A19,Filtros!$A$5:$AY$22116,26,FALSE),0)","v":705},{"$f":"IFERROR(VLOOKUP($A19,Filtros!$A$5:$AY$22116,27,FALSE),0)","v":349},{"$f":"IFERROR(VLOOKUP($A19,Filtros!$A$5:$AY$22116,28,FALSE),0)","v":414},{"$f":"IFERROR(VLOOKUP($A19,Filtros!$A$5:$AY$22116,29,FALSE),0)","v":234},{"$f":"IFERROR(VLOOKUP($A19,Filtros!$A$5:$AY$22116,30,FALSE),0)","v":195},{"$f":"IFERROR(VLOOKUP($A19,Filtros!$A$5:$AY$22116,31,FALSE),0)","v":165},{"$f":"IFERROR(VLOOKUP($A19,Filtros!$A$5:$AY$22116,32,FALSE),0)","v":161},{"$f":"IFERROR(VLOOKUP($A19,Filtros!$A$5:$AY$22116,33,FALSE),0)","v":5},{"$f":"IFERROR(VLOOKUP($A19,Filtros!$A$5:$AY$22116,34,FALSE),0)","v":8},{"$f":"IFERROR(VLOOKUP($A19,Filtros!$A$5:$AY$22116,35,FALSE),0)","v":11},{"$f":"IFERROR(VLOOKUP($A19,Filtros!$A$5:$AY$22116,36,FALSE),0)","v":22},{"$f":"IFERROR(VLOOKUP($A19,Filtros!$A$5:$AY$22116,37,FALSE),0)","v":0},"",{"$nulls":16},"","","","",null,null,"","",{"$nulls":28},0,0,0,0,{"$nulls":4},0,0]
["P4190900",null,"ANTECEDENTES DE INFARTO AGUDO AL MIOCARDIO (IAM)",{"$f":"IFERROR(VLOOKUP($A20,Filtros!$A$5:$AY$22116,2,FALSE),0)","v":2569},{"$f":"IFERROR(VLOOKUP($A20,Filtros!$A$5:$AY$22116,3,FALSE),0)","v":1354},{"$f":"IFERROR(VLOOKUP($A20,Filtros!$A$5:$AY$22116,4,FALSE),0)","v":1215},{"$f":"IFERROR(VLOOKUP($A20,Filtros!$A$5:$AY$22116,5,FALSE),0)","v":0},{"$f":"IFERROR(VLOOKUP($A20,Filtros!$A$5:$AY$22116,6,FALSE),0)","v":0},{"$f":"IFERROR(VLOOKUP($A20,Filtros!$A$5:$AY$22116,7,FALSE),0)","v":0},{"$f":"IFERROR(VLOOKUP($A20,Filtros!$A$5:$AY$22116,8,FALSE),0)","v":1},{"$f":"IFERROR(VLOOKUP($A20,Filtros!$A$5:$AY$22116,9,FALSE),0)","v":0},{"$f":"IFERROR(VLOOKUP($A20,Filtros!$A$5:$AY$22116,10,FALSE),0)","v":4},{"$f":"IFERROR(VLOOKUP($A20,Filtros!$A$5:$AY$22116,11,FALSE),0)","v":1},{"$f":"IFERROR(VLOOKUP($A20,Filtros!$A$5:$AY$22116,12,FALSE),0)","v":1},{"$f":"IFERROR(VLOOKUP($A20,Filtros!$A$5:$AY$22116,13,FALSE),0)","v":4},{"$f":"IFERROR(VLOOKUP($A20,Filtros!$A$5:$AY$22116,14,FALSE),0)","v":6},{"$f":"IFERROR(VLOOKUP($A20,Filtros!$A$5:$AY$22116,15,FALSE),0)","v":13},{"$f":"IFERROR(VLOOKUP($A20,Filtros!$A$5:$AY$22116,16,FALSE),0)","v":15},{"$f":"IFERROR(VLOOKUP($A20,Filtros!$A$5:$AY$22116,17,FALSE),0)","v":19},{"$f":"IFERROR(VLOOKUP($A20,Filtros!$A$5:$AY$22116,18,FALSE),0)","v":22},{"$f":"IFERROR(VLOOKUP($A20,Filtros!$A$5:$AY$22116,19,FALSE),0)","v":62},{"$f":"IFERROR(VLOOKUP($A20,Filtros!$A$5:$AY$22116,20,FALSE),0)","v":49},{"$f":"IFERROR(VLOOKUP($A20,Filtros!$A$5:$AY$22116,21,FALSE),0)","v":92},{"$f":"IFERROR(VLOOKUP($A20,Filtros!$A$5:$AY$22116,22,FALSE),0)","v":89},{"$f":"IFERROR(VLOOKUP($A20,Filtros!$A$5:$AY$22116,23,FALSE),0)","v":171},{"$f":"IFERROR(VLOOKUP($A20,Filtros!$A$5:$AY$22116,24,FALSE),0)","v":127},{"$f":"IFERROR(VLOOKUP($A20,Filtros!$A$5:$AY$22116,25,FALSE),0)","v":231},{"$f":"IFERROR(VLOOKUP($A20,Filtros!$A$5:$AY$22116,26,FALSE),0)","v":172},{"$f":"IFERROR(VLOOKUP($A20,Filtros!$A$5:$AY$22116,27,FALSE),0)","v":239},{"$f":"IFERROR(VLOOKUP($A20,Filtros!$A$5:$AY$22116,28,FALSE),0)","v":208},{"$f":"IFERROR(VLOOKUP($A20,Filtros!$A$5:$AY$22116,29,FALSE),0)","v":223},{"$f":"IFERROR(VLOOKUP($A20,Filtros!$A$5:$AY$22116,30,FALSE),0)","v":193},{"$f":"IFERROR(VLOOKUP($A20,Filtros!$A$5:$AY$22116,31,FALSE),0)","v":299},{"$f":"IFERROR(VLOOKUP($A20,Filtros!$A$5:$AY$22116,32,FALSE),0)","v":328},{"$f":"IFERROR(VLOOKUP($A20,Filtros!$A$5:$AY$22116,33,FALSE),0)","v":4},{"$f":"IFERROR(VLOOKUP($A20,Filtros!$A$5:$AY$22116,34,FALSE),0)","v":4},{"$f":"IFERROR(VLOOKUP($A20,Filtros!$A$5:$AY$22116,35,FALSE),0)","v":0},{"$f":"IFERROR(VLOOKUP($A20,Filtros!$A$5:$AY$22116,36,FALSE),0)","v":6},{"$f":"IFERROR(VLOOKUP($A20,Filtros!$A$5:$AY$22116,37,FALSE),0)","v":0},"",{"$nulls":16},"","","","",null,null,"","",{"$nulls":28},0,0,0,0,{"$nulls":4},0,0]
["P4190910",null,"ANTECEDENTES DE ENF. CEREBRO VASCULAR ",{"$f":"IFERROR(VLOOKUP($A21,Filtros!$A$5:$AY$22116,2,FALSE),0)","v":2891},{"$f":"IFERROR(VLOOKUP($A21,Filtros!$A$5:$AY$22116,3,FALSE),0)","v":1456},{"$f":"IFERROR(VLOOKUP($A21,Filtros!$A$5:$AY$22116,4,FALSE),0)","v":1435},{"$f":"IFERROR(VLOOKUP($A21,Filtros!$A$5:$AY$22116,5,FALSE),0)","v":0},{"$f":"IFERROR(VLOOKUP($A21,Filtros!$A$5:$AY$22116,6,FALSE),0)","v":0},{"$f":"IFERROR(VLOOKUP($A21,Filtros!$A$5:$AY$22116,7,FALSE),0)","v":0},{"$f":"IFERROR(VLOOKUP($A21,Filtros!$A$5:$AY$22116,8,FALSE),0)","v":1},{"$f":"IFERROR(VLOOKUP($A21,Filtros!$A$5:$AY$22116,9,FALSE),0)","v":1},{"$f":"IFERROR(VLOOKUP($A21,Filtros!$A$5:$AY$22116,10,FALSE),0)","v":2},{"$f":"IFERROR(VLOOKUP($A21,Filtros!$A$5:$AY$22116,11,FALSE),0)","v":5},{"$f":"IFERROR(VLOOKUP($A21,Filtros!$A$5:$AY$22116,12,FALSE),0)","v":3},{"$f":"IFERROR(VLOOKUP($A21,Filtros!$A$5:$AY$22116,13,FALSE),0)","v":3},{"$f":"IFERROR(VLOOKUP($A21,Filtros!$A$5:$AY$22116,14,FALSE),0)","v":5},{"$f":"IFERROR(VLOOKUP($A21,Filtros!$A$5:$AY$22116,15,FALSE),0)","v":12},{"$f":"IFERROR(VLOOKUP($A21,Filtros!$A$5:$AY$22116,16,FALSE),0)","v":14},{"$f":"IFERROR(VLOOKUP($A21,Filtros!$A$5:$AY$22116,17,FALSE),0)","v":19},{"$f":"IFERROR(VLOOKUP($A21,Filtros!$A$5:$AY$22116,18,FALSE),0)","v":33},{"$f":"IFERROR(VLOOKUP($A21,Filtros!$A$5:$AY$22116,19,FALSE),0)","v":62},{"$f":"IFERROR(VLOOKUP($A21,Filtros!$A$5:$AY$22116,20,FALSE),0)","v":63},{"$f":"IFERROR(VLOOKUP($A21,Filtros!$A$5:$AY$22116,21,FALSE),0)","v":97},{"$f":"IFERROR(VLOOKUP($A21,Filtros!$A$5:$AY$22116,22,FALSE),0)","v":108},{"$f":"IFERROR(VLOOKUP($A21,Filtros!$A$5:$AY$22116,23,FALSE),0)","v":158},{"$f":"IFERROR(VLOOKUP($A21,Filtros!$A$5:$AY$22116,24,FALSE),0)","v":147},{"$f":"IFERROR(VLOOKUP($A21,Filtros!$A$5:$AY$22116,25,FALSE),0)","v":263},{"$f":"IFERROR(VLOOKUP($A21,Filtros!$A$5:$AY$22116,26,FALSE),0)","v":186},{"$f":"IFERROR(VLOOKUP($A21,Filtros!$A$5:$AY$22116,27,FALSE),0)","v":265},{"$f":"IFERROR(VLOOKUP($A21,Filtros!$A$5:$AY$22116,28,FALSE),0)","v":218},{"$f":"IFERROR(VLOOKUP($A21,Filtros!$A$5:$AY$22116,29,FALSE),0)","v":223},{"$f":"IFERROR(VLOOKUP($A21,Filtros!$A$5:$AY$22116,30,FALSE),0)","v":242},{"$f":"IFERROR(VLOOKUP($A21,Filtros!$A$5:$AY$22116,31,FALSE),0)","v":348},{"$f":"IFERROR(VLOOKUP($A21,Filtros!$A$5:$AY$22116,32,FALSE),0)","v":413},{"$f":"IFERROR(VLOOKUP($A21,Filtros!$A$5:$AY$22116,33,FALSE),0)","v":8},{"$f":"IFERROR(VLOOKUP($A21,Filtros!$A$5:$AY$22116,34,FALSE),0)","v":2},{"$f":"IFERROR(VLOOKUP($A21,Filtros!$A$5:$AY$22116,35,FALSE),0)","v":3},{"$f":"IFERROR(VLOOKUP($A21,Filtros!$A$5:$AY$22116,36,FALSE),0)","v":5},{"$f":"IFERROR(VLOOKUP($A21,Filtros!$A$5:$AY$22116,37,FALSE),0)","v":0},"",{"$nulls":16},"","","","",null,null,"","",{"$nulls":28},0,0,0,0,{"$nulls":4},0,0]
["P4190800","DETECCIÓN Y PREVENCION DE LA PROGRESION DE LA ENFERMEDAD RENAL CRÓNICA (ERC). ","SIN ENFERMEDAD RENAL (S/ERC)",{"$f":"IFERROR(VLOOKUP($A22,Filtros!$A$5:$AY$22116,2,FALSE),0)","v":39421},{"$f":"IFERROR(VLOOKUP($A22,Filtros!$A$5:$AY$22116,3,FALSE),0)","v":13708},{"$f":"IFERROR(VLOOKUP($A22,Filtros!$A$5:$AY$22116,4,FALSE),0)","v":25713},{"$f":"IFERROR(VLOOKUP($A22,Filtros!$A$5:$AY$22116,5,FALSE),0)","v":36},{"$f":"IFERROR(VLOOKUP($A22,Filtros!$A$5:$AY$22116,6,FALSE),0)","v":50},{"$f":"IFERROR(VLOOKUP($A22,Filtros!$A$5:$AY$22116,7,FALSE),0)","v":63},{"$f":"IFERROR(VLOOKUP($A22,Filtros!$A$5:$AY$22116,8,FALSE),0)","v":123},{"$f":"IFERROR(VLOOKUP($A22,Filtros!$A$5:$AY$22116,9,FALSE),0)","v":97},{"$f":"IFERROR(VLOOKUP($A22,Filtros!$A$5:$AY$22116,10,FALSE),0)","v":250},{"$f":"IFERROR(VLOOKUP($A22,Filtros!$A$5:$AY$22116,11,FALSE),0)","v":197},{"$f":"IFERROR(VLOOKUP($A22,Filtros!$A$5:$AY$22116,12,FALSE),0)","v":445},{"$f":"IFERROR(VLOOKUP($A22,Filtros!$A$5:$AY$22116,13,FALSE),0)","v":331},{"$f":"IFERROR(VLOOKUP($A22,Filtros!$A$5:$AY$22116,14,FALSE),0)","v":771},{"$f":"IFERROR(VLOOKUP($A22,Filtros!$A$5:$AY$22116,15,FALSE),0)","v":527},{"$f":"IFERROR(VLOOKUP($A22,Filtros!$A$5:$AY$22116,16,FALSE),0)","v":1286},{"$f":"IFERROR(VLOOKUP($A22,Filtros!$A$5:$AY$22116,17,FALSE),0)","v":834},{"$f":"IFERROR(VLOOKUP($A22,Filtros!$A$5:$AY$22116,18,FALSE),0)","v":1941},{"$f":"IFERROR(VLOOKUP($A22,Filtros!$A$5:$AY$22116,19,FALSE),0)","v":1267},{"$f":"IFERROR(VLOOKUP($A22,Filtros!$A$5:$AY$22116,20,FALSE),0)","v":2932},{"$f":"IFERROR(VLOOKUP($A22,Filtros!$A$5:$AY$22116,21,FALSE),0)","v":1692},{"$f":"IFERROR(VLOOKUP($A22,Filtros!$A$5:$AY$22116,22,FALSE),0)","v":3667},{"$f":"IFERROR(VLOOKUP($A22,Filtros!$A$5:$AY$22116,23,FALSE),0)","v":2010},{"$f":"IFERROR(VLOOKUP($A22,Filtros!$A$5:$AY$22116,24,FALSE),0)","v":3770},{"$f":"IFERROR(VLOOKUP($A22,Filtros!$A$5:$AY$22116,25,FALSE),0)","v":2058},{"$f":"IFERROR(VLOOKUP($A22,Filtros!$A$5:$AY$22116,26,FALSE),0)","v":3425},{"$f":"IFERROR(VLOOKUP($A22,Filtros!$A$5:$AY$22116,27,FALSE),0)","v":1741},{"$f":"IFERROR(VLOOKUP($A22,Filtros!$A$5:$AY$22116,28,FALSE),0)","v":2805},{"$f":"IFERROR(VLOOKUP($A22,Filtros!$A$5:$AY$22116,29,FALSE),0)","v":1384},{"$f":"IFERROR(VLOOKUP($A22,Filtros!$A$5:$AY$22116,30,FALSE),0)","v":1966},{"$f":"IFERROR(VLOOKUP($A22,Filtros!$A$5:$AY$22116,31,FALSE),0)","v":1471},{"$f":"IFERROR(VLOOKUP($A22,Filtros!$A$5:$AY$22116,32,FALSE),0)","v":2282},{"$f":"IFERROR(VLOOKUP($A22,Filtros!$A$5:$AY$22116,33,FALSE),0)","v":55},{"$f":"IFERROR(VLOOKUP($A22,Filtros!$A$5:$AY$22116,34,FALSE),0)","v":141},{"$f":"IFERROR(VLOOKUP($A22,Filtros!$A$5:$AY$22116,35,FALSE),0)","v":39},{"$f":"IFERROR(VLOOKUP($A22,Filtros!$A$5:$AY$22116,36,FALSE),0)","v":90},{"$f":"IFERROR(VLOOKUP($A22,Filtros!$A$5:$AY$22116,37,FALSE),0)","v":10615},{"$f":" BE22 & BF22 & BI22 & BG22 & BH22 & BK22 & BL22","v":""},{"$nulls":16},"","","","",{"$f":"IF($AM22<=$D22,\"\",\"* Personas diabéticas 'Sin enfermedad renal' no debe ser mayor que el Total pacientes evaluados. \")","v":""},null,"","",{"$nulls":28},0,0,0,0,{"$f":"IF($AM22<=$D22,0,1)","v":0},{"$nulls":3},0,0]
["P4190801",null,"ETAPA G1 Y ETAPA G2 (VFG ≥ 60 ml/min)",{"$f":"IFERROR(VLOOKUP($A23,Filtros!$A$5:$AY$22116,2,FALSE),0)","v":19900},{"$f":"IFERROR(VLOOKUP($A23,Filtros!$A$5:$AY$22116,3,FALSE),0)","v":7387},{"$f":"IFERROR(VLOOKUP($A23,Filtros!$A$5:$AY$22116,4,FALSE),0)","v":12513},{"$f":"IFERROR(VLOOKUP($A23,Filtros!$A$5:$AY$22116,5,FALSE),0)","v":6},{"$f":"IFERROR(VLOOKUP($A23,Filtros!$A$5:$AY$22116,6,FALSE),0)","v":6},{"$f":"IFERROR(VLOOKUP($A23,Filtros!$A$5:$AY$22116,7,FALSE),0)","v":5},{"$f":"IFERROR(VLOOKUP($A23,Filtros!$A$5:$AY$22116,8,FALSE),0)","v":7},{"$f":"IFERROR(VLOOKUP($A23,Filtros!$A$5:$AY$22116,9,FALSE),0)","v":8},{"$f":"IFERROR(VLOOKUP($A23,Filtros!$A$5:$AY$22116,10,FALSE),0)","v":30},{"$f":"IFERROR(VLOOKUP($A23,Filtros!$A$5:$AY$22116,11,FALSE),0)","v":25},{"$f":"IFERROR(VLOOKUP($A23,Filtros!$A$5:$AY$22116,12,FALSE),0)","v":54},{"$f":"IFERROR(VLOOKUP($A23,Filtros!$A$5:$AY$22116,13,FALSE),0)","v":53},{"$f":"IFERROR(VLOOKUP($A23,Filtros!$A$5:$AY$22116,14,FALSE),0)","v":117},{"$f":"IFERROR(VLOOKUP($A23,Filtros!$A$5:$AY$22116,15,FALSE),0)","v":105},{"$f":"IFERROR(VLOOKUP($A23,Filtros!$A$5:$AY$22116,16,FALSE),0)","v":271},{"$f":"IFERROR(VLOOKUP($A23,Filtros!$A$5:$AY$22116,17,FALSE),0)","v":220},{"$f":"IFERROR(VLOOKUP($A23,Filtros!$A$5:$AY$22116,18,FALSE),0)","v":483},{"$f":"IFERROR(VLOOKUP($A23,Filtros!$A$5:$AY$22116,19,FALSE),0)","v":441},{"$f":"IFERROR(VLOOKUP($A23,Filtros!$A$5:$AY$22116,20,FALSE),0)","v":930},{"$f":"IFERROR(VLOOKUP($A23,Filtros!$A$5:$AY$22116,21,FALSE),0)","v":687},{"$f":"IFERROR(VLOOKUP($A23,Filtros!$A$5:$AY$22116,22,FALSE),0)","v":1393},{"$f":"IFERROR(VLOOKUP($A23,Filtros!$A$5:$AY$22116,23,FALSE),0)","v":955},{"$f":"IFERROR(VLOOKUP($A23,Filtros!$A$5:$AY$22116,24,FALSE),0)","v":1724},{"$f":"IFERROR(VLOOKUP($A23,Filtros!$A$5:$AY$22116,25,FALSE),0)","v":1221},{"$f":"IFERROR(VLOOKUP($A23,Filtros!$A$5:$AY$22116,26,FALSE),0)","v":1942},{"$f":"IFERROR(VLOOKUP($A23,Filtros!$A$5:$AY$22116,27,FALSE),0)","v":1276},{"$f":"IFERROR(VLOOKUP($A23,Filtros!$A$5:$AY$22116,28,FALSE),0)","v":1947},{"$f":"IFERROR(VLOOKUP($A23,Filtros!$A$5:$AY$22116,29,FALSE),0)","v":1165},{"$f":"IFERROR(VLOOKUP($A23,Filtros!$A$5:$AY$22116,30,FALSE),0)","v":1607},{"$f":"IFERROR(VLOOKUP($A23,Filtros!$A$5:$AY$22116,31,FALSE),0)","v":1220},{"$f":"IFERROR(VLOOKUP($A23,Filtros!$A$5:$AY$22116,32,FALSE),0)","v":2002},{"$f":"IFERROR(VLOOKUP($A23,Filtros!$A$5:$AY$22116,33,FALSE),0)","v":10},{"$f":"IFERROR(VLOOKUP($A23,Filtros!$A$5:$AY$22116,34,FALSE),0)","v":17},{"$f":"IFERROR(VLOOKUP($A23,Filtros!$A$5:$AY$22116,35,FALSE),0)","v":11},{"$f":"IFERROR(VLOOKUP($A23,Filtros!$A$5:$AY$22116,36,FALSE),0)","v":27},{"$f":"IFERROR(VLOOKUP($A23,Filtros!$A$5:$AY$22116,37,FALSE),0)","v":5551},"",{"$nulls":16},"","","","",{"$f":"IF($AM23<=$D23,\"\",\"* Personas diabéticas 'Etapa 1 y 2' no debe ser mayor que el Total pacientes evaluados. \")","v":""},null,"","",{"$nulls":28},0,0,0,0,0,{"$nulls":3},0,0]
["P4190810",null,"ETAPA G3a (VFG ≥45 a 59 ml/min)",{"$f":"IFERROR(VLOOKUP($A24,Filtros!$A$5:$AY$22116,2,FALSE),0)","v":4454},{"$f":"IFERROR(VLOOKUP($A24,Filtros!$A$5:$AY$22116,3,FALSE),0)","v":1622},{"$f":"IFERROR(VLOOKUP($A24,Filtros!$A$5:$AY$22116,4,FALSE),0)","v":2832},{"$f":"IFERROR(VLOOKUP($A24,Filtros!$A$5:$AY$22116,5,FALSE),0)","v":0},{"$f":"IFERROR(VLOOKUP($A24,Filtros!$A$5:$AY$22116,6,FALSE),0)","v":0},{"$f":"IFERROR(VLOOKUP($A24,Filtros!$A$5:$AY$22116,7,FALSE),0)","v":1},{"$f":"IFERROR(VLOOKUP($A24,Filtros!$A$5:$AY$22116,8,FALSE),0)","v":2},{"$f":"IFERROR(VLOOKUP($A24,Filtros!$A$5:$AY$22116,9,FALSE),0)","v":3},{"$f":"IFERROR(VLOOKUP($A24,Filtros!$A$5:$AY$22116,10,FALSE),0)","v":1},{"$f":"IFERROR(VLOOKUP($A24,Filtros!$A$5:$AY$22116,11,FALSE),0)","v":1},{"$f":"IFERROR(VLOOKUP($A24,Filtros!$A$5:$AY$22116,12,FALSE),0)","v":2},{"$f":"IFERROR(VLOOKUP($A24,Filtros!$A$5:$AY$22116,13,FALSE),0)","v":2},{"$f":"IFERROR(VLOOKUP($A24,Filtros!$A$5:$AY$22116,14,FALSE),0)","v":6},{"$f":"IFERROR(VLOOKUP($A24,Filtros!$A$5:$AY$22116,15,FALSE),0)","v":2},{"$f":"IFERROR(VLOOKUP($A24,Filtros!$A$5:$AY$22116,16,FALSE),0)","v":6},{"$f":"IFERROR(VLOOKUP($A24,Filtros!$A$5:$AY$22116,17,FALSE),0)","v":20},{"$f":"IFERROR(VLOOKUP($A24,Filtros!$A$5:$AY$22116,18,FALSE),0)","v":29},{"$f":"IFERROR(VLOOKUP($A24,Filtros!$A$5:$AY$22116,19,FALSE),0)","v":29},{"$f":"IFERROR(VLOOKUP($A24,Filtros!$A$5:$AY$22116,20,FALSE),0)","v":71},{"$f":"IFERROR(VLOOKUP($A24,Filtros!$A$5:$AY$22116,21,FALSE),0)","v":46},{"$f":"IFERROR(VLOOKUP($A24,Filtros!$A$5:$AY$22116,22,FALSE),0)","v":137},{"$f":"IFERROR(VLOOKUP($A24,Filtros!$A$5:$AY$22116,23,FALSE),0)","v":99},{"$f":"IFERROR(VLOOKUP($A24,Filtros!$A$5:$AY$22116,24,FALSE),0)","v":196},{"$f":"IFERROR(VLOOKUP($A24,Filtros!$A$5:$AY$22116,25,FALSE),0)","v":172},{"$f":"IFERROR(VLOOKUP($A24,Filtros!$A$5:$AY$22116,26,FALSE),0)","v":331},{"$f":"IFERROR(VLOOKUP($A24,Filtros!$A$5:$AY$22116,27,FALSE),0)","v":265},{"$f":"IFERROR(VLOOKUP($A24,Filtros!$A$5:$AY$22116,28,FALSE),0)","v":448},{"$f":"IFERROR(VLOOKUP($A24,Filtros!$A$5:$AY$22116,29,FALSE),0)","v":303},{"$f":"IFERROR(VLOOKUP($A24,Filtros!$A$5:$AY$22116,30,FALSE),0)","v":525},{"$f":"IFERROR(VLOOKUP($A24,Filtros!$A$5:$AY$22116,31,FALSE),0)","v":679},{"$f":"IFERROR(VLOOKUP($A24,Filtros!$A$5:$AY$22116,32,FALSE),0)","v":1078},{"$f":"IFERROR(VLOOKUP($A24,Filtros!$A$5:$AY$22116,33,FALSE),0)","v":2},{"$f":"IFERROR(VLOOKUP($A24,Filtros!$A$5:$AY$22116,34,FALSE),0)","v":2},{"$f":"IFERROR(VLOOKUP($A24,Filtros!$A$5:$AY$22116,35,FALSE),0)","v":0},{"$f":"IFERROR(VLOOKUP($A24,Filtros!$A$5:$AY$22116,36,FALSE),0)","v":2},{"$f":"IFERROR(VLOOKUP($A24,Filtros!$A$5:$AY$22116,37,FALSE),0)","v":1244},"",{"$nulls":16},"","","","",{"$f":"IF($AM24<=$D24,\"\",\"* Personas diabéticas 'Etapa 1 y 2' no debe ser mayor que el Total pacientes evaluados. \")","v":""},null,"","",{"$nulls":28},0,0,0,0,0,{"$nulls":3},0,0]
["P4190811",null,"ETAPA G3b (VFG ≥30 a 44 ml/min)",{"$f":"IFERROR(VLOOKUP($A25,Filtros!$A$5:$AY$22116,2,FALSE),0)","v":1658},{"$f":"IFERROR(VLOOKUP($A25,Filtros!$A$5:$AY$22116,3,FALSE),0)","v":612},{"$f":"IFERROR(VLOOKUP($A25,Filtros!$A$5:$AY$22116,4,FALSE),0)","v":1046},{"$f":"IFERROR(VLOOKUP($A25,Filtros!$A$5:$AY$22116,5,FALSE),0)","v":0},{"$f":"IFERROR(VLOOKUP($A25,Filtros!$A$5:$AY$22116,6,FALSE),0)","v":0},{"$f":"IFERROR(VLOOKUP($A25,Filtros!$A$5:$AY$22116,7,FALSE),0)","v":0},{"$f":"IFERROR(VLOOKUP($A25,Filtros!$A$5:$AY$22116,8,FALSE),0)","v":0},{"$f":"IFERROR(VLOOKUP($A25,Filtros!$A$5:$AY$22116,9,FALSE),0)","v":0},{"$f":"IFERROR(VLOOKUP($A25,Filtros!$A$5:$AY$22116,10,FALSE),0)","v":0},{"$f":"IFERROR(VLOOKUP($A25,Filtros!$A$5:$AY$22116,11,FALSE),0)","v":1},{"$f":"IFERROR(VLOOKUP($A25,Filtros!$A$5:$AY$22116,12,FALSE),0)","v":0},{"$f":"IFERROR(VLOOKUP($A25,Filtros!$A$5:$AY$22116,13,FALSE),0)","v":3},{"$f":"IFERROR(VLOOKUP($A25,Filtros!$A$5:$AY$22116,14,FALSE),0)","v":1},{"$f":"IFERROR(VLOOKUP($A25,Filtros!$A$5:$AY$22116,15,FALSE),0)","v":2},{"$f":"IFERROR(VLOOKUP($A25,Filtros!$A$5:$AY$22116,16,FALSE),0)","v":4},{"$f":"IFERROR(VLOOKUP($A25,Filtros!$A$5:$AY$22116,17,FALSE),0)","v":2},{"$f":"IFERROR(VLOOKUP($A25,Filtros!$A$5:$AY$22116,18,FALSE),0)","v":13},{"$f":"IFERROR(VLOOKUP($A25,Filtros!$A$5:$AY$22116,19,FALSE),0)","v":10},{"$f":"IFERROR(VLOOKUP($A25,Filtros!$A$5:$AY$22116,20,FALSE),0)","v":23},{"$f":"IFERROR(VLOOKUP($A25,Filtros!$A$5:$AY$22116,21,FALSE),0)","v":17},{"$f":"IFERROR(VLOOKUP($A25,Filtros!$A$5:$AY$22116,22,FALSE),0)","v":39},{"$f":"IFERROR(VLOOKUP($A25,Filtros!$A$5:$AY$22116,23,FALSE),0)","v":33},{"$f":"IFERROR(VLOOKUP($A25,Filtros!$A$5:$AY$22116,24,FALSE),0)","v":57},{"$f":"IFERROR(VLOOKUP($A25,Filtros!$A$5:$AY$22116,25,FALSE),0)","v":69},{"$f":"IFERROR(VLOOKUP($A25,Filtros!$A$5:$AY$22116,26,FALSE),0)","v":87},{"$f":"IFERROR(VLOOKUP($A25,Filtros!$A$5:$AY$22116,27,FALSE),0)","v":79},{"$f":"IFERROR(VLOOKUP($A25,Filtros!$A$5:$AY$22116,28,FALSE),0)","v":119},{"$f":"IFERROR(VLOOKUP($A25,Filtros!$A$5:$AY$22116,29,FALSE),0)","v":117},{"$f":"IFERROR(VLOOKUP($A25,Filtros!$A$5:$AY$22116,30,FALSE),0)","v":182},{"$f":"IFERROR(VLOOKUP($A25,Filtros!$A$5:$AY$22116,31,FALSE),0)","v":279},{"$f":"IFERROR(VLOOKUP($A25,Filtros!$A$5:$AY$22116,32,FALSE),0)","v":521},{"$f":"IFERROR(VLOOKUP($A25,Filtros!$A$5:$AY$22116,33,FALSE),0)","v":2},{"$f":"IFERROR(VLOOKUP($A25,Filtros!$A$5:$AY$22116,34,FALSE),0)","v":1},{"$f":"IFERROR(VLOOKUP($A25,Filtros!$A$5:$AY$22116,35,FALSE),0)","v":0},{"$f":"IFERROR(VLOOKUP($A25,Filtros!$A$5:$AY$22116,36,FALSE),0)","v":1},{"$f":"IFERROR(VLOOKUP($A25,Filtros!$A$5:$AY$22116,37,FALSE),0)","v":475},"",{"$nulls":16},"","","","",{"$f":"IF($AM25<=$D25,\"\",\"* Personas diabéticas 'Etapa 1 y 2' no debe ser mayor que el Total pacientes evaluados. \")","v":""},null,"","",{"$nulls":28},0,0,0,0,0,{"$nulls":3},0,0]
["P4190803",null,"ETAPA G4 (VFG ≥15 a 29 ml/min)",{"$f":"IFERROR(VLOOKUP($A26,Filtros!$A$5:$AY$22116,2,FALSE),0)","v":501},{"$f":"IFERROR(VLOOKUP($A26,Filtros!$A$5:$AY$22116,3,FALSE),0)","v":185},{"$f":"IFERROR(VLOOKUP($A26,Filtros!$A$5:$AY$22116,4,FALSE),0)","v":316},{"$f":"IFERROR(VLOOKUP($A26,Filtros!$A$5:$AY$22116,5,FALSE),0)","v":0},{"$f":"IFERROR(VLOOKUP($A26,Filtros!$A$5:$AY$22116,6,FALSE),0)","v":0},{"$f":"IFERROR(VLOOKUP($A26,Filtros!$A$5:$AY$22116,7,FALSE),0)","v":0},{"$f":"IFERROR(VLOOKUP($A26,Filtros!$A$5:$AY$22116,8,FALSE),0)","v":0},{"$f":"IFERROR(VLOOKUP($A26,Filtros!$A$5:$AY$22116,9,FALSE),0)","v":1},{"$f":"IFERROR(VLOOKUP($A26,Filtros!$A$5:$AY$22116,10,FALSE),0)","v":0},{"$f":"IFERROR(VLOOKUP($A26,Filtros!$A$5:$AY$22116,11,FALSE),0)","v":0},{"$f":"IFERROR(VLOOKUP($A26,Filtros!$A$5:$AY$22116,12,FALSE),0)","v":0},{"$f":"IFERROR(VLOOKUP($A26,Filtros!$A$5:$AY$22116,13,FALSE),0)","v":1},{"$f":"IFERROR(VLOOKUP($A26,Filtros!$A$5:$AY$22116,14,FALSE),0)","v":0},{"$f":"IFERROR(VLOOKUP($A26,Filtros!$A$5:$AY$22116,15,FALSE),0)","v":1},{"$f":"IFERROR(VLOOKUP($A26,Filtros!$A$5:$AY$22116,16,FALSE),0)","v":0},{"$f":"IFERROR(VLOOKUP($A26,Filtros!$A$5:$AY$22116,17,FALSE),0)","v":1},{"$f":"IFERROR(VLOOKUP($A26,Filtros!$A$5:$AY$22116,18,FALSE),0)","v":6},{"$f":"IFERROR(VLOOKUP($A26,Filtros!$A$5:$AY$22116,19,FALSE),0)","v":4},{"$f":"IFERROR(VLOOKUP($A26,Filtros!$A$5:$AY$22116,20,FALSE),0)","v":8},{"$f":"IFERROR(VLOOKUP($A26,Filtros!$A$5:$AY$22116,21,FALSE),0)","v":9},{"$f":"IFERROR(VLOOKUP($A26,Filtros!$A$5:$AY$22116,22,FALSE),0)","v":15},{"$f":"IFERROR(VLOOKUP($A26,Filtros!$A$5:$AY$22116,23,FALSE),0)","v":17},{"$f":"IFERROR(VLOOKUP($A26,Filtros!$A$5:$AY$22116,24,FALSE),0)","v":18},{"$f":"IFERROR(VLOOKUP($A26,Filtros!$A$5:$AY$22116,25,FALSE),0)","v":17},{"$f":"IFERROR(VLOOKUP($A26,Filtros!$A$5:$AY$22116,26,FALSE),0)","v":30},{"$f":"IFERROR(VLOOKUP($A26,Filtros!$A$5:$AY$22116,27,FALSE),0)","v":36},{"$f":"IFERROR(VLOOKUP($A26,Filtros!$A$5:$AY$22116,28,FALSE),0)","v":40},{"$f":"IFERROR(VLOOKUP($A26,Filtros!$A$5:$AY$22116,29,FALSE),0)","v":25},{"$f":"IFERROR(VLOOKUP($A26,Filtros!$A$5:$AY$22116,30,FALSE),0)","v":50},{"$f":"IFERROR(VLOOKUP($A26,Filtros!$A$5:$AY$22116,31,FALSE),0)","v":73},{"$f":"IFERROR(VLOOKUP($A26,Filtros!$A$5:$AY$22116,32,FALSE),0)","v":149},{"$f":"IFERROR(VLOOKUP($A26,Filtros!$A$5:$AY$22116,33,FALSE),0)","v":0},{"$f":"IFERROR(VLOOKUP($A26,Filtros!$A$5:$AY$22116,34,FALSE),0)","v":0},{"$f":"IFERROR(VLOOKUP($A26,Filtros!$A$5:$AY$22116,35,FALSE),0)","v":0},{"$f":"IFERROR(VLOOKUP($A26,Filtros!$A$5:$AY$22116,36,FALSE),0)","v":0},{"$f":"IFERROR(VLOOKUP($A26,Filtros!$A$5:$AY$22116,37,FALSE),0)","v":168},"",{"$nulls":16},"","","","",{"$f":"IF($AM26<=$D26,\"\",\"* Personas diabéticas 'Etapa 4' no debe ser mayor que el Total pacientes evaluados. \")","v":""},null,"","",{"$nulls":28},0,0,0,0,0,{"$nulls":3},0,0]
["P4190804",null,"ETAPA G5 (VFG <15 ml/min)",{"$f":"IFERROR(VLOOKUP($A27,Filtros!$A$5:$AY$22116,2,FALSE),0)","v":302},{"$f":"IFERROR(VLOOKUP($A27,Filtros!$A$5:$AY$22116,3,FALSE),0)","v":137},{"$f":"IFERROR(VLOOKUP($A27,Filtros!$A$5:$AY$22116,4,FALSE),0)","v":165},{"$f":"IFERROR(VLOOKUP($A27,Filtros!$A$5:$AY$22116,5,FALSE),0)","v":0},{"$f":"IFERROR(VLOOKUP($A27,Filtros!$A$5:$AY$22116,6,FALSE),0)","v":0},{"$f":"IFERROR(VLOOKUP($A27,Filtros!$A$5:$AY$22116,7,FALSE),0)","v":0},{"$f":"IFERROR(VLOOKUP($A27,Filtros!$A$5:$AY$22116,8,FALSE),0)","v":0},{"$f":"IFERROR(VLOOKUP($A27,Filtros!$A$5:$AY$22116,9,FALSE),0)","v":1},{"$f":"IFERROR(VLOOKUP($A27,Filtros!$A$5:$AY$22116,10,FALSE),0)","v":1},{"$f":"IFERROR(VLOOKUP($A27,Filtros!$A$5:$AY$22116,11,FALSE),0)","v":1},{"$f":"IFERROR(VLOOKUP($A27,Filtros!$A$5:$AY$22116,12,FALSE),0)","v":1},{"$f":"IFERROR(VLOOKUP($A27,Filtros!$A$5:$AY$22116,13,FALSE),0)","v":1},{"$f":"IFERROR(VLOOKUP($A27,Filtros!$A$5:$AY$22116,14,FALSE),0)","v":4},{"$f":"IFERROR(VLOOKUP($A27,Filtros!$A$5:$AY$22116,15,FALSE),0)","v":5},{"$f":"IFERROR(VLOOKUP($A27,Filtros!$A$5:$AY$22116,16,FALSE),0)","v":0},{"$f":"IFERROR(VLOOKUP($A27,Filtros!$A$5:$AY$22116,17,FALSE),0)","v":5},{"$f":"IFERROR(VLOOKUP($A27,Filtros!$A$5:$AY$22116,18,FALSE),0)","v":5},{"$f":"IFERROR(VLOOKUP($A27,Filtros!$A$5:$AY$22116,19,FALSE),0)","v":10},{"$f":"IFERROR(VLOOKUP($A27,Filtros!$A$5:$AY$22116,20,FALSE),0)","v":8},{"$f":"IFERROR(VLOOKUP($A27,Filtros!$A$5:$AY$22116,21,FALSE),0)","v":14},{"$f":"IFERROR(VLOOKUP($A27,Filtros!$A$5:$AY$22116,22,FALSE),0)","v":19},{"$f":"IFERROR(VLOOKUP($A27,Filtros!$A$5:$AY$22116,23,FALSE),0)","v":16},{"$f":"IFERROR(VLOOKUP($A27,Filtros!$A$5:$AY$22116,24,FALSE),0)","v":21},{"$f":"IFERROR(VLOOKUP($A27,Filtros!$A$5:$AY$22116,25,FALSE),0)","v":23},{"$f":"IFERROR(VLOOKUP($A27,Filtros!$A$5:$AY$22116,26,FALSE),0)","v":23},{"$f":"IFERROR(VLOOKUP($A27,Filtros!$A$5:$AY$22116,27,FALSE),0)","v":26},{"$f":"IFERROR(VLOOKUP($A27,Filtros!$A$5:$AY$22116,28,FALSE),0)","v":27},{"$f":"IFERROR(VLOOKUP($A27,Filtros!$A$5:$AY$22116,29,FALSE),0)","v":17},{"$f":"IFERROR(VLOOKUP($A27,Filtros!$A$5:$AY$22116,30,FALSE),0)","v":28},{"$f":"IFERROR(VLOOKUP($A27,Filtros!$A$5:$AY$22116,31,FALSE),0)","v":18},{"$f":"IFERROR(VLOOKUP($A27,Filtros!$A$5:$AY$22116,32,FALSE),0)","v":28},{"$f":"IFERROR(VLOOKUP($A27,Filtros!$A$5:$AY$22116,33,FALSE),0)","v":0},{"$f":"IFERROR(VLOOKUP($A27,Filtros!$A$5:$AY$22116,34,FALSE),0)","v":0},{"$f":"IFERROR(VLOOKUP($A27,Filtros!$A$5:$AY$22116,35,FALSE),0)","v":1},{"$f":"IFERROR(VLOOKUP($A27,Filtros!$A$5:$AY$22116,36,FALSE),0)","v":0},{"$f":"IFERROR(VLOOKUP($A27,Filtros!$A$5:$AY$22116,37,FALSE),0)","v":82},"",{"$nulls":16},"","","","",{"$f":"IF($AM27<=$D27,\"\",\"* Personas diabéticas 'Etapa 5' no debe ser mayor que el Total pacientes evaluados. \")","v":""},null,"","",{"$nulls":28},0,0,0,0,0,{"$nulls":3},0,0]
[null,null,"TOTAL",{"$f":"SUM(E28:F28)","v":66236},{"$f":"+G28+I28+K28+M28+O28+Q28+S28+U28+W28+Y28+AA28+AC28+AE28+AG28","v":23651},{"$f":"+H28+J28+L28+N28+P28+R28+T28+V28+X28+Z28+AB28+AD28+AF28+AH28","v":42585},{"$f":"SUM(G22:G27)","v":42},{"$f":"SUM(H22:H27)","v":56},69,132,110,282,225,502,391,899,642,1567,1082,2477,1761,3972,2465,5270,3130,5786,3560,5838,3423,5386,3011,4358,3740,6060,69,161,51,120,{"$f":"SUM(AM22:AM27)","v":18135}]
[null,"SECCIÓN B: METAS DE COMPENSACIÓN"]
[null,"CONCEPTO",null,"TOTAL ",null,null,"GRUPOS DE EDAD (en años) Y SEXO",{"$nulls":27},"Pueblos Originarios",null,"Población Migrantes"]
[{"$nulls":6},"15 a 19 años",null,"20 a 24 años",null,"25 a 29 años",null,"30 a 34 años",null,"35 a 39 años",null,"40 a 44 años",null,"45 a 49 años",null,"50 a 54 años",null,"55 a 59 años",null,"60 a 64 años",null,"65 a 69 años",null,"70 a 74 años",null,"75 a 79 años",null,"80 y más años"]
[{"$nulls":3},"Ambos sexos","Hombres","Mujeres","Hombres","Mujeres","Hombres","Mujeres","Hombres","Mujeres","Hombres","Mujeres","Hombres","Mujeres","Hombres","Mujeres","Hombres","Mujeres","Hombres","Mujeres","Hombres","Mujeres","Hombres","Mujeres","Hombres ","Mujeres","Hombres ","Mujeres","Hombres ","Mujeres","Hombres ","Mujeres","Hombres","Mujeres","Hombres","Mujeres"]
["P4180200","PERSONAS BAJO CONTROL POR HIPERTENSION","PA < 140/90 mmHg ",{"$f":"IFERROR(VLOOKUP($A33,Filtros!$A$5:$AY$22116,2,FALSE),0)","v":31436},{"$f":"IFERROR(VLOOKUP($A33,Filtros!$A$5:$AY$22116,3,FALSE),0)","v":10949},{"$f":"IFERROR(VLOOKUP($A33,Filtros!$A$5:$AY$22116,4,FALSE),0)","v":20487},{"$f":"IFERROR(VLOOKUP($A33,Filtros!$A$5:$AY$22116,5,FALSE),0)","v":10},{"$f":"IFERROR(VLOOKUP($A33,Filtros!$A$5:$AY$22116,6,FALSE),0)","v":9},{"$f":"IFERROR(VLOOKUP($A33,Filtros!$A$5:$AY$22116,7,FALSE),0)","v":24},{"$f":"IFERROR(VLOOKUP($A33,Filtros!$A$5:$AY$22116,8,FALSE),0)","v":31},{"$f":"IFERROR(VLOOKUP($A33,Filtros!$A$5:$AY$22116,9,FALSE),0)","v":31},{"$f":"IFERROR(VLOOKUP($A33,Filtros!$A$5:$AY$22116,10,FALSE),0)","v":83},{"$f":"IFERROR(VLOOKUP($A33,Filtros!$A$5:$AY$22116,11,FALSE),0)","v":69},{"$f":"IFERROR(VLOOKUP($A33,Filtros!$A$5:$AY$22116,12,FALSE),0)","v":161},{"$f":"IFERROR(VLOOKUP($A33,Filtros!$A$5:$AY$22116,13,FALSE),0)","v":122},{"$f":"IFERROR(VLOOKUP($A33,Filtros!$A$5:$AY$22116,14,FALSE),0)","v":317},{"$f":"IFERROR(VLOOKUP($A33,Filtros!$A$5:$AY$22116,15,FALSE),0)","v":223},{"$f":"IFERROR(VLOOKUP($A33,Filtros!$A$5:$AY$22116,16,FALSE),0)","v":619},{"$f":"IFERROR(VLOOKUP($A33,Filtros!$A$5:$AY$22116,17,FALSE),0)","v":454},{"$f":"IFERROR(VLOOKUP($A33,Filtros!$A$5:$AY$22116,18,FALSE),0)","v":1148},{"$f":"IFERROR(VLOOKUP($A33,Filtros!$A$5:$AY$22116,19,FALSE),0)","v":781},{"$f":"IFERROR(VLOOKUP($A33,Filtros!$A$5:$AY$22116,20,FALSE),0)","v":2026},{"$f":"IFERROR(VLOOKUP($A33,Filtros!$A$5:$AY$22116,21,FALSE),0)","v":1251},{"$f":"IFERROR(VLOOKUP($A33,Filtros!$A$5:$AY$22116,22,FALSE),0)","v":2921},{"$f":"IFERROR(VLOOKUP($A33,Filtros!$A$5:$AY$22116,23,FALSE),0)","v":1718},{"$f":"IFERROR(VLOOKUP($A33,Filtros!$A$5:$AY$22116,24,FALSE),0)","v":3331},{"$f":"IFERROR(VLOOKUP($A33,Filtros!$A$5:$AY$22116,25,FALSE),0)","v":2065},{"$f":"IFERROR(VLOOKUP($A33,Filtros!$A$5:$AY$22116,26,FALSE),0)","v":3702},{"$f":"IFERROR(VLOOKUP($A33,Filtros!$A$5:$AY$22116,27,FALSE),0)","v":2218},{"$f":"IFERROR(VLOOKUP($A33,Filtros!$A$5:$AY$22116,28,FALSE),0)","v":3355},{"$f":"IFERROR(VLOOKUP($A33,Filtros!$A$5:$AY$22116,29,FALSE),0)","v":1983},{"$f":"IFERROR(VLOOKUP($A33,Filtros!$A$5:$AY$22116,30,FALSE),0)","v":2784},{"$f":"IFERROR(VLOOKUP($A33,Filtros!$A$5:$AY$22116,31,FALSE),0)","v":7},{"$f":"IFERROR(VLOOKUP($A33,Filtros!$A$5:$AY$22116,32,FALSE),0)","v":5},{"$f":"IFERROR(VLOOKUP($A33,Filtros!$A$5:$AY$22116,33,FALSE),0)","v":24},{"$f":"IFERROR(VLOOKUP($A33,Filtros!$A$5:$AY$22116,34,FALSE),0)","v":44},{"$f":"IFERROR(VLOOKUP($A33,Filtros!$A$5:$AY$22116,35,FALSE),0)","v":28},{"$f":"IFERROR(VLOOKUP($A33,Filtros!$A$5:$AY$22116,36,FALSE),0)","v":50},{"$nulls":16},{"$f":"IF(AND(E33<>0,AI33=\"\"),\"* No olvide escribir en la celda de 'Pueblos Originarios' (Digite CERO si no tiene). \",IF(AND(F33<>0,AJ33=\"\"),\"* No olvide escribir en la celda de 'Pueblos Originarios' (Digite CERO si no tiene). \",\"\"))","v":""},{"$f":"IF(AND(E33<>0,AK33=\"\"),\"* No olvide escribir en la celda de 'Población Migrantes' (Digite CERO si no tiene). \",IF(AND(F33<>0,AL33=\"\"),\"* No olvide escribir en la celda de 'Población Migrantes' (Digite CERO si no tiene). \",\"\"))","v":""},{"$f":"IF($E$33>=$AI$33,\"\",\"* Pueblos Originarios-Hombres no debe ser mayor al Total de personas Hombres. \")","v":""},{"$f":"IF($F$33>=$AJ$33,\"\",\"* Pueblos Originarios-Mujeres no debe ser mayor al Total de personas Mujeres. \")","v":""},{"$f":"IF($E33>=$AK33,\"\",\"* Población Migrantes-Hombres no debe ser mayor al Total de personas Hombres. \")","v":""},{"$f":"IF($F33>=$AL33,\"\",\"* Pueblos Originarios-Mujeres no debe ser mayor al Total de personas Mujeres. \")","v":""},{"$f":"IF($G$33<=$G$16,\"\",\"* Pacientes 15 a 19 años (Hombres) con PA<140/90 mmHg debe ser menor o igual a Hipertensos en Sección A. \")","v":""},{"$f":"IF($H$33<=$H$16,\"\",\"* Pacientes 15 a 19 años (Mujeres) con PA<140/90 mmHg debe ser menor o igual a Hipertensos en Sección A. \")","v":""},{"$f":"IF($I$33<=$I$16,\"\",\"* Pacientes 20 a 24 años (Hombres) con PA<140/90 mmHg debe ser menor o igual a Hipertensos en Sección A. \")","v":""},{"$f":"IF($J$33<=$J$16,\"\",\"* Pacientes 20 a 24 años (Mujeres) con PA<140/90 mmHg debe ser menor o igual a Hipertensos en Sección A. \")","v":""},{"$f":"IF($K$33<=$K$16,\"\",\"* Pacientes 25 a 29 años (Hombres) con PA<140/90 mmHg debe ser menor o igual a Hipertensos en Sección A. \")","v":""},{"$f":"IF($L$33<=$L$16,\"\",\"* Pacientes 25 a 29 años (Mujeres) con PA<140/90 mmHg debe ser menor o igual a Hipertensos en Sección A. \")","v":""},{"$f":"IF($M$33<=$M$16,\"\",\"* Pacientes 30 a 34 años (Hombres) con PA<140/90 mmHg debe ser menor o igual a Hipertensos en Sección A. \")","v":""},{"$f":"IF($N$33<=$N$16,\"\",\"* Pacientes 30 a 34 años (Mujeres) con PA<140/90 mmHg debe ser menor o igual a Hipertensos en Sección A. \")","v":""},{"$f":"IF($O$33<=$O$16,\"\",\"* Pacientes 35 a 39 años (Hombres) con PA<140/90 mmHg debe ser menor o igual a Hipertensos en Sección A. \")","v":""},{"$f":"IF($P$33<=$P$16,\"\",\"* Pacientes 35 a 39 años (Mujeres) con PA<140/90 mmHg debe ser menor o igual a Hipertensos en Sección A. \")","v":""},{"$f":"IF($Q$33<=$Q$16,\"\",\"* Pacientes 40 a 44 años (Hombres) con PA<140/90 mmHg debe ser menor o igual a Hipertensos en Sección A. \")","v":""},{"$f":"IF($R$33<=$R$16,\"\",\"* Pacientes 40 a 44 años (Mujeres) con PA<140/90 mmHg debe ser menor o igual a Hipertensos en Sección A. \")","v":""},{"$f":"IF($S$33<=$S$16,\"\",\"* Pacientes 45 a 49 años (Hombres) con PA<140/90 mmHg debe ser menor o igual a Hipertensos en Sección A. \")","v":""},{"$f":"IF($T$33<=$T$16,\"\",\"* Pacientes 45 a 49 años (Mujeres) con PA<140/90 mmHg debe ser menor o igual a Hipertensos en Sección A. \")","v":""},{"$f":"IF($U$33<=$U$16,\"\",\"* Pacientes 50 a 54 años (Hombres) con PA<140/90 mmHg debe ser menor o igual a Hipertensos en Sección A. \")","v":""},{"$f":"IF($V$33<=$V$16,\"\",\"* Pacientes 50 a 54 años (Mujeres) con PA<140/90 mmHg debe ser menor o igual a Hipertensos en Sección A. \")","v":""},{"$f":"IF($W$33<=$W$16,\"\",\"* Pacientes 55 a 59 años (Hombres) con PA<140/90 mmHg debe ser menor o igual a Hipertensos en Sección A. \")","v":""},{"$f":"IF($X$33<=$X$16,\"\",\"* Pacientes 55 a 59 años (Mujeres) con PA<140/90 mmHg debe ser menor o igual a Hipertensos en Sección A. \")","v":""},{"$f":"IF($Y$33<=$Y$16,\"\",\"* Pacientes 60 a 64 años (Hombres) con PA<140/90 mmHg debe ser menor o igual a Hipertensos en Sección A. \")","v":""},{"$f":"IF($Z$33<=$Z$16,\"\",\"* Pacientes 60 a 64 años (Mujeres) con PA<140/90 mmHg debe ser menor o igual a Hipertensos en Sección A. \")","v":""},{"$f":"IF($AA$33<=$AA$16,\"\",\"* Pacientes 65 a 69 años (Hombres) con PA<140/90 mmHg debe ser menor o igual a Hipertensos en Sección A. \")","v":""},{"$f":"IF($AB$33<=$AB$16,\"\",\"* Pacientes 65 a 69 años (Mujeres) con PA<140/90 mmHg debe ser menor o igual a Hipertensos en Sección A. \")","v":""},{"$f":"IF($AC$33<=$AC$16,\"\",\"* Pacientes 70 a 74 años (Hombres) con PA<140/90 mmHg debe ser menor o igual a Hipertensos en Sección A. \")","v":""},{"$f":"IF($AD$33<=$AD$16,\"\",\"* Pacientes 70 a 74 años (Mujeres) con PA<140/90 mmHg debe ser menor o igual a Hipertensos en Sección A. \")","v":""},{"$f":"IF($AE$33<=$AE$16,\"\",\"* Pacientes 75 a 79 años (Hombres) con PA<140/90 mmHg debe ser menor o igual a Hipertensos en Sección A. \")","v":""},{"$f":"IF($AF$33<=$AF$16,\"\",\"* Pacientes 75 a 79 años (Mujeres) con PA<140/90 mmHg debe ser menor o igual a Hipertensos en Sección A. \")","v":""},{"$f":"IF($AG$33<=$AG$16,\"\",\"* Pacientes 80 y más años (Hombres) con PA<140/90 mmHg debe ser menor o igual a Hipertensos en Sección A. \")","v":""},{"$f":"IF($AH$33<=$AH$16,\"\",\"* Pacientes 80 y más años (Mujeres) con PA<140/90 mmHg debe ser menor o igual a Hipertensos en Sección A. \")","v":""},null,null,{"$f":"IF(AND(E33<>0,AI33=\"\"),1,IF(AND(F33<>0,AJ33=\"\"),1,0))","v":0},{"$f":"IF(AND(E33<>0,AK33=\"\"),1,IF(AND(F33<>0,AL33=\"\"),1,0))","v":0},{"$f":"IF($E$33>=$AI$33,0,1)","v":0},{"$f":"IF($F$33>=$AJ$33,0,1)","v":0},{"$f":"IF($E33>=$AK33,0,1)","v":0},{"$f":"IF($F33>=$AL33,0,1)","v":0},{"$f":"IF(G$33<=G$16,0,1)","v":0},0,0,0,0,0,0,0,0,0,0,0,0,0,0,0,0,0,0,0,0,0,0,0,0,0,0,0]
["P4200100",null,"PA < 150/90 mmHg ",{"$f":"IFERROR(VLOOKUP($A34,Filtros!$A$5:$AY$22116,2,FALSE),0)","v":6597},{"$f":"IFERROR(VLOOKUP($A34,Filtros!$A$5:$AY$22116,3,FALSE),0)","v":2625},{"$f":"IFERROR(VLOOKUP($A34,Filtros!$A$5:$AY$22116,4,FALSE),0)","v":3972},{"$f":"IFERROR(VLOOKUP($A34,Filtros!$A$5:$AY$22116,5,FALSE),0)","v":0},{"$f":"IFERROR(VLOOKUP($A34,Filtros!$A$5:$AY$22116,6,FALSE),0)","v":0},{"$f":"IFERROR(VLOOKUP($A34,Filtros!$A$5:$AY$22116,7,FALSE),0)","v":0},{"$f":"IFERROR(VLOOKUP($A34,Filtros!$A$5:$AY$22116,8,FALSE),0)","v":0},{"$f":"IFERROR(VLOOKUP($A34,Filtros!$A$5:$AY$22116,9,FALSE),0)","v":0},{"$f":"IFERROR(VLOOKUP($A34,Filtros!$A$5:$AY$22116,10,FALSE),0)","v":0},{"$f":"IFERROR(VLOOKUP($A34,Filtros!$A$5:$AY$22116,11,FALSE),0)","v":0},{"$f":"IFERROR(VLOOKUP($A34,Filtros!$A$5:$AY$22116,12,FALSE),0)","v":0},{"$f":"IFERROR(VLOOKUP($A34,Filtros!$A$5:$AY$22116,13,FALSE),0)","v":0},{"$f":"IFERROR(VLOOKUP($A34,Filtros!$A$5:$AY$22116,14,FALSE),0)","v":0},{"$f":"IFERROR(VLOOKUP($A34,Filtros!$A$5:$AY$22116,15,FALSE),0)","v":0},{"$f":"IFERROR(VLOOKUP($A34,Filtros!$A$5:$AY$22116,16,FALSE),0)","v":0},{"$f":"IFERROR(VLOOKUP($A34,Filtros!$A$5:$AY$22116,17,FALSE),0)","v":0},{"$f":"IFERROR(VLOOKUP($A34,Filtros!$A$5:$AY$22116,18,FALSE),0)","v":0},{"$f":"IFERROR(VLOOKUP($A34,Filtros!$A$5:$AY$22116,19,FALSE),0)","v":0},{"$f":"IFERROR(VLOOKUP($A34,Filtros!$A$5:$AY$22116,20,FALSE),0)","v":0},{"$f":"IFERROR(VLOOKUP($A34,Filtros!$A$5:$AY$22116,21,FALSE),0)","v":0},{"$f":"IFERROR(VLOOKUP($A34,Filtros!$A$5:$AY$22116,22,FALSE),0)","v":0},{"$f":"IFERROR(VLOOKUP($A34,Filtros!$A$5:$AY$22116,23,FALSE),0)","v":0},{"$f":"IFERROR(VLOOKUP($A34,Filtros!$A$5:$AY$22116,24,FALSE),0)","v":0},{"$f":"IFERROR(VLOOKUP($A34,Filtros!$A$5:$AY$22116,25,FALSE),0)","v":0},{"$f":"IFERROR(VLOOKUP($A34,Filtros!$A$5:$AY$22116,26,FALSE),0)","v":0},{"$f":"IFERROR(VLOOKUP($A34,Filtros!$A$5:$AY$22116,27,FALSE),0)","v":0},{"$f":"IFERROR(VLOOKUP($A34,Filtros!$A$5:$AY$22116,28,FALSE),0)","v":0},{"$f":"IFERROR(VLOOKUP($A34,Filtros!$A$5:$AY$22116,29,FALSE),0)","v":0},{"$f":"IFERROR(VLOOKUP($A34,Filtros!$A$5:$AY$22116,30,FALSE),0)","v":0},{"$f":"IFERROR(VLOOKUP($A34,Filtros!$A$5:$AY$22116,31,FALSE),0)","v":2625},{"$f":"IFERROR(VLOOKUP($A34,Filtros!$A$5:$AY$22116,32,FALSE),0)","v":3972},{"$f":"IFERROR(VLOOKUP($A34,Filtros!$A$5:$AY$22116,33,FALSE),0)","v":18},{"$f":"IFERROR(VLOOKUP($A34,Filtros!$A$5:$AY$22116,34,FALSE),0)","v":31},{"$f":"IFERROR(VLOOKUP($A34,Filtros!$A$5:$AY$22116,35,FALSE),0)","v":5},{"$f":"IFERROR(VLOOKUP($A34,Filtros!$A$5:$AY$22116,36,FALSE),0)","v":5},{"$nulls":16},"","",{"$f":"IF($E$34>=$AI$34,\"\",\"* Pueblos Originarios-Hombres no debe ser mayor al Total de personas Hombres. \")","v":""},{"$f":"IF($F$34>=$AJ$34,\"\",\"* Pueblos Originarios-Mujeres no debe ser mayor al Total de personas Mujeres. \")","v":""},"","",{"$nulls":30},{"$f":"IF(AND(E34<>0,AI34=\"\"),1,IF(AND(F34<>0,AJ34=\"\"),1,0))","v":0},{"$f":"IF(AND(E34<>0,AK34=\"\"),1,IF(AND(F34<>0,AL34=\"\"),1,0))","v":0},{"$f":"IF($E$34>=$AI$34,0,1)","v":0},{"$f":"IF($F$34>=$AJ$34,0,1)","v":0},0,{"$f":"IF($F34>=$AL34,0,1)","v":0}]
["P4180300","PERSONAS BAJO CONTROL POR DIABETES MELLITUS","HbA1C<7% ",{"$f":"IFERROR(VLOOKUP($A35,Filtros!$A$5:$AY$22116,2,FALSE),0)","v":11226},{"$f":"IFERROR(VLOOKUP($A35,Filtros!$A$5:$AY$22116,3,FALSE),0)","v":3974},{"$f":"IFERROR(VLOOKUP($A35,Filtros!$A$5:$AY$22116,4,FALSE),0)","v":7252},{"$f":"IFERROR(VLOOKUP($A35,Filtros!$A$5:$AY$22116,5,FALSE),0)","v":7},{"$f":"IFERROR(VLOOKUP($A35,Filtros!$A$5:$AY$22116,6,FALSE),0)","v":10},{"$f":"IFERROR(VLOOKUP($A35,Filtros!$A$5:$AY$22116,7,FALSE),0)","v":6},{"$f":"IFERROR(VLOOKUP($A35,Filtros!$A$5:$AY$22116,8,FALSE),0)","v":13},{"$f":"IFERROR(VLOOKUP($A35,Filtros!$A$5:$AY$22116,9,FALSE),0)","v":14},{"$f":"IFERROR(VLOOKUP($A35,Filtros!$A$5:$AY$22116,10,FALSE),0)","v":50},{"$f":"IFERROR(VLOOKUP($A35,Filtros!$A$5:$AY$22116,11,FALSE),0)","v":30},{"$f":"IFERROR(VLOOKUP($A35,Filtros!$A$5:$AY$22116,12,FALSE),0)","v":92},{"$f":"IFERROR(VLOOKUP($A35,Filtros!$A$5:$AY$22116,13,FALSE),0)","v":59},{"$f":"IFERROR(VLOOKUP($A35,Filtros!$A$5:$AY$22116,14,FALSE),0)","v":146},{"$f":"IFERROR(VLOOKUP($A35,Filtros!$A$5:$AY$22116,15,FALSE),0)","v":90},{"$f":"IFERROR(VLOOKUP($A35,Filtros!$A$5:$AY$22116,16,FALSE),0)","v":242},{"$f":"IFERROR(VLOOKUP($A35,Filtros!$A$5:$AY$22116,17,FALSE),0)","v":161},{"$f":"IFERROR(VLOOKUP($A35,Filtros!$A$5:$AY$22116,18,FALSE),0)","v":382},{"$f":"IFERROR(VLOOKUP($A35,Filtros!$A$5:$AY$22116,19,FALSE),0)","v":326},{"$f":"IFERROR(VLOOKUP($A35,Filtros!$A$5:$AY$22116,20,FALSE),0)","v":661},{"$f":"IFERROR(VLOOKUP($A35,Filtros!$A$5:$AY$22116,21,FALSE),0)","v":440},{"$f":"IFERROR(VLOOKUP($A35,Filtros!$A$5:$AY$22116,22,FALSE),0)","v":970},{"$f":"IFERROR(VLOOKUP($A35,Filtros!$A$5:$AY$22116,23,FALSE),0)","v":618},{"$f":"IFERROR(VLOOKUP($A35,Filtros!$A$5:$AY$22116,24,FALSE),0)","v":1203},{"$f":"IFERROR(VLOOKUP($A35,Filtros!$A$5:$AY$22116,25,FALSE),0)","v":789},{"$f":"IFERROR(VLOOKUP($A35,Filtros!$A$5:$AY$22116,26,FALSE),0)","v":1287},{"$f":"IFERROR(VLOOKUP($A35,Filtros!$A$5:$AY$22116,27,FALSE),0)","v":772},{"$f":"IFERROR(VLOOKUP($A35,Filtros!$A$5:$AY$22116,28,FALSE),0)","v":1247},{"$f":"IFERROR(VLOOKUP($A35,Filtros!$A$5:$AY$22116,29,FALSE),0)","v":662},{"$f":"IFERROR(VLOOKUP($A35,Filtros!$A$5:$AY$22116,30,FALSE),0)","v":949},{"$f":"IFERROR(VLOOKUP($A35,Filtros!$A$5:$AY$22116,31,FALSE),0)","v":0},{"$f":"IFERROR(VLOOKUP($A35,Filtros!$A$5:$AY$22116,32,FALSE),0)","v":0},{"$f":"IFERROR(VLOOKUP($A35,Filtros!$A$5:$AY$22116,33,FALSE),0)","v":38},{"$f":"IFERROR(VLOOKUP($A35,Filtros!$A$5:$AY$22116,34,FALSE),0)","v":69},{"$f":"IFERROR(VLOOKUP($A35,Filtros!$A$5:$AY$22116,35,FALSE),0)","v":8},{"$f":"IFERROR(VLOOKUP($A35,Filtros!$A$5:$AY$22116,36,FALSE),0)","v":22},{"$nulls":16},"","",{"$f":"IF($E$35>=$AI$35,\"\",\"* Pueblos Originarios-Hombres no debe ser mayor al Total de personas Hombres. \")","v":""},{"$f":"IF($F$35>=$AJ$35,\"\",\"* Pueblos Originarios-Mujeres no debe ser mayor al Total de personas Mujeres. \")","v":""},"","",{"$f":"IF($G$35<=$G$17,\"\",\"* Pacientes 15 a 19 años (Hombres) con HbA1C<7% debe ser menor o igual a Diabéticos en Sección A. \")","v":""},{"$f":"IF($H$35<=$H$17,\"\",\"* Pacientes 15 a 19 años (Mujeres) con HbA1C<7% debe ser menor o igual a Diabéticos en Sección A. \")","v":""},{"$f":"IF($I$35<=$I$17,\"\",\"* Pacientes 20 a 24 años (Hombres) con HbA1C<7% debe ser menor o igual a Diabéticos en Sección A. \")","v":""},{"$f":"IF($J$35<=$J$17,\"\",\"* Pacientes 20 a 24 años (Mujeres) con HbA1C<7% debe ser menor o igual a Diabéticos en Sección A. \")","v":""},{"$f":"IF($K$35<=$K$17,\"\",\"* Pacientes 25 a 29 años (Hombres) con HbA1C<7% debe ser menor o igual a Diabéticos en Sección A. \")","v":""},{"$f":"IF($L$35<=$L$17,\"\",\"* Pacientes 25 a 29 años (Mujeres) con HbA1C<7% debe ser menor o igual a Diabéticos en Sección A. \")","v":""},{"$f":"IF($M$35<=$M$17,\"\",\"* Pacientes 30 a 34 años (Hombres) con HbA1C<7% debe ser menor o igual a Diabéticos en Sección A. \")","v":""},{"$f":"IF($N$35<=$N$17,\"\",\"* Pacientes 30 a 34 años (Mujeres) con HbA1C<7% debe ser menor o igual a Diabéticos en Sección A. \")","v":""},{"$f":"IF($O$35<=$O$17,\"\",\"* Pacientes 35 a 39 años (Hombres) con HbA1C<7% debe ser menor o igual a Diabéticos en Sección A. \")","v":""},{"$f":"IF($P$35<=$P$17,\"\",\"* Pacientes 35 a 39 años (Mujeres) con HbA1C<7% debe ser menor o igual a Diabéticos en Sección A. \")","v":""},{"$f":"IF($Q$35<=$Q$17,\"\",\"* Pacientes 40 a 44 años (Hombres) con HbA1C<7% debe ser menor o igual a Diabéticos en Sección A. \")","v":""},{"$f":"IF($R$35<=$R$17,\"\",\"* Pacientes 40 a 44 años (Mujeres) con HbA1C<7% debe ser menor o igual a Diabéticos en Sección A. \")","v":""},{"$f":"IF($S$35<=$S$17,\"\",\"* Pacientes 45 a 49 años (Hombres) con HbA1C<7% debe ser menor o igual a Diabéticos en Sección A. \")","v":""},{"$f":"IF($T$35<=$T$17,\"\",\"* Pacientes 45 a 49 años (Mujeres) con HbA1C<7% debe ser menor o igual a Diabéticos en Sección A. \")","v":""},{"$f":"IF($U$35<=$U$17,\"\",\"* Pacientes 50 a 54 años (Hombres) con HbA1C<7% debe ser menor o igual a Diabéticos en Sección A. \")","v":""},{"$f":"IF($V$35<=$V$17,\"\",\"* Pacientes 50 a 54 años (Mujeres) con HbA1C<7% debe ser menor o igual a Diabéticos en Sección A. \")","v":""},{"$f":"IF($W$35<=$W$17,\"\",\"* Pacientes 55 a 59 años (Hombres) con HbA1C<7% debe ser menor o igual a Diabéticos en Sección A. \")","v":""},{"$f":"IF($X$35<=$X$17,\"\",\"* Pacientes 55 a 59 años (Mujeres) con HbA1C<7% debe ser menor o igual a Diabéticos en Sección A. \")","v":""},{"$f":"IF($Y$35<=$Y$17,\"\",\"* Pacientes 60 a 64 años (Hombres) con HbA1C<7% debe ser menor o igual a Diabéticos en Sección A. \")","v":""},{"$f":"IF($Z$35<=$Z$17,\"\",\"* Pacientes 60 a 64 años (Mujeres) con HbA1C<7% debe ser menor o igual a Diabéticos en Sección A. \")","v":""},{"$f":"IF($AA$35<=$AA$17,\"\",\"* Pacientes 65 a 69 años (Hombres) con HbA1C<7% debe ser menor o igual a Diabéticos en Sección A. \")","v":""},{"$f":"IF($AB$35<=$AB$17,\"\",\"* Pacientes 65 a 69 años (Mujeres) con HbA1C<7% debe ser menor o igual a Diabéticos en Sección A. \")","v":""},{"$f":"IF($AC$35<=$AC$17,\"\",\"* Pacientes 70 a 74 años (Hombres) con HbA1C<7% debe ser menor o igual a Diabéticos en Sección A. \")","v":""},{"$f":"IF($AD$35<=$AD$17,\"\",\"* Pacientes 70 a 74 años (Mujeres) con HbA1C<7% debe ser menor o igual a Diabéticos en Sección A. \")","v":""},{"$f":"IF($AE$35<=$AE$17,\"\",\"* Pacientes 75 a 79 años (Hombres) con HbA1C<7% debe ser menor o igual a Diabéticos en Sección A. \")","v":""},{"$f":"IF($AF$35<=$AF$17,\"\",\"* Pacientes 75 a 79 años (Mujeres) con HbA1C<7% debe ser menor o igual a Diabéticos en Sección A. \")","v":""},{"$f":"IF($AG$35<=$AG$17,\"\",\"* Pacientes 80 y más años (Hombres) con HbA1C<7% debe ser menor o igual a Diabéticos en Sección A. \")","v":""},{"$f":"IF($AH$36<=$AH$17,\"\",\"* Pacientes 80 y más años (Mujeres) con HbA1C<8% debe ser menor o igual a Diabéticos en Sección A. \")","v":""},null,null,0,0,{"$f":"IF($E$35>=$AI$35,0,1)","v":0},{"$f":"IF($F$35>=$AJ$35,0,1)","v":0},0,{"$f":"IF($F35>=$AL35,0,1)","v":0},{"$f":"IF(G$35<=G$17,0,1)","v":0},0,0,0,0,0,0,0,0,0,0,0,0,0,0,0,0,0,0,0,0,0,0,0,0,0,0,0]
["P4200200",null,"HbA1C<8%",{"$f":"IFERROR(VLOOKUP($A36,Filtros!$A$5:$AY$22116,2,FALSE),0)","v":2315},{"$f":"IFERROR(VLOOKUP($A36,Filtros!$A$5:$AY$22116,3,FALSE),0)","v":847},{"$f":"IFERROR(VLOOKUP($A36,Filtros!$A$5:$AY$22116,4,FALSE),0)","v":1468},{"$f":"IFERROR(VLOOKUP($A36,Filtros!$A$5:$AY$22116,5,FALSE),0)","v":0},{"$f":"IFERROR(VLOOKUP($A36,Filtros!$A$5:$AY$22116,6,FALSE),0)","v":0},{"$f":"IFERROR(VLOOKUP($A36,Filtros!$A$5:$AY$22116,7,FALSE),0)","v":0},{"$f":"IFERROR(VLOOKUP($A36,Filtros!$A$5:$AY$22116,8,FALSE),0)","v":0},{"$f":"IFERROR(VLOOKUP($A36,Filtros!$A$5:$AY$22116,9,FALSE),0)","v":0},{"$f":"IFERROR(VLOOKUP($A36,Filtros!$A$5:$AY$22116,10,FALSE),0)","v":0},{"$f":"IFERROR(VLOOKUP($A36,Filtros!$A$5:$AY$22116,11,FALSE),0)","v":0},{"$f":"IFERROR(VLOOKUP($A36,Filtros!$A$5:$AY$22116,12,FALSE),0)","v":0},{"$f":"IFERROR(VLOOKUP($A36,Filtros!$A$5:$AY$22116,13,FALSE),0)","v":0},{"$f":"IFERROR(VLOOKUP($A36,Filtros!$A$5:$AY$22116,14,FALSE),0)","v":0},{"$f":"IFERROR(VLOOKUP($A36,Filtros!$A$5:$AY$22116,15,FALSE),0)","v":0},{"$f":"IFERROR(VLOOKUP($A36,Filtros!$A$5:$AY$22116,16,FALSE),0)","v":0},{"$f":"IFERROR(VLOOKUP($A36,Filtros!$A$5:$AY$22116,17,FALSE),0)","v":0},{"$f":"IFERROR(VLOOKUP($A36,Filtros!$A$5:$AY$22116,18,FALSE),0)","v":0},{"$f":"IFERROR(VLOOKUP($A36,Filtros!$A$5:$AY$22116,19,FALSE),0)","v":0},{"$f":"IFERROR(VLOOKUP($A36,Filtros!$A$5:$AY$22116,20,FALSE),0)","v":0},{"$f":"IFERROR(VLOOKUP($A36,Filtros!$A$5:$AY$22116,21,FALSE),0)","v":0},{"$f":"IFERROR(VLOOKUP($A36,Filtros!$A$5:$AY$22116,22,FALSE),0)","v":0},{"$f":"IFERROR(VLOOKUP($A36,Filtros!$A$5:$AY$22116,23,FALSE),0)","v":0},{"$f":"IFERROR(VLOOKUP($A36,Filtros!$A$5:$AY$22116,24,FALSE),0)","v":0},{"$f":"IFERROR(VLOOKUP($A36,Filtros!$A$5:$AY$22116,25,FALSE),0)","v":0},{"$f":"IFERROR(VLOOKUP($A36,Filtros!$A$5:$AY$22116,26,FALSE),0)","v":0},{"$f":"IFERROR(VLOOKUP($A36,Filtros!$A$5:$AY$22116,27,FALSE),0)","v":0},{"$f":"IFERROR(VLOOKUP($A36,Filtros!$A$5:$AY$22116,28,FALSE),0)","v":0},{"$f":"IFERROR(VLOOKUP($A36,Filtros!$A$5:$AY$22116,29,FALSE),0)","v":0},{"$f":"IFERROR(VLOOKUP($A36,Filtros!$A$5:$AY$22116,30,FALSE),0)","v":0},{"$f":"IFERROR(VLOOKUP($A36,Filtros!$A$5:$AY$22116,31,FALSE),0)","v":847},{"$f":"IFERROR(VLOOKUP($A36,Filtros!$A$5:$AY$22116,32,FALSE),0)","v":1468},{"$f":"IFERROR(VLOOKUP($A36,Filtros!$A$5:$AY$22116,33,FALSE),0)","v":5},{"$f":"IFERROR(VLOOKUP($A36,Filtros!$A$5:$AY$22116,34,FALSE),0)","v":7},{"$f":"IFERROR(VLOOKUP($A36,Filtros!$A$5:$AY$22116,35,FALSE),0)","v":6},{"$f":"IFERROR(VLOOKUP($A36,Filtros!$A$5:$AY$22116,36,FALSE),0)","v":6},{"$nulls":16},"","",{"$f":"IF($E$36>=$AI$36,\"\",\"* Pueblos Originarios-Hombres no debe ser mayor al Total de personas Hombres. \")","v":""},{"$f":"IF($F$36>=$AJ$36,\"\",\"* Pueblos Originarios-Mujeres no debe ser mayor al Total de personas Mujeres. \")","v":""},"","",{"$nulls":30},0,0,{"$f":"IF($E$36>=$AI$36,0,1)","v":0},{"$f":"IF($F$36>=$AJ$36,0,1)","v":0},{"$f":"IF($E36>=$AK36,0,1)","v":0},{"$f":"IF($F36>=$AL36,0,1)","v":0}]
["P4190920",null,"HbA1C<7% - PA < 140/90mmHg y Colesterol LDL < 100 mg/dl",{"$f":"IFERROR(VLOOKUP($A37,Filtros!$A$5:$AY$22116,2,FALSE),0)","v":4288},{"$f":"IFERROR(VLOOKUP($A37,Filtros!$A$5:$AY$22116,3,FALSE),0)","v":1552},{"$f":"IFERROR(VLOOKUP($A37,Filtros!$A$5:$AY$22116,4,FALSE),0)","v":2736},{"$f":"IFERROR(VLOOKUP($A37,Filtros!$A$5:$AY$22116,5,FALSE),0)","v":4},{"$f":"IFERROR(VLOOKUP($A37,Filtros!$A$5:$AY$22116,6,FALSE),0)","v":3},{"$f":"IFERROR(VLOOKUP($A37,Filtros!$A$5:$AY$22116,7,FALSE),0)","v":2},{"$f":"IFERROR(VLOOKUP($A37,Filtros!$A$5:$AY$22116,8,FALSE),0)","v":6},{"$f":"IFERROR(VLOOKUP($A37,Filtros!$A$5:$AY$22116,9,FALSE),0)","v":3},{"$f":"IFERROR(VLOOKUP($A37,Filtros!$A$5:$AY$22116,10,FALSE),0)","v":12},{"$f":"IFERROR(VLOOKUP($A37,Filtros!$A$5:$AY$22116,11,FALSE),0)","v":12},{"$f":"IFERROR(VLOOKUP($A37,Filtros!$A$5:$AY$22116,12,FALSE),0)","v":35},{"$f":"IFERROR(VLOOKUP($A37,Filtros!$A$5:$AY$22116,13,FALSE),0)","v":20},{"$f":"IFERROR(VLOOKUP($A37,Filtros!$A$5:$AY$22116,14,FALSE),0)","v":50},{"$f":"IFERROR(VLOOKUP($A37,Filtros!$A$5:$AY$22116,15,FALSE),0)","v":30},{"$f":"IFERROR(VLOOKUP($A37,Filtros!$A$5:$AY$22116,16,FALSE),0)","v":96},{"$f":"IFERROR(VLOOKUP($A37,Filtros!$A$5:$AY$22116,17,FALSE),0)","v":46},{"$f":"IFERROR(VLOOKUP($A37,Filtros!$A$5:$AY$22116,18,FALSE),0)","v":118},{"$f":"IFERROR(VLOOKUP($A37,Filtros!$A$5:$AY$22116,19,FALSE),0)","v":116},{"$f":"IFERROR(VLOOKUP($A37,Filtros!$A$5:$AY$22116,20,FALSE),0)","v":228},{"$f":"IFERROR(VLOOKUP($A37,Filtros!$A$5:$AY$22116,21,FALSE),0)","v":160},{"$f":"IFERROR(VLOOKUP($A37,Filtros!$A$5:$AY$22116,22,FALSE),0)","v":341},{"$f":"IFERROR(VLOOKUP($A37,Filtros!$A$5:$AY$22116,23,FALSE),0)","v":196},{"$f":"IFERROR(VLOOKUP($A37,Filtros!$A$5:$AY$22116,24,FALSE),0)","v":382},{"$f":"IFERROR(VLOOKUP($A37,Filtros!$A$5:$AY$22116,25,FALSE),0)","v":265},{"$f":"IFERROR(VLOOKUP($A37,Filtros!$A$5:$AY$22116,26,FALSE),0)","v":393},{"$f":"IFERROR(VLOOKUP($A37,Filtros!$A$5:$AY$22116,27,FALSE),0)","v":230},{"$f":"IFERROR(VLOOKUP($A37,Filtros!$A$5:$AY$22116,28,FALSE),0)","v":369},{"$f":"IFERROR(VLOOKUP($A37,Filtros!$A$5:$AY$22116,29,FALSE),0)","v":230},{"$f":"IFERROR(VLOOKUP($A37,Filtros!$A$5:$AY$22116,30,FALSE),0)","v":313},{"$f":"IFERROR(VLOOKUP($A37,Filtros!$A$5:$AY$22116,31,FALSE),0)","v":238},{"$f":"IFERROR(VLOOKUP($A37,Filtros!$A$5:$AY$22116,32,FALSE),0)","v":390},{"$f":"IFERROR(VLOOKUP($A37,Filtros!$A$5:$AY$22116,33,FALSE),0)","v":3},{"$f":"IFERROR(VLOOKUP($A37,Filtros!$A$5:$AY$22116,34,FALSE),0)","v":11},{"$f":"IFERROR(VLOOKUP($A37,Filtros!$A$5:$AY$22116,35,FALSE),0)","v":3},{"$f":"IFERROR(VLOOKUP($A37,Filtros!$A$5:$AY$22116,36,FALSE),0)","v":8},{"$nulls":16},"","",{"$f":"IF($E$37>=$AI$37,\"\",\"* Pueblos Originarios-Hombres no debe ser mayor al Total de personas Hombres. \")","v":""},{"$f":"IF($F$37>=$AJ$37,\"\",\"* Pueblos Originarios-Mujeres no debe ser mayor al Total de personas Mujeres. \")","v":""},"","",{"$f":"IF($G$37<=$G$35,\"\",\"* Pacientes 15 a 19 años (Hombres) con HbA1C<7% - PA<140/90mmHg debe ser menor o igual a los con HbA1C<7%. \")","v":""},{"$f":"IF($H$37<=$H$35,\"\",\"* Pacientes 15 a 19 años (Mujeres) con HbA1C<7% - PA<140/90mmHg debe ser menor o igual a los con HbA1C<7%. \")","v":""},{"$f":"IF($I$37<=$I$35,\"\",\"* Pacientes 20 a 24 años (Hombres) con HbA1C<7% - PA<140/90mmHg debe ser menor o igual a los con HbA1C<7%. \")","v":""},{"$f":"IF($J$37<=$J$35,\"\",\"* Pacientes 20 a 24 años (Mujeres) con HbA1C<7% - PA<140/90mmHg debe ser menor o igual a los con HbA1C<7%. \")","v":""},{"$f":"IF($K$37<=$K$35,\"\",\"* Pacientes 25 a 29 años (Hombres) con HbA1C<7% - PA<140/90mmHg debe ser menor o igual a los con HbA1C<7%. \")","v":""},{"$f":"IF($L$37<=$L$35,\"\",\"* Pacientes 25 a 29 años (Mujeres) con HbA1C<7% - PA<140/90mmHg debe ser menor o igual a los con HbA1C<7%. \")","v":""},{"$f":"IF($M$37<=$M$35,\"\",\"* Pacientes 30 a 34 años (Hombres) con HbA1C<7% - PA<140/90mmHg debe ser menor o igual a los con HbA1C<7%. \")","v":""},{"$f":"IF($N$37<=$N$35,\"\",\"* Pacientes 30 a 34 años (Mujeres) con HbA1C<7% - PA<140/90mmHg debe ser menor o igual a los con HbA1C<7%. \")","v":""},{"$f":"IF($O$37<=$O$35,\"\",\"* Pacientes 35 a 39 años (Hombres) con HbA1C<7% - PA<140/90mmHg debe ser menor o igual a los con HbA1C<7%. \")","v":""},{"$f":"IF($P$37<=$P$35,\"\",\"* Pacientes 35 a 39 años (Mujeres) con HbA1C<7% - PA<140/90mmHg debe ser menor o igual a los con HbA1C<7%. \")","v":""},{"$f":"IF($Q$37<=$Q$35,\"\",\"* Pacientes 40 a 44 años (Hombres) con HbA1C<7% - PA<140/90mmHg debe ser menor o igual a los con HbA1C<7%. \")","v":""},{"$f":"IF($R$37<=$R$35,\"\",\"* Pacientes 40 a 44 años (Mujeres) con HbA1C<7% - PA<140/90mmHg debe ser menor o igual a los con HbA1C<7%. \")","v":""},{"$f":"IF($S$37<=$S$35,\"\",\"* Pacientes 45 a 49 años (Hombres) con HbA1C<7% - PA<140/90mmHg debe ser menor o igual a los con HbA1C<7%. \")","v":""},{"$f":"IF($T$37<=$T$35,\"\",\"* Pacientes 45 a 49 años (Mujeres) con HbA1C<7% - PA<140/90mmHg debe ser menor o igual a los con HbA1C<7%. \")","v":""},{"$f":"IF($U$37<=$U$35,\"\",\"* Pacientes 50 a 54 años (Hombres) con HbA1C<7% - PA<140/90mmHg debe ser menor o igual a los con HbA1C<7%. \")","v":""},{"$f":"IF($V$37<=$V$35,\"\",\"* Pacientes 50 a 54 años (Mujeres) con HbA1C<7% - PA<140/90mmHg debe ser menor o igual a los con HbA1C<7%. \")","v":""},{"$f":"IF($W$37<=$W$35,\"\",\"* Pacientes 55 a 59 años (Hombres) con HbA1C<7% - PA<140/90mmHg debe ser menor o igual a los con HbA1C<7%. \")","v":""},{"$f":"IF($X$37<=$X$35,\"\",\"* Pacientes 55 a 59 años (Mujeres) con HbA1C<7% - PA<140/90mmHg debe ser menor o igual a los con HbA1C<7%. \")","v":""},{"$f":"IF($Y$37<=$Y$35,\"\",\"* Pacientes 60 a 64 años (Hombres) con HbA1C<7% - PA<140/90mmHg debe ser menor o igual a los con HbA1C<7%. \")","v":""},{"$f":"IF($Z$37<=$Z$35,\"\",\"* Pacientes 60 a 64 años (Mujeres) con HbA1C<7% - PA<140/90mmHg debe ser menor o igual a los con HbA1C<7%. \")","v":""},{"$f":"IF($AA$37<=$AA$35,\"\",\"* Pacientes 65 a 69 años (Hombres) con HbA1C<7% - PA<140/90mmHg debe ser menor o igual a los con HbA1C<7%. \")","v":""},{"$f":"IF($AB$37<=$AB$35,\"\",\"* Pacientes 65 a 69 años (Mujeres) con HbA1C<7% - PA<140/90mmHg debe ser menor o igual a los con HbA1C<7%. \")","v":""},{"$f":"IF($AC$37<=$AC$35,\"\",\"* Pacientes 70 a 74 años (Hombres) con HbA1C<7% - PA<140/90mmHg debe ser menor o igual a los con HbA1C<7%. \")","v":""},{"$f":"IF($AD$37<=$AD$35,\"\",\"* Pacientes 70 a 74 años (Mujeres) con HbA1C<7% - PA<140/90mmHg debe ser menor o igual a los con HbA1C<7%. \")","v":""},{"$f":"IF($AE$37<=$AE$35,\"\",\"* Pacientes 75 a 79 años (Hombres) con HbA1C<7% - PA<140/90mmHg debe ser menor o igual a los con HbA1C<7%. \")","v":""},{"$f":"IF($AF$37<=$AF$35,\"\",\"* Pacientes 75 a 79 años (Mujeres) con HbA1C<7% - PA<140/70mmHg debe ser menor o igual a los con HbA1C<7%. \")","v":""},{"$nulls":4},0,0,{"$f":"IF($E$37>=$AI$37,0,1)","v":0},{"$f":"IF($F$37>=$AJ$37,0,1)","v":0},0,{"$f":"IF($F37>=$AL37,0,1)","v":0},{"$f":"IF(G$37<=G$35,0,1)","v":0},0,0,0,0,0,0,0,0,0,0,0,0,0,0,0,0,0,0,0,0,0,0,0,0,0]
["P4180500","PERSONAS CON RCV ALTO","COLESTEROL LDL < 100 mg/dL",{"$f":"IFERROR(VLOOKUP($A38,Filtros!$A$5:$AY$22116,2,FALSE),0)","v":12012},{"$f":"IFERROR(VLOOKUP($A38,Filtros!$A$5:$AY$22116,3,FALSE),0)","v":4832},{"$f":"IFERROR(VLOOKUP($A38,Filtros!$A$5:$AY$22116,4,FALSE),0)","v":7180},{"$f":"IFERROR(VLOOKUP($A38,Filtros!$A$5:$AY$22116,5,FALSE),0)","v":8},{"$f":"IFERROR(VLOOKUP($A38,Filtros!$A$5:$AY$22116,6,FALSE),0)","v":7},{"$f":"IFERROR(VLOOKUP($A38,Filtros!$A$5:$AY$22116,7,FALSE),0)","v":10},{"$f":"IFERROR(VLOOKUP($A38,Filtros!$A$5:$AY$22116,8,FALSE),0)","v":15},{"$f":"IFERROR(VLOOKUP($A38,Filtros!$A$5:$AY$22116,9,FALSE),0)","v":18},{"$f":"IFERROR(VLOOKUP($A38,Filtros!$A$5:$AY$22116,10,FALSE),0)","v":35},{"$f":"IFERROR(VLOOKUP($A38,Filtros!$A$5:$AY$22116,11,FALSE),0)","v":32},{"$f":"IFERROR(VLOOKUP($A38,Filtros!$A$5:$AY$22116,12,FALSE),0)","v":81},{"$f":"IFERROR(VLOOKUP($A38,Filtros!$A$5:$AY$22116,13,FALSE),0)","v":53},{"$f":"IFERROR(VLOOKUP($A38,Filtros!$A$5:$AY$22116,14,FALSE),0)","v":124},{"$f":"IFERROR(VLOOKUP($A38,Filtros!$A$5:$AY$22116,15,FALSE),0)","v":97},{"$f":"IFERROR(VLOOKUP($A38,Filtros!$A$5:$AY$22116,16,FALSE),0)","v":239},{"$f":"IFERROR(VLOOKUP($A38,Filtros!$A$5:$AY$22116,17,FALSE),0)","v":185},{"$f":"IFERROR(VLOOKUP($A38,Filtros!$A$5:$AY$22116,18,FALSE),0)","v":288},{"$f":"IFERROR(VLOOKUP($A38,Filtros!$A$5:$AY$22116,19,FALSE),0)","v":298},{"$f":"IFERROR(VLOOKUP($A38,Filtros!$A$5:$AY$22116,20,FALSE),0)","v":581},{"$f":"IFERROR(VLOOKUP($A38,Filtros!$A$5:$AY$22116,21,FALSE),0)","v":437},{"$f":"IFERROR(VLOOKUP($A38,Filtros!$A$5:$AY$22116,22,FALSE),0)","v":863},{"$f":"IFERROR(VLOOKUP($A38,Filtros!$A$5:$AY$22116,23,FALSE),0)","v":632},{"$f":"IFERROR(VLOOKUP($A38,Filtros!$A$5:$AY$22116,24,FALSE),0)","v":937},{"$f":"IFERROR(VLOOKUP($A38,Filtros!$A$5:$AY$22116,25,FALSE),0)","v":821},{"$f":"IFERROR(VLOOKUP($A38,Filtros!$A$5:$AY$22116,26,FALSE),0)","v":1007},{"$f":"IFERROR(VLOOKUP($A38,Filtros!$A$5:$AY$22116,27,FALSE),0)","v":754},{"$f":"IFERROR(VLOOKUP($A38,Filtros!$A$5:$AY$22116,28,FALSE),0)","v":985},{"$f":"IFERROR(VLOOKUP($A38,Filtros!$A$5:$AY$22116,29,FALSE),0)","v":652},{"$f":"IFERROR(VLOOKUP($A38,Filtros!$A$5:$AY$22116,30,FALSE),0)","v":847},{"$f":"IFERROR(VLOOKUP($A38,Filtros!$A$5:$AY$22116,31,FALSE),0)","v":835},{"$f":"IFERROR(VLOOKUP($A38,Filtros!$A$5:$AY$22116,32,FALSE),0)","v":1171},{"$f":"IFERROR(VLOOKUP($A38,Filtros!$A$5:$AY$22116,33,FALSE),0)","v":7},{"$f":"IFERROR(VLOOKUP($A38,Filtros!$A$5:$AY$22116,34,FALSE),0)","v":24},{"$f":"IFERROR(VLOOKUP($A38,Filtros!$A$5:$AY$22116,35,FALSE),0)","v":8},{"$f":"IFERROR(VLOOKUP($A38,Filtros!$A$5:$AY$22116,36,FALSE),0)","v":15},{"$nulls":16},"","",{"$f":"IF($E$38>=$AI$38,\"\",\"* Pueblos Originarios-Hombres no debe ser mayor al Total de personas Hombres. \")","v":""},{"$f":"IF($F$38>=$AJ$38,\"\",\"* Pueblos Originarios-Mujeres no debe ser mayor al Total de personas Mujeres. \")","v":""},"","",{"$f":"IF($G$38<=$G$15,\"\",\"* Pacientes 15 a 19 años (Hombres) con RCV Alto con Colesterol LDL <100 mg/dl no debe ser mayor al Total RCV Alto de Sección A. \")","v":""},{"$f":"IF($H$38<=$H$15,\"\",\"* Pacientes 15 a 19 años (Mujeres) con RCV Alto con Colesterol LDL <100 mg/dl no debe ser mayor al Total RCV Alto de Sección A. \")","v":""},{"$f":"IF($I$38<=+$I$15,\"\",\"* Pacientes 20 a 24 años (Hombres) con RCV Alto con Colesterol LDL <100 mg/dl no debe ser mayor al Total RCV Alto de Sección A. \")","v":""},{"$f":"IF($J$38<=+$J$15,\"\",\"* Pacientes 20 a 24 años (Mujeres) con RCV Alto con Colesterol LDL <100 mg/dl no debe ser mayor al Total RCV Alto de Sección A. \")","v":""},{"$f":"IF($K$38<=+$K$15,\"\",\"* Pacientes 25 a 29 años (Hombres) con RCV Alto con Colesterol LDL <100 mg/dl no debe ser mayor al Total RCV Alto de Sección A. \")","v":""},{"$f":"IF($L$38<=+$L$15,\"\",\"* Pacientes 25 a 29 años (Mujeres) con RCV Alto con Colesterol LDL <100 mg/dl no debe ser mayor al Total RCV Alto de Sección A. \")","v":""},{"$f":"IF($M$38<=+$M$15,\"\",\"* Pacientes 30 a 34 años (Hombres) con RCV Alto con Colesterol LDL <100 mg/dl no debe ser mayor al Total RCV Alto de Sección A. \")","v":""},{"$f":"IF($N$38<=+$N$15,\"\",\"* Pacientes 30 a 34 años (Mujeres) con RCV Alto con Colesterol LDL <100 mg/dl no debe ser mayor al Total RCV Alto de Sección A. \")","v":""},{"$f":"IF($O$38<=+$O$15,\"\",\"* Pacientes 35 a 39 años (Hombres) con RCV Alto con Colesterol LDL <100 mg/dl no debe ser mayor al Total RCV Alto de Sección A. \")","v":""},{"$f":"IF($P$38<=+$P$15,\"\",\"* Pacientes 35 a 39 años (Mujeres) con RCV Alto con Colesterol LDL <100 mg/dl no debe ser mayor al Total RCV Alto de Sección A. \")","v":""},{"$f":"IF($Q$38<=+$Q$15,\"\",\"* Pacientes 40 a 44 años (Hombres) con RCV Alto con Colesterol LDL <100 mg/dl no debe ser mayor al Total RCV Alto de Sección A. \")","v":""},{"$f":"IF($R$38<=+$R$15,\"\",\"* Pacientes 40 a 44 años (Mujeres) con RCV Alto con Colesterol LDL <100 mg/dl no debe ser mayor al Total RCV Alto de Sección A. \")","v":""},{"$f":"IF($S$38<=+$S$15,\"\",\"* Pacientes 45 a 49 años (Hombres) con RCV Alto con Colesterol LDL <100 mg/dl no debe ser mayor al Total RCV Alto de Sección A. \")","v":""},{"$f":"IF($T$38<=+$T$15,\"\",\"* Pacientes 45 a 49 años (Mujeres) con RCV Alto con Colesterol LDL <100 mg/dl no debe ser mayor al Total RCV Alto de Sección A. \")","v":""},{"$f":"IF($U$38<=+$U$15,\"\",\"* Pacientes 50 a 54 años (Hombres) con RCV Alto con Colesterol LDL <100 mg/dl no debe ser mayor al Total RCV Alto de Sección A. \")","v":""},{"$f":"IF($V$38<=+$V$15,\"\",\"* Pacientes 50 a 54 años (Mujeres) con RCV Alto con Colesterol LDL <100 mg/dl no debe ser mayor al Total RCV Alto de Sección A. \")","v":""},{"$f":"IF($W$38<=+$W$15,\"\",\"* Pacientes 55 a 59 años (Hombres) con RCV Alto con Colesterol LDL <100 mg/dl no debe ser mayor al Total RCV Alto de Sección A. \")","v":""},{"$f":"IF($X$38<=+$X$15,\"\",\"* Pacientes 55 a 59 años (Mujeres) con RCV Alto con Colesterol LDL <100 mg/dl no debe ser mayor al Total RCV Alto de Sección A. \")","v":""},{"$f":"IF($Y$38<=+$Y$15,\"\",\"* Pacientes 60 a 64 años (Hombres) con RCV Alto con Colesterol LDL <100 mg/dl no debe ser mayor al Total RCV Alto de Sección A. \")","v":""},{"$f":"IF($Z$38<=+$Z$15,\"\",\"* Pacientes 60 a 64 años (Mujeres) con RCV Alto con Colesterol LDL <100 mg/dl no debe ser mayor al Total RCV Alto de Sección A. \")","v":""},{"$f":"IF($AA$38<=+$AA$15,\"\",\"* Pacientes 65 a 69 años (Hombres) con RCV Alto con Colesterol LDL <100 mg/dl no debe ser mayor al Total RCV Alto de Sección A. \")","v":""},{"$f":"IF($AB$38<=+$AB$15,\"\",\"* Pacientes 65 a 69 años (Mujeres) con RCV Alto con Colesterol LDL <100 mg/dl no debe ser mayor al Total RCV Alto de Sección A. \")","v":""},{"$f":"IF($AC$38<=+$AC$15,\"\",\"* Pacientes 70 a 74 años (Hombres) con RCV Alto con Colesterol LDL <100 mg/dl no debe ser mayor al Total RCV Alto de Sección A. \")","v":""},{"$f":"IF($AD$38<=+$AD$15,\"\",\"* Pacientes 70 a 74 años (Mujeres) con RCV Alto con Colesterol LDL <100 mg/dl no debe ser mayor al Total RCV Alto de Sección A. \")","v":""},{"$f":"IF($AE$38<=+$AE$15,\"\",\"* Pacientes 75 a 79 años (Hombres) con RCV Alto con Colesterol LDL <100 mg/dl no debe ser mayor al Total RCV Alto de Sección A. \")","v":""},{"$f":"IF($AF$38<=+$AF$15,\"\",\"* Pacientes 75 a 79 años (Mujeres) con RCV Alto con Colesterol LDL <100 mg/dl no debe ser mayor al Total RCV Alto de Sección A. \")","v":""},{"$f":"IF($AG$38<=+$AG$15,\"\",\"* Pacientes 80 y más años (Hombres) con RCV Alto con Colesterol LDL <100 mg/dl no debe ser mayor al Total RCV Alto de Sección A. \")","v":""},{"$f":"IF($AH$38<=+$AH$15,\"\",\"* Pacientes 80 y más años (Mujeres) con RCV Alto con Colesterol LDL <100 mg/dl no debe ser mayor al Total RCV Alto de Sección A. \")","v":""},null,null,0,0,{"$f":"IF($E$38>=$AI$38,0,1)","v":0},{"$f":"IF($F$38>=$AJ$38,0,1)","v":0},0,{"$f":"IF($F38>=$AK38,0,1)","v":0},{"$f":"IF(G$38<=+G$15,0,1)","v":0},0,0,0,0,0,0,0,0,0,0,0,0,0,0,0,0,0,0,0,0,0,0,0,0,0,0,0]
["P4190930","PERSONAS BAJO CONTROL con antecedentes Enfermedad Cardiovascular (ECV)","En tratamiento con Antiagregantes plaquetarios",{"$f":"IFERROR(VLOOKUP($A39,Filtros!$A$5:$AY$22116,2,FALSE),0)","v":2392},{"$f":"IFERROR(VLOOKUP($A39,Filtros!$A$5:$AY$22116,3,FALSE),0)","v":1285},{"$f":"IFERROR(VLOOKUP($A39,Filtros!$A$5:$AY$22116,4,FALSE),0)","v":1107},{"$f":"IFERROR(VLOOKUP($A39,Filtros!$A$5:$AY$22116,5,FALSE),0)","v":0},{"$f":"IFERROR(VLOOKUP($A39,Filtros!$A$5:$AY$22116,6,FALSE),0)","v":0},{"$f":"IFERROR(VLOOKUP($A39,Filtros!$A$5:$AY$22116,7,FALSE),0)","v":0},{"$f":"IFERROR(VLOOKUP($A39,Filtros!$A$5:$AY$22116,8,FALSE),0)","v":0},{"$f":"IFERROR(VLOOKUP($A39,Filtros!$A$5:$AY$22116,9,FALSE),0)","v":0},{"$f":"IFERROR(VLOOKUP($A39,Filtros!$A$5:$AY$22116,10,FALSE),0)","v":0},{"$f":"IFERROR(VLOOKUP($A39,Filtros!$A$5:$AY$22116,11,FALSE),0)","v":2},{"$f":"IFERROR(VLOOKUP($A39,Filtros!$A$5:$AY$22116,12,FALSE),0)","v":0},{"$f":"IFERROR(VLOOKUP($A39,Filtros!$A$5:$AY$22116,13,FALSE),0)","v":2},{"$f":"IFERROR(VLOOKUP($A39,Filtros!$A$5:$AY$22116,14,FALSE),0)","v":6},{"$f":"IFERROR(VLOOKUP($A39,Filtros!$A$5:$AY$22116,15,FALSE),0)","v":11},{"$f":"IFERROR(VLOOKUP($A39,Filtros!$A$5:$AY$22116,16,FALSE),0)","v":11},{"$f":"IFERROR(VLOOKUP($A39,Filtros!$A$5:$AY$22116,17,FALSE),0)","v":13},{"$f":"IFERROR(VLOOKUP($A39,Filtros!$A$5:$AY$22116,18,FALSE),0)","v":20},{"$f":"IFERROR(VLOOKUP($A39,Filtros!$A$5:$AY$22116,19,FALSE),0)","v":57},{"$f":"IFERROR(VLOOKUP($A39,Filtros!$A$5:$AY$22116,20,FALSE),0)","v":44},{"$f":"IFERROR(VLOOKUP($A39,Filtros!$A$5:$AY$22116,21,FALSE),0)","v":87},{"$f":"IFERROR(VLOOKUP($A39,Filtros!$A$5:$AY$22116,22,FALSE),0)","v":89},{"$f":"IFERROR(VLOOKUP($A39,Filtros!$A$5:$AY$22116,23,FALSE),0)","v":143},{"$f":"IFERROR(VLOOKUP($A39,Filtros!$A$5:$AY$22116,24,FALSE),0)","v":120},{"$f":"IFERROR(VLOOKUP($A39,Filtros!$A$5:$AY$22116,25,FALSE),0)","v":240},{"$f":"IFERROR(VLOOKUP($A39,Filtros!$A$5:$AY$22116,26,FALSE),0)","v":158},{"$f":"IFERROR(VLOOKUP($A39,Filtros!$A$5:$AY$22116,27,FALSE),0)","v":243},{"$f":"IFERROR(VLOOKUP($A39,Filtros!$A$5:$AY$22116,28,FALSE),0)","v":196},{"$f":"IFERROR(VLOOKUP($A39,Filtros!$A$5:$AY$22116,29,FALSE),0)","v":210},{"$f":"IFERROR(VLOOKUP($A39,Filtros!$A$5:$AY$22116,30,FALSE),0)","v":173},{"$f":"IFERROR(VLOOKUP($A39,Filtros!$A$5:$AY$22116,31,FALSE),0)","v":277},{"$f":"IFERROR(VLOOKUP($A39,Filtros!$A$5:$AY$22116,32,FALSE),0)","v":290},{"$f":"IFERROR(VLOOKUP($A39,Filtros!$A$5:$AY$22116,33,FALSE),0)","v":3},{"$f":"IFERROR(VLOOKUP($A39,Filtros!$A$5:$AY$22116,34,FALSE),0)","v":4},{"$f":"IFERROR(VLOOKUP($A39,Filtros!$A$5:$AY$22116,35,FALSE),0)","v":2},{"$f":"IFERROR(VLOOKUP($A39,Filtros!$A$5:$AY$22116,36,FALSE),0)","v":2},{"$nulls":16},"","",{"$f":"IF($E$39>=$AI$39,\"\",\"* Pueblos Originarios-Hombres no debe ser mayor al Total de personas Hombres. \")","v":""},{"$f":"IF($F$39>=$AJ$39,\"\",\"* Pueblos Originarios-Mujeres no debe ser mayor al Total de personas Mujeres. \")","v":""},"","",{"$f":"IF($G$39<=$G$20+$G$21,\"\",\"* Pacientes 15 a 19 años (Hombres) con con antecedentes ECV con tto. Acido Acetilsalicílico no debe ser mayor al Total Población con Antecedentes de IAM y ECV de Sección A. \")","v":""},{"$f":"IF($H$39<=$H$20+$H$21,\"\",\"* Pacientes 15 a 19 años (Mujeres) con con antecedentes ECV con tto. Acido Acetilsalicílico no debe ser mayor al Total Población con Antecedentes de IAM y ECV de Sección A. \")","v":""},{"$f":"IF($I$39<=$I$20+$I$21,\"\",\"* Pacientes 20 a 24 años (Hombres) con con antecedentes ECV con tto. Acido Acetilsalicílico no debe ser mayor al Total Población con Antecedentes de IAM y ECV de Sección A. \")","v":""},{"$f":"IF($J$39<=$J$20+$J$21,\"\",\"* Pacientes 20 a 24 años (Mujeres) con con antecedentes ECV con tto. Acido Acetilsalicílico no debe ser mayor al Total Población con Antecedentes de IAM y ECV de Sección A. \")","v":""},{"$f":"IF($K$39<=$K$20+$K$21,\"\",\"* Pacientes 25 a 29 años (Hombres) con con antecedentes ECV con tto. Acido Acetilsalicílico no debe ser mayor al Total Población con Antecedentes de IAM y ECV de Sección A. \")","v":""},{"$f":"IF($L$39<=$L$20+$L$21,\"\",\"* Pacientes 25 a 29 años (Mujeres) con con antecedentes ECV con tto. Acido Acetilsalicílico no debe ser mayor al Total Población con Antecedentes de IAM y ECV de Sección A. \")","v":""},{"$f":"IF($M$39<=$M$20+$M$21,\"\",\"* Pacientes 30 a 34 años (Hombres) con con antecedentes ECV con tto. Acido Acetilsalicílico no debe ser mayor al Total Población con Antecedentes de IAM y ECV de Sección A. \")","v":""},{"$f":"IF($N$39<=$N$20+$N$21,\"\",\"* Pacientes 30 a 34 años (Mujeres) con con antecedentes ECV con tto. Acido Acetilsalicílico no debe ser mayor al Total Población con Antecedentes de IAM y ECV de Sección A. \")","v":""},{"$f":"IF($O$39<=$O$20+$O$21,\"\",\"* Pacientes 35 a 39 años (Hombres) con con antecedentes ECV con tto. Acido Acetilsalicílico no debe ser mayor al Total Población con Antecedentes de IAM y ECV de Sección A. \")","v":""},{"$f":"IF($P$39<=$P$20+$P$21,\"\",\"* Pacientes 35 a 39 años (Mujeres) con con antecedentes ECV con tto. Acido Acetilsalicílico no debe ser mayor al Total Población con Antecedentes de IAM y ECV de Sección A. \")","v":""},{"$f":"IF($Q$39<=$Q$20+$Q$21,\"\",\"* Pacientes 40 a 44 años (Hombres) con con antecedentes ECV con tto. Acido Acetilsalicílico no debe ser mayor al Total Población con Antecedentes de IAM y ECV de Sección A. \")","v":""},{"$f":"IF($R$39<=$R$20+$R$21,\"\",\"* Pacientes 40 a 44 años (Mujeres) con con antecedentes ECV con tto. Acido Acetilsalicílico no debe ser mayor al Total Población con Antecedentes de IAM y ECV de Sección A. \")","v":""},{"$f":"IF($S$39<=$S$20+$S$21,\"\",\"* Pacientes 45 a 49 años (Hombres) con con antecedentes ECV con tto. Acido Acetilsalicílico no debe ser mayor al Total Población con Antecedentes de IAM y ECV de Sección A. \")","v":""},{"$f":"IF($T$39<=$T$20+$T$21,\"\",\"* Pacientes 45 a 49 años (Mujeres) con con antecedentes ECV con tto. Acido Acetilsalicílico no debe ser mayor al Total Población con Antecedentes de IAM y ECV de Sección A. \")","v":""},{"$f":"IF($U$39<=$U$20+$U$21,\"\",\"* Pacientes 50 a 54 años (Hombres) con con antecedentes ECV con tto. Acido Acetilsalicílico no debe ser mayor al Total Población con Antecedentes de IAM y ECV de Sección A. \")","v":""},{"$f":"IF($V$39<=$V$20+$V$21,\"\",\"* Pacientes 50 a 54 años (Mujeres) con con antecedentes ECV con tto. Acido Acetilsalicílico no debe ser mayor al Total Población con Antecedentes de IAM y ECV de Sección A. \")","v":""},{"$f":"IF($W$39<=$W$20+$W$21,\"\",\"* Pacientes 55 a 59 años (Hombres) con con antecedentes ECV con tto. Acido Acetilsalicílico no debe ser mayor al Total Población con Antecedentes de IAM y ECV de Sección A. \")","v":""},{"$f":"IF($X$39<=$X$20+$X$21,\"\",\"* Pacientes 55 a 59 años (Mujeres) con con antecedentes ECV con tto. Acido Acetilsalicílico no debe ser mayor al Total Población con Antecedentes de IAM y ECV de Sección A. \")","v":""},{"$f":"IF($Y$39<=$Y$20+$Y$21,\"\",\"* Pacientes 60 a 64 años (Hombres) con con antecedentes ECV con tto. Acido Acetilsalicílico no debe ser mayor al Total Población con Antecedentes de IAM y ECV de Sección A. \")","v":""},{"$f":"IF($Z$39<=$Z$20+$Z$21,\"\",\"* Pacientes 60 a 64 años (Mujeres) con con antecedentes ECV con tto. Acido Acetilsalicílico no debe ser mayor al Total Población con Antecedentes de IAM y ECV de Sección A. \")","v":""},{"$f":"IF($AA$39<=$AA$20+$AA$21,\"\",\"* Pacientes 65 a 69 años (Hombres) con con antecedentes ECV con tto. Acido Acetilsalicílico no debe ser mayor al Total Población con Antecedentes de IAM y ECV de Sección A. \")","v":""},{"$f":"IF($AB$39<=$AB$20+$AB$21,\"\",\"* Pacientes 65 a 69 años (Mujeres) con con antecedentes ECV con tto. Acido Acetilsalicílico no debe ser mayor al Total Población con Antecedentes de IAM y ECV de Sección A. \")","v":""},{"$f":"IF($AC$39<=$AC$20+$AC$21,\"\",\"* Pacientes 70 a 74 años (Hombres) con con antecedentes ECV con tto. Acido Acetilsalicílico no debe ser mayor al Total Población con Antecedentes de IAM y ECV de Sección A. \")","v":""},{"$f":"IF($AD$39<=$AD$20+$AD$21,\"\",\"* Pacientes 70 a 74 años (Mujeres) con con antecedentes ECV con tto. Acido Acetilsalicílico no debe ser mayor al Total Población con Antecedentes de IAM y ECV de Sección A. \")","v":""},{"$f":"IF($AE$39<=$AE$20+$AE$21,\"\",\"* Pacientes 75 a 79 años (Hombres) con con antecedentes ECV con tto. Acido Acetilsalicílico no debe ser mayor al Total Población con Antecedentes de IAM y ECV de Sección A. \")","v":""},{"$f":"IF($AF$39<=$AF$20+$AF$21,\"\",\"* Pacientes 75 a 79 años (Mujeres) con con antecedentes ECV con tto. Acido Acetilsalicílico no debe ser mayor al Total Población con Antecedentes de IAM y ECV de Sección A. \")","v":""},{"$f":"IF($AG$39<=$AG$20+$AG$21,\"\",\"* Pacientes 80 y más años (Hombres) con con antecedentes ECV con tto. Acido Acetilsalicílico no debe ser mayor al Total Población con Antecedentes de IAM y ECV de Sección A. \")","v":""},{"$f":"IF($AH$39<=$AH$20+$AH$21,\"\",\"* Pacientes 80 y más años (Mujeres) con con antecedentes ECV con tto. Acido Acetilsalicílico no debe ser mayor al Total Población con Antecedentes de IAM y ECV de Sección A. \")","v":""},null,null,0,0,{"$f":"IF($E$39>=$AI$39,0,1)","v":0},{"$f":"IF($F$39>=$AJ$39,0,1)","v":0},0,{"$f":"IF($F39>=$AK39,0,1)","v":0},{"$f":"IF(G$39<=G$20+G$21,0,1)","v":0},0,0,0,0,0,0,0,0,0,0,0,0,0,0,0,0,0,0,0,0,0,0,0,0,0,0,0]
["P4190940",null,"En tratamiento con Estatina",{"$f":"IFERROR(VLOOKUP($A40,Filtros!$A$5:$AY$22116,2,FALSE),0)","v":2745},{"$f":"IFERROR(VLOOKUP($A40,Filtros!$A$5:$AY$22116,3,FALSE),0)","v":1438},{"$f":"IFERROR(VLOOKUP($A40,Filtros!$A$5:$AY$22116,4,FALSE),0)","v":1307},{"$f":"IFERROR(VLOOKUP($A40,Filtros!$A$5:$AY$22116,5,FALSE),0)","v":0},{"$f":"IFERROR(VLOOKUP($A40,Filtros!$A$5:$AY$22116,6,FALSE),0)","v":0},{"$f":"IFERROR(VLOOKUP($A40,Filtros!$A$5:$AY$22116,7,FALSE),0)","v":0},{"$f":"IFERROR(VLOOKUP($A40,Filtros!$A$5:$AY$22116,8,FALSE),0)","v":0},{"$f":"IFERROR(VLOOKUP($A40,Filtros!$A$5:$AY$22116,9,FALSE),0)","v":0},{"$f":"IFERROR(VLOOKUP($A40,Filtros!$A$5:$AY$22116,10,FALSE),0)","v":0},{"$f":"IFERROR(VLOOKUP($A40,Filtros!$A$5:$AY$22116,11,FALSE),0)","v":4},{"$f":"IFERROR(VLOOKUP($A40,Filtros!$A$5:$AY$22116,12,FALSE),0)","v":2},{"$f":"IFERROR(VLOOKUP($A40,Filtros!$A$5:$AY$22116,13,FALSE),0)","v":3},{"$f":"IFERROR(VLOOKUP($A40,Filtros!$A$5:$AY$22116,14,FALSE),0)","v":6},{"$f":"IFERROR(VLOOKUP($A40,Filtros!$A$5:$AY$22116,15,FALSE),0)","v":10},{"$f":"IFERROR(VLOOKUP($A40,Filtros!$A$5:$AY$22116,16,FALSE),0)","v":15},{"$f":"IFERROR(VLOOKUP($A40,Filtros!$A$5:$AY$22116,17,FALSE),0)","v":17},{"$f":"IFERROR(VLOOKUP($A40,Filtros!$A$5:$AY$22116,18,FALSE),0)","v":28},{"$f":"IFERROR(VLOOKUP($A40,Filtros!$A$5:$AY$22116,19,FALSE),0)","v":63},{"$f":"IFERROR(VLOOKUP($A40,Filtros!$A$5:$AY$22116,20,FALSE),0)","v":57},{"$f":"IFERROR(VLOOKUP($A40,Filtros!$A$5:$AY$22116,21,FALSE),0)","v":109},{"$f":"IFERROR(VLOOKUP($A40,Filtros!$A$5:$AY$22116,22,FALSE),0)","v":106},{"$f":"IFERROR(VLOOKUP($A40,Filtros!$A$5:$AY$22116,23,FALSE),0)","v":178},{"$f":"IFERROR(VLOOKUP($A40,Filtros!$A$5:$AY$22116,24,FALSE),0)","v":143},{"$f":"IFERROR(VLOOKUP($A40,Filtros!$A$5:$AY$22116,25,FALSE),0)","v":245},{"$f":"IFERROR(VLOOKUP($A40,Filtros!$A$5:$AY$22116,26,FALSE),0)","v":192},{"$f":"IFERROR(VLOOKUP($A40,Filtros!$A$5:$AY$22116,27,FALSE),0)","v":265},{"$f":"IFERROR(VLOOKUP($A40,Filtros!$A$5:$AY$22116,28,FALSE),0)","v":214},{"$f":"IFERROR(VLOOKUP($A40,Filtros!$A$5:$AY$22116,29,FALSE),0)","v":235},{"$f":"IFERROR(VLOOKUP($A40,Filtros!$A$5:$AY$22116,30,FALSE),0)","v":202},{"$f":"IFERROR(VLOOKUP($A40,Filtros!$A$5:$AY$22116,31,FALSE),0)","v":309},{"$f":"IFERROR(VLOOKUP($A40,Filtros!$A$5:$AY$22116,32,FALSE),0)","v":342},{"$f":"IFERROR(VLOOKUP($A40,Filtros!$A$5:$AY$22116,33,FALSE),0)","v":6},{"$f":"IFERROR(VLOOKUP($A40,Filtros!$A$5:$AY$22116,34,FALSE),0)","v":5},{"$f":"IFERROR(VLOOKUP($A40,Filtros!$A$5:$AY$22116,35,FALSE),0)","v":3},{"$f":"IFERROR(VLOOKUP($A40,Filtros!$A$5:$AY$22116,36,FALSE),0)","v":6},{"$nulls":16},"","",{"$f":"IF($E$40>=$AI$40,\"\",\"* Pueblos Originarios-Hombres no debe ser mayor al Total de personas Hombres. \")","v":""},{"$f":"IF($F$40>=$AJ$40,\"\",\"* Pueblos Originarios-Mujeres no debe ser mayor al Total de personas Mujeres. \")","v":""},"","",{"$f":"IF($G$40<=$G$20+$G$21,\"\",\"* Pacientes 15 a 19 años (Hombres) con con antecedentes ECV con Estatina no debe ser mayor al Total Población con Antecedentes de IAM y ECV de Sección A. \")","v":""},{"$f":"IF($H$40<=$H$20+$H$21,\"\",\"* Pacientes 15 a 19 años (Mujeres) con con antecedentes ECV con Estatina no debe ser mayor al Total Población con Antecedentes de IAM y ECV de Sección A. \")","v":""},{"$f":"IF($I$40<=$I$20+$I$21,\"\",\"* Pacientes 20 a 24 años (Hombres) con con antecedentes ECV con Estatina no debe ser mayor al Total Población con Antecedentes de IAM y ECV de Sección A. \")","v":""},{"$f":"IF($J$40<=$J$20+$J$21,\"\",\"* Pacientes 20 a 24 años (Mujeres) con con antecedentes ECV con Estatina no debe ser mayor al Total Población con Antecedentes de IAM y ECV de Sección A. \")","v":""},{"$f":"IF($K$40<=$K$20+$K$21,\"\",\"* Pacientes 25 a 29 años (Hombres) con con antecedentes ECV con Estatina no debe ser mayor al Total Población con Antecedentes de IAM y ECV de Sección A. \")","v":""},{"$f":"IF($L$40<=$L$20+$L$21,\"\",\"* Pacientes 25 a 29 años (Mujeres) con con antecedentes ECV con Estatina no debe ser mayor al Total Población con Antecedentes de IAM y ECV de Sección A. \")","v":""},{"$f":"IF($M$40<=$M$20+$M$21,\"\",\"* Pacientes 30 a 34 años (Hombres) con con antecedentes ECV con Estatina no debe ser mayor al Total Población con Antecedentes de IAM y ECV de Sección A. \")","v":""},{"$f":"IF($N$40<=$N$20+$N$21,\"\",\"* Pacientes 30 a 34 años (Mujeres) con con antecedentes ECV con Estatina no debe ser mayor al Total Población con Antecedentes de IAM y ECV de Sección A. \")","v":""},{"$f":"IF($O$40<=$O$20+$O$21,\"\",\"* Pacientes 35 a 39 años (Hombres) con con antecedentes ECV con Estatina no debe ser mayor al Total Población con Antecedentes de IAM y ECV de Sección A. \")","v":""},{"$f":"IF($P$40<=$P$20+$P$21,\"\",\"* Pacientes 35 a 39 años (Mujeres) con con antecedentes ECV con Estatina no debe ser mayor al Total Población con Antecedentes de IAM y ECV de Sección A. \")","v":""},{"$f":"IF($Q$40<=$Q$20+$Q$21,\"\",\"* Pacientes 40 a 44 años (Hombres) con con antecedentes ECV con Estatina no debe ser mayor al Total Población con Antecedentes de IAM y ECV de Sección A. \")","v":""},{"$f":"IF($R$40<=$R$20+$R$21,\"\",\"* Pacientes 40 a 44 años (Mujeres) con con antecedentes ECV con Estatina no debe ser mayor al Total Población con Antecedentes de IAM y ECV de Sección A. \")","v":""},{"$f":"IF($S$40<=$S$20+$S$21,\"\",\"* Pacientes 45 a 49 años (Hombres) con con antecedentes ECV con Estatina no debe ser mayor al Total Población con Antecedentes de IAM y ECV de Sección A. \")","v":""},{"$f":"IF($T$40<=$T$20+$T$21,\"\",\"* Pacientes 45 a 49 años (Mujeres) con con antecedentes ECV con Estatina no debe ser mayor al Total Población con Antecedentes de IAM y ECV de Sección A. \")","v":""},{"$f":"IF($U$40<=$U$20+$U$21,\"\",\"* Pacientes 50 a 54 años (Hombres) con con antecedentes ECV con Estatina no debe ser mayor al Total Población con Antecedentes de IAM y ECV de Sección A. \")","v":""},{"$f":"IF($V$40<=$V$20+$V$21,\"\",\"* Pacientes 50 a 54 años (Mujeres) con con antecedentes ECV con Estatina no debe ser mayor al Total Población con Antecedentes de IAM y ECV de Sección A. \")","v":""},{"$f":"IF($W$40<=$W$20+$W$21,\"\",\"* Pacientes 55 a 59 años (Hombres) con con antecedentes ECV con Estatina no debe ser mayor al Total Población con Antecedentes de IAM y ECV de Sección A. \")","v":""},{"$f":"IF($X$40<=$X$20+$X$21,\"\",\"* Pacientes 55 a 59 años (Mujeres) con con antecedentes ECV con Estatina no debe ser mayor al Total Población con Antecedentes de IAM y ECV de Sección A. \")","v":""},{"$f":"IF($Y$40<=$Y$20+$Y$21,\"\",\"* Pacientes 60 a 64 años (Hombres) con con antecedentes ECV con Estatina no debe ser mayor al Total Población con Antecedentes de IAM y ECV de Sección A. \")","v":""},{"$f":"IF($Z$40<=$Z$20+$Z$21,\"\",\"* Pacientes 60 a 64 años (Mujeres) con con antecedentes ECV con Estatina no debe ser mayor al Total Población con Antecedentes de IAM y ECV de Sección A. \")","v":""},{"$f":"IF($AA$40<=$AA$20+$AA$21,\"\",\"* Pacientes 65 a 69 años (Hombres) con con antecedentes ECV con Estatina no debe ser mayor al Total Población con Antecedentes de IAM y ECV de Sección A. \")","v":""},{"$f":"IF($AB$40<=$AB$20+$AB$21,\"\",\"* Pacientes 65 a 69 años (Mujeres) con con antecedentes ECV con Estatina no debe ser mayor al Total Población con Antecedentes de IAM y ECV de Sección A. \")","v":""},{"$f":"IF($AC$40<=$AC$20+$AC$21,\"\",\"* Pacientes 70 a 74 años (Hombres) con con antecedentes ECV con Estatina no debe ser mayor al Total Población con Antecedentes de IAM y ECV de Sección A. \")","v":""},{"$f":"IF($AD$40<=$AD$20+$AD$21,\"\",\"* Pacientes 70 a 74 años (Mujeres) con con antecedentes ECV con Estatina no debe ser mayor al Total Población con Antecedentes de IAM y ECV de Sección A. \")","v":""},{"$f":"IF($AE$40<=$AE$20+$AE$21,\"\",\"* Pacientes 75 a 79 años (Hombres) con con antecedentes ECV con Estatina no debe ser mayor al Total Población con Antecedentes de IAM y ECV de Sección A. \")","v":""},{"$f":"IF($AF$40<=$AF$20+$AF$21,\"\",\"* Pacientes 75 a 79 años (Mujeres) con con antecedentes ECV con Estatina no debe ser mayor al Total Población con Antecedentes de IAM y ECV de Sección A. \")","v":""},{"$f":"IF($AG$40<=$AG$20+$AG$21,\"\",\"* Pacientes 80 y más años (Hombres) con con antecedentes ECV con Estatina no debe ser mayor al Total Población con Antecedentes de IAM y ECV de Sección A. \")","v":""},{"$f":"IF($AH$40<=$AH$20+$AH$21,\"\",\"* Pacientes 80 y más años (Mujeres) con con antecedentes ECV con Estatina no debe ser mayor al Total Población con Antecedentes de IAM y ECV de Sección A. \")","v":""},null,null,0,0,{"$f":"IF($E$40>=$AI$40,0,1)","v":0},{"$f":"IF($F$40>=$AJ$40,0,1)","v":0},0,{"$f":"IF($F40>=$AK40,0,1)","v":0},{"$f":"IF(G$40<=G$20+G$21,0,1)","v":0},0,0,0,0,0,0,0,0,0,0,0,0,0,0,0,0,0,0,0,0,0,0,0,0,0,0,0]
[null,"SECCIÓN C: VARIABLES DE SEGUIMIENTO DEL PSCV AL CORTE"]
[null,"VARIABLES",null,"TOTAL ",null,null,"GRUPOS DE EDAD (en años) Y SEXO",{"$nulls":27},"Pueblos Originarios",null,"Población Migrantes"]
[{"$nulls":6},"15 a 19 años",null,"20 a 24 años",null,"25 a 29 años",null,"30 a 34 años",null,"35 a 39 años",null,"40 a 44 años",null,"45 a 49 años",null,"50 a 54 años",null,"55 a 59 años",null,"60 a 64 años",null,"65 a 69 años",null,"70 a 74 años",null,"75 a 79 años",null,"80 y más años"]
[{"$nulls":3},"Ambos\nsexos","Hombres","Mujeres","Hombres","Mujeres","Hombres","Mujeres","Hombres","Mujeres","Hombres","Mujeres","Hombres","Mujeres","Hombres","Mujeres","Hombres","Mujeres","Hombres","Mujeres","Hombres","Mujeres","Hombres","Mujeres","Hombres ","Mujeres","Hombres ","Mujeres","Hombres ","Mujeres","Hombres ","Mujeres","Hombres","Mujeres","Hombres","Mujeres",{"$nulls":16},{"$f":"IF(#REF!+#REF!<>$D$44,\"* La suma de Sexo debe ser igual al TOTAL de personas Diabéticas en PSCV. \",\"\")","v":{"$error":"#REF!"}},{"$nulls":35},{"$f":"IF(#REF!+#REF!<>$D$44,1,0)","v":{"$error":"#REF!"}}]
[null,"PERSONAS CON DIABETES  EN PSCV"]
["P4190805","CON RAZON ALBÚMINA CREATININA (RAC),VIGENTE",null,{"$f":"IFERROR(VLOOKUP($A46,Filtros!$A$5:$AY$22116,2,FALSE),0)","v":16420},{"$f":"IFERROR(VLOOKUP($A46,Filtros!$A$5:$AY$22116,3,FALSE),0)","v":5984},{"$f":"IFERROR(VLOOKUP($A46,Filtros!$A$5:$AY$22116,4,FALSE),0)","v":10436},{"$f":"IFERROR(VLOOKUP($A46,Filtros!$A$5:$AY$22116,5,FALSE),0)","v":9},{"$f":"IFERROR(VLOOKUP($A46,Filtros!$A$5:$AY$22116,6,FALSE),0)","v":8},{"$f":"IFERROR(VLOOKUP($A46,Filtros!$A$5:$AY$22116,7,FALSE),0)","v":10},{"$f":"IFERROR(VLOOKUP($A46,Filtros!$A$5:$AY$22116,8,FALSE),0)","v":25},{"$f":"IFERROR(VLOOKUP($A46,Filtros!$A$5:$AY$22116,9,FALSE),0)","v":16},{"$f":"IFERROR(VLOOKUP($A46,Filtros!$A$5:$AY$22116,10,FALSE),0)","v":54},{"$f":"IFERROR(VLOOKUP($A46,Filtros!$A$5:$AY$22116,11,FALSE),0)","v":58},{"$f":"IFERROR(VLOOKUP($A46,Filtros!$A$5:$AY$22116,12,FALSE),0)","v":132},{"$f":"IFERROR(VLOOKUP($A46,Filtros!$A$5:$AY$22116,13,FALSE),0)","v":90},{"$f":"IFERROR(VLOOKUP($A46,Filtros!$A$5:$AY$22116,14,FALSE),0)","v":202},{"$f":"IFERROR(VLOOKUP($A46,Filtros!$A$5:$AY$22116,15,FALSE),0)","v":169},{"$f":"IFERROR(VLOOKUP($A46,Filtros!$A$5:$AY$22116,16,FALSE),0)","v":368},{"$f":"IFERROR(VLOOKUP($A46,Filtros!$A$5:$AY$22116,17,FALSE),0)","v":276},{"$f":"IFERROR(VLOOKUP($A46,Filtros!$A$5:$AY$22116,18,FALSE),0)","v":556},{"$f":"IFERROR(VLOOKUP($A46,Filtros!$A$5:$AY$22116,19,FALSE),0)","v":477},{"$f":"IFERROR(VLOOKUP($A46,Filtros!$A$5:$AY$22116,20,FALSE),0)","v":1017},{"$f":"IFERROR(VLOOKUP($A46,Filtros!$A$5:$AY$22116,21,FALSE),0)","v":662},{"$f":"IFERROR(VLOOKUP($A46,Filtros!$A$5:$AY$22116,22,FALSE),0)","v":1390},{"$f":"IFERROR(VLOOKUP($A46,Filtros!$A$5:$AY$22116,23,FALSE),0)","v":904},{"$f":"IFERROR(VLOOKUP($A46,Filtros!$A$5:$AY$22116,24,FALSE),0)","v":1533},{"$f":"IFERROR(VLOOKUP($A46,Filtros!$A$5:$AY$22116,25,FALSE),0)","v":992},{"$f":"IFERROR(VLOOKUP($A46,Filtros!$A$5:$AY$22116,26,FALSE),0)","v":1522},{"$f":"IFERROR(VLOOKUP($A46,Filtros!$A$5:$AY$22116,27,FALSE),0)","v":885},{"$f":"IFERROR(VLOOKUP($A46,Filtros!$A$5:$AY$22116,28,FALSE),0)","v":1363},{"$f":"IFERROR(VLOOKUP($A46,Filtros!$A$5:$AY$22116,29,FALSE),0)","v":718},{"$f":"IFERROR(VLOOKUP($A46,Filtros!$A$5:$AY$22116,30,FALSE),0)","v":1077},{"$f":"IFERROR(VLOOKUP($A46,Filtros!$A$5:$AY$22116,31,FALSE),0)","v":718},{"$f":"IFERROR(VLOOKUP($A46,Filtros!$A$5:$AY$22116,32,FALSE),0)","v":1189},{"$f":"IFERROR(VLOOKUP($A46,Filtros!$A$5:$AY$22116,33,FALSE),0)","v":14},{"$f":"IFERROR(VLOOKUP($A46,Filtros!$A$5:$AY$22116,34,FALSE),0)","v":35},{"$f":"IFERROR(VLOOKUP($A46,Filtros!$A$5:$AY$22116,35,FALSE),0)","v":12},{"$f":"IFERROR(VLOOKUP($A46,Filtros!$A$5:$AY$22116,36,FALSE),0)","v":26},{"$nulls":14},{"$f":"IF(#REF!<=SUM($G$17:$Z$17),\"\",\"* Los pacientes diabéticos de 15 a 64 años con razón albúmina creatinina (RAC) no deben ser mayor a los pacientes Diabéticos en Control de la sección A de la misma edad. \")","v":{"$error":"#REF!"}},{"$f":"IF(#REF!<=SUM($AA$17:$AH$17),\"\",\"* Los pacientes diabéticos de 65+ años con razón albúmina creatinina (RAC) no deben ser mayor a los pacientes Diabéticos en Control de la sección A de la misma edad. \")","v":{"$error":"#REF!"}},{"$f":"IF(#REF!+#REF!<>$D$46,\"* La suma de Sexo debe ser igual al TOTAL de pacientes con razón albúmina creatinina (RAC). \",\"\")","v":{"$error":"#REF!"}},{"$nulls":33},{"$f":"IF(#REF!<=SUM($G$17:$Z$17),0,1)","v":{"$error":"#REF!"}},{"$f":"IF(#REF!<=SUM($AA$17:$AH$17),0,1)","v":{"$error":"#REF!"}},{"$f":"IF(#REF!+#REF!<>$D$46,1,0)","v":{"$error":"#REF!"}}]
["P4190806","CON VELOCIDAD DE FILTRACIÓN GLOMERULAR (VFG), VIGENTE",null,{"$f":"IFERROR(VLOOKUP($A47,Filtros!$A$5:$AY$22116,2,FALSE),0)","v":20229},{"$f":"IFERROR(VLOOKUP($A47,Filtros!$A$5:$AY$22116,3,FALSE),0)","v":7319},{"$f":"IFERROR(VLOOKUP($A47,Filtros!$A$5:$AY$22116,4,FALSE),0)","v":12910},{"$f":"IFERROR(VLOOKUP($A47,Filtros!$A$5:$AY$22116,5,FALSE),0)","v":14},{"$f":"IFERROR(VLOOKUP($A47,Filtros!$A$5:$AY$22116,6,FALSE),0)","v":10},{"$f":"IFERROR(VLOOKUP($A47,Filtros!$A$5:$AY$22116,7,FALSE),0)","v":14},{"$f":"IFERROR(VLOOKUP($A47,Filtros!$A$5:$AY$22116,8,FALSE),0)","v":31},{"$f":"IFERROR(VLOOKUP($A47,Filtros!$A$5:$AY$22116,9,FALSE),0)","v":25},{"$f":"IFERROR(VLOOKUP($A47,Filtros!$A$5:$AY$22116,10,FALSE),0)","v":87},{"$f":"IFERROR(VLOOKUP($A47,Filtros!$A$5:$AY$22116,11,FALSE),0)","v":70},{"$f":"IFERROR(VLOOKUP($A47,Filtros!$A$5:$AY$22116,12,FALSE),0)","v":168},{"$f":"IFERROR(VLOOKUP($A47,Filtros!$A$5:$AY$22116,13,FALSE),0)","v":106},{"$f":"IFERROR(VLOOKUP($A47,Filtros!$A$5:$AY$22116,14,FALSE),0)","v":255},{"$f":"IFERROR(VLOOKUP($A47,Filtros!$A$5:$AY$22116,15,FALSE),0)","v":209},{"$f":"IFERROR(VLOOKUP($A47,Filtros!$A$5:$AY$22116,16,FALSE),0)","v":442},{"$f":"IFERROR(VLOOKUP($A47,Filtros!$A$5:$AY$22116,17,FALSE),0)","v":347},{"$f":"IFERROR(VLOOKUP($A47,Filtros!$A$5:$AY$22116,18,FALSE),0)","v":685},{"$f":"IFERROR(VLOOKUP($A47,Filtros!$A$5:$AY$22116,19,FALSE),0)","v":563},{"$f":"IFERROR(VLOOKUP($A47,Filtros!$A$5:$AY$22116,20,FALSE),0)","v":1217},{"$f":"IFERROR(VLOOKUP($A47,Filtros!$A$5:$AY$22116,21,FALSE),0)","v":815},{"$f":"IFERROR(VLOOKUP($A47,Filtros!$A$5:$AY$22116,22,FALSE),0)","v":1710},{"$f":"IFERROR(VLOOKUP($A47,Filtros!$A$5:$AY$22116,23,FALSE),0)","v":1097},{"$f":"IFERROR(VLOOKUP($A47,Filtros!$A$5:$AY$22116,24,FALSE),0)","v":1873},{"$f":"IFERROR(VLOOKUP($A47,Filtros!$A$5:$AY$22116,25,FALSE),0)","v":1211},{"$f":"IFERROR(VLOOKUP($A47,Filtros!$A$5:$AY$22116,26,FALSE),0)","v":1881},{"$f":"IFERROR(VLOOKUP($A47,Filtros!$A$5:$AY$22116,27,FALSE),0)","v":1070},{"$f":"IFERROR(VLOOKUP($A47,Filtros!$A$5:$AY$22116,28,FALSE),0)","v":1692},{"$f":"IFERROR(VLOOKUP($A47,Filtros!$A$5:$AY$22116,29,FALSE),0)","v":903},{"$f":"IFERROR(VLOOKUP($A47,Filtros!$A$5:$AY$22116,30,FALSE),0)","v":1345},{"$f":"IFERROR(VLOOKUP($A47,Filtros!$A$5:$AY$22116,31,FALSE),0)","v":875},{"$f":"IFERROR(VLOOKUP($A47,Filtros!$A$5:$AY$22116,32,FALSE),0)","v":1514},{"$f":"IFERROR(VLOOKUP($A47,Filtros!$A$5:$AY$22116,33,FALSE),0)","v":15},{"$f":"IFERROR(VLOOKUP($A47,Filtros!$A$5:$AY$22116,34,FALSE),0)","v":43},{"$f":"IFERROR(VLOOKUP($A47,Filtros!$A$5:$AY$22116,35,FALSE),0)","v":15},{"$f":"IFERROR(VLOOKUP($A47,Filtros!$A$5:$AY$22116,36,FALSE),0)","v":35},{"$nulls":14},{"$f":"IF(#REF!<=SUM($G$17:$Z$17),\"\",\"* Los pacientes diabéticos de 15 a 64 años con velocidad de filtración glomerular (VFG) no deben ser mayor a los pacientes Diabéticos en Control de la sección A de la misma edad. \")","v":{"$error":"#REF!"}},{"$f":"IF(#REF!<=SUM($AA$17:$AH$17),\"\",\"* Los pacientes diabéticos de 65+ años con velocidad de filtración glomerular (VFG) no deben ser mayor a los pacientes Diabéticos en Control de la sección A de la misma edad. \")","v":{"$error":"#REF!"}},{"$f":"IF(#REF!+#REF!<>$D$47,\"* La suma de Sexo debe ser igual al TOTAL de pacientes con velocidad de filtración glomerular (VFG). \",\"\")","v":{"$error":"#REF!"}},{"$nulls":33},{"$f":"IF(#REF!<=SUM($G$17:$Z$17),0,1)","v":{"$error":"#REF!"}},{"$f":"IF(#REF!<=SUM($AA$17:$AH$17),0,1)","v":{"$error":"#REF!"}},{"$f":"IF(#REF!+#REF!<>$D$47,1,0)","v":{"$error":"#REF!"}}]
["P4190950","CON FONDO DE OJO, VIGENTE",null,{"$f":"IFERROR(VLOOKUP($A48,Filtros!$A$5:$AY$22116,2,FALSE),0)","v":15765},{"$f":"IFERROR(VLOOKUP($A48,Filtros!$A$5:$AY$22116,3,FALSE),0)","v":5733},{"$f":"IFERROR(VLOOKUP($A48,Filtros!$A$5:$AY$22116,4,FALSE),0)","v":10032},{"$f":"IFERROR(VLOOKUP($A48,Filtros!$A$5:$AY$22116,5,FALSE),0)","v":8},{"$f":"IFERROR(VLOOKUP($A48,Filtros!$A$5:$AY$22116,6,FALSE),0)","v":10},{"$f":"IFERROR(VLOOKUP($A48,Filtros!$A$5:$AY$22116,7,FALSE),0)","v":9},{"$f":"IFERROR(VLOOKUP($A48,Filtros!$A$5:$AY$22116,8,FALSE),0)","v":16},{"$f":"IFERROR(VLOOKUP($A48,Filtros!$A$5:$AY$22116,9,FALSE),0)","v":31},{"$f":"IFERROR(VLOOKUP($A48,Filtros!$A$5:$AY$22116,10,FALSE),0)","v":72},{"$f":"IFERROR(VLOOKUP($A48,Filtros!$A$5:$AY$22116,11,FALSE),0)","v":40},{"$f":"IFERROR(VLOOKUP($A48,Filtros!$A$5:$AY$22116,12,FALSE),0)","v":129},{"$f":"IFERROR(VLOOKUP($A48,Filtros!$A$5:$AY$22116,13,FALSE),0)","v":82},{"$f":"IFERROR(VLOOKUP($A48,Filtros!$A$5:$AY$22116,14,FALSE),0)","v":189},{"$f":"IFERROR(VLOOKUP($A48,Filtros!$A$5:$AY$22116,15,FALSE),0)","v":156},{"$f":"IFERROR(VLOOKUP($A48,Filtros!$A$5:$AY$22116,16,FALSE),0)","v":342},{"$f":"IFERROR(VLOOKUP($A48,Filtros!$A$5:$AY$22116,17,FALSE),0)","v":264},{"$f":"IFERROR(VLOOKUP($A48,Filtros!$A$5:$AY$22116,18,FALSE),0)","v":582},{"$f":"IFERROR(VLOOKUP($A48,Filtros!$A$5:$AY$22116,19,FALSE),0)","v":473},{"$f":"IFERROR(VLOOKUP($A48,Filtros!$A$5:$AY$22116,20,FALSE),0)","v":1049},{"$f":"IFERROR(VLOOKUP($A48,Filtros!$A$5:$AY$22116,21,FALSE),0)","v":682},{"$f":"IFERROR(VLOOKUP($A48,Filtros!$A$5:$AY$22116,22,FALSE),0)","v":1412},{"$f":"IFERROR(VLOOKUP($A48,Filtros!$A$5:$AY$22116,23,FALSE),0)","v":888},{"$f":"IFERROR(VLOOKUP($A48,Filtros!$A$5:$AY$22116,24,FALSE),0)","v":1557},{"$f":"IFERROR(VLOOKUP($A48,Filtros!$A$5:$AY$22116,25,FALSE),0)","v":993},{"$f":"IFERROR(VLOOKUP($A48,Filtros!$A$5:$AY$22116,26,FALSE),0)","v":1612},{"$f":"IFERROR(VLOOKUP($A48,Filtros!$A$5:$AY$22116,27,FALSE),0)","v":894},{"$f":"IFERROR(VLOOKUP($A48,Filtros!$A$5:$AY$22116,28,FALSE),0)","v":1321},{"$f":"IFERROR(VLOOKUP($A48,Filtros!$A$5:$AY$22116,29,FALSE),0)","v":660},{"$f":"IFERROR(VLOOKUP($A48,Filtros!$A$5:$AY$22116,30,FALSE),0)","v":907},{"$f":"IFERROR(VLOOKUP($A48,Filtros!$A$5:$AY$22116,31,FALSE),0)","v":553},{"$f":"IFERROR(VLOOKUP($A48,Filtros!$A$5:$AY$22116,32,FALSE),0)","v":834},{"$f":"IFERROR(VLOOKUP($A48,Filtros!$A$5:$AY$22116,33,FALSE),0)","v":10},{"$f":"IFERROR(VLOOKUP($A48,Filtros!$A$5:$AY$22116,34,FALSE),0)","v":23},{"$f":"IFERROR(VLOOKUP($A48,Filtros!$A$5:$AY$22116,35,FALSE),0)","v":8},{"$f":"IFERROR(VLOOKUP($A48,Filtros!$A$5:$AY$22116,36,FALSE),0)","v":13},{"$nulls":14},{"$f":"IF(#REF!<=SUM($G$17:$Z$17),\"\",\"* Los pacientes diabéticos de 15 a 64 años con Fondo de ojo no deben ser mayor a los pacientes Diabéticos en Control de la sección A. \")","v":{"$error":"#REF!"}},{"$f":"IF(#REF!<=SUM($AA$17:$AH$17),\"\",\"* Los pacientes diabéticos de 65+ años con Fondo de ojo no deben ser mayor a los pacientes Diabéticos en Control de la sección A. \")","v":{"$error":"#REF!"}},{"$f":"IF(#REF!+#REF!<>$D$48,\"* La suma de Sexo debe ser igual al TOTAL de pacientes con Fondo de ojo. \",\"\")","v":{"$error":"#REF!"}},{"$nulls":33},{"$f":"IF(#REF!<=SUM($G$17:$Z$17),0,1)","v":{"$error":"#REF!"}},{"$f":"IF(#REF!<=SUM($AA$17:$AH$17),0,1)","v":{"$error":"#REF!"}},{"$f":"IF(#REF!+#REF!<>$D$48,1,0)","v":{"$error":"#REF!"}}]
["P4200600","CON ATENCIÓN PODOLÓGICA VIGENTE",null,{"$f":"IFERROR(VLOOKUP($A49,Filtros!$A$5:$AY$22116,2,FALSE),0)","v":11992},{"$f":"IFERROR(VLOOKUP($A49,Filtros!$A$5:$AY$22116,3,FALSE),0)","v":4335},{"$f":"IFERROR(VLOOKUP($A49,Filtros!$A$5:$AY$22116,4,FALSE),0)","v":7657},{"$f":"IFERROR(VLOOKUP($A49,Filtros!$A$5:$AY$22116,5,FALSE),0)","v":6},{"$f":"IFERROR(VLOOKUP($A49,Filtros!$A$5:$AY$22116,6,FALSE),0)","v":5},{"$f":"IFERROR(VLOOKUP($A49,Filtros!$A$5:$AY$22116,7,FALSE),0)","v":7},{"$f":"IFERROR(VLOOKUP($A49,Filtros!$A$5:$AY$22116,8,FALSE),0)","v":5},{"$f":"IFERROR(VLOOKUP($A49,Filtros!$A$5:$AY$22116,9,FALSE),0)","v":17},{"$f":"IFERROR(VLOOKUP($A49,Filtros!$A$5:$AY$22116,10,FALSE),0)","v":33},{"$f":"IFERROR(VLOOKUP($A49,Filtros!$A$5:$AY$22116,11,FALSE),0)","v":27},{"$f":"IFERROR(VLOOKUP($A49,Filtros!$A$5:$AY$22116,12,FALSE),0)","v":81},{"$f":"IFERROR(VLOOKUP($A49,Filtros!$A$5:$AY$22116,13,FALSE),0)","v":41},{"$f":"IFERROR(VLOOKUP($A49,Filtros!$A$5:$AY$22116,14,FALSE),0)","v":110},{"$f":"IFERROR(VLOOKUP($A49,Filtros!$A$5:$AY$22116,15,FALSE),0)","v":92},{"$f":"IFERROR(VLOOKUP($A49,Filtros!$A$5:$AY$22116,16,FALSE),0)","v":218},{"$f":"IFERROR(VLOOKUP($A49,Filtros!$A$5:$AY$22116,17,FALSE),0)","v":160},{"$f":"IFERROR(VLOOKUP($A49,Filtros!$A$5:$AY$22116,18,FALSE),0)","v":362},{"$f":"IFERROR(VLOOKUP($A49,Filtros!$A$5:$AY$22116,19,FALSE),0)","v":265},{"$f":"IFERROR(VLOOKUP($A49,Filtros!$A$5:$AY$22116,20,FALSE),0)","v":619},{"$f":"IFERROR(VLOOKUP($A49,Filtros!$A$5:$AY$22116,21,FALSE),0)","v":391},{"$f":"IFERROR(VLOOKUP($A49,Filtros!$A$5:$AY$22116,22,FALSE),0)","v":922},{"$f":"IFERROR(VLOOKUP($A49,Filtros!$A$5:$AY$22116,23,FALSE),0)","v":579},{"$f":"IFERROR(VLOOKUP($A49,Filtros!$A$5:$AY$22116,24,FALSE),0)","v":1048},{"$f":"IFERROR(VLOOKUP($A49,Filtros!$A$5:$AY$22116,25,FALSE),0)","v":706},{"$f":"IFERROR(VLOOKUP($A49,Filtros!$A$5:$AY$22116,26,FALSE),0)","v":1147},{"$f":"IFERROR(VLOOKUP($A49,Filtros!$A$5:$AY$22116,27,FALSE),0)","v":698},{"$f":"IFERROR(VLOOKUP($A49,Filtros!$A$5:$AY$22116,28,FALSE),0)","v":1055},{"$f":"IFERROR(VLOOKUP($A49,Filtros!$A$5:$AY$22116,29,FALSE),0)","v":569},{"$f":"IFERROR(VLOOKUP($A49,Filtros!$A$5:$AY$22116,30,FALSE),0)","v":810},{"$f":"IFERROR(VLOOKUP($A49,Filtros!$A$5:$AY$22116,31,FALSE),0)","v":777},{"$f":"IFERROR(VLOOKUP($A49,Filtros!$A$5:$AY$22116,32,FALSE),0)","v":1242},{"$f":"IFERROR(VLOOKUP($A49,Filtros!$A$5:$AY$22116,33,FALSE),0)","v":17},{"$f":"IFERROR(VLOOKUP($A49,Filtros!$A$5:$AY$22116,34,FALSE),0)","v":30},{"$f":"IFERROR(VLOOKUP($A49,Filtros!$A$5:$AY$22116,35,FALSE),0)","v":7},{"$f":"IFERROR(VLOOKUP($A49,Filtros!$A$5:$AY$22116,36,FALSE),0)","v":14},{"$nulls":14},{"$f":"IF(#REF!<=SUM($G$17:$Z$17),\"\",\"* Los pacientes diabéticos de 15 a 64 años con Atención Podológica Vigente no deben ser mayor a los pacientes Diabéticos en Control de la sección A. \")","v":{"$error":"#REF!"}},{"$f":"IF(#REF!<=SUM($AA$17:$AH$17),\"\",\"* Los pacientes diabéticos de 65+ años con Atención Podológica vigente no deben ser mayor a los pacientes Diabéticos en Control de la sección A. \")","v":{"$error":"#REF!"}},{"$f":"IF(#REF!+#REF!<>$D$49,\"* La suma de Sexo debe ser igual al TOTAL de pacientes con Atención Podológica vigente. \",\"\")","v":{"$error":"#REF!"}},{"$nulls":33},{"$f":"IF(#REF!<=SUM($G$17:$Z$17),0,1)","v":{"$error":"#REF!"}},{"$f":"IF(#REF!<=SUM($AA$17:$AH$17),0,1)","v":{"$error":"#REF!"}},{"$f":"IF(#REF!+#REF!<>$D$49,1,0)","v":{"$error":"#REF!"}}]
["P4200300","CON ECG VIGENTE",null,{"$f":"IFERROR(VLOOKUP($A50,Filtros!$A$5:$AY$22116,2,FALSE),0)","v":10174},{"$f":"IFERROR(VLOOKUP($A50,Filtros!$A$5:$AY$22116,3,FALSE),0)","v":3715},{"$f":"IFERROR(VLOOKUP($A50,Filtros!$A$5:$AY$22116,4,FALSE),0)","v":6459},{"$f":"IFERROR(VLOOKUP($A50,Filtros!$A$5:$AY$22116,5,FALSE),0)","v":6},{"$f":"IFERROR(VLOOKUP($A50,Filtros!$A$5:$AY$22116,6,FALSE),0)","v":4},{"$f":"IFERROR(VLOOKUP($A50,Filtros!$A$5:$AY$22116,7,FALSE),0)","v":5},{"$f":"IFERROR(VLOOKUP($A50,Filtros!$A$5:$AY$22116,8,FALSE),0)","v":11},{"$f":"IFERROR(VLOOKUP($A50,Filtros!$A$5:$AY$22116,9,FALSE),0)","v":8},{"$f":"IFERROR(VLOOKUP($A50,Filtros!$A$5:$AY$22116,10,FALSE),0)","v":42},{"$f":"IFERROR(VLOOKUP($A50,Filtros!$A$5:$AY$22116,11,FALSE),0)","v":36},{"$f":"IFERROR(VLOOKUP($A50,Filtros!$A$5:$AY$22116,12,FALSE),0)","v":91},{"$f":"IFERROR(VLOOKUP($A50,Filtros!$A$5:$AY$22116,13,FALSE),0)","v":54},{"$f":"IFERROR(VLOOKUP($A50,Filtros!$A$5:$AY$22116,14,FALSE),0)","v":130},{"$f":"IFERROR(VLOOKUP($A50,Filtros!$A$5:$AY$22116,15,FALSE),0)","v":91},{"$f":"IFERROR(VLOOKUP($A50,Filtros!$A$5:$AY$22116,16,FALSE),0)","v":231},{"$f":"IFERROR(VLOOKUP($A50,Filtros!$A$5:$AY$22116,17,FALSE),0)","v":152},{"$f":"IFERROR(VLOOKUP($A50,Filtros!$A$5:$AY$22116,18,FALSE),0)","v":355},{"$f":"IFERROR(VLOOKUP($A50,Filtros!$A$5:$AY$22116,19,FALSE),0)","v":276},{"$f":"IFERROR(VLOOKUP($A50,Filtros!$A$5:$AY$22116,20,FALSE),0)","v":623},{"$f":"IFERROR(VLOOKUP($A50,Filtros!$A$5:$AY$22116,21,FALSE),0)","v":420},{"$f":"IFERROR(VLOOKUP($A50,Filtros!$A$5:$AY$22116,22,FALSE),0)","v":881},{"$f":"IFERROR(VLOOKUP($A50,Filtros!$A$5:$AY$22116,23,FALSE),0)","v":570},{"$f":"IFERROR(VLOOKUP($A50,Filtros!$A$5:$AY$22116,24,FALSE),0)","v":1001},{"$f":"IFERROR(VLOOKUP($A50,Filtros!$A$5:$AY$22116,25,FALSE),0)","v":629},{"$f":"IFERROR(VLOOKUP($A50,Filtros!$A$5:$AY$22116,26,FALSE),0)","v":986},{"$f":"IFERROR(VLOOKUP($A50,Filtros!$A$5:$AY$22116,27,FALSE),0)","v":561},{"$f":"IFERROR(VLOOKUP($A50,Filtros!$A$5:$AY$22116,28,FALSE),0)","v":843},{"$f":"IFERROR(VLOOKUP($A50,Filtros!$A$5:$AY$22116,29,FALSE),0)","v":475},{"$f":"IFERROR(VLOOKUP($A50,Filtros!$A$5:$AY$22116,30,FALSE),0)","v":625},{"$f":"IFERROR(VLOOKUP($A50,Filtros!$A$5:$AY$22116,31,FALSE),0)","v":432},{"$f":"IFERROR(VLOOKUP($A50,Filtros!$A$5:$AY$22116,32,FALSE),0)","v":636},{"$f":"IFERROR(VLOOKUP($A50,Filtros!$A$5:$AY$22116,33,FALSE),0)","v":22},{"$f":"IFERROR(VLOOKUP($A50,Filtros!$A$5:$AY$22116,34,FALSE),0)","v":40},{"$f":"IFERROR(VLOOKUP($A50,Filtros!$A$5:$AY$22116,35,FALSE),0)","v":14},{"$f":"IFERROR(VLOOKUP($A50,Filtros!$A$5:$AY$22116,36,FALSE),0)","v":25},{"$nulls":14},{"$f":"IF(#REF!<=SUM($G$17:$Z$17),\"\",\"* Los pacientes diabéticos de 15 a 64 años con ECG no deben ser mayor a los pacientes Diabéticos en Control de la sección A. \")","v":{"$error":"#REF!"}},{"$f":"IF(#REF!<=SUM($AA$17:$AH$17),\"\",\"* Los pacientes diabéticos de 65+ años con ECG no deben ser mayor a los pacientes Diabéticos en Control de la sección A. \")","v":{"$error":"#REF!"}},{"$f":"IF(#REF!+#REF!<>$D$50,\"* La suma de Sexo debe ser igual al TOTAL de pacientes con ECG. \",\"\")","v":{"$error":"#REF!"}},{"$nulls":33},{"$f":"IF(#REF!<=SUM($G$17:$Z$17),0,1)","v":{"$error":"#REF!"}},{"$f":"IF(#REF!<=SUM($AA$17:$AH$17),0,1)","v":{"$error":"#REF!"}},{"$f":"IF(#REF!+#REF!<>$D$50,1,0)","v":{"$error":"#REF!"}}]
["P4180800","EN TRATAMIENTO CON INSULINA",null,{"$f":"IFERROR(VLOOKUP($A51,Filtros!$A$5:$AY$22116,2,FALSE),0)","v":9316},{"$f":"IFERROR(VLOOKUP($A51,Filtros!$A$5:$AY$22116,3,FALSE),0)","v":3627},{"$f":"IFERROR(VLOOKUP($A51,Filtros!$A$5:$AY$22116,4,FALSE),0)","v":5689},{"$f":"IFERROR(VLOOKUP($A51,Filtros!$A$5:$AY$22116,5,FALSE),0)","v":12},{"$f":"IFERROR(VLOOKUP($A51,Filtros!$A$5:$AY$22116,6,FALSE),0)","v":6},{"$f":"IFERROR(VLOOKUP($A51,Filtros!$A$5:$AY$22116,7,FALSE),0)","v":10},{"$f":"IFERROR(VLOOKUP($A51,Filtros!$A$5:$AY$22116,8,FALSE),0)","v":22},{"$f":"IFERROR(VLOOKUP($A51,Filtros!$A$5:$AY$22116,9,FALSE),0)","v":22},{"$f":"IFERROR(VLOOKUP($A51,Filtros!$A$5:$AY$22116,10,FALSE),0)","v":42},{"$f":"IFERROR(VLOOKUP($A51,Filtros!$A$5:$AY$22116,11,FALSE),0)","v":31},{"$f":"IFERROR(VLOOKUP($A51,Filtros!$A$5:$AY$22116,12,FALSE),0)","v":76},{"$f":"IFERROR(VLOOKUP($A51,Filtros!$A$5:$AY$22116,13,FALSE),0)","v":70},{"$f":"IFERROR(VLOOKUP($A51,Filtros!$A$5:$AY$22116,14,FALSE),0)","v":113},{"$f":"IFERROR(VLOOKUP($A51,Filtros!$A$5:$AY$22116,15,FALSE),0)","v":99},{"$f":"IFERROR(VLOOKUP($A51,Filtros!$A$5:$AY$22116,16,FALSE),0)","v":184},{"$f":"IFERROR(VLOOKUP($A51,Filtros!$A$5:$AY$22116,17,FALSE),0)","v":187},{"$f":"IFERROR(VLOOKUP($A51,Filtros!$A$5:$AY$22116,18,FALSE),0)","v":302},{"$f":"IFERROR(VLOOKUP($A51,Filtros!$A$5:$AY$22116,19,FALSE),0)","v":304},{"$f":"IFERROR(VLOOKUP($A51,Filtros!$A$5:$AY$22116,20,FALSE),0)","v":574},{"$f":"IFERROR(VLOOKUP($A51,Filtros!$A$5:$AY$22116,21,FALSE),0)","v":456},{"$f":"IFERROR(VLOOKUP($A51,Filtros!$A$5:$AY$22116,22,FALSE),0)","v":798},{"$f":"IFERROR(VLOOKUP($A51,Filtros!$A$5:$AY$22116,23,FALSE),0)","v":560},{"$f":"IFERROR(VLOOKUP($A51,Filtros!$A$5:$AY$22116,24,FALSE),0)","v":860},{"$f":"IFERROR(VLOOKUP($A51,Filtros!$A$5:$AY$22116,25,FALSE),0)","v":616},{"$f":"IFERROR(VLOOKUP($A51,Filtros!$A$5:$AY$22116,26,FALSE),0)","v":861},{"$f":"IFERROR(VLOOKUP($A51,Filtros!$A$5:$AY$22116,27,FALSE),0)","v":535},{"$f":"IFERROR(VLOOKUP($A51,Filtros!$A$5:$AY$22116,28,FALSE),0)","v":781},{"$f":"IFERROR(VLOOKUP($A51,Filtros!$A$5:$AY$22116,29,FALSE),0)","v":382},{"$f":"IFERROR(VLOOKUP($A51,Filtros!$A$5:$AY$22116,30,FALSE),0)","v":550},{"$f":"IFERROR(VLOOKUP($A51,Filtros!$A$5:$AY$22116,31,FALSE),0)","v":343},{"$f":"IFERROR(VLOOKUP($A51,Filtros!$A$5:$AY$22116,32,FALSE),0)","v":520},{"$f":"IFERROR(VLOOKUP($A51,Filtros!$A$5:$AY$22116,33,FALSE),0)","v":9},{"$f":"IFERROR(VLOOKUP($A51,Filtros!$A$5:$AY$22116,34,FALSE),0)","v":26},{"$f":"IFERROR(VLOOKUP($A51,Filtros!$A$5:$AY$22116,35,FALSE),0)","v":7},{"$f":"IFERROR(VLOOKUP($A51,Filtros!$A$5:$AY$22116,36,FALSE),0)","v":15},{"$nulls":14},{"$f":"IF(#REF!<=SUM($G$17:$Z$17),\"\",\"* Los pacientes diabéticos de 15 a 64 años en tratamiento con insulina no deben ser mayor a los pacientes Diabéticos en Control de la sección A. \")","v":{"$error":"#REF!"}},{"$f":"IF(#REF!<=SUM($AA$17:$AH$17),\"\",\"* Los pacientes diabéticos de 65+ años en tratamiento con insulina no deben ser mayor a los pacientes Diabéticos en Control de la sección A. \")","v":{"$error":"#REF!"}},{"$f":"IF(#REF!+#REF!<>$D$51,\"* La suma de Sexo debe ser igual al TOTAL de pacientes en tratamiento con insulina. \",\"\")","v":{"$error":"#REF!"}},{"$nulls":33},{"$f":"IF(#REF!<=SUM($G$17:$Z$17),0,1)","v":{"$error":"#REF!"}},{"$f":"IF(#REF!<=SUM($AA$17:$AH$17),0,1)","v":{"$error":"#REF!"}},{"$f":"IF(#REF!+#REF!<>$D$51,1,0)","v":{"$error":"#REF!"}}]
["P4200700","EN  TRATAMIENTO CON INSULINA QUE LOGRA META CON  HbA1C SEGÚN EDAD",null,{"$f":"IFERROR(VLOOKUP($A52,Filtros!$A$5:$AY$22116,2,FALSE),0)","v":1994},{"$f":"IFERROR(VLOOKUP($A52,Filtros!$A$5:$AY$22116,3,FALSE),0)","v":777},{"$f":"IFERROR(VLOOKUP($A52,Filtros!$A$5:$AY$22116,4,FALSE),0)","v":1217},{"$f":"IFERROR(VLOOKUP($A52,Filtros!$A$5:$AY$22116,5,FALSE),0)","v":3},{"$f":"IFERROR(VLOOKUP($A52,Filtros!$A$5:$AY$22116,6,FALSE),0)","v":3},{"$f":"IFERROR(VLOOKUP($A52,Filtros!$A$5:$AY$22116,7,FALSE),0)","v":1},{"$f":"IFERROR(VLOOKUP($A52,Filtros!$A$5:$AY$22116,8,FALSE),0)","v":3},{"$f":"IFERROR(VLOOKUP($A52,Filtros!$A$5:$AY$22116,9,FALSE),0)","v":2},{"$f":"IFERROR(VLOOKUP($A52,Filtros!$A$5:$AY$22116,10,FALSE),0)","v":7},{"$f":"IFERROR(VLOOKUP($A52,Filtros!$A$5:$AY$22116,11,FALSE),0)","v":6},{"$f":"IFERROR(VLOOKUP($A52,Filtros!$A$5:$AY$22116,12,FALSE),0)","v":11},{"$f":"IFERROR(VLOOKUP($A52,Filtros!$A$5:$AY$22116,13,FALSE),0)","v":15},{"$f":"IFERROR(VLOOKUP($A52,Filtros!$A$5:$AY$22116,14,FALSE),0)","v":26},{"$f":"IFERROR(VLOOKUP($A52,Filtros!$A$5:$AY$22116,15,FALSE),0)","v":13},{"$f":"IFERROR(VLOOKUP($A52,Filtros!$A$5:$AY$22116,16,FALSE),0)","v":27},{"$f":"IFERROR(VLOOKUP($A52,Filtros!$A$5:$AY$22116,17,FALSE),0)","v":25},{"$f":"IFERROR(VLOOKUP($A52,Filtros!$A$5:$AY$22116,18,FALSE),0)","v":61},{"$f":"IFERROR(VLOOKUP($A52,Filtros!$A$5:$AY$22116,19,FALSE),0)","v":64},{"$f":"IFERROR(VLOOKUP($A52,Filtros!$A$5:$AY$22116,20,FALSE),0)","v":80},{"$f":"IFERROR(VLOOKUP($A52,Filtros!$A$5:$AY$22116,21,FALSE),0)","v":84},{"$f":"IFERROR(VLOOKUP($A52,Filtros!$A$5:$AY$22116,22,FALSE),0)","v":130},{"$f":"IFERROR(VLOOKUP($A52,Filtros!$A$5:$AY$22116,23,FALSE),0)","v":117},{"$f":"IFERROR(VLOOKUP($A52,Filtros!$A$5:$AY$22116,24,FALSE),0)","v":151},{"$f":"IFERROR(VLOOKUP($A52,Filtros!$A$5:$AY$22116,25,FALSE),0)","v":103},{"$f":"IFERROR(VLOOKUP($A52,Filtros!$A$5:$AY$22116,26,FALSE),0)","v":162},{"$f":"IFERROR(VLOOKUP($A52,Filtros!$A$5:$AY$22116,27,FALSE),0)","v":103},{"$f":"IFERROR(VLOOKUP($A52,Filtros!$A$5:$AY$22116,28,FALSE),0)","v":190},{"$f":"IFERROR(VLOOKUP($A52,Filtros!$A$5:$AY$22116,29,FALSE),0)","v":109},{"$f":"IFERROR(VLOOKUP($A52,Filtros!$A$5:$AY$22116,30,FALSE),0)","v":151},{"$f":"IFERROR(VLOOKUP($A52,Filtros!$A$5:$AY$22116,31,FALSE),0)","v":132},{"$f":"IFERROR(VLOOKUP($A52,Filtros!$A$5:$AY$22116,32,FALSE),0)","v":215},{"$f":"IFERROR(VLOOKUP($A52,Filtros!$A$5:$AY$22116,33,FALSE),0)","v":2},{"$f":"IFERROR(VLOOKUP($A52,Filtros!$A$5:$AY$22116,34,FALSE),0)","v":4},{"$f":"IFERROR(VLOOKUP($A52,Filtros!$A$5:$AY$22116,35,FALSE),0)","v":2},{"$f":"IFERROR(VLOOKUP($A52,Filtros!$A$5:$AY$22116,36,FALSE),0)","v":1},{"$nulls":14},{"$f":"IF(#REF!<=SUM($G$17:$Z$17),\"\",\"* Los pacientes diabéticos de 15 a 64 años en tratamiento con insulina no deben ser mayor a los pacientes Diabéticos en Control de la sección A. \")","v":{"$error":"#REF!"}},{"$f":"IF(#REF!<=SUM($AA$17:$AH$17),\"\",\"* Los pacientes diabéticos de 65+ años en tratamiento con insulina no deben ser mayor a los pacientes Diabéticos en Control de la sección A. \")","v":{"$error":"#REF!"}},{"$f":"IF(#REF!+#REF!<>$D$52,\"* La suma de Sexo debe ser igual al TOTAL de pacientes en tratamiento con insulina. \",\"\")","v":{"$error":"#REF!"}},{"$nulls":33},{"$f":"IF(#REF!<=SUM($G$17:$Z$17),0,1)","v":{"$error":"#REF!"}},{"$f":"IF(#REF!<=SUM($AA$17:$AH$17),0,1)","v":{"$error":"#REF!"}},{"$f":"IF(#REF!+#REF!<>$D$52,1,0)","v":{"$error":"#REF!"}}]
["P4190960","CON HbA1C>= 9 %",null,{"$f":"IFERROR(VLOOKUP($A53,Filtros!$A$5:$AY$22116,2,FALSE),0)","v":7077},{"$f":"IFERROR(VLOOKUP($A53,Filtros!$A$5:$AY$22116,3,FALSE),0)","v":2681},{"$f":"IFERROR(VLOOKUP($A53,Filtros!$A$5:$AY$22116,4,FALSE),0)","v":4396},{"$f":"IFERROR(VLOOKUP($A53,Filtros!$A$5:$AY$22116,5,FALSE),0)","v":7},{"$f":"IFERROR(VLOOKUP($A53,Filtros!$A$5:$AY$22116,6,FALSE),0)","v":5},{"$f":"IFERROR(VLOOKUP($A53,Filtros!$A$5:$AY$22116,7,FALSE),0)","v":4},{"$f":"IFERROR(VLOOKUP($A53,Filtros!$A$5:$AY$22116,8,FALSE),0)","v":12},{"$f":"IFERROR(VLOOKUP($A53,Filtros!$A$5:$AY$22116,9,FALSE),0)","v":9},{"$f":"IFERROR(VLOOKUP($A53,Filtros!$A$5:$AY$22116,10,FALSE),0)","v":32},{"$f":"IFERROR(VLOOKUP($A53,Filtros!$A$5:$AY$22116,11,FALSE),0)","v":35},{"$f":"IFERROR(VLOOKUP($A53,Filtros!$A$5:$AY$22116,12,FALSE),0)","v":86},{"$f":"IFERROR(VLOOKUP($A53,Filtros!$A$5:$AY$22116,13,FALSE),0)","v":56},{"$f":"IFERROR(VLOOKUP($A53,Filtros!$A$5:$AY$22116,14,FALSE),0)","v":118},{"$f":"IFERROR(VLOOKUP($A53,Filtros!$A$5:$AY$22116,15,FALSE),0)","v":103},{"$f":"IFERROR(VLOOKUP($A53,Filtros!$A$5:$AY$22116,16,FALSE),0)","v":196},{"$f":"IFERROR(VLOOKUP($A53,Filtros!$A$5:$AY$22116,17,FALSE),0)","v":165},{"$f":"IFERROR(VLOOKUP($A53,Filtros!$A$5:$AY$22116,18,FALSE),0)","v":308},{"$f":"IFERROR(VLOOKUP($A53,Filtros!$A$5:$AY$22116,19,FALSE),0)","v":277},{"$f":"IFERROR(VLOOKUP($A53,Filtros!$A$5:$AY$22116,20,FALSE),0)","v":523},{"$f":"IFERROR(VLOOKUP($A53,Filtros!$A$5:$AY$22116,21,FALSE),0)","v":369},{"$f":"IFERROR(VLOOKUP($A53,Filtros!$A$5:$AY$22116,22,FALSE),0)","v":715},{"$f":"IFERROR(VLOOKUP($A53,Filtros!$A$5:$AY$22116,23,FALSE),0)","v":525},{"$f":"IFERROR(VLOOKUP($A53,Filtros!$A$5:$AY$22116,24,FALSE),0)","v":656},{"$f":"IFERROR(VLOOKUP($A53,Filtros!$A$5:$AY$22116,25,FALSE),0)","v":416},{"$f":"IFERROR(VLOOKUP($A53,Filtros!$A$5:$AY$22116,26,FALSE),0)","v":574},{"$f":"IFERROR(VLOOKUP($A53,Filtros!$A$5:$AY$22116,27,FALSE),0)","v":309},{"$f":"IFERROR(VLOOKUP($A53,Filtros!$A$5:$AY$22116,28,FALSE),0)","v":454},{"$f":"IFERROR(VLOOKUP($A53,Filtros!$A$5:$AY$22116,29,FALSE),0)","v":201},{"$f":"IFERROR(VLOOKUP($A53,Filtros!$A$5:$AY$22116,30,FALSE),0)","v":414},{"$f":"IFERROR(VLOOKUP($A53,Filtros!$A$5:$AY$22116,31,FALSE),0)","v":205},{"$f":"IFERROR(VLOOKUP($A53,Filtros!$A$5:$AY$22116,32,FALSE),0)","v":303},{"$f":"IFERROR(VLOOKUP($A53,Filtros!$A$5:$AY$22116,33,FALSE),0)","v":6},{"$f":"IFERROR(VLOOKUP($A53,Filtros!$A$5:$AY$22116,34,FALSE),0)","v":12},{"$f":"IFERROR(VLOOKUP($A53,Filtros!$A$5:$AY$22116,35,FALSE),0)","v":7},{"$f":"IFERROR(VLOOKUP($A53,Filtros!$A$5:$AY$22116,36,FALSE),0)","v":8}]
["P4190807","CON ERC ETAPA 3B O SUPERIOR Y EN TRATAMIENTO CON IECA O ARA II.",null,{"$f":"IFERROR(VLOOKUP($A54,Filtros!$A$5:$AY$22116,2,FALSE),0)","v":3194},{"$f":"IFERROR(VLOOKUP($A54,Filtros!$A$5:$AY$22116,3,FALSE),0)","v":1151},{"$f":"IFERROR(VLOOKUP($A54,Filtros!$A$5:$AY$22116,4,FALSE),0)","v":2043},{"$f":"IFERROR(VLOOKUP($A54,Filtros!$A$5:$AY$22116,5,FALSE),0)","v":0},{"$f":"IFERROR(VLOOKUP($A54,Filtros!$A$5:$AY$22116,6,FALSE),0)","v":0},{"$f":"IFERROR(VLOOKUP($A54,Filtros!$A$5:$AY$22116,7,FALSE),0)","v":1},{"$f":"IFERROR(VLOOKUP($A54,Filtros!$A$5:$AY$22116,8,FALSE),0)","v":0},{"$f":"IFERROR(VLOOKUP($A54,Filtros!$A$5:$AY$22116,9,FALSE),0)","v":2},{"$f":"IFERROR(VLOOKUP($A54,Filtros!$A$5:$AY$22116,10,FALSE),0)","v":3},{"$f":"IFERROR(VLOOKUP($A54,Filtros!$A$5:$AY$22116,11,FALSE),0)","v":5},{"$f":"IFERROR(VLOOKUP($A54,Filtros!$A$5:$AY$22116,12,FALSE),0)","v":4},{"$f":"IFERROR(VLOOKUP($A54,Filtros!$A$5:$AY$22116,13,FALSE),0)","v":8},{"$f":"IFERROR(VLOOKUP($A54,Filtros!$A$5:$AY$22116,14,FALSE),0)","v":16},{"$f":"IFERROR(VLOOKUP($A54,Filtros!$A$5:$AY$22116,15,FALSE),0)","v":15},{"$f":"IFERROR(VLOOKUP($A54,Filtros!$A$5:$AY$22116,16,FALSE),0)","v":26},{"$f":"IFERROR(VLOOKUP($A54,Filtros!$A$5:$AY$22116,17,FALSE),0)","v":37},{"$f":"IFERROR(VLOOKUP($A54,Filtros!$A$5:$AY$22116,18,FALSE),0)","v":63},{"$f":"IFERROR(VLOOKUP($A54,Filtros!$A$5:$AY$22116,19,FALSE),0)","v":53},{"$f":"IFERROR(VLOOKUP($A54,Filtros!$A$5:$AY$22116,20,FALSE),0)","v":126},{"$f":"IFERROR(VLOOKUP($A54,Filtros!$A$5:$AY$22116,21,FALSE),0)","v":90},{"$f":"IFERROR(VLOOKUP($A54,Filtros!$A$5:$AY$22116,22,FALSE),0)","v":203},{"$f":"IFERROR(VLOOKUP($A54,Filtros!$A$5:$AY$22116,23,FALSE),0)","v":135},{"$f":"IFERROR(VLOOKUP($A54,Filtros!$A$5:$AY$22116,24,FALSE),0)","v":223},{"$f":"IFERROR(VLOOKUP($A54,Filtros!$A$5:$AY$22116,25,FALSE),0)","v":178},{"$f":"IFERROR(VLOOKUP($A54,Filtros!$A$5:$AY$22116,26,FALSE),0)","v":334},{"$f":"IFERROR(VLOOKUP($A54,Filtros!$A$5:$AY$22116,27,FALSE),0)","v":193},{"$f":"IFERROR(VLOOKUP($A54,Filtros!$A$5:$AY$22116,28,FALSE),0)","v":325},{"$f":"IFERROR(VLOOKUP($A54,Filtros!$A$5:$AY$22116,29,FALSE),0)","v":190},{"$f":"IFERROR(VLOOKUP($A54,Filtros!$A$5:$AY$22116,30,FALSE),0)","v":296},{"$f":"IFERROR(VLOOKUP($A54,Filtros!$A$5:$AY$22116,31,FALSE),0)","v":244},{"$f":"IFERROR(VLOOKUP($A54,Filtros!$A$5:$AY$22116,32,FALSE),0)","v":424},{"$f":"IFERROR(VLOOKUP($A54,Filtros!$A$5:$AY$22116,33,FALSE),0)","v":18},{"$f":"IFERROR(VLOOKUP($A54,Filtros!$A$5:$AY$22116,34,FALSE),0)","v":28},{"$f":"IFERROR(VLOOKUP($A54,Filtros!$A$5:$AY$22116,35,FALSE),0)","v":6},{"$f":"IFERROR(VLOOKUP($A54,Filtros!$A$5:$AY$22116,36,FALSE),0)","v":10},{"$nulls":14},{"$f":"IF(#REF!<=SUM($G$17:$Z$17),\"\",\"* Los pacientes diabéticos de 15 a 64 años en tratamiento con IECA o ARA II no deben ser mayor a los pacientes Diabéticos en Control de la sección A. \")","v":{"$error":"#REF!"}},{"$f":"IF(#REF!<=SUM($AA$17:$AH$17),\"\",\"* Los pacientes diabéticos de 65+ años y más en tratamiento con IECA o ARA II no deben ser mayor a los pacientes Diabéticos en Control de la sección A. \")","v":{"$error":"#REF!"}},{"$f":"IF(#REF!+#REF!<>$D$54,\"* La suma de Sexo debe ser igual al TOTAL de pacientes en tratamiento con IECA o ARA II .\",\"\")","v":{"$error":"#REF!"}},{"$nulls":33},{"$f":"IF(#REF!<=SUM($G$17:$Z$17),0,1)","v":{"$error":"#REF!"}},{"$f":"IF(#REF!<=SUM($AA$17:$AH$17),0,1)","v":{"$error":"#REF!"}},{"$f":"IF(#REF!+#REF!<>$D$54,1,0)","v":{"$error":"#REF!"}}]
["P4190808","CON UN EXÁMEN DE COLESTEROL LDL VIGENTE.",null,{"$f":"IFERROR(VLOOKUP($A55,Filtros!$A$5:$AY$22116,2,FALSE),0)","v":19051},{"$f":"IFERROR(VLOOKUP($A55,Filtros!$A$5:$AY$22116,3,FALSE),0)","v":6890},{"$f":"IFERROR(VLOOKUP($A55,Filtros!$A$5:$AY$22116,4,FALSE),0)","v":12161},{"$f":"IFERROR(VLOOKUP($A55,Filtros!$A$5:$AY$22116,5,FALSE),0)","v":10},{"$f":"IFERROR(VLOOKUP($A55,Filtros!$A$5:$AY$22116,6,FALSE),0)","v":10},{"$f":"IFERROR(VLOOKUP($A55,Filtros!$A$5:$AY$22116,7,FALSE),0)","v":10},{"$f":"IFERROR(VLOOKUP($A55,Filtros!$A$5:$AY$22116,8,FALSE),0)","v":30},{"$f":"IFERROR(VLOOKUP($A55,Filtros!$A$5:$AY$22116,9,FALSE),0)","v":24},{"$f":"IFERROR(VLOOKUP($A55,Filtros!$A$5:$AY$22116,10,FALSE),0)","v":82},{"$f":"IFERROR(VLOOKUP($A55,Filtros!$A$5:$AY$22116,11,FALSE),0)","v":65},{"$f":"IFERROR(VLOOKUP($A55,Filtros!$A$5:$AY$22116,12,FALSE),0)","v":159},{"$f":"IFERROR(VLOOKUP($A55,Filtros!$A$5:$AY$22116,13,FALSE),0)","v":116},{"$f":"IFERROR(VLOOKUP($A55,Filtros!$A$5:$AY$22116,14,FALSE),0)","v":247},{"$f":"IFERROR(VLOOKUP($A55,Filtros!$A$5:$AY$22116,15,FALSE),0)","v":189},{"$f":"IFERROR(VLOOKUP($A55,Filtros!$A$5:$AY$22116,16,FALSE),0)","v":429},{"$f":"IFERROR(VLOOKUP($A55,Filtros!$A$5:$AY$22116,17,FALSE),0)","v":318},{"$f":"IFERROR(VLOOKUP($A55,Filtros!$A$5:$AY$22116,18,FALSE),0)","v":636},{"$f":"IFERROR(VLOOKUP($A55,Filtros!$A$5:$AY$22116,19,FALSE),0)","v":552},{"$f":"IFERROR(VLOOKUP($A55,Filtros!$A$5:$AY$22116,20,FALSE),0)","v":1173},{"$f":"IFERROR(VLOOKUP($A55,Filtros!$A$5:$AY$22116,21,FALSE),0)","v":776},{"$f":"IFERROR(VLOOKUP($A55,Filtros!$A$5:$AY$22116,22,FALSE),0)","v":1673},{"$f":"IFERROR(VLOOKUP($A55,Filtros!$A$5:$AY$22116,23,FALSE),0)","v":986},{"$f":"IFERROR(VLOOKUP($A55,Filtros!$A$5:$AY$22116,24,FALSE),0)","v":1787},{"$f":"IFERROR(VLOOKUP($A55,Filtros!$A$5:$AY$22116,25,FALSE),0)","v":1153},{"$f":"IFERROR(VLOOKUP($A55,Filtros!$A$5:$AY$22116,26,FALSE),0)","v":1748},{"$f":"IFERROR(VLOOKUP($A55,Filtros!$A$5:$AY$22116,27,FALSE),0)","v":1043},{"$f":"IFERROR(VLOOKUP($A55,Filtros!$A$5:$AY$22116,28,FALSE),0)","v":1602},{"$f":"IFERROR(VLOOKUP($A55,Filtros!$A$5:$AY$22116,29,FALSE),0)","v":819},{"$f":"IFERROR(VLOOKUP($A55,Filtros!$A$5:$AY$22116,30,FALSE),0)","v":1232},{"$f":"IFERROR(VLOOKUP($A55,Filtros!$A$5:$AY$22116,31,FALSE),0)","v":829},{"$f":"IFERROR(VLOOKUP($A55,Filtros!$A$5:$AY$22116,32,FALSE),0)","v":1353},{"$f":"IFERROR(VLOOKUP($A55,Filtros!$A$5:$AY$22116,33,FALSE),0)","v":17},{"$f":"IFERROR(VLOOKUP($A55,Filtros!$A$5:$AY$22116,34,FALSE),0)","v":44},{"$f":"IFERROR(VLOOKUP($A55,Filtros!$A$5:$AY$22116,35,FALSE),0)","v":16},{"$f":"IFERROR(VLOOKUP($A55,Filtros!$A$5:$AY$22116,36,FALSE),0)","v":32},{"$nulls":14},{"$f":"IF(#REF!<=SUM($G$17:$Z$17),\"\",\"* Los pacientes diabéticos de 15 a 64 años con exámen de colesterol LDL vigente no deben ser mayor a los pacientes Diabéticos en Control de la sección A. \")","v":{"$error":"#REF!"}},{"$f":"IF(#REF!<=SUM($AA$17:$AH$17),\"\",\"* Los pacientes diabéticos de 65+ años y más con exámen de colesterol LDL vigente no deben ser mayor a los pacientes Diabéticos en Control de la sección A. \")","v":{"$error":"#REF!"}},{"$f":"IF(#REF!+#REF!<>$D$55,\"* La suma de Sexo debe ser igual al TOTAL de pacientes con exámen de colesterol LDL vigente. \",\"\")","v":{"$error":"#REF!"}},{"$nulls":33},{"$f":"IF(#REF!<=SUM($G$17:$Z$17),0,1)","v":{"$error":"#REF!"}},{"$f":"IF(#REF!<=SUM($AA$17:$AH$17),0,1)","v":{"$error":"#REF!"}},{"$f":"IF(#REF!+#REF!<>$D$55,1,0)","v":{"$error":"#REF!"}}]
["P4190809","CON *EVALUACIÓN VIGENTE DEL PIE SEGÚN PAUTA DE ESTIMACION DEL RIESGO DE ULCERACION EN PERSONAS CON DIABETES","Riesgo bajo",{"$f":"IFERROR(VLOOKUP($A56,Filtros!$A$5:$AY$22116,2,FALSE),0)","v":15119},{"$f":"IFERROR(VLOOKUP($A56,Filtros!$A$5:$AY$22116,3,FALSE),0)","v":5309},{"$f":"IFERROR(VLOOKUP($A56,Filtros!$A$5:$AY$22116,4,FALSE),0)","v":9810},{"$f":"IFERROR(VLOOKUP($A56,Filtros!$A$5:$AY$22116,5,FALSE),0)","v":14},{"$f":"IFERROR(VLOOKUP($A56,Filtros!$A$5:$AY$22116,6,FALSE),0)","v":9},{"$f":"IFERROR(VLOOKUP($A56,Filtros!$A$5:$AY$22116,7,FALSE),0)","v":13},{"$f":"IFERROR(VLOOKUP($A56,Filtros!$A$5:$AY$22116,8,FALSE),0)","v":29},{"$f":"IFERROR(VLOOKUP($A56,Filtros!$A$5:$AY$22116,9,FALSE),0)","v":27},{"$f":"IFERROR(VLOOKUP($A56,Filtros!$A$5:$AY$22116,10,FALSE),0)","v":72},{"$f":"IFERROR(VLOOKUP($A56,Filtros!$A$5:$AY$22116,11,FALSE),0)","v":52},{"$f":"IFERROR(VLOOKUP($A56,Filtros!$A$5:$AY$22116,12,FALSE),0)","v":139},{"$f":"IFERROR(VLOOKUP($A56,Filtros!$A$5:$AY$22116,13,FALSE),0)","v":98},{"$f":"IFERROR(VLOOKUP($A56,Filtros!$A$5:$AY$22116,14,FALSE),0)","v":247},{"$f":"IFERROR(VLOOKUP($A56,Filtros!$A$5:$AY$22116,15,FALSE),0)","v":164},{"$f":"IFERROR(VLOOKUP($A56,Filtros!$A$5:$AY$22116,16,FALSE),0)","v":383},{"$f":"IFERROR(VLOOKUP($A56,Filtros!$A$5:$AY$22116,17,FALSE),0)","v":289},{"$f":"IFERROR(VLOOKUP($A56,Filtros!$A$5:$AY$22116,18,FALSE),0)","v":608},{"$f":"IFERROR(VLOOKUP($A56,Filtros!$A$5:$AY$22116,19,FALSE),0)","v":449},{"$f":"IFERROR(VLOOKUP($A56,Filtros!$A$5:$AY$22116,20,FALSE),0)","v":994},{"$f":"IFERROR(VLOOKUP($A56,Filtros!$A$5:$AY$22116,21,FALSE),0)","v":627},{"$f":"IFERROR(VLOOKUP($A56,Filtros!$A$5:$AY$22116,22,FALSE),0)","v":1332},{"$f":"IFERROR(VLOOKUP($A56,Filtros!$A$5:$AY$22116,23,FALSE),0)","v":822},{"$f":"IFERROR(VLOOKUP($A56,Filtros!$A$5:$AY$22116,24,FALSE),0)","v":1531},{"$f":"IFERROR(VLOOKUP($A56,Filtros!$A$5:$AY$22116,25,FALSE),0)","v":912},{"$f":"IFERROR(VLOOKUP($A56,Filtros!$A$5:$AY$22116,26,FALSE),0)","v":1510},{"$f":"IFERROR(VLOOKUP($A56,Filtros!$A$5:$AY$22116,27,FALSE),0)","v":793},{"$f":"IFERROR(VLOOKUP($A56,Filtros!$A$5:$AY$22116,28,FALSE),0)","v":1259},{"$f":"IFERROR(VLOOKUP($A56,Filtros!$A$5:$AY$22116,29,FALSE),0)","v":571},{"$f":"IFERROR(VLOOKUP($A56,Filtros!$A$5:$AY$22116,30,FALSE),0)","v":886},{"$f":"IFERROR(VLOOKUP($A56,Filtros!$A$5:$AY$22116,31,FALSE),0)","v":478},{"$f":"IFERROR(VLOOKUP($A56,Filtros!$A$5:$AY$22116,32,FALSE),0)","v":811},{"$f":"IFERROR(VLOOKUP($A56,Filtros!$A$5:$AY$22116,33,FALSE),0)","v":10},{"$f":"IFERROR(VLOOKUP($A56,Filtros!$A$5:$AY$22116,34,FALSE),0)","v":11},{"$f":"IFERROR(VLOOKUP($A56,Filtros!$A$5:$AY$22116,35,FALSE),0)","v":9},{"$f":"IFERROR(VLOOKUP($A56,Filtros!$A$5:$AY$22116,36,FALSE),0)","v":14},{"$nulls":14},{"$f":"IF(SUM(#REF!)<=SUM($G$17:$Z$17),\"\",\"* Los pacientes diabéticos de 15 a 64 años con evaluación vigente de pie clasificados como riesgo bajo no deben ser mayor a los pacientes Diabéticos en Control de la sección A. \")","v":{"$error":"#REF!"}},{"$f":"IF(SUM(#REF!)<=SUM($AA$17:$AH$17),\"\",\"* Los pacientes diabéticos de 65+ años y más con evaluación vigente de pie clasificados como riesgo bajo no deben ser mayor a los pacientes Diabéticos en Control de la sección A. \")","v":{"$error":"#REF!"}},{"$f":"IF(#REF!+#REF!<>$D$56,\"* La suma de Sexo debe ser igual al TOTAL de pacientes con Rbajo. \",\"\")","v":{"$error":"#REF!"}},{"$nulls":33},{"$f":"IF(SUM(#REF!)<=SUM($G$17:$Z$17),0,1)","v":{"$error":"#REF!"}},{"$f":"IF(SUM(#REF!)<=SUM($AA$17:$AH$17),0,1)","v":{"$error":"#REF!"}},{"$f":"IF(#REF!+#REF!<>$D$56,1,0)","v":{"$error":"#REF!"}}]
["P4170300",null,"Riesgo moderado ",{"$f":"IFERROR(VLOOKUP($A57,Filtros!$A$5:$AY$22116,2,FALSE),0)","v":2122},{"$f":"IFERROR(VLOOKUP($A57,Filtros!$A$5:$AY$22116,3,FALSE),0)","v":840},{"$f":"IFERROR(VLOOKUP($A57,Filtros!$A$5:$AY$22116,4,FALSE),0)","v":1282},{"$f":"IFERROR(VLOOKUP($A57,Filtros!$A$5:$AY$22116,5,FALSE),0)","v":1},{"$f":"IFERROR(VLOOKUP($A57,Filtros!$A$5:$AY$22116,6,FALSE),0)","v":1},{"$f":"IFERROR(VLOOKUP($A57,Filtros!$A$5:$AY$22116,7,FALSE),0)","v":0},{"$f":"IFERROR(VLOOKUP($A57,Filtros!$A$5:$AY$22116,8,FALSE),0)","v":0},{"$f":"IFERROR(VLOOKUP($A57,Filtros!$A$5:$AY$22116,9,FALSE),0)","v":4},{"$f":"IFERROR(VLOOKUP($A57,Filtros!$A$5:$AY$22116,10,FALSE),0)","v":4},{"$f":"IFERROR(VLOOKUP($A57,Filtros!$A$5:$AY$22116,11,FALSE),0)","v":3},{"$f":"IFERROR(VLOOKUP($A57,Filtros!$A$5:$AY$22116,12,FALSE),0)","v":8},{"$f":"IFERROR(VLOOKUP($A57,Filtros!$A$5:$AY$22116,13,FALSE),0)","v":4},{"$f":"IFERROR(VLOOKUP($A57,Filtros!$A$5:$AY$22116,14,FALSE),0)","v":26},{"$f":"IFERROR(VLOOKUP($A57,Filtros!$A$5:$AY$22116,15,FALSE),0)","v":21},{"$f":"IFERROR(VLOOKUP($A57,Filtros!$A$5:$AY$22116,16,FALSE),0)","v":36},{"$f":"IFERROR(VLOOKUP($A57,Filtros!$A$5:$AY$22116,17,FALSE),0)","v":26},{"$f":"IFERROR(VLOOKUP($A57,Filtros!$A$5:$AY$22116,18,FALSE),0)","v":52},{"$f":"IFERROR(VLOOKUP($A57,Filtros!$A$5:$AY$22116,19,FALSE),0)","v":47},{"$f":"IFERROR(VLOOKUP($A57,Filtros!$A$5:$AY$22116,20,FALSE),0)","v":90},{"$f":"IFERROR(VLOOKUP($A57,Filtros!$A$5:$AY$22116,21,FALSE),0)","v":78},{"$f":"IFERROR(VLOOKUP($A57,Filtros!$A$5:$AY$22116,22,FALSE),0)","v":145},{"$f":"IFERROR(VLOOKUP($A57,Filtros!$A$5:$AY$22116,23,FALSE),0)","v":93},{"$f":"IFERROR(VLOOKUP($A57,Filtros!$A$5:$AY$22116,24,FALSE),0)","v":185},{"$f":"IFERROR(VLOOKUP($A57,Filtros!$A$5:$AY$22116,25,FALSE),0)","v":164},{"$f":"IFERROR(VLOOKUP($A57,Filtros!$A$5:$AY$22116,26,FALSE),0)","v":194},{"$f":"IFERROR(VLOOKUP($A57,Filtros!$A$5:$AY$22116,27,FALSE),0)","v":136},{"$f":"IFERROR(VLOOKUP($A57,Filtros!$A$5:$AY$22116,28,FALSE),0)","v":180},{"$f":"IFERROR(VLOOKUP($A57,Filtros!$A$5:$AY$22116,29,FALSE),0)","v":122},{"$f":"IFERROR(VLOOKUP($A57,Filtros!$A$5:$AY$22116,30,FALSE),0)","v":158},{"$f":"IFERROR(VLOOKUP($A57,Filtros!$A$5:$AY$22116,31,FALSE),0)","v":141},{"$f":"IFERROR(VLOOKUP($A57,Filtros!$A$5:$AY$22116,32,FALSE),0)","v":203},{"$f":"IFERROR(VLOOKUP($A57,Filtros!$A$5:$AY$22116,33,FALSE),0)","v":2},{"$f":"IFERROR(VLOOKUP($A57,Filtros!$A$5:$AY$22116,34,FALSE),0)","v":3},{"$f":"IFERROR(VLOOKUP($A57,Filtros!$A$5:$AY$22116,35,FALSE),0)","v":0},{"$f":"IFERROR(VLOOKUP($A57,Filtros!$A$5:$AY$22116,36,FALSE),0)","v":2},{"$nulls":16},{"$f":"IF(#REF!+#REF!<>$D$57,\"* La suma de Sexo debe ser igual al TOTAL de pacientes con Rmoderado. \",\"\")","v":{"$error":"#REF!"}},{"$nulls":35},{"$f":"IF(#REF!+#REF!<>$D$57,1,0)","v":{"$error":"#REF!"}}]
["P4190500",null,"Riesgo alto",{"$f":"IFERROR(VLOOKUP($A58,Filtros!$A$5:$AY$22116,2,FALSE),0)","v":2869},{"$f":"IFERROR(VLOOKUP($A58,Filtros!$A$5:$AY$22116,3,FALSE),0)","v":1079},{"$f":"IFERROR(VLOOKUP($A58,Filtros!$A$5:$AY$22116,4,FALSE),0)","v":1790},{"$f":"IFERROR(VLOOKUP($A58,Filtros!$A$5:$AY$22116,5,FALSE),0)","v":0},{"$f":"IFERROR(VLOOKUP($A58,Filtros!$A$5:$AY$22116,6,FALSE),0)","v":0},{"$f":"IFERROR(VLOOKUP($A58,Filtros!$A$5:$AY$22116,7,FALSE),0)","v":0},{"$f":"IFERROR(VLOOKUP($A58,Filtros!$A$5:$AY$22116,8,FALSE),0)","v":1},{"$f":"IFERROR(VLOOKUP($A58,Filtros!$A$5:$AY$22116,9,FALSE),0)","v":1},{"$f":"IFERROR(VLOOKUP($A58,Filtros!$A$5:$AY$22116,10,FALSE),0)","v":1},{"$f":"IFERROR(VLOOKUP($A58,Filtros!$A$5:$AY$22116,11,FALSE),0)","v":4},{"$f":"IFERROR(VLOOKUP($A58,Filtros!$A$5:$AY$22116,12,FALSE),0)","v":6},{"$f":"IFERROR(VLOOKUP($A58,Filtros!$A$5:$AY$22116,13,FALSE),0)","v":7},{"$f":"IFERROR(VLOOKUP($A58,Filtros!$A$5:$AY$22116,14,FALSE),0)","v":12},{"$f":"IFERROR(VLOOKUP($A58,Filtros!$A$5:$AY$22116,15,FALSE),0)","v":11},{"$f":"IFERROR(VLOOKUP($A58,Filtros!$A$5:$AY$22116,16,FALSE),0)","v":21},{"$f":"IFERROR(VLOOKUP($A58,Filtros!$A$5:$AY$22116,17,FALSE),0)","v":26},{"$f":"IFERROR(VLOOKUP($A58,Filtros!$A$5:$AY$22116,18,FALSE),0)","v":47},{"$f":"IFERROR(VLOOKUP($A58,Filtros!$A$5:$AY$22116,19,FALSE),0)","v":58},{"$f":"IFERROR(VLOOKUP($A58,Filtros!$A$5:$AY$22116,20,FALSE),0)","v":95},{"$f":"IFERROR(VLOOKUP($A58,Filtros!$A$5:$AY$22116,21,FALSE),0)","v":84},{"$f":"IFERROR(VLOOKUP($A58,Filtros!$A$5:$AY$22116,22,FALSE),0)","v":175},{"$f":"IFERROR(VLOOKUP($A58,Filtros!$A$5:$AY$22116,23,FALSE),0)","v":129},{"$f":"IFERROR(VLOOKUP($A58,Filtros!$A$5:$AY$22116,24,FALSE),0)","v":238},{"$f":"IFERROR(VLOOKUP($A58,Filtros!$A$5:$AY$22116,25,FALSE),0)","v":168},{"$f":"IFERROR(VLOOKUP($A58,Filtros!$A$5:$AY$22116,26,FALSE),0)","v":265},{"$f":"IFERROR(VLOOKUP($A58,Filtros!$A$5:$AY$22116,27,FALSE),0)","v":183},{"$f":"IFERROR(VLOOKUP($A58,Filtros!$A$5:$AY$22116,28,FALSE),0)","v":283},{"$f":"IFERROR(VLOOKUP($A58,Filtros!$A$5:$AY$22116,29,FALSE),0)","v":182},{"$f":"IFERROR(VLOOKUP($A58,Filtros!$A$5:$AY$22116,30,FALSE),0)","v":271},{"$f":"IFERROR(VLOOKUP($A58,Filtros!$A$5:$AY$22116,31,FALSE),0)","v":226},{"$f":"IFERROR(VLOOKUP($A58,Filtros!$A$5:$AY$22116,32,FALSE),0)","v":375},{"$f":"IFERROR(VLOOKUP($A58,Filtros!$A$5:$AY$22116,33,FALSE),0)","v":4},{"$f":"IFERROR(VLOOKUP($A58,Filtros!$A$5:$AY$22116,34,FALSE),0)","v":2},{"$f":"IFERROR(VLOOKUP($A58,Filtros!$A$5:$AY$22116,35,FALSE),0)","v":1},{"$f":"IFERROR(VLOOKUP($A58,Filtros!$A$5:$AY$22116,36,FALSE),0)","v":2},{"$nulls":16},{"$f":"IF(#REF!+#REF!<>$D$58,\"* La suma de Sexo debe ser igual al TOTAL de pacientes con Ralto. \",\"\")","v":{"$error":"#REF!"}},{"$nulls":35},{"$f":"IF(#REF!+#REF!<>$D$58,1,0)","v":{"$error":"#REF!"}}]
["P4190600",null,"Riesgo máximo ",{"$f":"IFERROR(VLOOKUP($A59,Filtros!$A$5:$AY$22116,2,FALSE),0)","v":1119},{"$f":"IFERROR(VLOOKUP($A59,Filtros!$A$5:$AY$22116,3,FALSE),0)","v":595},{"$f":"IFERROR(VLOOKUP($A59,Filtros!$A$5:$AY$22116,4,FALSE),0)","v":524},{"$f":"IFERROR(VLOOKUP($A59,Filtros!$A$5:$AY$22116,5,FALSE),0)","v":1},{"$f":"IFERROR(VLOOKUP($A59,Filtros!$A$5:$AY$22116,6,FALSE),0)","v":1},{"$f":"IFERROR(VLOOKUP($A59,Filtros!$A$5:$AY$22116,7,FALSE),0)","v":1},{"$f":"IFERROR(VLOOKUP($A59,Filtros!$A$5:$AY$22116,8,FALSE),0)","v":0},{"$f":"IFERROR(VLOOKUP($A59,Filtros!$A$5:$AY$22116,9,FALSE),0)","v":2},{"$f":"IFERROR(VLOOKUP($A59,Filtros!$A$5:$AY$22116,10,FALSE),0)","v":1},{"$f":"IFERROR(VLOOKUP($A59,Filtros!$A$5:$AY$22116,11,FALSE),0)","v":2},{"$f":"IFERROR(VLOOKUP($A59,Filtros!$A$5:$AY$22116,12,FALSE),0)","v":1},{"$f":"IFERROR(VLOOKUP($A59,Filtros!$A$5:$AY$22116,13,FALSE),0)","v":5},{"$f":"IFERROR(VLOOKUP($A59,Filtros!$A$5:$AY$22116,14,FALSE),0)","v":2},{"$f":"IFERROR(VLOOKUP($A59,Filtros!$A$5:$AY$22116,15,FALSE),0)","v":9},{"$f":"IFERROR(VLOOKUP($A59,Filtros!$A$5:$AY$22116,16,FALSE),0)","v":8},{"$f":"IFERROR(VLOOKUP($A59,Filtros!$A$5:$AY$22116,17,FALSE),0)","v":14},{"$f":"IFERROR(VLOOKUP($A59,Filtros!$A$5:$AY$22116,18,FALSE),0)","v":18},{"$f":"IFERROR(VLOOKUP($A59,Filtros!$A$5:$AY$22116,19,FALSE),0)","v":30},{"$f":"IFERROR(VLOOKUP($A59,Filtros!$A$5:$AY$22116,20,FALSE),0)","v":34},{"$f":"IFERROR(VLOOKUP($A59,Filtros!$A$5:$AY$22116,21,FALSE),0)","v":61},{"$f":"IFERROR(VLOOKUP($A59,Filtros!$A$5:$AY$22116,22,FALSE),0)","v":75},{"$f":"IFERROR(VLOOKUP($A59,Filtros!$A$5:$AY$22116,23,FALSE),0)","v":115},{"$f":"IFERROR(VLOOKUP($A59,Filtros!$A$5:$AY$22116,24,FALSE),0)","v":80},{"$f":"IFERROR(VLOOKUP($A59,Filtros!$A$5:$AY$22116,25,FALSE),0)","v":119},{"$f":"IFERROR(VLOOKUP($A59,Filtros!$A$5:$AY$22116,26,FALSE),0)","v":85},{"$f":"IFERROR(VLOOKUP($A59,Filtros!$A$5:$AY$22116,27,FALSE),0)","v":92},{"$f":"IFERROR(VLOOKUP($A59,Filtros!$A$5:$AY$22116,28,FALSE),0)","v":75},{"$f":"IFERROR(VLOOKUP($A59,Filtros!$A$5:$AY$22116,29,FALSE),0)","v":68},{"$f":"IFERROR(VLOOKUP($A59,Filtros!$A$5:$AY$22116,30,FALSE),0)","v":56},{"$f":"IFERROR(VLOOKUP($A59,Filtros!$A$5:$AY$22116,31,FALSE),0)","v":76},{"$f":"IFERROR(VLOOKUP($A59,Filtros!$A$5:$AY$22116,32,FALSE),0)","v":88},{"$f":"IFERROR(VLOOKUP($A59,Filtros!$A$5:$AY$22116,33,FALSE),0)","v":4},{"$f":"IFERROR(VLOOKUP($A59,Filtros!$A$5:$AY$22116,34,FALSE),0)","v":0},{"$f":"IFERROR(VLOOKUP($A59,Filtros!$A$5:$AY$22116,35,FALSE),0)","v":0},{"$f":"IFERROR(VLOOKUP($A59,Filtros!$A$5:$AY$22116,36,FALSE),0)","v":1},{"$nulls":16},{"$f":"IF(#REF!+#REF!<>$D$59,\"* La suma de Sexo debe ser igual al TOTAL de pacientes con Rmáximo. \",\"\")","v":{"$error":"#REF!"}},{"$nulls":35},{"$f":"IF(#REF!+#REF!<>$D$59,1,0)","v":{"$error":"#REF!"}}]
["P4190970","CON ÚLCERAS ACTIVAS DE PIE TRATADAS CON CURACIÓN ","Curación Convencional",{"$f":"IFERROR(VLOOKUP($A60,Filtros!$A$5:$AY$22116,2,FALSE),0)","v":55},{"$f":"IFERROR(VLOOKUP($A60,Filtros!$A$5:$AY$22116,3,FALSE),0)","v":31},{"$f":"IFERROR(VLOOKUP($A60,Filtros!$A$5:$AY$22116,4,FALSE),0)","v":24},{"$f":"IFERROR(VLOOKUP($A60,Filtros!$A$5:$AY$22116,5,FALSE),0)","v":0},{"$f":"IFERROR(VLOOKUP($A60,Filtros!$A$5:$AY$22116,6,FALSE),0)","v":0},{"$f":"IFERROR(VLOOKUP($A60,Filtros!$A$5:$AY$22116,7,FALSE),0)","v":0},{"$f":"IFERROR(VLOOKUP($A60,Filtros!$A$5:$AY$22116,8,FALSE),0)","v":0},{"$f":"IFERROR(VLOOKUP($A60,Filtros!$A$5:$AY$22116,9,FALSE),0)","v":0},{"$f":"IFERROR(VLOOKUP($A60,Filtros!$A$5:$AY$22116,10,FALSE),0)","v":0},{"$f":"IFERROR(VLOOKUP($A60,Filtros!$A$5:$AY$22116,11,FALSE),0)","v":0},{"$f":"IFERROR(VLOOKUP($A60,Filtros!$A$5:$AY$22116,12,FALSE),0)","v":0},{"$f":"IFERROR(VLOOKUP($A60,Filtros!$A$5:$AY$22116,13,FALSE),0)","v":0},{"$f":"IFERROR(VLOOKUP($A60,Filtros!$A$5:$AY$22116,14,FALSE),0)","v":0},{"$f":"IFERROR(VLOOKUP($A60,Filtros!$A$5:$AY$22116,15,FALSE),0)","v":1},{"$f":"IFERROR(VLOOKUP($A60,Filtros!$A$5:$AY$22116,16,FALSE),0)","v":0},{"$f":"IFERROR(VLOOKUP($A60,Filtros!$A$5:$AY$22116,17,FALSE),0)","v":0},{"$f":"IFERROR(VLOOKUP($A60,Filtros!$A$5:$AY$22116,18,FALSE),0)","v":0},{"$f":"IFERROR(VLOOKUP($A60,Filtros!$A$5:$AY$22116,19,FALSE),0)","v":3},{"$f":"IFERROR(VLOOKUP($A60,Filtros!$A$5:$AY$22116,20,FALSE),0)","v":2},{"$f":"IFERROR(VLOOKUP($A60,Filtros!$A$5:$AY$22116,21,FALSE),0)","v":1},{"$f":"IFERROR(VLOOKUP($A60,Filtros!$A$5:$AY$22116,22,FALSE),0)","v":6},{"$f":"IFERROR(VLOOKUP($A60,Filtros!$A$5:$AY$22116,23,FALSE),0)","v":5},{"$f":"IFERROR(VLOOKUP($A60,Filtros!$A$5:$AY$22116,24,FALSE),0)","v":3},{"$f":"IFERROR(VLOOKUP($A60,Filtros!$A$5:$AY$22116,25,FALSE),0)","v":4},{"$f":"IFERROR(VLOOKUP($A60,Filtros!$A$5:$AY$22116,26,FALSE),0)","v":4},{"$f":"IFERROR(VLOOKUP($A60,Filtros!$A$5:$AY$22116,27,FALSE),0)","v":5},{"$f":"IFERROR(VLOOKUP($A60,Filtros!$A$5:$AY$22116,28,FALSE),0)","v":4},{"$f":"IFERROR(VLOOKUP($A60,Filtros!$A$5:$AY$22116,29,FALSE),0)","v":8},{"$f":"IFERROR(VLOOKUP($A60,Filtros!$A$5:$AY$22116,30,FALSE),0)","v":3},{"$f":"IFERROR(VLOOKUP($A60,Filtros!$A$5:$AY$22116,31,FALSE),0)","v":4},{"$f":"IFERROR(VLOOKUP($A60,Filtros!$A$5:$AY$22116,32,FALSE),0)","v":2},{"$f":"IFERROR(VLOOKUP($A60,Filtros!$A$5:$AY$22116,33,FALSE),0)","v":1},{"$f":"IFERROR(VLOOKUP($A60,Filtros!$A$5:$AY$22116,34,FALSE),0)","v":1},{"$f":"IFERROR(VLOOKUP($A60,Filtros!$A$5:$AY$22116,35,FALSE),0)","v":0},{"$f":"IFERROR(VLOOKUP($A60,Filtros!$A$5:$AY$22116,36,FALSE),0)","v":0},{"$nulls":14},{"$f":"IF((#REF!+#REF!)<=SUM($G$17:$Z$17),\"\",\"* Los pacientes diabéticos de 15 a 64 años con úlceras activas de pie tratadas con curación convencional 0 avanzada no deben ser mayor a los pacientes Diabéticos en Control de la sección A. \")","v":{"$error":"#REF!"}},{"$f":"IF((#REF!+#REF!)<=SUM($AA$17:$AH$17),\"\",\"* Los pacientes diabéticos de 65+ años con úlceras activas de pie tratadas con curación convencional o avanzada no deben ser mayor a los pacientes Diabéticos en Control de la sección A. \")","v":{"$error":"#REF!"}},{"$f":"IF(#REF!+#REF!<>$D$60,\"* La suma de Sexo debe ser igual al TOTAL de pacientes con úlceras activas de pie tratadas con curación convencional de heridas. \",\"\")","v":{"$error":"#REF!"}},{"$nulls":33},{"$f":"IF((#REF!+#REF!)<=SUM($G$17:$Z$17),0,1)","v":{"$error":"#REF!"}},{"$f":"IF((#REF!+#REF!)<=SUM($AA$17:$AH$17),0,1)","v":{"$error":"#REF!"}},{"$f":"IF(#REF!+#REF!<>$D$60,1,0)","v":{"$error":"#REF!"}}]
["P4170500",null,"Curación Avanzada",{"$f":"IFERROR(VLOOKUP($A61,Filtros!$A$5:$AY$22116,2,FALSE),0)","v":996},{"$f":"IFERROR(VLOOKUP($A61,Filtros!$A$5:$AY$22116,3,FALSE),0)","v":610},{"$f":"IFERROR(VLOOKUP($A61,Filtros!$A$5:$AY$22116,4,FALSE),0)","v":386},{"$f":"IFERROR(VLOOKUP($A61,Filtros!$A$5:$AY$22116,5,FALSE),0)","v":1},{"$f":"IFERROR(VLOOKUP($A61,Filtros!$A$5:$AY$22116,6,FALSE),0)","v":0},{"$f":"IFERROR(VLOOKUP($A61,Filtros!$A$5:$AY$22116,7,FALSE),0)","v":0},{"$f":"IFERROR(VLOOKUP($A61,Filtros!$A$5:$AY$22116,8,FALSE),0)","v":2},{"$f":"IFERROR(VLOOKUP($A61,Filtros!$A$5:$AY$22116,9,FALSE),0)","v":0},{"$f":"IFERROR(VLOOKUP($A61,Filtros!$A$5:$AY$22116,10,FALSE),0)","v":1},{"$f":"IFERROR(VLOOKUP($A61,Filtros!$A$5:$AY$22116,11,FALSE),0)","v":6},{"$f":"IFERROR(VLOOKUP($A61,Filtros!$A$5:$AY$22116,12,FALSE),0)","v":1},{"$f":"IFERROR(VLOOKUP($A61,Filtros!$A$5:$AY$22116,13,FALSE),0)","v":3},{"$f":"IFERROR(VLOOKUP($A61,Filtros!$A$5:$AY$22116,14,FALSE),0)","v":7},{"$f":"IFERROR(VLOOKUP($A61,Filtros!$A$5:$AY$22116,15,FALSE),0)","v":18},{"$f":"IFERROR(VLOOKUP($A61,Filtros!$A$5:$AY$22116,16,FALSE),0)","v":13},{"$f":"IFERROR(VLOOKUP($A61,Filtros!$A$5:$AY$22116,17,FALSE),0)","v":24},{"$f":"IFERROR(VLOOKUP($A61,Filtros!$A$5:$AY$22116,18,FALSE),0)","v":20},{"$f":"IFERROR(VLOOKUP($A61,Filtros!$A$5:$AY$22116,19,FALSE),0)","v":46},{"$f":"IFERROR(VLOOKUP($A61,Filtros!$A$5:$AY$22116,20,FALSE),0)","v":90},{"$f":"IFERROR(VLOOKUP($A61,Filtros!$A$5:$AY$22116,21,FALSE),0)","v":129},{"$f":"IFERROR(VLOOKUP($A61,Filtros!$A$5:$AY$22116,22,FALSE),0)","v":23},{"$f":"IFERROR(VLOOKUP($A61,Filtros!$A$5:$AY$22116,23,FALSE),0)","v":103},{"$f":"IFERROR(VLOOKUP($A61,Filtros!$A$5:$AY$22116,24,FALSE),0)","v":41},{"$f":"IFERROR(VLOOKUP($A61,Filtros!$A$5:$AY$22116,25,FALSE),0)","v":112},{"$f":"IFERROR(VLOOKUP($A61,Filtros!$A$5:$AY$22116,26,FALSE),0)","v":43},{"$f":"IFERROR(VLOOKUP($A61,Filtros!$A$5:$AY$22116,27,FALSE),0)","v":65},{"$f":"IFERROR(VLOOKUP($A61,Filtros!$A$5:$AY$22116,28,FALSE),0)","v":51},{"$f":"IFERROR(VLOOKUP($A61,Filtros!$A$5:$AY$22116,29,FALSE),0)","v":59},{"$f":"IFERROR(VLOOKUP($A61,Filtros!$A$5:$AY$22116,30,FALSE),0)","v":57},{"$f":"IFERROR(VLOOKUP($A61,Filtros!$A$5:$AY$22116,31,FALSE),0)","v":44},{"$f":"IFERROR(VLOOKUP($A61,Filtros!$A$5:$AY$22116,32,FALSE),0)","v":37},{"$f":"IFERROR(VLOOKUP($A61,Filtros!$A$5:$AY$22116,33,FALSE),0)","v":1},{"$f":"IFERROR(VLOOKUP($A61,Filtros!$A$5:$AY$22116,34,FALSE),0)","v":3},{"$f":"IFERROR(VLOOKUP($A61,Filtros!$A$5:$AY$22116,35,FALSE),0)","v":1},{"$f":"IFERROR(VLOOKUP($A61,Filtros!$A$5:$AY$22116,36,FALSE),0)","v":1},{"$nulls":16},{"$f":"IF(#REF!+#REF!<>$D61,\"* La suma de Sexo debe ser igual al TOTAL de pacientes con úlceras activas de pie tratadas con curación avanzada de heridas. \",\"\")","v":{"$error":"#REF!"}},{"$nulls":35},{"$f":"IF(#REF!+#REF!<>$D61,1,0)","v":{"$error":"#REF!"}}]
["P4200800","CON AMPUTACIÓN POR PIE DIABÉTICO",null,{"$f":"IFERROR(VLOOKUP($A62,Filtros!$A$5:$AY$22116,2,FALSE),0)","v":348},{"$f":"IFERROR(VLOOKUP($A62,Filtros!$A$5:$AY$22116,3,FALSE),0)","v":237},{"$f":"IFERROR(VLOOKUP($A62,Filtros!$A$5:$AY$22116,4,FALSE),0)","v":111},{"$f":"IFERROR(VLOOKUP($A62,Filtros!$A$5:$AY$22116,5,FALSE),0)","v":0},{"$f":"IFERROR(VLOOKUP($A62,Filtros!$A$5:$AY$22116,6,FALSE),0)","v":0},{"$f":"IFERROR(VLOOKUP($A62,Filtros!$A$5:$AY$22116,7,FALSE),0)","v":0},{"$f":"IFERROR(VLOOKUP($A62,Filtros!$A$5:$AY$22116,8,FALSE),0)","v":0},{"$f":"IFERROR(VLOOKUP($A62,Filtros!$A$5:$AY$22116,9,FALSE),0)","v":0},{"$f":"IFERROR(VLOOKUP($A62,Filtros!$A$5:$AY$22116,10,FALSE),0)","v":2},{"$f":"IFERROR(VLOOKUP($A62,Filtros!$A$5:$AY$22116,11,FALSE),0)","v":2},{"$f":"IFERROR(VLOOKUP($A62,Filtros!$A$5:$AY$22116,12,FALSE),0)","v":3},{"$f":"IFERROR(VLOOKUP($A62,Filtros!$A$5:$AY$22116,13,FALSE),0)","v":2},{"$f":"IFERROR(VLOOKUP($A62,Filtros!$A$5:$AY$22116,14,FALSE),0)","v":1},{"$f":"IFERROR(VLOOKUP($A62,Filtros!$A$5:$AY$22116,15,FALSE),0)","v":9},{"$f":"IFERROR(VLOOKUP($A62,Filtros!$A$5:$AY$22116,16,FALSE),0)","v":2},{"$f":"IFERROR(VLOOKUP($A62,Filtros!$A$5:$AY$22116,17,FALSE),0)","v":12},{"$f":"IFERROR(VLOOKUP($A62,Filtros!$A$5:$AY$22116,18,FALSE),0)","v":3},{"$f":"IFERROR(VLOOKUP($A62,Filtros!$A$5:$AY$22116,19,FALSE),0)","v":17},{"$f":"IFERROR(VLOOKUP($A62,Filtros!$A$5:$AY$22116,20,FALSE),0)","v":10},{"$f":"IFERROR(VLOOKUP($A62,Filtros!$A$5:$AY$22116,21,FALSE),0)","v":31},{"$f":"IFERROR(VLOOKUP($A62,Filtros!$A$5:$AY$22116,22,FALSE),0)","v":14},{"$f":"IFERROR(VLOOKUP($A62,Filtros!$A$5:$AY$22116,23,FALSE),0)","v":37},{"$f":"IFERROR(VLOOKUP($A62,Filtros!$A$5:$AY$22116,24,FALSE),0)","v":16},{"$f":"IFERROR(VLOOKUP($A62,Filtros!$A$5:$AY$22116,25,FALSE),0)","v":45},{"$f":"IFERROR(VLOOKUP($A62,Filtros!$A$5:$AY$22116,26,FALSE),0)","v":21},{"$f":"IFERROR(VLOOKUP($A62,Filtros!$A$5:$AY$22116,27,FALSE),0)","v":43},{"$f":"IFERROR(VLOOKUP($A62,Filtros!$A$5:$AY$22116,28,FALSE),0)","v":12},{"$f":"IFERROR(VLOOKUP($A62,Filtros!$A$5:$AY$22116,29,FALSE),0)","v":17},{"$f":"IFERROR(VLOOKUP($A62,Filtros!$A$5:$AY$22116,30,FALSE),0)","v":12},{"$f":"IFERROR(VLOOKUP($A62,Filtros!$A$5:$AY$22116,31,FALSE),0)","v":22},{"$f":"IFERROR(VLOOKUP($A62,Filtros!$A$5:$AY$22116,32,FALSE),0)","v":15},{"$f":"IFERROR(VLOOKUP($A62,Filtros!$A$5:$AY$22116,33,FALSE),0)","v":1},{"$f":"IFERROR(VLOOKUP($A62,Filtros!$A$5:$AY$22116,34,FALSE),0)","v":0},{"$f":"IFERROR(VLOOKUP($A62,Filtros!$A$5:$AY$22116,35,FALSE),0)","v":0},{"$f":"IFERROR(VLOOKUP($A62,Filtros!$A$5:$AY$22116,36,FALSE),0)","v":1},{"$nulls":16},{"$f":"IF(#REF!+#REF!<>$D62,\"* La suma de Sexo debe ser igual al TOTAL de pacientes con amputación por pie diabético. \",\"\")","v":{"$error":"#REF!"}},{"$nulls":35},{"$f":"IF(#REF!+#REF!<>$D62,1,0)","v":{"$error":"#REF!"}}]
["P4200900","CON DIAGNOSTICO ASOCIADO DE HIPERTENSION ARTERIAL",null,{"$f":"IFERROR(VLOOKUP($A63,Filtros!$A$5:$AY$22116,2,FALSE),0)","v":19832},{"$f":"IFERROR(VLOOKUP($A63,Filtros!$A$5:$AY$22116,3,FALSE),0)","v":7268},{"$f":"IFERROR(VLOOKUP($A63,Filtros!$A$5:$AY$22116,4,FALSE),0)","v":12564},{"$f":"IFERROR(VLOOKUP($A63,Filtros!$A$5:$AY$22116,5,FALSE),0)","v":0},{"$f":"IFERROR(VLOOKUP($A63,Filtros!$A$5:$AY$22116,6,FALSE),0)","v":1},{"$f":"IFERROR(VLOOKUP($A63,Filtros!$A$5:$AY$22116,7,FALSE),0)","v":7},{"$f":"IFERROR(VLOOKUP($A63,Filtros!$A$5:$AY$22116,8,FALSE),0)","v":7},{"$f":"IFERROR(VLOOKUP($A63,Filtros!$A$5:$AY$22116,9,FALSE),0)","v":7},{"$f":"IFERROR(VLOOKUP($A63,Filtros!$A$5:$AY$22116,10,FALSE),0)","v":19},{"$f":"IFERROR(VLOOKUP($A63,Filtros!$A$5:$AY$22116,11,FALSE),0)","v":27},{"$f":"IFERROR(VLOOKUP($A63,Filtros!$A$5:$AY$22116,12,FALSE),0)","v":48},{"$f":"IFERROR(VLOOKUP($A63,Filtros!$A$5:$AY$22116,13,FALSE),0)","v":47},{"$f":"IFERROR(VLOOKUP($A63,Filtros!$A$5:$AY$22116,14,FALSE),0)","v":94},{"$f":"IFERROR(VLOOKUP($A63,Filtros!$A$5:$AY$22116,15,FALSE),0)","v":103},{"$f":"IFERROR(VLOOKUP($A63,Filtros!$A$5:$AY$22116,16,FALSE),0)","v":214},{"$f":"IFERROR(VLOOKUP($A63,Filtros!$A$5:$AY$22116,17,FALSE),0)","v":211},{"$f":"IFERROR(VLOOKUP($A63,Filtros!$A$5:$AY$22116,18,FALSE),0)","v":386},{"$f":"IFERROR(VLOOKUP($A63,Filtros!$A$5:$AY$22116,19,FALSE),0)","v":424},{"$f":"IFERROR(VLOOKUP($A63,Filtros!$A$5:$AY$22116,20,FALSE),0)","v":897},{"$f":"IFERROR(VLOOKUP($A63,Filtros!$A$5:$AY$22116,21,FALSE),0)","v":697},{"$f":"IFERROR(VLOOKUP($A63,Filtros!$A$5:$AY$22116,22,FALSE),0)","v":1429},{"$f":"IFERROR(VLOOKUP($A63,Filtros!$A$5:$AY$22116,23,FALSE),0)","v":1004},{"$f":"IFERROR(VLOOKUP($A63,Filtros!$A$5:$AY$22116,24,FALSE),0)","v":1821},{"$f":"IFERROR(VLOOKUP($A63,Filtros!$A$5:$AY$22116,25,FALSE),0)","v":1250},{"$f":"IFERROR(VLOOKUP($A63,Filtros!$A$5:$AY$22116,26,FALSE),0)","v":2034},{"$f":"IFERROR(VLOOKUP($A63,Filtros!$A$5:$AY$22116,27,FALSE),0)","v":1251},{"$f":"IFERROR(VLOOKUP($A63,Filtros!$A$5:$AY$22116,28,FALSE),0)","v":1980},{"$f":"IFERROR(VLOOKUP($A63,Filtros!$A$5:$AY$22116,29,FALSE),0)","v":1062},{"$f":"IFERROR(VLOOKUP($A63,Filtros!$A$5:$AY$22116,30,FALSE),0)","v":1665},{"$f":"IFERROR(VLOOKUP($A63,Filtros!$A$5:$AY$22116,31,FALSE),0)","v":1178},{"$f":"IFERROR(VLOOKUP($A63,Filtros!$A$5:$AY$22116,32,FALSE),0)","v":1969},{"$f":"IFERROR(VLOOKUP($A63,Filtros!$A$5:$AY$22116,33,FALSE),0)","v":70},{"$f":"IFERROR(VLOOKUP($A63,Filtros!$A$5:$AY$22116,34,FALSE),0)","v":130},{"$f":"IFERROR(VLOOKUP($A63,Filtros!$A$5:$AY$22116,35,FALSE),0)","v":21},{"$f":"IFERROR(VLOOKUP($A63,Filtros!$A$5:$AY$22116,36,FALSE),0)","v":37},{"$nulls":16},{"$f":"IF(#REF!+#REF!<>$D63,\"* La suma de Sexo debe ser igual al TOTAL de pacientes con diagnóstico asociado de hipertensión arterial. \",\"\")","v":{"$error":"#REF!"}},{"$nulls":35},{"$f":"IF(#REF!+#REF!<>$D63,1,0)","v":{"$error":"#REF!"}}]
["P4201100","ANTECEDENTE DE ATAQUE CEREBRO VASCULAR",null,{"$f":"IFERROR(VLOOKUP($A64,Filtros!$A$5:$AY$22116,2,FALSE),0)","v":1003},{"$f":"IFERROR(VLOOKUP($A64,Filtros!$A$5:$AY$22116,3,FALSE),0)","v":482},{"$f":"IFERROR(VLOOKUP($A64,Filtros!$A$5:$AY$22116,4,FALSE),0)","v":521},{"$f":"IFERROR(VLOOKUP($A64,Filtros!$A$5:$AY$22116,5,FALSE),0)","v":1},{"$f":"IFERROR(VLOOKUP($A64,Filtros!$A$5:$AY$22116,6,FALSE),0)","v":0},{"$f":"IFERROR(VLOOKUP($A64,Filtros!$A$5:$AY$22116,7,FALSE),0)","v":0},{"$f":"IFERROR(VLOOKUP($A64,Filtros!$A$5:$AY$22116,8,FALSE),0)","v":0},{"$f":"IFERROR(VLOOKUP($A64,Filtros!$A$5:$AY$22116,9,FALSE),0)","v":0},{"$f":"IFERROR(VLOOKUP($A64,Filtros!$A$5:$AY$22116,10,FALSE),0)","v":1},{"$f":"IFERROR(VLOOKUP($A64,Filtros!$A$5:$AY$22116,11,FALSE),0)","v":6},{"$f":"IFERROR(VLOOKUP($A64,Filtros!$A$5:$AY$22116,12,FALSE),0)","v":6},{"$f":"IFERROR(VLOOKUP($A64,Filtros!$A$5:$AY$22116,13,FALSE),0)","v":2},{"$f":"IFERROR(VLOOKUP($A64,Filtros!$A$5:$AY$22116,14,FALSE),0)","v":3},{"$f":"IFERROR(VLOOKUP($A64,Filtros!$A$5:$AY$22116,15,FALSE),0)","v":3},{"$f":"IFERROR(VLOOKUP($A64,Filtros!$A$5:$AY$22116,16,FALSE),0)","v":7},{"$f":"IFERROR(VLOOKUP($A64,Filtros!$A$5:$AY$22116,17,FALSE),0)","v":4},{"$f":"IFERROR(VLOOKUP($A64,Filtros!$A$5:$AY$22116,18,FALSE),0)","v":14},{"$f":"IFERROR(VLOOKUP($A64,Filtros!$A$5:$AY$22116,19,FALSE),0)","v":19},{"$f":"IFERROR(VLOOKUP($A64,Filtros!$A$5:$AY$22116,20,FALSE),0)","v":25},{"$f":"IFERROR(VLOOKUP($A64,Filtros!$A$5:$AY$22116,21,FALSE),0)","v":29},{"$f":"IFERROR(VLOOKUP($A64,Filtros!$A$5:$AY$22116,22,FALSE),0)","v":55},{"$f":"IFERROR(VLOOKUP($A64,Filtros!$A$5:$AY$22116,23,FALSE),0)","v":71},{"$f":"IFERROR(VLOOKUP($A64,Filtros!$A$5:$AY$22116,24,FALSE),0)","v":61},{"$f":"IFERROR(VLOOKUP($A64,Filtros!$A$5:$AY$22116,25,FALSE),0)","v":96},{"$f":"IFERROR(VLOOKUP($A64,Filtros!$A$5:$AY$22116,26,FALSE),0)","v":70},{"$f":"IFERROR(VLOOKUP($A64,Filtros!$A$5:$AY$22116,27,FALSE),0)","v":88},{"$f":"IFERROR(VLOOKUP($A64,Filtros!$A$5:$AY$22116,28,FALSE),0)","v":97},{"$f":"IFERROR(VLOOKUP($A64,Filtros!$A$5:$AY$22116,29,FALSE),0)","v":75},{"$f":"IFERROR(VLOOKUP($A64,Filtros!$A$5:$AY$22116,30,FALSE),0)","v":77},{"$f":"IFERROR(VLOOKUP($A64,Filtros!$A$5:$AY$22116,31,FALSE),0)","v":88},{"$f":"IFERROR(VLOOKUP($A64,Filtros!$A$5:$AY$22116,32,FALSE),0)","v":105},{"$f":"IFERROR(VLOOKUP($A64,Filtros!$A$5:$AY$22116,33,FALSE),0)","v":5},{"$f":"IFERROR(VLOOKUP($A64,Filtros!$A$5:$AY$22116,34,FALSE),0)","v":1},{"$f":"IFERROR(VLOOKUP($A64,Filtros!$A$5:$AY$22116,35,FALSE),0)","v":1},{"$f":"IFERROR(VLOOKUP($A64,Filtros!$A$5:$AY$22116,36,FALSE),0)","v":2},{"$nulls":16},{"$f":"IF(#REF!+#REF!<>$D64,\"* La suma de Sexo debe ser igual al TOTAL de pacientes con antecedente de ataque cerebro vascular. \",\"\")","v":{"$error":"#REF!"}},{"$nulls":35},{"$f":"IF(#REF!+#REF!<>$D64,1,0)","v":{"$error":"#REF!"}}]
["P4201200","ANTECEDENTES DE INFARTO AGUDO AL MIOCARDIO",null,{"$f":"IFERROR(VLOOKUP($A65,Filtros!$A$5:$AY$22116,2,FALSE),0)","v":925},{"$f":"IFERROR(VLOOKUP($A65,Filtros!$A$5:$AY$22116,3,FALSE),0)","v":450},{"$f":"IFERROR(VLOOKUP($A65,Filtros!$A$5:$AY$22116,4,FALSE),0)","v":475},{"$f":"IFERROR(VLOOKUP($A65,Filtros!$A$5:$AY$22116,5,FALSE),0)","v":0},{"$f":"IFERROR(VLOOKUP($A65,Filtros!$A$5:$AY$22116,6,FALSE),0)","v":0},{"$f":"IFERROR(VLOOKUP($A65,Filtros!$A$5:$AY$22116,7,FALSE),0)","v":0},{"$f":"IFERROR(VLOOKUP($A65,Filtros!$A$5:$AY$22116,8,FALSE),0)","v":0},{"$f":"IFERROR(VLOOKUP($A65,Filtros!$A$5:$AY$22116,9,FALSE),0)","v":0},{"$f":"IFERROR(VLOOKUP($A65,Filtros!$A$5:$AY$22116,10,FALSE),0)","v":1},{"$f":"IFERROR(VLOOKUP($A65,Filtros!$A$5:$AY$22116,11,FALSE),0)","v":1},{"$f":"IFERROR(VLOOKUP($A65,Filtros!$A$5:$AY$22116,12,FALSE),0)","v":2},{"$f":"IFERROR(VLOOKUP($A65,Filtros!$A$5:$AY$22116,13,FALSE),0)","v":1},{"$f":"IFERROR(VLOOKUP($A65,Filtros!$A$5:$AY$22116,14,FALSE),0)","v":18},{"$f":"IFERROR(VLOOKUP($A65,Filtros!$A$5:$AY$22116,15,FALSE),0)","v":4},{"$f":"IFERROR(VLOOKUP($A65,Filtros!$A$5:$AY$22116,16,FALSE),0)","v":7},{"$f":"IFERROR(VLOOKUP($A65,Filtros!$A$5:$AY$22116,17,FALSE),0)","v":4},{"$f":"IFERROR(VLOOKUP($A65,Filtros!$A$5:$AY$22116,18,FALSE),0)","v":8},{"$f":"IFERROR(VLOOKUP($A65,Filtros!$A$5:$AY$22116,19,FALSE),0)","v":22},{"$f":"IFERROR(VLOOKUP($A65,Filtros!$A$5:$AY$22116,20,FALSE),0)","v":17},{"$f":"IFERROR(VLOOKUP($A65,Filtros!$A$5:$AY$22116,21,FALSE),0)","v":25},{"$f":"IFERROR(VLOOKUP($A65,Filtros!$A$5:$AY$22116,22,FALSE),0)","v":42},{"$f":"IFERROR(VLOOKUP($A65,Filtros!$A$5:$AY$22116,23,FALSE),0)","v":64},{"$f":"IFERROR(VLOOKUP($A65,Filtros!$A$5:$AY$22116,24,FALSE),0)","v":62},{"$f":"IFERROR(VLOOKUP($A65,Filtros!$A$5:$AY$22116,25,FALSE),0)","v":97},{"$f":"IFERROR(VLOOKUP($A65,Filtros!$A$5:$AY$22116,26,FALSE),0)","v":70},{"$f":"IFERROR(VLOOKUP($A65,Filtros!$A$5:$AY$22116,27,FALSE),0)","v":84},{"$f":"IFERROR(VLOOKUP($A65,Filtros!$A$5:$AY$22116,28,FALSE),0)","v":84},{"$f":"IFERROR(VLOOKUP($A65,Filtros!$A$5:$AY$22116,29,FALSE),0)","v":74},{"$f":"IFERROR(VLOOKUP($A65,Filtros!$A$5:$AY$22116,30,FALSE),0)","v":78},{"$f":"IFERROR(VLOOKUP($A65,Filtros!$A$5:$AY$22116,31,FALSE),0)","v":74},{"$f":"IFERROR(VLOOKUP($A65,Filtros!$A$5:$AY$22116,32,FALSE),0)","v":86},{"$f":"IFERROR(VLOOKUP($A65,Filtros!$A$5:$AY$22116,33,FALSE),0)","v":2},{"$f":"IFERROR(VLOOKUP($A65,Filtros!$A$5:$AY$22116,34,FALSE),0)","v":3},{"$f":"IFERROR(VLOOKUP($A65,Filtros!$A$5:$AY$22116,35,FALSE),0)","v":0},{"$f":"IFERROR(VLOOKUP($A65,Filtros!$A$5:$AY$22116,36,FALSE),0)","v":1},{"$nulls":16},{"$f":"IF(#REF!+#REF!<>$D65,\"* La suma de Sexo debe ser igual al TOTAL de pacientes con antecedentes de infarto agudo al miocardio. \",\"\")","v":{"$error":"#REF!"}},{"$nulls":35},{"$f":"IF(#REF!+#REF!<>$D65,1,0)","v":{"$error":"#REF!"}}]
[null,"PERSONAS CON HIPERTENSION EN PSCV"]
["P4190812","CON RAZON ALBÚMINA CREATININA (RAC),VIGENTE",null,{"$f":"IFERROR(VLOOKUP($A67,Filtros!$A$5:$AY$22116,2,FALSE),0)","v":27272},{"$f":"IFERROR(VLOOKUP($A67,Filtros!$A$5:$AY$22116,3,FALSE),0)","v":9906},{"$f":"IFERROR(VLOOKUP($A67,Filtros!$A$5:$AY$22116,4,FALSE),0)","v":17366},{"$f":"IFERROR(VLOOKUP($A67,Filtros!$A$5:$AY$22116,5,FALSE),0)","v":8},{"$f":"IFERROR(VLOOKUP($A67,Filtros!$A$5:$AY$22116,6,FALSE),0)","v":7},{"$f":"IFERROR(VLOOKUP($A67,Filtros!$A$5:$AY$22116,7,FALSE),0)","v":11},{"$f":"IFERROR(VLOOKUP($A67,Filtros!$A$5:$AY$22116,8,FALSE),0)","v":19},{"$f":"IFERROR(VLOOKUP($A67,Filtros!$A$5:$AY$22116,9,FALSE),0)","v":26},{"$f":"IFERROR(VLOOKUP($A67,Filtros!$A$5:$AY$22116,10,FALSE),0)","v":48},{"$f":"IFERROR(VLOOKUP($A67,Filtros!$A$5:$AY$22116,11,FALSE),0)","v":66},{"$f":"IFERROR(VLOOKUP($A67,Filtros!$A$5:$AY$22116,12,FALSE),0)","v":136},{"$f":"IFERROR(VLOOKUP($A67,Filtros!$A$5:$AY$22116,13,FALSE),0)","v":117},{"$f":"IFERROR(VLOOKUP($A67,Filtros!$A$5:$AY$22116,14,FALSE),0)","v":234},{"$f":"IFERROR(VLOOKUP($A67,Filtros!$A$5:$AY$22116,15,FALSE),0)","v":191},{"$f":"IFERROR(VLOOKUP($A67,Filtros!$A$5:$AY$22116,16,FALSE),0)","v":465},{"$f":"IFERROR(VLOOKUP($A67,Filtros!$A$5:$AY$22116,17,FALSE),0)","v":340},{"$f":"IFERROR(VLOOKUP($A67,Filtros!$A$5:$AY$22116,18,FALSE),0)","v":848},{"$f":"IFERROR(VLOOKUP($A67,Filtros!$A$5:$AY$22116,19,FALSE),0)","v":644},{"$f":"IFERROR(VLOOKUP($A67,Filtros!$A$5:$AY$22116,20,FALSE),0)","v":1486},{"$f":"IFERROR(VLOOKUP($A67,Filtros!$A$5:$AY$22116,21,FALSE),0)","v":994},{"$f":"IFERROR(VLOOKUP($A67,Filtros!$A$5:$AY$22116,22,FALSE),0)","v":2118},{"$f":"IFERROR(VLOOKUP($A67,Filtros!$A$5:$AY$22116,23,FALSE),0)","v":1372},{"$f":"IFERROR(VLOOKUP($A67,Filtros!$A$5:$AY$22116,24,FALSE),0)","v":2426},{"$f":"IFERROR(VLOOKUP($A67,Filtros!$A$5:$AY$22116,25,FALSE),0)","v":1559},{"$f":"IFERROR(VLOOKUP($A67,Filtros!$A$5:$AY$22116,26,FALSE),0)","v":2555},{"$f":"IFERROR(VLOOKUP($A67,Filtros!$A$5:$AY$22116,27,FALSE),0)","v":1601},{"$f":"IFERROR(VLOOKUP($A67,Filtros!$A$5:$AY$22116,28,FALSE),0)","v":2340},{"$f":"IFERROR(VLOOKUP($A67,Filtros!$A$5:$AY$22116,29,FALSE),0)","v":1348},{"$f":"IFERROR(VLOOKUP($A67,Filtros!$A$5:$AY$22116,30,FALSE),0)","v":2031},{"$f":"IFERROR(VLOOKUP($A67,Filtros!$A$5:$AY$22116,31,FALSE),0)","v":1629},{"$f":"IFERROR(VLOOKUP($A67,Filtros!$A$5:$AY$22116,32,FALSE),0)","v":2653},{"$f":"IFERROR(VLOOKUP($A67,Filtros!$A$5:$AY$22116,33,FALSE),0)","v":25},{"$f":"IFERROR(VLOOKUP($A67,Filtros!$A$5:$AY$22116,34,FALSE),0)","v":50},{"$f":"IFERROR(VLOOKUP($A67,Filtros!$A$5:$AY$22116,35,FALSE),0)","v":21},{"$f":"IFERROR(VLOOKUP($A67,Filtros!$A$5:$AY$22116,36,FALSE),0)","v":47},{"$nulls":14},{"$f":"IF(#REF!<=SUM($G$16:$Z$16),\"\",\"* Los pacientes Hipertensos de 15 a 64 años con razón albúmina creatinina (RAC) no deben ser mayor a los pacientes Hipertensos en Control de la sección A de la misma edad. \")","v":{"$error":"#REF!"}},{"$f":"IF(#REF!<=SUM($AA$16:$AH$16),\"\",\"* Los pacientes Hipertensos de 65+ años con razón albúmina creatinina (RAC) no deben ser mayor a los pacientes Hipertensos en Control de la sección A de la misma edad. \")","v":{"$error":"#REF!"}},{"$f":"IF(#REF!+#REF!<>$D$67,\"* La suma de Sexo debe ser igual al TOTAL de pacientes con razón albúmina creatinina (RAC). \",\"\")","v":{"$error":"#REF!"}},{"$nulls":33},{"$f":"IF(#REF!<=SUM($G$16:$Z$16),0,1)","v":{"$error":"#REF!"}},{"$f":"IF(#REF!<=SUM($AA$16:$AH$16),0,1)","v":{"$error":"#REF!"}},{"$f":"IF(#REF!+#REF!<>$D$67,1,0)","v":{"$error":"#REF!"}}]
["P4200400","CON PRESIÓN ARTERIAL igual o Mayor 160/100 mmHg",null,{"$f":"IFERROR(VLOOKUP($A68,Filtros!$A$5:$AY$22116,2,FALSE),0)","v":3286},{"$f":"IFERROR(VLOOKUP($A68,Filtros!$A$5:$AY$22116,3,FALSE),0)","v":1267},{"$f":"IFERROR(VLOOKUP($A68,Filtros!$A$5:$AY$22116,4,FALSE),0)","v":2019},{"$f":"IFERROR(VLOOKUP($A68,Filtros!$A$5:$AY$22116,5,FALSE),0)","v":2},{"$f":"IFERROR(VLOOKUP($A68,Filtros!$A$5:$AY$22116,6,FALSE),0)","v":0},{"$f":"IFERROR(VLOOKUP($A68,Filtros!$A$5:$AY$22116,7,FALSE),0)","v":0},{"$f":"IFERROR(VLOOKUP($A68,Filtros!$A$5:$AY$22116,8,FALSE),0)","v":6},{"$f":"IFERROR(VLOOKUP($A68,Filtros!$A$5:$AY$22116,9,FALSE),0)","v":3},{"$f":"IFERROR(VLOOKUP($A68,Filtros!$A$5:$AY$22116,10,FALSE),0)","v":5},{"$f":"IFERROR(VLOOKUP($A68,Filtros!$A$5:$AY$22116,11,FALSE),0)","v":7},{"$f":"IFERROR(VLOOKUP($A68,Filtros!$A$5:$AY$22116,12,FALSE),0)","v":11},{"$f":"IFERROR(VLOOKUP($A68,Filtros!$A$5:$AY$22116,13,FALSE),0)","v":8},{"$f":"IFERROR(VLOOKUP($A68,Filtros!$A$5:$AY$22116,14,FALSE),0)","v":25},{"$f":"IFERROR(VLOOKUP($A68,Filtros!$A$5:$AY$22116,15,FALSE),0)","v":21},{"$f":"IFERROR(VLOOKUP($A68,Filtros!$A$5:$AY$22116,16,FALSE),0)","v":51},{"$f":"IFERROR(VLOOKUP($A68,Filtros!$A$5:$AY$22116,17,FALSE),0)","v":46},{"$f":"IFERROR(VLOOKUP($A68,Filtros!$A$5:$AY$22116,18,FALSE),0)","v":71},{"$f":"IFERROR(VLOOKUP($A68,Filtros!$A$5:$AY$22116,19,FALSE),0)","v":86},{"$f":"IFERROR(VLOOKUP($A68,Filtros!$A$5:$AY$22116,20,FALSE),0)","v":126},{"$f":"IFERROR(VLOOKUP($A68,Filtros!$A$5:$AY$22116,21,FALSE),0)","v":118},{"$f":"IFERROR(VLOOKUP($A68,Filtros!$A$5:$AY$22116,22,FALSE),0)","v":185},{"$f":"IFERROR(VLOOKUP($A68,Filtros!$A$5:$AY$22116,23,FALSE),0)","v":170},{"$f":"IFERROR(VLOOKUP($A68,Filtros!$A$5:$AY$22116,24,FALSE),0)","v":225},{"$f":"IFERROR(VLOOKUP($A68,Filtros!$A$5:$AY$22116,25,FALSE),0)","v":219},{"$f":"IFERROR(VLOOKUP($A68,Filtros!$A$5:$AY$22116,26,FALSE),0)","v":277},{"$f":"IFERROR(VLOOKUP($A68,Filtros!$A$5:$AY$22116,27,FALSE),0)","v":207},{"$f":"IFERROR(VLOOKUP($A68,Filtros!$A$5:$AY$22116,28,FALSE),0)","v":327},{"$f":"IFERROR(VLOOKUP($A68,Filtros!$A$5:$AY$22116,29,FALSE),0)","v":181},{"$f":"IFERROR(VLOOKUP($A68,Filtros!$A$5:$AY$22116,30,FALSE),0)","v":278},{"$f":"IFERROR(VLOOKUP($A68,Filtros!$A$5:$AY$22116,31,FALSE),0)","v":199},{"$f":"IFERROR(VLOOKUP($A68,Filtros!$A$5:$AY$22116,32,FALSE),0)","v":432},{"$f":"IFERROR(VLOOKUP($A68,Filtros!$A$5:$AY$22116,33,FALSE),0)","v":13},{"$f":"IFERROR(VLOOKUP($A68,Filtros!$A$5:$AY$22116,34,FALSE),0)","v":16},{"$f":"IFERROR(VLOOKUP($A68,Filtros!$A$5:$AY$22116,35,FALSE),0)","v":3},{"$f":"IFERROR(VLOOKUP($A68,Filtros!$A$5:$AY$22116,36,FALSE),0)","v":5},{"$nulls":14},{"$f":"IF(#REF!<=SUM($G$16:$Z$16),\"\",\"* Los pacientes Hipertensos de 15 a 64 años con PRESIÓN ARTERIAL igual o Mayor 160/100 mmHg no deben ser mayor a los Hipertensos en Control de la sección A de la misma edad. \")","v":{"$error":"#REF!"}},{"$f":"IF(#REF!<=SUM($AA$16:$AH$16),\"\",\"* Los pacientes Hipertensos de 65+ años con PRESIÓN ARTERIAL igual o Mayor 160/100 mmHg no deben ser mayor a los pacientes Hipertensos en Control de la sección A de la misma edad. \")","v":{"$error":"#REF!"}},{"$f":"IF(#REF!+#REF!<>$D$68,\"* La suma de Sexo debe ser igual al TOTAL de pacientes con presión arterial igual o Mayor 160/100 mmHg. \",\"\")","v":{"$error":"#REF!"}},{"$nulls":33},{"$f":"IF(#REF!<=SUM($G$16:$Z$16),0,1)","v":{"$error":"#REF!"}},{"$f":"IF(#REF!<=SUM($AA$16:$AH$16),0,1)","v":{"$error":"#REF!"}},{"$f":"IF(#REF!+#REF!<>$D$68,1,0)","v":{"$error":"#REF!"}}]
["P4301010","CON VELOCIDAD DE FILTRACION GLOMERULAR VIGENTE(VFG),",null,{"$f":"IFERROR(VLOOKUP($A69,Filtros!$A$5:$AY$22116,2,FALSE),0)","v":30304},{"$f":"IFERROR(VLOOKUP($A69,Filtros!$A$5:$AY$22116,3,FALSE),0)","v":11122},{"$f":"IFERROR(VLOOKUP($A69,Filtros!$A$5:$AY$22116,4,FALSE),0)","v":19182},{"$f":"IFERROR(VLOOKUP($A69,Filtros!$A$5:$AY$22116,5,FALSE),0)","v":10},{"$f":"IFERROR(VLOOKUP($A69,Filtros!$A$5:$AY$22116,6,FALSE),0)","v":9},{"$f":"IFERROR(VLOOKUP($A69,Filtros!$A$5:$AY$22116,7,FALSE),0)","v":17},{"$f":"IFERROR(VLOOKUP($A69,Filtros!$A$5:$AY$22116,8,FALSE),0)","v":21},{"$f":"IFERROR(VLOOKUP($A69,Filtros!$A$5:$AY$22116,9,FALSE),0)","v":24},{"$f":"IFERROR(VLOOKUP($A69,Filtros!$A$5:$AY$22116,10,FALSE),0)","v":57},{"$f":"IFERROR(VLOOKUP($A69,Filtros!$A$5:$AY$22116,11,FALSE),0)","v":78},{"$f":"IFERROR(VLOOKUP($A69,Filtros!$A$5:$AY$22116,12,FALSE),0)","v":153},{"$f":"IFERROR(VLOOKUP($A69,Filtros!$A$5:$AY$22116,13,FALSE),0)","v":131},{"$f":"IFERROR(VLOOKUP($A69,Filtros!$A$5:$AY$22116,14,FALSE),0)","v":261},{"$f":"IFERROR(VLOOKUP($A69,Filtros!$A$5:$AY$22116,15,FALSE),0)","v":208},{"$f":"IFERROR(VLOOKUP($A69,Filtros!$A$5:$AY$22116,16,FALSE),0)","v":522},{"$f":"IFERROR(VLOOKUP($A69,Filtros!$A$5:$AY$22116,17,FALSE),0)","v":378},{"$f":"IFERROR(VLOOKUP($A69,Filtros!$A$5:$AY$22116,18,FALSE),0)","v":913},{"$f":"IFERROR(VLOOKUP($A69,Filtros!$A$5:$AY$22116,19,FALSE),0)","v":731},{"$f":"IFERROR(VLOOKUP($A69,Filtros!$A$5:$AY$22116,20,FALSE),0)","v":1626},{"$f":"IFERROR(VLOOKUP($A69,Filtros!$A$5:$AY$22116,21,FALSE),0)","v":1097},{"$f":"IFERROR(VLOOKUP($A69,Filtros!$A$5:$AY$22116,22,FALSE),0)","v":2301},{"$f":"IFERROR(VLOOKUP($A69,Filtros!$A$5:$AY$22116,23,FALSE),0)","v":1490},{"$f":"IFERROR(VLOOKUP($A69,Filtros!$A$5:$AY$22116,24,FALSE),0)","v":2655},{"$f":"IFERROR(VLOOKUP($A69,Filtros!$A$5:$AY$22116,25,FALSE),0)","v":1681},{"$f":"IFERROR(VLOOKUP($A69,Filtros!$A$5:$AY$22116,26,FALSE),0)","v":2700},{"$f":"IFERROR(VLOOKUP($A69,Filtros!$A$5:$AY$22116,27,FALSE),0)","v":1809},{"$f":"IFERROR(VLOOKUP($A69,Filtros!$A$5:$AY$22116,28,FALSE),0)","v":2576},{"$f":"IFERROR(VLOOKUP($A69,Filtros!$A$5:$AY$22116,29,FALSE),0)","v":1554},{"$f":"IFERROR(VLOOKUP($A69,Filtros!$A$5:$AY$22116,30,FALSE),0)","v":2275},{"$f":"IFERROR(VLOOKUP($A69,Filtros!$A$5:$AY$22116,31,FALSE),0)","v":1914},{"$f":"IFERROR(VLOOKUP($A69,Filtros!$A$5:$AY$22116,32,FALSE),0)","v":3113},{"$f":"IFERROR(VLOOKUP($A69,Filtros!$A$5:$AY$22116,33,FALSE),0)","v":24},{"$f":"IFERROR(VLOOKUP($A69,Filtros!$A$5:$AY$22116,34,FALSE),0)","v":56},{"$f":"IFERROR(VLOOKUP($A69,Filtros!$A$5:$AY$22116,35,FALSE),0)","v":27},{"$f":"IFERROR(VLOOKUP($A69,Filtros!$A$5:$AY$22116,36,FALSE),0)","v":52}]
[null,"TODAS LAS PERSONAS EN PSCV"]
["P4201500","SOBREPESO: IMC entre 25 y 29.9 <65",null,{"$f":"IFERROR(VLOOKUP($A71,Filtros!$A$5:$AY$22116,2,FALSE),0)","v":12787},{"$f":"IFERROR(VLOOKUP($A71,Filtros!$A$5:$AY$22116,3,FALSE),0)","v":4888},{"$f":"IFERROR(VLOOKUP($A71,Filtros!$A$5:$AY$22116,4,FALSE),0)","v":7899},{"$f":"IFERROR(VLOOKUP($A71,Filtros!$A$5:$AY$22116,5,FALSE),0)","v":14},{"$f":"IFERROR(VLOOKUP($A71,Filtros!$A$5:$AY$22116,6,FALSE),0)","v":23},{"$f":"IFERROR(VLOOKUP($A71,Filtros!$A$5:$AY$22116,7,FALSE),0)","v":41},{"$f":"IFERROR(VLOOKUP($A71,Filtros!$A$5:$AY$22116,8,FALSE),0)","v":43},{"$f":"IFERROR(VLOOKUP($A71,Filtros!$A$5:$AY$22116,9,FALSE),0)","v":34},{"$f":"IFERROR(VLOOKUP($A71,Filtros!$A$5:$AY$22116,10,FALSE),0)","v":101},{"$f":"IFERROR(VLOOKUP($A71,Filtros!$A$5:$AY$22116,11,FALSE),0)","v":75},{"$f":"IFERROR(VLOOKUP($A71,Filtros!$A$5:$AY$22116,12,FALSE),0)","v":141},{"$f":"IFERROR(VLOOKUP($A71,Filtros!$A$5:$AY$22116,13,FALSE),0)","v":155},{"$f":"IFERROR(VLOOKUP($A71,Filtros!$A$5:$AY$22116,14,FALSE),0)","v":316},{"$f":"IFERROR(VLOOKUP($A71,Filtros!$A$5:$AY$22116,15,FALSE),0)","v":273},{"$f":"IFERROR(VLOOKUP($A71,Filtros!$A$5:$AY$22116,16,FALSE),0)","v":535},{"$f":"IFERROR(VLOOKUP($A71,Filtros!$A$5:$AY$22116,17,FALSE),0)","v":501},{"$f":"IFERROR(VLOOKUP($A71,Filtros!$A$5:$AY$22116,18,FALSE),0)","v":915},{"$f":"IFERROR(VLOOKUP($A71,Filtros!$A$5:$AY$22116,19,FALSE),0)","v":862},{"$f":"IFERROR(VLOOKUP($A71,Filtros!$A$5:$AY$22116,20,FALSE),0)","v":1415},{"$f":"IFERROR(VLOOKUP($A71,Filtros!$A$5:$AY$22116,21,FALSE),0)","v":1292},{"$f":"IFERROR(VLOOKUP($A71,Filtros!$A$5:$AY$22116,22,FALSE),0)","v":2044},{"$f":"IFERROR(VLOOKUP($A71,Filtros!$A$5:$AY$22116,23,FALSE),0)","v":1641},{"$f":"IFERROR(VLOOKUP($A71,Filtros!$A$5:$AY$22116,24,FALSE),0)","v":2366},{"$f":"IFERROR(VLOOKUP($A71,Filtros!$A$5:$AY$22116,25,FALSE),0)","v":0},{"$f":"IFERROR(VLOOKUP($A71,Filtros!$A$5:$AY$22116,26,FALSE),0)","v":0},{"$f":"IFERROR(VLOOKUP($A71,Filtros!$A$5:$AY$22116,27,FALSE),0)","v":0},{"$f":"IFERROR(VLOOKUP($A71,Filtros!$A$5:$AY$22116,28,FALSE),0)","v":0},{"$f":"IFERROR(VLOOKUP($A71,Filtros!$A$5:$AY$22116,29,FALSE),0)","v":0},{"$f":"IFERROR(VLOOKUP($A71,Filtros!$A$5:$AY$22116,30,FALSE),0)","v":0},{"$f":"IFERROR(VLOOKUP($A71,Filtros!$A$5:$AY$22116,31,FALSE),0)","v":0},{"$f":"IFERROR(VLOOKUP($A71,Filtros!$A$5:$AY$22116,32,FALSE),0)","v":0},{"$f":"IFERROR(VLOOKUP($A71,Filtros!$A$5:$AY$22116,33,FALSE),0)","v":59},{"$f":"IFERROR(VLOOKUP($A71,Filtros!$A$5:$AY$22116,34,FALSE),0)","v":164},{"$f":"IFERROR(VLOOKUP($A71,Filtros!$A$5:$AY$22116,35,FALSE),0)","v":53},{"$f":"IFERROR(VLOOKUP($A71,Filtros!$A$5:$AY$22116,36,FALSE),0)","v":96},{"$nulls":16},{"$f":"IF(#REF!+#REF!<>#REF!,\"* La suma de Sexo debe ser igual al TOTAL de pacientes con IMC entre 25 y 29.9. \",\"\")","v":{"$error":"#REF!"}},{"$nulls":35},{"$f":"IF(#REF!+#REF!<>#REF!,1,0)","v":{"$error":"#REF!"}}]
["P4201600","SOBREPESO: IMC entre 28 y 31.9 >65",null,{"$f":"IFERROR(VLOOKUP($A72,Filtros!$A$5:$AY$22116,2,FALSE),0)","v":13390},{"$f":"IFERROR(VLOOKUP($A72,Filtros!$A$5:$AY$22116,3,FALSE),0)","v":5546},{"$f":"IFERROR(VLOOKUP($A72,Filtros!$A$5:$AY$22116,4,FALSE),0)","v":7844},{"$f":"IFERROR(VLOOKUP($A72,Filtros!$A$5:$AY$22116,5,FALSE),0)","v":0},{"$f":"IFERROR(VLOOKUP($A72,Filtros!$A$5:$AY$22116,6,FALSE),0)","v":0},{"$f":"IFERROR(VLOOKUP($A72,Filtros!$A$5:$AY$22116,7,FALSE),0)","v":0},{"$f":"IFERROR(VLOOKUP($A72,Filtros!$A$5:$AY$22116,8,FALSE),0)","v":0},{"$f":"IFERROR(VLOOKUP($A72,Filtros!$A$5:$AY$22116,9,FALSE),0)","v":0},{"$f":"IFERROR(VLOOKUP($A72,Filtros!$A$5:$AY$22116,10,FALSE),0)","v":0},{"$f":"IFERROR(VLOOKUP($A72,Filtros!$A$5:$AY$22116,11,FALSE),0)","v":0},{"$f":"IFERROR(VLOOKUP($A72,Filtros!$A$5:$AY$22116,12,FALSE),0)","v":0},{"$f":"IFERROR(VLOOKUP($A72,Filtros!$A$5:$AY$22116,13,FALSE),0)","v":0},{"$f":"IFERROR(VLOOKUP($A72,Filtros!$A$5:$AY$22116,14,FALSE),0)","v":0},{"$f":"IFERROR(VLOOKUP($A72,Filtros!$A$5:$AY$22116,15,FALSE),0)","v":0},{"$f":"IFERROR(VLOOKUP($A72,Filtros!$A$5:$AY$22116,16,FALSE),0)","v":0},{"$f":"IFERROR(VLOOKUP($A72,Filtros!$A$5:$AY$22116,17,FALSE),0)","v":0},{"$f":"IFERROR(VLOOKUP($A72,Filtros!$A$5:$AY$22116,18,FALSE),0)","v":0},{"$f":"IFERROR(VLOOKUP($A72,Filtros!$A$5:$AY$22116,19,FALSE),0)","v":0},{"$f":"IFERROR(VLOOKUP($A72,Filtros!$A$5:$AY$22116,20,FALSE),0)","v":0},{"$f":"IFERROR(VLOOKUP($A72,Filtros!$A$5:$AY$22116,21,FALSE),0)","v":0},{"$f":"IFERROR(VLOOKUP($A72,Filtros!$A$5:$AY$22116,22,FALSE),0)","v":0},{"$f":"IFERROR(VLOOKUP($A72,Filtros!$A$5:$AY$22116,23,FALSE),0)","v":0},{"$f":"IFERROR(VLOOKUP($A72,Filtros!$A$5:$AY$22116,24,FALSE),0)","v":0},{"$f":"IFERROR(VLOOKUP($A72,Filtros!$A$5:$AY$22116,25,FALSE),0)","v":1514},{"$f":"IFERROR(VLOOKUP($A72,Filtros!$A$5:$AY$22116,26,FALSE),0)","v":2178},{"$f":"IFERROR(VLOOKUP($A72,Filtros!$A$5:$AY$22116,27,FALSE),0)","v":1500},{"$f":"IFERROR(VLOOKUP($A72,Filtros!$A$5:$AY$22116,28,FALSE),0)","v":2043},{"$f":"IFERROR(VLOOKUP($A72,Filtros!$A$5:$AY$22116,29,FALSE),0)","v":1250},{"$f":"IFERROR(VLOOKUP($A72,Filtros!$A$5:$AY$22116,30,FALSE),0)","v":1709},{"$f":"IFERROR(VLOOKUP($A72,Filtros!$A$5:$AY$22116,31,FALSE),0)","v":1282},{"$f":"IFERROR(VLOOKUP($A72,Filtros!$A$5:$AY$22116,32,FALSE),0)","v":1914},{"$f":"IFERROR(VLOOKUP($A72,Filtros!$A$5:$AY$22116,33,FALSE),0)","v":76},{"$f":"IFERROR(VLOOKUP($A72,Filtros!$A$5:$AY$22116,34,FALSE),0)","v":129},{"$f":"IFERROR(VLOOKUP($A72,Filtros!$A$5:$AY$22116,35,FALSE),0)","v":19},{"$f":"IFERROR(VLOOKUP($A72,Filtros!$A$5:$AY$22116,36,FALSE),0)","v":34},{"$nulls":16},{"$f":"IF(#REF!+#REF!<>$D72,\"* La suma de Sexo debe ser igual al TOTAL de pacientes con IMC entre 28 y 31.9. \",\"\")","v":{"$error":"#REF!"}},{"$nulls":35},{"$f":"IF(#REF!+#REF!<>$D72,1,0)","v":{"$error":"#REF!"}}]
["P4200500","OBESIDAD IMC igual o Mayor a 30KG/M2 <65",null,{"$f":"IFERROR(VLOOKUP($A73,Filtros!$A$5:$AY$22116,2,FALSE),0)","v":20847},{"$f":"IFERROR(VLOOKUP($A73,Filtros!$A$5:$AY$22116,3,FALSE),0)","v":5703},{"$f":"IFERROR(VLOOKUP($A73,Filtros!$A$5:$AY$22116,4,FALSE),0)","v":15144},{"$f":"IFERROR(VLOOKUP($A73,Filtros!$A$5:$AY$22116,5,FALSE),0)","v":38},{"$f":"IFERROR(VLOOKUP($A73,Filtros!$A$5:$AY$22116,6,FALSE),0)","v":42},{"$f":"IFERROR(VLOOKUP($A73,Filtros!$A$5:$AY$22116,7,FALSE),0)","v":54},{"$f":"IFERROR(VLOOKUP($A73,Filtros!$A$5:$AY$22116,8,FALSE),0)","v":141},{"$f":"IFERROR(VLOOKUP($A73,Filtros!$A$5:$AY$22116,9,FALSE),0)","v":88},{"$f":"IFERROR(VLOOKUP($A73,Filtros!$A$5:$AY$22116,10,FALSE),0)","v":265},{"$f":"IFERROR(VLOOKUP($A73,Filtros!$A$5:$AY$22116,11,FALSE),0)","v":182},{"$f":"IFERROR(VLOOKUP($A73,Filtros!$A$5:$AY$22116,12,FALSE),0)","v":466},{"$f":"IFERROR(VLOOKUP($A73,Filtros!$A$5:$AY$22116,13,FALSE),0)","v":284},{"$f":"IFERROR(VLOOKUP($A73,Filtros!$A$5:$AY$22116,14,FALSE),0)","v":760},{"$f":"IFERROR(VLOOKUP($A73,Filtros!$A$5:$AY$22116,15,FALSE),0)","v":467},{"$f":"IFERROR(VLOOKUP($A73,Filtros!$A$5:$AY$22116,16,FALSE),0)","v":1278},{"$f":"IFERROR(VLOOKUP($A73,Filtros!$A$5:$AY$22116,17,FALSE),0)","v":677},{"$f":"IFERROR(VLOOKUP($A73,Filtros!$A$5:$AY$22116,18,FALSE),0)","v":1885},{"$f":"IFERROR(VLOOKUP($A73,Filtros!$A$5:$AY$22116,19,FALSE),0)","v":985},{"$f":"IFERROR(VLOOKUP($A73,Filtros!$A$5:$AY$22116,20,FALSE),0)","v":2820},{"$f":"IFERROR(VLOOKUP($A73,Filtros!$A$5:$AY$22116,21,FALSE),0)","v":1360},{"$f":"IFERROR(VLOOKUP($A73,Filtros!$A$5:$AY$22116,22,FALSE),0)","v":3666},{"$f":"IFERROR(VLOOKUP($A73,Filtros!$A$5:$AY$22116,23,FALSE),0)","v":1568},{"$f":"IFERROR(VLOOKUP($A73,Filtros!$A$5:$AY$22116,24,FALSE),0)","v":3821},{"$f":"IFERROR(VLOOKUP($A73,Filtros!$A$5:$AY$22116,25,FALSE),0)","v":0},{"$f":"IFERROR(VLOOKUP($A73,Filtros!$A$5:$AY$22116,26,FALSE),0)","v":0},{"$f":"IFERROR(VLOOKUP($A73,Filtros!$A$5:$AY$22116,27,FALSE),0)","v":0},{"$f":"IFERROR(VLOOKUP($A73,Filtros!$A$5:$AY$22116,28,FALSE),0)","v":0},{"$f":"IFERROR(VLOOKUP($A73,Filtros!$A$5:$AY$22116,29,FALSE),0)","v":0},{"$f":"IFERROR(VLOOKUP($A73,Filtros!$A$5:$AY$22116,30,FALSE),0)","v":0},{"$f":"IFERROR(VLOOKUP($A73,Filtros!$A$5:$AY$22116,31,FALSE),0)","v":0},{"$f":"IFERROR(VLOOKUP($A73,Filtros!$A$5:$AY$22116,32,FALSE),0)","v":0},{"$f":"IFERROR(VLOOKUP($A73,Filtros!$A$5:$AY$22116,33,FALSE),0)","v":70},{"$f":"IFERROR(VLOOKUP($A73,Filtros!$A$5:$AY$22116,34,FALSE),0)","v":257},{"$f":"IFERROR(VLOOKUP($A73,Filtros!$A$5:$AY$22116,35,FALSE),0)","v":47},{"$f":"IFERROR(VLOOKUP($A73,Filtros!$A$5:$AY$22116,36,FALSE),0)","v":130},{"$nulls":16},{"$f":"IF(#REF!+#REF!<>$D73,\"* La suma de Sexo debe ser igual al TOTAL de pacientes con IMC igual o mayor a 30KG/M2. \",\"\")","v":{"$error":"#REF!"}},{"$nulls":35},{"$f":"IF(#REF!+#REF!<>$D73,1,0)","v":{"$error":"#REF!"}}]
["P4201700","**OBESIDAD: IMC igual o Mayor a 32KG/M2 >65",null,{"$f":"IFERROR(VLOOKUP($A74,Filtros!$A$5:$AY$22116,2,FALSE),0)","v":11797},{"$f":"IFERROR(VLOOKUP($A74,Filtros!$A$5:$AY$22116,3,FALSE),0)","v":3298},{"$f":"IFERROR(VLOOKUP($A74,Filtros!$A$5:$AY$22116,4,FALSE),0)","v":8499},{"$f":"IFERROR(VLOOKUP($A74,Filtros!$A$5:$AY$22116,5,FALSE),0)","v":0},{"$f":"IFERROR(VLOOKUP($A74,Filtros!$A$5:$AY$22116,6,FALSE),0)","v":0},{"$f":"IFERROR(VLOOKUP($A74,Filtros!$A$5:$AY$22116,7,FALSE),0)","v":0},{"$f":"IFERROR(VLOOKUP($A74,Filtros!$A$5:$AY$22116,8,FALSE),0)","v":0},{"$f":"IFERROR(VLOOKUP($A74,Filtros!$A$5:$AY$22116,9,FALSE),0)","v":0},{"$f":"IFERROR(VLOOKUP($A74,Filtros!$A$5:$AY$22116,10,FALSE),0)","v":0},{"$f":"IFERROR(VLOOKUP($A74,Filtros!$A$5:$AY$22116,11,FALSE),0)","v":0},{"$f":"IFERROR(VLOOKUP($A74,Filtros!$A$5:$AY$22116,12,FALSE),0)","v":0},{"$f":"IFERROR(VLOOKUP($A74,Filtros!$A$5:$AY$22116,13,FALSE),0)","v":0},{"$f":"IFERROR(VLOOKUP($A74,Filtros!$A$5:$AY$22116,14,FALSE),0)","v":0},{"$f":"IFERROR(VLOOKUP($A74,Filtros!$A$5:$AY$22116,15,FALSE),0)","v":0},{"$f":"IFERROR(VLOOKUP($A74,Filtros!$A$5:$AY$22116,16,FALSE),0)","v":0},{"$f":"IFERROR(VLOOKUP($A74,Filtros!$A$5:$AY$22116,17,FALSE),0)","v":0},{"$f":"IFERROR(VLOOKUP($A74,Filtros!$A$5:$AY$22116,18,FALSE),0)","v":0},{"$f":"IFERROR(VLOOKUP($A74,Filtros!$A$5:$AY$22116,19,FALSE),0)","v":0},{"$f":"IFERROR(VLOOKUP($A74,Filtros!$A$5:$AY$22116,20,FALSE),0)","v":0},{"$f":"IFERROR(VLOOKUP($A74,Filtros!$A$5:$AY$22116,21,FALSE),0)","v":0},{"$f":"IFERROR(VLOOKUP($A74,Filtros!$A$5:$AY$22116,22,FALSE),0)","v":0},{"$f":"IFERROR(VLOOKUP($A74,Filtros!$A$5:$AY$22116,23,FALSE),0)","v":0},{"$f":"IFERROR(VLOOKUP($A74,Filtros!$A$5:$AY$22116,24,FALSE),0)","v":0},{"$f":"IFERROR(VLOOKUP($A74,Filtros!$A$5:$AY$22116,25,FALSE),0)","v":1108},{"$f":"IFERROR(VLOOKUP($A74,Filtros!$A$5:$AY$22116,26,FALSE),0)","v":2877},{"$f":"IFERROR(VLOOKUP($A74,Filtros!$A$5:$AY$22116,27,FALSE),0)","v":927},{"$f":"IFERROR(VLOOKUP($A74,Filtros!$A$5:$AY$22116,28,FALSE),0)","v":2361},{"$f":"IFERROR(VLOOKUP($A74,Filtros!$A$5:$AY$22116,29,FALSE),0)","v":683},{"$f":"IFERROR(VLOOKUP($A74,Filtros!$A$5:$AY$22116,30,FALSE),0)","v":1666},{"$f":"IFERROR(VLOOKUP($A74,Filtros!$A$5:$AY$22116,31,FALSE),0)","v":580},{"$f":"IFERROR(VLOOKUP($A74,Filtros!$A$5:$AY$22116,32,FALSE),0)","v":1595},{"$f":"IFERROR(VLOOKUP($A74,Filtros!$A$5:$AY$22116,33,FALSE),0)","v":61},{"$f":"IFERROR(VLOOKUP($A74,Filtros!$A$5:$AY$22116,34,FALSE),0)","v":159},{"$f":"IFERROR(VLOOKUP($A74,Filtros!$A$5:$AY$22116,35,FALSE),0)","v":13},{"$f":"IFERROR(VLOOKUP($A74,Filtros!$A$5:$AY$22116,36,FALSE),0)","v":25},{"$nulls":16},{"$f":"IF(#REF!+#REF!<>#REF!,\"* La suma de Sexo debe ser igual al TOTAL de pacientes con IMC igual o mayor a 32KG/M2. \",\"\")","v":{"$error":"#REF!"}},{"$nulls":35},{"$f":"IF(#REF!+#REF!<>#REF!,1,0)","v":{"$error":"#REF!"}}]
[null,"NOTA (*): La vigencia de la evaluación del pie diabetico es de 12 meses."]
[]
[]
[]
["CODIGOS ELIMINADOS"]
[]
["P4201800"]
["P4201900"]
["P4202000"]
["P4202010"]
["P4202020"]
["P4202030"]
["P4202040"]
[]
[null,{"$f":"SUM(D12:AM28,D33:AL40,D46:D61,D67:D68,#REF!)","v":{"$error":"#REF!"}},"datos"]
[null,{"$f":"SUM(CM13:DT83)","v":{"$error":"#REF!"}},"errores"]

{"sheet":"P5","index":5,"n_rows":82,"n_cols":45,"rows_kept":82,"merged":[[6,5,6,18],[7,30,8,31],[7,32,8,33],[7,34,8,34],[7,35,8,35],[7,37,8,38],[7,39,8,40],[7,41,8,41],[7,42,8,42],[8,1,10,3],[8,4,9,6],[8,7,8,14],[8,15,9,16],[8,17,9,18],[9,7,9,8],[9,9,9,10],[9,11,9,12],[9,13,9,14],[11,1,11,3],[12,1,12,3],[13,1,13,3],[14,1,14,3],[15,1,15,3],[16,1,16,3],[17,1,17,3],[19,1,19,3],[20,1,20,3],[22,1,24,3],[22,4,23,6],[22,7,22,16],[22,17,23,18],[22,19,23,20],[22,30,23,31],[22,32,23,33],[22,34,23,34],[22,35,23,35],[22,37,23,38],[22,39,23,40],[22,41,23,41],[22,42,23,42],[23,7,23,8],[23,9,23,10],[23,11,23,12],[23,13,23,14],[23,15,23,16],[25,1,25,3],[26,1,26,3],[27,1,27,3],[28,1,28,3],[30,1,32,2],[30,3,31,5],[30,6,30,13],[30,14,31,15],[30,16,31,17],[30,30,31,31],[30,32,31,33],[30,34,31,34],[30,35,31,35],[30,37,31,38],[30,39,31,40],[30,41,31,41],[30,42,31,42],[31,6,31,7],[31,8,31,9],[31,10,31,11],[31,12,31,13],[33,1,33,2],[34,1,34,2],[35,1,35,2],[36,1,36,2],[37,1,37,2],[38,1,38,7],[39,1,41,2],[39,3,40,5],[39,6,39,13],[40,6,40,7],[40,8,40,9],[40,10,40,11],[40,12,40,13],[42,1,42,2],[43,1,43,8],[44,1,46,2],[44,3,45,5],[44,6,44,13],[45,6,45,7],[45,8,45,9],[45,10,45,11],[45,12,45,13],[47,1,47,2],[48,1,48,9],[49,1,51,1],[49,2,51,3],[49,4,50,6],[49,7,49,14],[50,7,50,8],[50,9,50,10],[50,11,50,12],[50,13,50,14],[52,1,54,1],[52,2,52,3],[53,2,53,3],[54,2,54,3],[55,1,56,1],[55,2,55,3],[56,2,56,3]]}
[]
[]
[]
[]
[]
[]
[{"$nulls":5},"REM-P5. POBLACIÓN EN CONTROL PROGRAMA NACIONAL DE SALUD INTEGRAL DE PERSONAS MAYORES "]
[null,"SECCION A: POBLACIÓN EN CONTROL POR CONDICIÓN DE FUNCIONALIDAD",{"$nulls":28},"Pueblos Originarios",null,"Población Migrantes",null,"Pueblos Originarios","Población Migrantes",null,"Pueblos Originarios",null,"Población Migrantes",null,"Pueblos Originarios","Población Migrantes"]
[null,"CONDICIÓN DE \nFUNCIONALIDAD",null,null,"TOTAL",null,null,"GRUPO DE EDAD (en años) Y SEXO",{"$nulls":7},"Pueblos Originarios",null,"Población Migrantes"]
[{"$nulls":7},"65 a 69 años",null,"70 a 74 años",null,"75 a 79 años",null,"80 y más años",{"$nulls":16},"Hombres","Mujeres","Hombres","Mujeres","No Olvide","No Olvide",null,"Hombres","Mujeres","Hombres","Mujeres","No Olvide","No Olvide"]
[{"$nulls":4},"Ambos\nsexos","Hombres","Mujeres","Hombres ","Mujeres","Hombres ","Mujeres","Hombres ","Mujeres","Hombres ","Mujeres","Hombres","Mujeres","Hombres","Mujeres"]
["P5180100","AUTOVALENTE SIN RIESGO",null,null,{"$f":"IFERROR(VLOOKUP($A12,Filtros!$A$5:$AY$22116,2,FALSE),0)","v":8969},{"$f":"IFERROR(VLOOKUP($A12,Filtros!$A$5:$AY$22116,3,FALSE),0)","v":3796},{"$f":"IFERROR(VLOOKUP($A12,Filtros!$A$5:$AY$22116,4,FALSE),0)","v":5173},{"$f":"IFERROR(VLOOKUP($A12,Filtros!$A$5:$AY$22116,5,FALSE),0)","v":1085},{"$f":"IFERROR(VLOOKUP($A12,Filtros!$A$5:$AY$22116,6,FALSE),0)","v":1658},{"$f":"IFERROR(VLOOKUP($A12,Filtros!$A$5:$AY$22116,7,FALSE),0)","v":1092},{"$f":"IFERROR(VLOOKUP($A12,Filtros!$A$5:$AY$22116,8,FALSE),0)","v":1556},{"$f":"IFERROR(VLOOKUP($A12,Filtros!$A$5:$AY$22116,9,FALSE),0)","v":899},{"$f":"IFERROR(VLOOKUP($A12,Filtros!$A$5:$AY$22116,10,FALSE),0)","v":1062},{"$f":"IFERROR(VLOOKUP($A12,Filtros!$A$5:$AY$22116,11,FALSE),0)","v":720},{"$f":"IFERROR(VLOOKUP($A12,Filtros!$A$5:$AY$22116,12,FALSE),0)","v":897},{"$f":"IFERROR(VLOOKUP($A12,Filtros!$A$5:$AY$22116,13,FALSE),0)","v":4},{"$f":"IFERROR(VLOOKUP($A12,Filtros!$A$5:$AY$22116,14,FALSE),0)","v":20},{"$f":"IFERROR(VLOOKUP($A12,Filtros!$A$5:$AY$22116,15,FALSE),0)","v":6},{"$f":"IFERROR(VLOOKUP($A12,Filtros!$A$5:$AY$22116,16,FALSE),0)","v":15},{"$f":" AE12 & AF12 & AG12 & AH12 & AI12 & AJ12","v":""},{"$nulls":10},{"$f":"IF($F12>=$P12,\"\",\"* La celda 'Pueblos Originarios / Hombres' debe ser menor o igual al Total de Hombres en control. \")","v":""},{"$f":"IF($G12>=$Q12,\"\",\"* La celda 'Pueblos Originarios / Mujeres' debe ser menor o igual al Total de Mujeres en control. \")","v":""},{"$f":"IF($F12>=$R12,\"\",\"* La celda 'Población Migrantes / Hombres' debe ser menor o igual al Total de Hombres en control. \")","v":""},{"$f":"IF($G12>=$S12,\"\",\"* La celda 'Población Migrantes / Mujeres' debe ser menor o igual al Total de Mujeres en control. \")","v":""},{"$f":"IF(AND($F12<>0,$P12=\"\"),\"* No olvide escribir en las celdas de 'Pueblos Originarios' (Digite CERO si no tiene). \",IF(AND(G12<>0,Q12=\"\"),\"* No olvide escribir en las celdas de 'Pueblos Originarios' (Digite CERO si no tiene). \",\"\"))","v":""},{"$f":"IF(AND($F12<>0,$R12=\"\"),\"* No olvide escribir en las celdas de 'Población Migrantes' (Digite CERO si no tiene). \",IF(AND(G12<>0,S12=\"\"),\"* No olvide escribir en las celdas de 'Población Migrantes' (Digite CERO si no tiene). \",\"\"))","v":""},null,{"$f":"IF($F12>=$P12,0,1)","v":0},{"$f":"IF($G12>=$Q12,0,1)","v":0},{"$f":"IF($F12>=$R12,0,1)","v":0},{"$f":"IF($G12>=$S12,0,1)","v":0},{"$f":"IF(AND(F12<>0,P12=\"\"),1,IF(AND(G12<>0,Q12=\"\"),1,0))","v":0},{"$f":"IF(AND(F12<>0,R12=\"\"),1,IF(AND(G12<>0,S12=\"\"),1,0))","v":0}]
["P5180200","AUTOVALENTE CON RIESGO",null,null,{"$f":"IFERROR(VLOOKUP($A13,Filtros!$A$5:$AY$22116,2,FALSE),0)","v":7254},{"$f":"IFERROR(VLOOKUP($A13,Filtros!$A$5:$AY$22116,3,FALSE),0)","v":2869},{"$f":"IFERROR(VLOOKUP($A13,Filtros!$A$5:$AY$22116,4,FALSE),0)","v":4385},{"$f":"IFERROR(VLOOKUP($A13,Filtros!$A$5:$AY$22116,5,FALSE),0)","v":748},{"$f":"IFERROR(VLOOKUP($A13,Filtros!$A$5:$AY$22116,6,FALSE),0)","v":1321},{"$f":"IFERROR(VLOOKUP($A13,Filtros!$A$5:$AY$22116,7,FALSE),0)","v":794},{"$f":"IFERROR(VLOOKUP($A13,Filtros!$A$5:$AY$22116,8,FALSE),0)","v":1261},{"$f":"IFERROR(VLOOKUP($A13,Filtros!$A$5:$AY$22116,9,FALSE),0)","v":643},{"$f":"IFERROR(VLOOKUP($A13,Filtros!$A$5:$AY$22116,10,FALSE),0)","v":957},{"$f":"IFERROR(VLOOKUP($A13,Filtros!$A$5:$AY$22116,11,FALSE),0)","v":684},{"$f":"IFERROR(VLOOKUP($A13,Filtros!$A$5:$AY$22116,12,FALSE),0)","v":846},{"$f":"IFERROR(VLOOKUP($A13,Filtros!$A$5:$AY$22116,13,FALSE),0)","v":14},{"$f":"IFERROR(VLOOKUP($A13,Filtros!$A$5:$AY$22116,14,FALSE),0)","v":20},{"$f":"IFERROR(VLOOKUP($A13,Filtros!$A$5:$AY$22116,15,FALSE),0)","v":5},{"$f":"IFERROR(VLOOKUP($A13,Filtros!$A$5:$AY$22116,16,FALSE),0)","v":23},{"$f":" AE13 & AF13 & AG13 & AH13 & AI13 & AJ13","v":""},{"$nulls":10},{"$f":"IF($F13>=$P13,\"\",\"* La celda 'Pueblos Originarios / Hombres' debe ser menor o igual al Total de Hombres en control. \")","v":""},{"$f":"IF($G13>=$Q13,\"\",\"* La celda 'Pueblos Originarios / Mujeres' debe ser menor o igual al Total de Mujeres en control. \")","v":""},{"$f":"IF($F13>=$R13,\"\",\"* La celda 'Población Migrantes / Hombres' debe ser menor o igual al Total de Hombres en control. \")","v":""},{"$f":"IF($G13>=$S13,\"\",\"* La celda 'Población Migrantes / Mujeres' debe ser menor o igual al Total de Mujeres en control. \")","v":""},{"$f":"IF(AND($F13<>0,$P13=\"\"),\"* No olvide escribir en las celdas de 'Pueblos Originarios' (Digite CERO si no tiene). \",IF(AND(G13<>0,Q13=\"\"),\"* No olvide escribir en las celdas de 'Pueblos Originarios' (Digite CERO si no tiene). \",\"\"))","v":""},{"$f":"IF(AND($F13<>0,$R13=\"\"),\"* No olvide escribir en las celdas de 'Población Migrantes' (Digite CERO si no tiene). \",IF(AND(G13<>0,S13=\"\"),\"* No olvide escribir en las celdas de 'Población Migrantes' (Digite CERO si no tiene). \",\"\"))","v":""},null,{"$f":"IF($F13>=$P13,0,1)","v":0},{"$f":"IF($G13>=$Q13,0,1)","v":0},{"$f":"IF($F13>=$R13,0,1)","v":0},{"$f":"IF($G13>=$S13,0,1)","v":0},{"$f":"IF(AND(F13<>0,P13=\"\"),1,IF(AND(G13<>0,Q13=\"\"),1,0))","v":0},{"$f":"IF(AND(F13<>0,R13=\"\"),1,IF(AND(G13<>0,S13=\"\"),1,0))","v":0}]
["P5300510","RIESGO DE DEPENDENCIA ",null,null,{"$f":"IFERROR(VLOOKUP($A14,Filtros!$A$5:$AY$22116,2,FALSE),0)","v":2939},{"$f":"IFERROR(VLOOKUP($A14,Filtros!$A$5:$AY$22116,3,FALSE),0)","v":1026},{"$f":"IFERROR(VLOOKUP($A14,Filtros!$A$5:$AY$22116,4,FALSE),0)","v":1913},{"$f":"IFERROR(VLOOKUP($A14,Filtros!$A$5:$AY$22116,5,FALSE),0)","v":145},{"$f":"IFERROR(VLOOKUP($A14,Filtros!$A$5:$AY$22116,6,FALSE),0)","v":239},{"$f":"IFERROR(VLOOKUP($A14,Filtros!$A$5:$AY$22116,7,FALSE),0)","v":163},{"$f":"IFERROR(VLOOKUP($A14,Filtros!$A$5:$AY$22116,8,FALSE),0)","v":307},{"$f":"IFERROR(VLOOKUP($A14,Filtros!$A$5:$AY$22116,9,FALSE),0)","v":219},{"$f":"IFERROR(VLOOKUP($A14,Filtros!$A$5:$AY$22116,10,FALSE),0)","v":375},{"$f":"IFERROR(VLOOKUP($A14,Filtros!$A$5:$AY$22116,11,FALSE),0)","v":499},{"$f":"IFERROR(VLOOKUP($A14,Filtros!$A$5:$AY$22116,12,FALSE),0)","v":992},{"$f":"IFERROR(VLOOKUP($A14,Filtros!$A$5:$AY$22116,13,FALSE),0)","v":3},{"$f":"IFERROR(VLOOKUP($A14,Filtros!$A$5:$AY$22116,14,FALSE),0)","v":3},{"$f":"IFERROR(VLOOKUP($A14,Filtros!$A$5:$AY$22116,15,FALSE),0)","v":6},{"$f":"IFERROR(VLOOKUP($A14,Filtros!$A$5:$AY$22116,16,FALSE),0)","v":8},{"$f":" AE14 & AF14 & AG14 & AH14 & AI14 & AJ14","v":""},{"$nulls":10},{"$f":"IF($F14>=$P14,\"\",\"* La celda 'Pueblos Originarios / Hombres' debe ser menor o igual al Total de Hombres en control. \")","v":""},{"$f":"IF($G14>=$Q14,\"\",\"* La celda 'Pueblos Originarios / Mujeres' debe ser menor o igual al Total de Mujeres en control. \")","v":""},{"$f":"IF($F14>=$R14,\"\",\"* La celda 'Población Migrantes / Hombres' debe ser menor o igual al Total de Hombres en control. \")","v":""},{"$f":"IF($G14>=$S14,\"\",\"* La celda 'Población Migrantes / Mujeres' debe ser menor o igual al Total de Mujeres en control. \")","v":""},{"$f":"IF(AND($F14<>0,$P14=\"\"),\"* No olvide escribir en las celdas de 'Pueblos Originarios' (Digite CERO si no tiene). \",IF(AND(G14<>0,Q14=\"\"),\"* No olvide escribir en las celdas de 'Pueblos Originarios' (Digite CERO si no tiene). \",\"\"))","v":""},{"$f":"IF(AND($F14<>0,$R14=\"\"),\"* No olvide escribir en las celdas de 'Población Migrantes' (Digite CERO si no tiene). \",IF(AND(G14<>0,S14=\"\"),\"* No olvide escribir en las celdas de 'Población Migrantes' (Digite CERO si no tiene). \",\"\"))","v":""},null,{"$f":"IF($F14>=$P14,0,1)","v":0},{"$f":"IF($G14>=$Q14,0,1)","v":0},{"$f":"IF($F14>=$R14,0,1)","v":0},{"$f":"IF($G14>=$S14,0,1)","v":0},{"$f":"IF(AND(F14<>0,P14=\"\"),1,IF(AND(G14<>0,Q14=\"\"),1,0))","v":0},{"$f":"IF(AND(F14<>0,R14=\"\"),1,IF(AND(G14<>0,S14=\"\"),1,0))","v":0}]
[null,"SUBTOTAL (EFAM)",null,null,{"$f":"SUM(F15:G15)","v":19162},{"$f":"+H15+J15+L15+N15","v":7691},{"$f":"+I15+K15+M15+O15","v":11471},{"$f":"SUM(H12:H14)","v":1978},{"$f":"SUM(I12:I14)","v":3218},2049,3124,1761,2394,1903,2735,{"$f":"SUM(P12:P14)","v":21},{"$f":"SUM(Q12:Q14)","v":43},17,{"$f":"SUM(S12:S14)","v":46}]
["P5300100","DEPENDIENTE LEVE",null,null,{"$f":"IFERROR(VLOOKUP($A16,Filtros!$A$5:$AY$22116,2,FALSE),0)","v":2150},{"$f":"IFERROR(VLOOKUP($A16,Filtros!$A$5:$AY$22116,3,FALSE),0)","v":741},{"$f":"IFERROR(VLOOKUP($A16,Filtros!$A$5:$AY$22116,4,FALSE),0)","v":1409},{"$f":"IFERROR(VLOOKUP($A16,Filtros!$A$5:$AY$22116,5,FALSE),0)","v":81},{"$f":"IFERROR(VLOOKUP($A16,Filtros!$A$5:$AY$22116,6,FALSE),0)","v":129},{"$f":"IFERROR(VLOOKUP($A16,Filtros!$A$5:$AY$22116,7,FALSE),0)","v":111},{"$f":"IFERROR(VLOOKUP($A16,Filtros!$A$5:$AY$22116,8,FALSE),0)","v":206},{"$f":"IFERROR(VLOOKUP($A16,Filtros!$A$5:$AY$22116,9,FALSE),0)","v":134},{"$f":"IFERROR(VLOOKUP($A16,Filtros!$A$5:$AY$22116,10,FALSE),0)","v":271},{"$f":"IFERROR(VLOOKUP($A16,Filtros!$A$5:$AY$22116,11,FALSE),0)","v":415},{"$f":"IFERROR(VLOOKUP($A16,Filtros!$A$5:$AY$22116,12,FALSE),0)","v":803},{"$f":"IFERROR(VLOOKUP($A16,Filtros!$A$5:$AY$22116,13,FALSE),0)","v":1},{"$f":"IFERROR(VLOOKUP($A16,Filtros!$A$5:$AY$22116,14,FALSE),0)","v":3},{"$f":"IFERROR(VLOOKUP($A16,Filtros!$A$5:$AY$22116,15,FALSE),0)","v":1},{"$f":"IFERROR(VLOOKUP($A16,Filtros!$A$5:$AY$22116,16,FALSE),0)","v":3},{"$f":" AE16 & AF16 & AG16 & AH16 & AI16 & AJ16","v":""},{"$nulls":10},{"$f":"IF($F16>=$P16,\"\",\"* La celda 'Pueblos Originarios / Hombres' debe ser menor o igual al Total de Hombres en control. \")","v":""},{"$f":"IF($G16>=$Q16,\"\",\"* La celda 'Pueblos Originarios / Mujeres' debe ser menor o igual al Total de Mujeres en control. \")","v":""},{"$f":"IF($F16>=$R16,\"\",\"* La celda 'Población Migrantes / Hombres' debe ser menor o igual al Total de Hombres en control. \")","v":""},{"$f":"IF($G16>=$S16,\"\",\"* La celda 'Población Migrantes / Mujeres' debe ser menor o igual al Total de Mujeres en control. \")","v":""},{"$f":"IF(AND($F16<>0,$P16=\"\"),\"* No olvide escribir en las celdas de 'Pueblos Originarios' (Digite CERO si no tiene). \",IF(AND(G16<>0,Q16=\"\"),\"* No olvide escribir en las celdas de 'Pueblos Originarios' (Digite CERO si no tiene). \",\"\"))","v":""},{"$f":"IF(AND($F16<>0,$R16=\"\"),\"* No olvide escribir en las celdas de 'Población Migrantes' (Digite CERO si no tiene). \",IF(AND(G16<>0,S16=\"\"),\"* No olvide escribir en las celdas de 'Población Migrantes' (Digite CERO si no tiene). \",\"\"))","v":""},null,{"$f":"IF($F16>=$P16,0,1)","v":0},{"$f":"IF($G16>=$Q16,0,1)","v":0},{"$f":"IF($F16>=$R16,0,1)","v":0},{"$f":"IF($G16>=$S16,0,1)","v":0},{"$f":"IF(AND(F16<>0,P16=\"\"),1,IF(AND(G16<>0,Q16=\"\"),1,0))","v":0},{"$f":"IF(AND(F16<>0,R16=\"\"),1,IF(AND(G16<>0,S16=\"\"),1,0))","v":0}]
["P5300200","DEPENDIENTE MODERADO ",null,null,{"$f":"IFERROR(VLOOKUP($A17,Filtros!$A$5:$AY$22116,2,FALSE),0)","v":778},{"$f":"IFERROR(VLOOKUP($A17,Filtros!$A$5:$AY$22116,3,FALSE),0)","v":285},{"$f":"IFERROR(VLOOKUP($A17,Filtros!$A$5:$AY$22116,4,FALSE),0)","v":493},{"$f":"IFERROR(VLOOKUP($A17,Filtros!$A$5:$AY$22116,5,FALSE),0)","v":27},{"$f":"IFERROR(VLOOKUP($A17,Filtros!$A$5:$AY$22116,6,FALSE),0)","v":33},{"$f":"IFERROR(VLOOKUP($A17,Filtros!$A$5:$AY$22116,7,FALSE),0)","v":40},{"$f":"IFERROR(VLOOKUP($A17,Filtros!$A$5:$AY$22116,8,FALSE),0)","v":35},{"$f":"IFERROR(VLOOKUP($A17,Filtros!$A$5:$AY$22116,9,FALSE),0)","v":51},{"$f":"IFERROR(VLOOKUP($A17,Filtros!$A$5:$AY$22116,10,FALSE),0)","v":83},{"$f":"IFERROR(VLOOKUP($A17,Filtros!$A$5:$AY$22116,11,FALSE),0)","v":167},{"$f":"IFERROR(VLOOKUP($A17,Filtros!$A$5:$AY$22116,12,FALSE),0)","v":342},{"$f":"IFERROR(VLOOKUP($A17,Filtros!$A$5:$AY$22116,13,FALSE),0)","v":0},{"$f":"IFERROR(VLOOKUP($A17,Filtros!$A$5:$AY$22116,14,FALSE),0)","v":0},{"$f":"IFERROR(VLOOKUP($A17,Filtros!$A$5:$AY$22116,15,FALSE),0)","v":2},{"$f":"IFERROR(VLOOKUP($A17,Filtros!$A$5:$AY$22116,16,FALSE),0)","v":4},{"$f":" AE17 & AF17 & AG17 & AH17 & AI17 & AJ17","v":""},{"$nulls":10},{"$f":"IF($F17>=$P17,\"\",\"* La celda 'Pueblos Originarios / Hombres' debe ser menor o igual al Total de Hombres en control. \")","v":""},{"$f":"IF($G17>=$Q17,\"\",\"* La celda 'Pueblos Originarios / Mujeres' debe ser menor o igual al Total de Mujeres en control. \")","v":""},{"$f":"IF($F17>=$R17,\"\",\"* La celda 'Población Migrantes / Hombres' debe ser menor o igual al Total de Hombres en control. \")","v":""},{"$f":"IF($G17>=$S17,\"\",\"* La celda 'Población Migrantes / Mujeres' debe ser menor o igual al Total de Mujeres en control. \")","v":""},{"$f":"IF(AND($F17<>0,$P17=\"\"),\"* No olvide escribir en las celdas de 'Pueblos Originarios' (Digite CERO si no tiene). \",IF(AND(G17<>0,Q17=\"\"),\"* No olvide escribir en las celdas de 'Pueblos Originarios' (Digite CERO si no tiene). \",\"\"))","v":""},{"$f":"IF(AND($F17<>0,$R17=\"\"),\"* No olvide escribir en las celdas de 'Población Migrantes' (Digite CERO si no tiene). \",IF(AND(G17<>0,S17=\"\"),\"* No olvide escribir en las celdas de 'Población Migrantes' (Digite CERO si no tiene). \",\"\"))","v":""},null,{"$f":"IF($F17>=$P17,0,1)","v":0},{"$f":"IF($G17>=$Q17,0,1)","v":0},{"$f":"IF($F17>=$R17,0,1)","v":0},{"$f":"IF($G17>=$S17,0,1)","v":0},{"$f":"IF(AND(F17<>0,P17=\"\"),1,IF(AND(G17<>0,Q17=\"\"),1,0))","v":0},{"$f":"IF(AND(F17<>0,R17=\"\"),1,IF(AND(G17<>0,S17=\"\"),1,0))","v":0}]
["P5300520","DEPENDIENTE GRAVE ",null,null,{"$f":"IFERROR(VLOOKUP($A18,Filtros!$A$5:$AY$22116,2,FALSE),0)","v":889},{"$f":"IFERROR(VLOOKUP($A18,Filtros!$A$5:$AY$22116,3,FALSE),0)","v":266},{"$f":"IFERROR(VLOOKUP($A18,Filtros!$A$5:$AY$22116,4,FALSE),0)","v":623},{"$f":"IFERROR(VLOOKUP($A18,Filtros!$A$5:$AY$22116,5,FALSE),0)","v":27},{"$f":"IFERROR(VLOOKUP($A18,Filtros!$A$5:$AY$22116,6,FALSE),0)","v":31},{"$f":"IFERROR(VLOOKUP($A18,Filtros!$A$5:$AY$22116,7,FALSE),0)","v":35},{"$f":"IFERROR(VLOOKUP($A18,Filtros!$A$5:$AY$22116,8,FALSE),0)","v":46},{"$f":"IFERROR(VLOOKUP($A18,Filtros!$A$5:$AY$22116,9,FALSE),0)","v":38},{"$f":"IFERROR(VLOOKUP($A18,Filtros!$A$5:$AY$22116,10,FALSE),0)","v":79},{"$f":"IFERROR(VLOOKUP($A18,Filtros!$A$5:$AY$22116,11,FALSE),0)","v":166},{"$f":"IFERROR(VLOOKUP($A18,Filtros!$A$5:$AY$22116,12,FALSE),0)","v":467},{"$f":"IFERROR(VLOOKUP($A18,Filtros!$A$5:$AY$22116,13,FALSE),0)","v":0},{"$f":"IFERROR(VLOOKUP($A18,Filtros!$A$5:$AY$22116,14,FALSE),0)","v":0},{"$f":"IFERROR(VLOOKUP($A18,Filtros!$A$5:$AY$22116,15,FALSE),0)","v":1},{"$f":"IFERROR(VLOOKUP($A18,Filtros!$A$5:$AY$22116,16,FALSE),0)","v":2},{"$f":" AE18 & AF18 & AG18 & AH18 & AI18 & AJ18","v":""},{"$nulls":10},{"$f":"IF($F18>=$P18,\"\",\"* La celda 'Pueblos Originarios / Hombres' debe ser menor o igual al Total de Hombres en control. \")","v":""},{"$f":"IF($G18>=$Q18,\"\",\"* La celda 'Pueblos Originarios / Mujeres' debe ser menor o igual al Total de Mujeres en control. \")","v":""},{"$f":"IF($F18>=$R18,\"\",\"* La celda 'Población Migrantes / Hombres' debe ser menor o igual al Total de Hombres en control. \")","v":""},{"$f":"IF($G18>=$S18,\"\",\"* La celda 'Población Migrantes / Mujeres' debe ser menor o igual al Total de Mujeres en control. \")","v":""},{"$f":"IF(AND($F18<>0,$P18=\"\"),\"* No olvide escribir en las celdas de 'Pueblos Originarios' (Digite CERO si no tiene). \",IF(AND(G18<>0,Q18=\"\"),\"* No olvide escribir en las celdas de 'Pueblos Originarios' (Digite CERO si no tiene). \",\"\"))","v":""},{"$f":"IF(AND($F18<>0,$R18=\"\"),\"* No olvide escribir en las celdas de 'Población Migrantes' (Digite CERO si no tiene). \",IF(AND(G18<>0,S18=\"\"),\"* No olvide escribir en las celdas de 'Población Migrantes' (Digite CERO si no tiene). \",\"\"))","v":""},null,{"$f":"IF($F18>=$P18,0,1)","v":0},{"$f":"IF($G18>=$Q18,0,1)","v":0},{"$f":"IF($F18>=$R18,0,1)","v":0},{"$f":"IF($G18>=$S18,0,1)","v":0},{"$f":"IF(AND(F18<>0,P18=\"\"),1,IF(AND(G18<>0,Q18=\"\"),1,0))","v":0},{"$f":"IF(AND(F18<>0,R18=\"\"),1,IF(AND(G18<>0,S18=\"\"),1,0))","v":0}]
["P5300530","DEPENDIENTE TOTAL",null,null,{"$f":"IFERROR(VLOOKUP($A19,Filtros!$A$5:$AY$22116,2,FALSE),0)","v":1033},{"$f":"IFERROR(VLOOKUP($A19,Filtros!$A$5:$AY$22116,3,FALSE),0)","v":329},{"$f":"IFERROR(VLOOKUP($A19,Filtros!$A$5:$AY$22116,4,FALSE),0)","v":704},{"$f":"IFERROR(VLOOKUP($A19,Filtros!$A$5:$AY$22116,5,FALSE),0)","v":34},{"$f":"IFERROR(VLOOKUP($A19,Filtros!$A$5:$AY$22116,6,FALSE),0)","v":47},{"$f":"IFERROR(VLOOKUP($A19,Filtros!$A$5:$AY$22116,7,FALSE),0)","v":41},{"$f":"IFERROR(VLOOKUP($A19,Filtros!$A$5:$AY$22116,8,FALSE),0)","v":46},{"$f":"IFERROR(VLOOKUP($A19,Filtros!$A$5:$AY$22116,9,FALSE),0)","v":62},{"$f":"IFERROR(VLOOKUP($A19,Filtros!$A$5:$AY$22116,10,FALSE),0)","v":89},{"$f":"IFERROR(VLOOKUP($A19,Filtros!$A$5:$AY$22116,11,FALSE),0)","v":192},{"$f":"IFERROR(VLOOKUP($A19,Filtros!$A$5:$AY$22116,12,FALSE),0)","v":522},{"$f":"IFERROR(VLOOKUP($A19,Filtros!$A$5:$AY$22116,13,FALSE),0)","v":0},{"$f":"IFERROR(VLOOKUP($A19,Filtros!$A$5:$AY$22116,14,FALSE),0)","v":0},{"$f":"IFERROR(VLOOKUP($A19,Filtros!$A$5:$AY$22116,15,FALSE),0)","v":0},{"$f":"IFERROR(VLOOKUP($A19,Filtros!$A$5:$AY$22116,16,FALSE),0)","v":0},{"$f":" AE19 & AF19 & AG19 & AH19 & AI19 & AJ19","v":""},{"$nulls":10},{"$f":"IF($F19>=$P19,\"\",\"* La celda 'Pueblos Originarios / Hombres' debe ser menor o igual al Total de Hombres en control. \")","v":""},{"$f":"IF($G19>=$Q19,\"\",\"* La celda 'Pueblos Originarios / Mujeres' debe ser menor o igual al Total de Mujeres en control. \")","v":""},{"$f":"IF($F19>=$R19,\"\",\"* La celda 'Población Migrantes / Hombres' debe ser menor o igual al Total de Hombres en control. \")","v":""},{"$f":"IF($G19>=$S19,\"\",\"* La celda 'Población Migrantes / Mujeres' debe ser menor o igual al Total de Mujeres en control. \")","v":""},{"$f":"IF(AND($F19<>0,$P19=\"\"),\"* No olvide escribir en las celdas de 'Pueblos Originarios' (Digite CERO si no tiene). \",IF(AND(G19<>0,Q19=\"\"),\"* No olvide escribir en las celdas de 'Pueblos Originarios' (Digite CERO si no tiene). \",\"\"))","v":""},{"$f":"IF(AND($F19<>0,$R19=\"\"),\"* No olvide escribir en las celdas de 'Población Migrantes' (Digite CERO si no tiene). \",IF(AND(G19<>0,S19=\"\"),\"* No olvide escribir en las celdas de 'Población Migrantes' (Digite CERO si no tiene). \",\"\"))","v":""},null,{"$f":"IF($F19>=$P19,0,1)","v":0},{"$f":"IF($G19>=$Q19,0,1)","v":0},{"$f":"IF($F19>=$R19,0,1)","v":0},{"$f":"IF($G19>=$S19,0,1)","v":0},{"$f":"IF(AND(F19<>0,P19=\"\"),1,IF(AND(G19<>0,Q19=\"\"),1,0))","v":0},{"$f":"IF(AND(F19<>0,R19=\"\"),1,IF(AND(G19<>0,S19=\"\"),1,0))","v":0}]
[null,"SUBTOTAL (INDICE BARTHEL)",null,null,{"$f":"SUM(F20:G20)","v":4850},{"$f":"+H20+J20+L20+N20","v":1621},{"$f":"+I20+K20+M20+O20","v":3229},{"$f":"SUM(H16:H19)","v":169},{"$f":"SUM(I16:I19)","v":240},227,333,285,522,940,2134,{"$f":"SUM(P16:P19)","v":1},{"$f":"SUM(Q16:Q19)","v":3},4,{"$f":"SUM(S16:S19)","v":9}]
[null,"TOTAL PERSONAS MAYORES EN CONTROL",null,null,{"$f":"SUM(F21:G21)","v":24012},{"$f":"+H21+J21+L21+N21","v":9312},14700,{"$f":"+H15+H20","v":2147},{"$f":"+I15+I20","v":3458},2276,3457,2046,2916,2843,4869,{"$f":"+P15+P20","v":22},{"$f":"+Q15+Q20","v":46},21,{"$f":"+S15+S20","v":55}]
[null,"SECCION A.1: EXISTENCIA DE POBLACIÓN EN CONTROL EN PROGRAMA \"MÁS ADULTOS MAYORES AUTOVALENTES\" POR CONDICIÓN DE FUNCIONALIDAD"]
[null,"CONDICIÓN DE \nFUNCIONALIDAD",null,null,"TOTAL",null,null,"GRUPO DE EDAD (en años) Y SEXO",{"$nulls":9},"Pueblos Originarios",null,"Población Migrantes",{"$nulls":10},"Pueblos Originarios",null,"Población Migrantes",null,"Pueblos Originarios","Población Migrantes",null,"Pueblos Originarios",null,"Población Migrantes",null,"Pueblos Originarios","Población Migrantes"]
[{"$nulls":7},"60 a 64 años",null,"65 a 69 años",null,"70 a 74 años",null,"75 a 79 años",null,"80 y más años"]
[{"$nulls":4},"Ambos\nsexos","Hombres","Mujeres","Hombres ","Mujeres","Hombres ","Mujeres","Hombres ","Mujeres","Hombres ","Mujeres","Hombres ","Mujeres","Hombres","Mujeres","Hombres","Mujeres",{"$nulls":9},"Hombres","Mujeres","Hombres","Mujeres","No Olvide","No Olvide",null,"Hombres","Mujeres","Hombres","Mujeres","No Olvide","No Olvide"]
["P5300570","AUTOVALENTE SIN RIESGO",null,null,{"$f":"IFERROR(VLOOKUP($A26,Filtros!$A$5:$AY$22116,2,FALSE),0)","v":3827},{"$f":"IFERROR(VLOOKUP($A26,Filtros!$A$5:$AY$22116,3,FALSE),0)","v":963},{"$f":"IFERROR(VLOOKUP($A26,Filtros!$A$5:$AY$22116,4,FALSE),0)","v":2864},{"$f":"IFERROR(VLOOKUP($A26,Filtros!$A$5:$AY$22116,5,FALSE),0)","v":171},{"$f":"IFERROR(VLOOKUP($A26,Filtros!$A$5:$AY$22116,6,FALSE),0)","v":664},{"$f":"IFERROR(VLOOKUP($A26,Filtros!$A$5:$AY$22116,7,FALSE),0)","v":196},{"$f":"IFERROR(VLOOKUP($A26,Filtros!$A$5:$AY$22116,8,FALSE),0)","v":678},{"$f":"IFERROR(VLOOKUP($A26,Filtros!$A$5:$AY$22116,9,FALSE),0)","v":226},{"$f":"IFERROR(VLOOKUP($A26,Filtros!$A$5:$AY$22116,10,FALSE),0)","v":699},{"$f":"IFERROR(VLOOKUP($A26,Filtros!$A$5:$AY$22116,11,FALSE),0)","v":221},{"$f":"IFERROR(VLOOKUP($A26,Filtros!$A$5:$AY$22116,12,FALSE),0)","v":456},{"$f":"IFERROR(VLOOKUP($A26,Filtros!$A$5:$AY$22116,13,FALSE),0)","v":149},{"$f":"IFERROR(VLOOKUP($A26,Filtros!$A$5:$AY$22116,14,FALSE),0)","v":367},{"$f":"IFERROR(VLOOKUP($A26,Filtros!$A$5:$AY$22116,15,FALSE),0)","v":2},{"$f":"IFERROR(VLOOKUP($A26,Filtros!$A$5:$AY$22116,16,FALSE),0)","v":2},{"$f":"IFERROR(VLOOKUP($A26,Filtros!$A$5:$AY$22116,17,FALSE),0)","v":0},{"$f":"IFERROR(VLOOKUP($A26,Filtros!$A$5:$AY$22116,18,FALSE),0)","v":0},{"$f":" AE26 & AF26 & AG26 & AH26 & AI26 & AJ26","v":""},{"$nulls":8},{"$f":"IF($F26>=$R26,\"\",\"* La celda 'Pueblos Originarios / Hombres' debe ser menor o igual al Total de Hombres en control. \")","v":""},{"$f":"IF($G26>=$S26,\"\",\"* La celda 'Pueblos Originarios / Mujeres' debe ser menor o igual al Total de Mujeres en control. \")","v":""},{"$f":"IF($F26>=$T26,\"\",\"* La celda 'Población Migrantes / Hombres' debe ser menor o igual al Total de Hombres en control. \")","v":""},{"$f":"IF($G26>=$U26,\"\",\"* La celda 'Población Migrantes / Mujeres' debe ser menor o igual al Total de Mujeres en control. \")","v":""},{"$f":"IF(AND($F26<>0,$R26=\"\"),\"* No olvide escribir en las celdas de 'Pueblos Originarios' (Digite CERO si no tiene). \",IF(AND(G26<>0,S26=\"\"),\"* No olvide escribir en las celdas de 'Pueblos Originarios' (Digite CERO si no tiene). \",\"\"))","v":""},{"$f":"IF(AND($F26<>0,$T26=\"\"),\"* No olvide escribir en las celdas de 'Población Migrantes' (Digite CERO si no tiene). \",IF(AND(G26<>0,U26=\"\"),\"* No olvide escribir en las celdas de 'Población Migrantes' (Digite CERO si no tiene). \",\"\"))","v":""},null,{"$f":"IF($F26>=$R26,0,1)","v":0},{"$f":"IF($G26>=$S26,0,1)","v":0},{"$f":"IF($F26>=$T26,0,1)","v":0},{"$f":"IF($G26>=$U26,0,1)","v":0},{"$f":"IF(AND(F26<>0,R26=\"\"),1,IF(AND(G26<>0,S26=\"\"),1,0))","v":0},{"$f":"IF(AND(F26<>0,T26=\"\"),1,IF(AND(G26<>0,U26=\"\"),1,0))","v":0}]
["P5300580","AUTOVALENTE CON RIESGO",null,null,{"$f":"IFERROR(VLOOKUP($A27,Filtros!$A$5:$AY$22116,2,FALSE),0)","v":1570},{"$f":"IFERROR(VLOOKUP($A27,Filtros!$A$5:$AY$22116,3,FALSE),0)","v":406},{"$f":"IFERROR(VLOOKUP($A27,Filtros!$A$5:$AY$22116,4,FALSE),0)","v":1164},{"$f":"IFERROR(VLOOKUP($A27,Filtros!$A$5:$AY$22116,5,FALSE),0)","v":0},{"$f":"IFERROR(VLOOKUP($A27,Filtros!$A$5:$AY$22116,6,FALSE),0)","v":1},{"$f":"IFERROR(VLOOKUP($A27,Filtros!$A$5:$AY$22116,7,FALSE),0)","v":81},{"$f":"IFERROR(VLOOKUP($A27,Filtros!$A$5:$AY$22116,8,FALSE),0)","v":276},{"$f":"IFERROR(VLOOKUP($A27,Filtros!$A$5:$AY$22116,9,FALSE),0)","v":106},{"$f":"IFERROR(VLOOKUP($A27,Filtros!$A$5:$AY$22116,10,FALSE),0)","v":320},{"$f":"IFERROR(VLOOKUP($A27,Filtros!$A$5:$AY$22116,11,FALSE),0)","v":100},{"$f":"IFERROR(VLOOKUP($A27,Filtros!$A$5:$AY$22116,12,FALSE),0)","v":286},{"$f":"IFERROR(VLOOKUP($A27,Filtros!$A$5:$AY$22116,13,FALSE),0)","v":119},{"$f":"IFERROR(VLOOKUP($A27,Filtros!$A$5:$AY$22116,14,FALSE),0)","v":281},{"$f":"IFERROR(VLOOKUP($A27,Filtros!$A$5:$AY$22116,15,FALSE),0)","v":1},{"$f":"IFERROR(VLOOKUP($A27,Filtros!$A$5:$AY$22116,16,FALSE),0)","v":1},{"$f":"IFERROR(VLOOKUP($A27,Filtros!$A$5:$AY$22116,17,FALSE),0)","v":0},{"$f":"IFERROR(VLOOKUP($A27,Filtros!$A$5:$AY$22116,18,FALSE),0)","v":0},{"$f":" AE27 & AF27 & AG27 & AH27 & AI27 & AJ27","v":""},{"$nulls":8},{"$f":"IF($F27>=$R27,\"\",\"* La celda 'Pueblos Originarios / Hombres' debe ser menor o igual al Total de Hombres en control. \")","v":""},{"$f":"IF($G27>=$S27,\"\",\"* La celda 'Pueblos Originarios / Mujeres' debe ser menor o igual al Total de Mujeres en control. \")","v":""},{"$f":"IF($F27>=$T27,\"\",\"* La celda 'Población Migrantes / Hombres' debe ser menor o igual al Total de Hombres en control. \")","v":""},{"$f":"IF($G27>=$U27,\"\",\"* La celda 'Población Migrantes / Mujeres' debe ser menor o igual al Total de Mujeres en control. \")","v":""},{"$f":"IF(AND($F27<>0,$R27=\"\"),\"* No olvide escribir en las celdas de 'Pueblos Originarios' (Digite CERO si no tiene). \",IF(AND(G27<>0,S27=\"\"),\"* No olvide escribir en las celdas de 'Pueblos Originarios' (Digite CERO si no tiene). \",\"\"))","v":""},{"$f":"IF(AND($F27<>0,$T27=\"\"),\"* No olvide escribir en las celdas de 'Población Migrantes' (Digite CERO si no tiene). \",IF(AND(G27<>0,U27=\"\"),\"* No olvide escribir en las celdas de 'Población Migrantes' (Digite CERO si no tiene). \",\"\"))","v":""},null,{"$f":"IF($F27>=$R27,0,1)","v":0},{"$f":"IF($G27>=$S27,0,1)","v":0},{"$f":"IF($F27>=$T27,0,1)","v":0},{"$f":"IF($G27>=$U27,0,1)","v":0},{"$f":"IF(AND(F27<>0,R27=\"\"),1,IF(AND(G27<>0,S27=\"\"),1,0))","v":0},{"$f":"IF(AND(F27<>0,T27=\"\"),1,IF(AND(G27<>0,U27=\"\"),1,0))","v":0}]
["P5300590","RIESGO DE DEPENDENCIA ",null,null,{"$f":"IFERROR(VLOOKUP($A28,Filtros!$A$5:$AY$22116,2,FALSE),0)","v":464},{"$f":"IFERROR(VLOOKUP($A28,Filtros!$A$5:$AY$22116,3,FALSE),0)","v":124},{"$f":"IFERROR(VLOOKUP($A28,Filtros!$A$5:$AY$22116,4,FALSE),0)","v":340},{"$f":"IFERROR(VLOOKUP($A28,Filtros!$A$5:$AY$22116,5,FALSE),0)","v":0},{"$f":"IFERROR(VLOOKUP($A28,Filtros!$A$5:$AY$22116,6,FALSE),0)","v":0},{"$f":"IFERROR(VLOOKUP($A28,Filtros!$A$5:$AY$22116,7,FALSE),0)","v":10},{"$f":"IFERROR(VLOOKUP($A28,Filtros!$A$5:$AY$22116,8,FALSE),0)","v":24},{"$f":"IFERROR(VLOOKUP($A28,Filtros!$A$5:$AY$22116,9,FALSE),0)","v":22},{"$f":"IFERROR(VLOOKUP($A28,Filtros!$A$5:$AY$22116,10,FALSE),0)","v":57},{"$f":"IFERROR(VLOOKUP($A28,Filtros!$A$5:$AY$22116,11,FALSE),0)","v":23},{"$f":"IFERROR(VLOOKUP($A28,Filtros!$A$5:$AY$22116,12,FALSE),0)","v":78},{"$f":"IFERROR(VLOOKUP($A28,Filtros!$A$5:$AY$22116,13,FALSE),0)","v":69},{"$f":"IFERROR(VLOOKUP($A28,Filtros!$A$5:$AY$22116,14,FALSE),0)","v":181},{"$f":"IFERROR(VLOOKUP($A28,Filtros!$A$5:$AY$22116,15,FALSE),0)","v":1},{"$f":"IFERROR(VLOOKUP($A28,Filtros!$A$5:$AY$22116,16,FALSE),0)","v":0},{"$f":"IFERROR(VLOOKUP($A28,Filtros!$A$5:$AY$22116,17,FALSE),0)","v":0},{"$f":"IFERROR(VLOOKUP($A28,Filtros!$A$5:$AY$22116,18,FALSE),0)","v":0},{"$f":" AE28 & AF28 & AG28 & AH28 & AI28 & AJ28","v":""},{"$nulls":8},{"$f":"IF($F28>=$R28,\"\",\"* La celda 'Pueblos Originarios / Hombres' debe ser menor o igual al Total de Hombres en control. \")","v":""},{"$f":"IF($G28>=$S28,\"\",\"* La celda 'Pueblos Originarios / Mujeres' debe ser menor o igual al Total de Mujeres en control. \")","v":""},{"$f":"IF($F28>=$T28,\"\",\"* La celda 'Población Migrantes / Hombres' debe ser menor o igual al Total de Hombres en control. \")","v":""},{"$f":"IF($G28>=$U28,\"\",\"* La celda 'Población Migrantes / Mujeres' debe ser menor o igual al Total de Mujeres en control. \")","v":""},{"$f":"IF(AND($F28<>0,$R28=\"\"),\"* No olvide escribir en las celdas de 'Pueblos Originarios' (Digite CERO si no tiene). \",IF(AND(G28<>0,S28=\"\"),\"* No olvide escribir en las celdas de 'Pueblos Originarios' (Digite CERO si no tiene). \",\"\"))","v":""},{"$f":"IF(AND($F28<>0,$T28=\"\"),\"* No olvide escribir en las celdas de 'Población Migrantes' (Digite CERO si no tiene). \",IF(AND(G28<>0,U28=\"\"),\"* No olvide escribir en las celdas de 'Población Migrantes' (Digite CERO si no tiene). \",\"\"))","v":""},null,{"$f":"IF($F28>=$R28,0,1)","v":0},{"$f":"IF($G28>=$S28,0,1)","v":0},{"$f":"IF($F28>=$T28,0,1)","v":0},{"$f":"IF($G28>=$U28,0,1)","v":0},{"$f":"IF(AND(F28<>0,R28=\"\"),1,IF(AND(G28<>0,S28=\"\"),1,0))","v":0},{"$f":"IF(AND(F28<>0,T28=\"\"),1,IF(AND(G28<>0,U28=\"\"),1,0))","v":0}]
[null,"TOTAL (EFAM)",null,null,{"$f":"SUM(F29:G29)","v":5861},{"$f":"+J29+L29+N29+P29+H29","v":1493},4368,{"$f":"SUM(H26:H28)","v":171},{"$f":"SUM(I26:I28)","v":665},{"$f":"SUM(J26:J28)","v":287},978,354,1076,344,820,337,829,{"$f":"SUM(R26:R28)","v":4},{"$f":"SUM(S26:S28)","v":3},0,0]
[null,"SECCION B: POBLACIÓN BAJO CONTROL POR ESTADO NUTRICIONAL"]
[null,"ESTADO NUTRICIONAL",null,"TOTAL",null,null,"GRUPO DE EDAD (en años) Y SEXO",{"$nulls":7},"Pueblos Originarios",null,"Población Migrantes",{"$nulls":13},"Pueblos Originarios",null,"Población Migrantes",null,"Pueblos Originarios","Población Migrantes",null,"Pueblos Originarios",null,"Población Migrantes",null,"Pueblos Originarios","Población Migrantes"]
[{"$nulls":6},"65 a 69 años",null,"70 a 74 años",null,"75 a 79 años",null,"80 y más años"]
[{"$nulls":3},"Ambos\nsexos","Hombres","Mujeres","Hombres ","Mujeres","Hombres ","Mujeres","Hombres ","Mujeres","Hombres","Mujeres","Hombres","Mujeres","Hombres","Mujeres",{"$nulls":12},"Hombres","Mujeres","Hombres","Mujeres","No Olvide","No Olvide",null,"Hombres","Mujeres","Hombres","Mujeres","No Olvide","No Olvide"]
["P5190200","BAJO PESO",null,{"$f":"IFERROR(VLOOKUP($A34,Filtros!$A$5:$AY$22116,2,FALSE),0)","v":2802},{"$f":"IFERROR(VLOOKUP($A34,Filtros!$A$5:$AY$22116,3,FALSE),0)","v":1140},{"$f":"IFERROR(VLOOKUP($A34,Filtros!$A$5:$AY$22116,4,FALSE),0)","v":1662},{"$f":"IFERROR(VLOOKUP($A34,Filtros!$A$5:$AY$22116,5,FALSE),0)","v":185},{"$f":"IFERROR(VLOOKUP($A34,Filtros!$A$5:$AY$22116,6,FALSE),0)","v":242},{"$f":"IFERROR(VLOOKUP($A34,Filtros!$A$5:$AY$22116,7,FALSE),0)","v":240},{"$f":"IFERROR(VLOOKUP($A34,Filtros!$A$5:$AY$22116,8,FALSE),0)","v":305},{"$f":"IFERROR(VLOOKUP($A34,Filtros!$A$5:$AY$22116,9,FALSE),0)","v":248},{"$f":"IFERROR(VLOOKUP($A34,Filtros!$A$5:$AY$22116,10,FALSE),0)","v":313},{"$f":"IFERROR(VLOOKUP($A34,Filtros!$A$5:$AY$22116,11,FALSE),0)","v":467},{"$f":"IFERROR(VLOOKUP($A34,Filtros!$A$5:$AY$22116,12,FALSE),0)","v":802},{"$f":"IFERROR(VLOOKUP($A34,Filtros!$A$5:$AY$22116,13,FALSE),0)","v":0},{"$f":"IFERROR(VLOOKUP($A34,Filtros!$A$5:$AY$22116,14,FALSE),0)","v":0},{"$f":"IFERROR(VLOOKUP($A34,Filtros!$A$5:$AY$22116,15,FALSE),0)","v":2},{"$f":"IFERROR(VLOOKUP($A34,Filtros!$A$5:$AY$22116,16,FALSE),0)","v":2},{"$nulls":12},{"$f":"IF($E34>=$O34,\"\",\"* El Nº de hombres bajo peso de 'Pueblos Originarios' no debe ser mayor al Total hombres bajo peso en control. \")","v":""},{"$f":"IF($F34>=$P34,\"\",\"* El Nº de mujeres bajo peso de 'Pueblos Originarios' no debe ser mayor al Total mujeres bajo peso en control. \")","v":""},{"$f":"IF($E34>=$Q34,\"\",\"* El Nº de hombres bajo peso de Pueblos Migrantes no debe ser mayor al Total hombres bajo peso en control. \")","v":""},{"$f":"IF($F34>=$R34,\"\",\"* El Nº de mujeres bajo peso de Pueblos Migrantes no debe ser mayor al Total mujeres bajo peso en control. \")","v":""},{"$f":"IF(AND(F34<>0,O34=\"\"),\"* No olvide escribir en la celda de 'Pueblos Originarios' (Digite CERO si no tiene). \",IF(AND(G34<>0,P34=\"\"),\"* No olvide escribir en la celda de 'Pueblos Originarios' (Digite CERO si no tiene). \",\"\"))","v":""},{"$f":"IF(AND(F34<>0,Q34=\"\"),\"* No olvide escribir en la celda de 'Población Migrantes' (Digite CERO si no tiene). \",IF(AND(G34<>0,R34=\"\"),\"* No olvide escribir en la celda de 'Población Migrantes' (Digite CERO si no tiene). \",\"\"))","v":""},null,{"$f":"IF($E34>=$O34,0,1)","v":0},{"$f":"IF($F34>=$P34,0,1)","v":0},{"$f":"IF($E34>=$Q34,0,1)","v":0},{"$f":"IF($F34>=$R34,0,1)","v":0},{"$f":"IF(AND(F34<>0,O34=\"\"),1,IF(AND(G34<>0,P34=\"\"),1,0))","v":0},{"$f":"IF(AND(F34<>0,Q34=\"\"),1,IF(AND(G34<>0,R34=\"\"),1,0))","v":0}]
["P5190300","NORMAL",null,{"$f":"IFERROR(VLOOKUP($A35,Filtros!$A$5:$AY$22116,2,FALSE),0)","v":8127},{"$f":"IFERROR(VLOOKUP($A35,Filtros!$A$5:$AY$22116,3,FALSE),0)","v":3591},{"$f":"IFERROR(VLOOKUP($A35,Filtros!$A$5:$AY$22116,4,FALSE),0)","v":4536},{"$f":"IFERROR(VLOOKUP($A35,Filtros!$A$5:$AY$22116,5,FALSE),0)","v":730},{"$f":"IFERROR(VLOOKUP($A35,Filtros!$A$5:$AY$22116,6,FALSE),0)","v":901},{"$f":"IFERROR(VLOOKUP($A35,Filtros!$A$5:$AY$22116,7,FALSE),0)","v":804},{"$f":"IFERROR(VLOOKUP($A35,Filtros!$A$5:$AY$22116,8,FALSE),0)","v":1009},{"$f":"IFERROR(VLOOKUP($A35,Filtros!$A$5:$AY$22116,9,FALSE),0)","v":844},{"$f":"IFERROR(VLOOKUP($A35,Filtros!$A$5:$AY$22116,10,FALSE),0)","v":922},{"$f":"IFERROR(VLOOKUP($A35,Filtros!$A$5:$AY$22116,11,FALSE),0)","v":1213},{"$f":"IFERROR(VLOOKUP($A35,Filtros!$A$5:$AY$22116,12,FALSE),0)","v":1704},{"$f":"IFERROR(VLOOKUP($A35,Filtros!$A$5:$AY$22116,13,FALSE),0)","v":3},{"$f":"IFERROR(VLOOKUP($A35,Filtros!$A$5:$AY$22116,14,FALSE),0)","v":5},{"$f":"IFERROR(VLOOKUP($A35,Filtros!$A$5:$AY$22116,15,FALSE),0)","v":2},{"$f":"IFERROR(VLOOKUP($A35,Filtros!$A$5:$AY$22116,16,FALSE),0)","v":4},{"$f":" AE35 & AF35 & AG35 & AH35 & AI35 & AJ35","v":""},{"$nulls":11},{"$f":"IF($E35>=$O35,\"\",\"* El Nº de hombres normal de 'Pueblos Originarios' no debe ser mayor al Total hombres normal en control. \")","v":""},{"$f":"IF($F35>=$P35,\"\",\"* El Nº de mujeres normal de 'Pueblos Originarios' no debe ser mayor al Total mujeres normal en control. \")","v":""},{"$f":"IF($E35>=$Q35,\"\",\"* El Nº de hombres normal de Pueblos Migrantes no debe ser mayor al Total hombres normal en control. \")","v":""},{"$f":"IF($F35>=$R35,\"\",\"* El Nº de mujeres normal de Pueblos Migrantes no debe ser mayor al Total mujeres normal en control. \")","v":""},{"$f":"IF(AND(F35<>0,O35=\"\"),\"* No olvide escribir en la celda de 'Pueblos Originarios' (Digite CERO si no tiene). \",IF(AND(G35<>0,P35=\"\"),\"* No olvide escribir en la celda de 'Pueblos Originarios' (Digite CERO si no tiene). \",\"\"))","v":""},{"$f":"IF(AND(F35<>0,Q35=\"\"),\"* No olvide escribir en la celda de 'Población Migrantes' (Digite CERO si no tiene). \",IF(AND(G35<>0,R35=\"\"),\"* No olvide escribir en la celda de 'Población Migrantes' (Digite CERO si no tiene). \",\"\"))","v":""},null,{"$f":"IF($E35>=$O35,0,1)","v":0},{"$f":"IF($F35>=$P35,0,1)","v":0},{"$f":"IF($E35>=$Q35,0,1)","v":0},{"$f":"IF($F35>=$R35,0,1)","v":0},{"$f":"IF(AND(F35<>0,O35=\"\"),1,IF(AND(G35<>0,P35=\"\"),1,0))","v":0},{"$f":"IF(AND(F35<>0,Q35=\"\"),1,IF(AND(G35<>0,R35=\"\"),1,0))","v":0}]
["P5190400","SOBREPESO",null,{"$f":"IFERROR(VLOOKUP($A36,Filtros!$A$5:$AY$22116,2,FALSE),0)","v":6556},{"$f":"IFERROR(VLOOKUP($A36,Filtros!$A$5:$AY$22116,3,FALSE),0)","v":2686},{"$f":"IFERROR(VLOOKUP($A36,Filtros!$A$5:$AY$22116,4,FALSE),0)","v":3870},{"$f":"IFERROR(VLOOKUP($A36,Filtros!$A$5:$AY$22116,5,FALSE),0)","v":704},{"$f":"IFERROR(VLOOKUP($A36,Filtros!$A$5:$AY$22116,6,FALSE),0)","v":1001},{"$f":"IFERROR(VLOOKUP($A36,Filtros!$A$5:$AY$22116,7,FALSE),0)","v":734},{"$f":"IFERROR(VLOOKUP($A36,Filtros!$A$5:$AY$22116,8,FALSE),0)","v":1010},{"$f":"IFERROR(VLOOKUP($A36,Filtros!$A$5:$AY$22116,9,FALSE),0)","v":615},{"$f":"IFERROR(VLOOKUP($A36,Filtros!$A$5:$AY$22116,10,FALSE),0)","v":792},{"$f":"IFERROR(VLOOKUP($A36,Filtros!$A$5:$AY$22116,11,FALSE),0)","v":633},{"$f":"IFERROR(VLOOKUP($A36,Filtros!$A$5:$AY$22116,12,FALSE),0)","v":1067},{"$f":"IFERROR(VLOOKUP($A36,Filtros!$A$5:$AY$22116,13,FALSE),0)","v":2},{"$f":"IFERROR(VLOOKUP($A36,Filtros!$A$5:$AY$22116,14,FALSE),0)","v":9},{"$f":"IFERROR(VLOOKUP($A36,Filtros!$A$5:$AY$22116,15,FALSE),0)","v":4},{"$f":"IFERROR(VLOOKUP($A36,Filtros!$A$5:$AY$22116,16,FALSE),0)","v":6},{"$f":" AE36 & AF36 & AG36 & AH36 & AI36 & AJ36","v":""},{"$nulls":11},{"$f":"IF($E36>=$O36,\"\",\"* El Nº de hombres sobrepeso de 'Pueblos Originarios' no debe ser mayor al Total hombres sobrepeso en control. \")","v":""},{"$f":"IF($F36>=$P36,\"\",\"* El Nº de mujeres sobrepeso de 'Pueblos Originarios' no debe ser mayor al Total mujeres sobrepeso en control. \")","v":""},{"$f":"IF($E36>=$Q36,\"\",\"* El Nº de hombres sobrepeso de Pueblos Migrantes no debe ser mayor al Total hombres sobrepeso en control. \")","v":""},{"$f":"IF($F36>=$R36,\"\",\"* El Nº de mujeres sobrepeso de Pueblos Migrantes no debe ser mayor al Total mujeres sobrepeso en control. \")","v":""},{"$f":"IF(AND(F36<>0,O36=\"\"),\"* No olvide escribir en la celda de 'Pueblos Originarios' (Digite CERO si no tiene). \",IF(AND(G36<>0,P36=\"\"),\"* No olvide escribir en la celda de 'Pueblos Originarios' (Digite CERO si no tiene). \",\"\"))","v":""},{"$f":"IF(AND(F36<>0,Q36=\"\"),\"* No olvide escribir en la celda de 'Población Migrantes' (Digite CERO si no tiene). \",IF(AND(G36<>0,R36=\"\"),\"* No olvide escribir en la celda de 'Población Migrantes' (Digite CERO si no tiene). \",\"\"))","v":""},null,{"$f":"IF($E36>=$O36,0,1)","v":0},{"$f":"IF($F36>=$P36,0,1)","v":0},{"$f":"IF($E36>=$Q36,0,1)","v":0},{"$f":"IF($F36>=$R36,0,1)","v":0},{"$f":"IF(AND(F36<>0,O36=\"\"),1,IF(AND(G36<>0,P36=\"\"),1,0))","v":0},{"$f":"IF(AND(F36<>0,Q36=\"\"),1,IF(AND(G36<>0,R36=\"\"),1,0))","v":0}]
["P5200100","OBESO",null,{"$f":"IFERROR(VLOOKUP($A37,Filtros!$A$5:$AY$22116,2,FALSE),0)","v":5445},{"$f":"IFERROR(VLOOKUP($A37,Filtros!$A$5:$AY$22116,3,FALSE),0)","v":1577},{"$f":"IFERROR(VLOOKUP($A37,Filtros!$A$5:$AY$22116,4,FALSE),0)","v":3868},{"$f":"IFERROR(VLOOKUP($A37,Filtros!$A$5:$AY$22116,5,FALSE),0)","v":497},{"$f":"IFERROR(VLOOKUP($A37,Filtros!$A$5:$AY$22116,6,FALSE),0)","v":1272},{"$f":"IFERROR(VLOOKUP($A37,Filtros!$A$5:$AY$22116,7,FALSE),0)","v":470},{"$f":"IFERROR(VLOOKUP($A37,Filtros!$A$5:$AY$22116,8,FALSE),0)","v":1028},{"$f":"IFERROR(VLOOKUP($A37,Filtros!$A$5:$AY$22116,9,FALSE),0)","v":305},{"$f":"IFERROR(VLOOKUP($A37,Filtros!$A$5:$AY$22116,10,FALSE),0)","v":803},{"$f":"IFERROR(VLOOKUP($A37,Filtros!$A$5:$AY$22116,11,FALSE),0)","v":305},{"$f":"IFERROR(VLOOKUP($A37,Filtros!$A$5:$AY$22116,12,FALSE),0)","v":765},{"$f":"IFERROR(VLOOKUP($A37,Filtros!$A$5:$AY$22116,13,FALSE),0)","v":4},{"$f":"IFERROR(VLOOKUP($A37,Filtros!$A$5:$AY$22116,14,FALSE),0)","v":6},{"$f":"IFERROR(VLOOKUP($A37,Filtros!$A$5:$AY$22116,15,FALSE),0)","v":3},{"$f":"IFERROR(VLOOKUP($A37,Filtros!$A$5:$AY$22116,16,FALSE),0)","v":6},{"$f":" AE37 & AF37 & AG37 & AH37 & AI37 & AJ37","v":""},{"$nulls":11},{"$f":"IF($E37>=$O37,\"\",\"* El Nº de hombres obeso de 'Pueblos Originarios' no debe ser mayor al Total hombres obesos en control. \")","v":""},{"$f":"IF($F37>=$P37,\"\",\"* El Nº de mujeres obesas de 'Pueblos Originarios' no debe ser mayor al Total mujeres obesas en control. \")","v":""},{"$f":"IF($E37>=$Q37,\"\",\"* El Nº de hombres obeso de Pueblos Migrantes no debe ser mayor al Total hombres obeso en control. \")","v":""},{"$f":"IF($F37>=$R37,\"\",\"* El Nº de mujeres obesas de Pueblos Migrantes no debe ser mayor al Total mujeres obesas en control. \")","v":""},{"$f":"IF(AND(F37<>0,O37=\"\"),\"* No olvide escribir en la celda de 'Pueblos Originarios' (Digite CERO si no tiene). \",IF(AND(G37<>0,P37=\"\"),\"* No olvide escribir en la celda de 'Pueblos Originarios' (Digite CERO si no tiene). \",\"\"))","v":""},{"$f":"IF(AND(F37<>0,Q37=\"\"),\"* No olvide escribir en la celda de 'Población Migrantes' (Digite CERO si no tiene). \",IF(AND(G37<>0,R37=\"\"),\"* No olvide escribir en la celda de 'Población Migrantes' (Digite CERO si no tiene). \",\"\"))","v":""},null,{"$f":"IF($E37>=$O37,0,1)","v":0},{"$f":"IF($F37>=$P37,0,1)","v":0},{"$f":"IF($E37>=$Q37,0,1)","v":0},{"$f":"IF($F37>=$R37,0,1)","v":0},{"$f":"IF(AND(F37<>0,O37=\"\"),1,IF(AND(G37<>0,P37=\"\"),1,0))","v":0},{"$f":"IF(AND(F37<>0,Q37=\"\"),1,IF(AND(G37<>0,R37=\"\"),1,0))","v":0}]
[null,"TOTAL ",null,{"$f":"SUM(E38:F38)","v":22930},{"$f":"+G38+I38+K38+M38","v":8994},13936,{"$f":"SUM(G34:G37)","v":2116},{"$f":"SUM(H34:H37)","v":3416},2248,3352,2012,2830,2618,4338,{"$f":"SUM(O34:O37)","v":9},{"$f":"SUM(P34:P37)","v":20},11,18]
[null,"SECCION C: PERSONAS MAYORES CON SOSPECHA DE MALTRATO"]
[null,"CONCEPTO",null,"TOTAL",null,null,"GRUPO DE EDAD (en años) Y SEXO"]
[{"$nulls":6},"65 a 69 años",null,"70 a 74 años",null,"75 a 79 años",null,"80 y más años"]
[{"$nulls":3},"Ambos\nsexos","Hombres","Mujeres","Hombres ","Mujeres","Hombres ","Mujeres","Hombres ","Mujeres","Hombres","Mujeres"]
["P5300400","PERSONAS CON SOSPECHA DE MALTRATO",null,{"$f":"IFERROR(VLOOKUP($A43,Filtros!$A$5:$AY$22116,2,FALSE),0)","v":67},{"$f":"IFERROR(VLOOKUP($A43,Filtros!$A$5:$AY$22116,3,FALSE),0)","v":25},{"$f":"IFERROR(VLOOKUP($A43,Filtros!$A$5:$AY$22116,4,FALSE),0)","v":42},{"$f":"IFERROR(VLOOKUP($A43,Filtros!$A$5:$AY$22116,5,FALSE),0)","v":7},{"$f":"IFERROR(VLOOKUP($A43,Filtros!$A$5:$AY$22116,6,FALSE),0)","v":14},{"$f":"IFERROR(VLOOKUP($A43,Filtros!$A$5:$AY$22116,7,FALSE),0)","v":6},{"$f":"IFERROR(VLOOKUP($A43,Filtros!$A$5:$AY$22116,8,FALSE),0)","v":12},{"$f":"IFERROR(VLOOKUP($A43,Filtros!$A$5:$AY$22116,9,FALSE),0)","v":5},{"$f":"IFERROR(VLOOKUP($A43,Filtros!$A$5:$AY$22116,10,FALSE),0)","v":9},{"$f":"IFERROR(VLOOKUP($A43,Filtros!$A$5:$AY$22116,11,FALSE),0)","v":7},{"$f":"IFERROR(VLOOKUP($A43,Filtros!$A$5:$AY$22116,12,FALSE),0)","v":7},{"$f":" AC43 & AD43 & AE43 & AF43 & AG43 & AH43 & AI43 & AJ43","v":""},{"$nulls":13},{"$f":"IF($H$21>=$G$43,\"\",\"* Los pacientes con sospecha de maltrato no pueden ser mayor que el total de Adultos Mayores en Control (65 - 69 años - Hombres). \")","v":""},{"$f":"IF($I$21>=$H$43,\"\",\"* Los pacientes con sospecha de maltrato no pueden ser mayor que el total de Adultos Mayores en Control (65 - 69 años - Mujeres). \")","v":""},{"$f":"IF($J$21>=$I$43,\"\",\"* Los pacientes con sospecha de maltrato no pueden ser mayor que el total de Adultos Mayores en Control (70 - 74 años - Hombres). \")","v":""},{"$f":"IF($K$21>=$J$43,\"\",\"* Los pacientes con sospecha de maltrato no pueden ser mayor que el total de Adultos Mayores en Control (70 - 74 años - Mujeres). \")","v":""},{"$f":"IF($L$21>=$K$43,\"\",\"* Los pacientes con sospecha de maltrato no pueden ser mayor que el total de Adultos Mayores en Control (75 - 79 años - Hombres). \")","v":""},{"$f":"IF($M$21>=$L$43,\"\",\"* Los pacientes con sospecha de maltrato no pueden ser mayor que el total de Adultos Mayores en Control (75 - 79 años - Mujeres). \")","v":""},{"$f":"IF($N$21>=$M$43,\"\",\"* Los pacientes con sospecha de maltrato no pueden ser mayor que el total de Adultos Mayores en Control (80 y más años - Hombres). \")","v":""},{"$f":"IF($O$21>=$N$43,\"\",\"* Los pacientes con sospecha de maltrato no pueden ser mayor que el total de Adultos Mayores en Control (80 y más años - Mujeres). \")","v":""},null,{"$f":"IF($H$21>=$G$43,0,1)","v":0},{"$f":"IF($I$21>=$H$43,0,1)","v":0},{"$f":"IF($J$21>=$I$43,0,1)","v":0},{"$f":"IF($K$21>=$J$43,0,1)","v":0},{"$f":"IF($L$21>=$K$43,0,1)","v":0},{"$f":"IF($M$21>=$L$43,0,1)","v":0},{"$f":"IF($N$21>=$M$43,0,1)","v":0},{"$f":"IF($O$21>=$N$43,0,1)","v":0}]
[null,"SECCION D: PERSONAS MAYORES EN ACTIVIDAD FÍSICA "]
[null,"CONCEPTO",null,"TOTAL",null,null,"GRUPO DE EDAD (en años) Y SEXO"]
[{"$nulls":6},"65 a 69 años",null,"70 a 74 años",null,"75 a 79 años",null,"80 y más años"]
[{"$nulls":3},"Ambos\nsexos","Hombres","Mujeres","Hombres ","Mujeres","Hombres ","Mujeres","Hombres ","Mujeres","Hombres","Mujeres"]
["P5300500","PERSONAS EN ACTIVIDAD FÍSICA ",null,{"$f":"IFERROR(VLOOKUP($A48,Filtros!$A$5:$AY$22116,2,FALSE),0)","v":2857},{"$f":"IFERROR(VLOOKUP($A48,Filtros!$A$5:$AY$22116,3,FALSE),0)","v":1287},{"$f":"IFERROR(VLOOKUP($A48,Filtros!$A$5:$AY$22116,4,FALSE),0)","v":1570},{"$f":"IFERROR(VLOOKUP($A48,Filtros!$A$5:$AY$22116,5,FALSE),0)","v":358},{"$f":"IFERROR(VLOOKUP($A48,Filtros!$A$5:$AY$22116,6,FALSE),0)","v":502},{"$f":"IFERROR(VLOOKUP($A48,Filtros!$A$5:$AY$22116,7,FALSE),0)","v":375},{"$f":"IFERROR(VLOOKUP($A48,Filtros!$A$5:$AY$22116,8,FALSE),0)","v":493},{"$f":"IFERROR(VLOOKUP($A48,Filtros!$A$5:$AY$22116,9,FALSE),0)","v":301},{"$f":"IFERROR(VLOOKUP($A48,Filtros!$A$5:$AY$22116,10,FALSE),0)","v":304},{"$f":"IFERROR(VLOOKUP($A48,Filtros!$A$5:$AY$22116,11,FALSE),0)","v":253},{"$f":"IFERROR(VLOOKUP($A48,Filtros!$A$5:$AY$22116,12,FALSE),0)","v":271},{"$f":" AJ48","v":""},{"$nulls":20},{"$f":"IF($D$48<=$E$15,\"\",\"* Los Adultos Mayores en actividad física no pueden ser mayor que los clasificados como Autovalentes sin/con riesgo y los riesgo de Dependencia. \")","v":""},null,{"$f":"IF($D$48<=$E$15,0,1)","v":0}]
[null,"SECCION E: PERSONAS MAYORES CON RIESGO DE CAÍDAS"]
[null,"INSTRUMENTO DE EVALUACIÓN","TIPO DE RIESGO",null,"TOTAL",null,null,"GRUPO DE EDAD (en años) Y SEXO"]
[{"$nulls":7},"65 a 69 años",null,"70 a 74 años",null,"75 a 79 años",null,"80 y más años"]
[{"$nulls":4},"Ambos\nsexos","Hombres","Mujeres","Hombres ","Mujeres","Hombres ","Mujeres","Hombres ","Mujeres","Hombres","Mujeres"]
["P5300540","TIMED UP AND GO","Normal",null,{"$f":"IFERROR(VLOOKUP($A53,Filtros!$A$5:$AY$22116,2,FALSE),0)","v":5768},{"$f":"IFERROR(VLOOKUP($A53,Filtros!$A$5:$AY$22116,3,FALSE),0)","v":2323},{"$f":"IFERROR(VLOOKUP($A53,Filtros!$A$5:$AY$22116,4,FALSE),0)","v":3445},{"$f":"IFERROR(VLOOKUP($A53,Filtros!$A$5:$AY$22116,5,FALSE),0)","v":680},{"$f":"IFERROR(VLOOKUP($A53,Filtros!$A$5:$AY$22116,6,FALSE),0)","v":1215},{"$f":"IFERROR(VLOOKUP($A53,Filtros!$A$5:$AY$22116,7,FALSE),0)","v":721},{"$f":"IFERROR(VLOOKUP($A53,Filtros!$A$5:$AY$22116,8,FALSE),0)","v":1083},{"$f":"IFERROR(VLOOKUP($A53,Filtros!$A$5:$AY$22116,9,FALSE),0)","v":545},{"$f":"IFERROR(VLOOKUP($A53,Filtros!$A$5:$AY$22116,10,FALSE),0)","v":685},{"$f":"IFERROR(VLOOKUP($A53,Filtros!$A$5:$AY$22116,11,FALSE),0)","v":377},{"$f":"IFERROR(VLOOKUP($A53,Filtros!$A$5:$AY$22116,12,FALSE),0)","v":462}]
["P5300550",null,"Leve",null,{"$f":"IFERROR(VLOOKUP($A54,Filtros!$A$5:$AY$22116,2,FALSE),0)","v":2361},{"$f":"IFERROR(VLOOKUP($A54,Filtros!$A$5:$AY$22116,3,FALSE),0)","v":870},{"$f":"IFERROR(VLOOKUP($A54,Filtros!$A$5:$AY$22116,4,FALSE),0)","v":1491},{"$f":"IFERROR(VLOOKUP($A54,Filtros!$A$5:$AY$22116,5,FALSE),0)","v":169},{"$f":"IFERROR(VLOOKUP($A54,Filtros!$A$5:$AY$22116,6,FALSE),0)","v":353},{"$f":"IFERROR(VLOOKUP($A54,Filtros!$A$5:$AY$22116,7,FALSE),0)","v":215},{"$f":"IFERROR(VLOOKUP($A54,Filtros!$A$5:$AY$22116,8,FALSE),0)","v":401},{"$f":"IFERROR(VLOOKUP($A54,Filtros!$A$5:$AY$22116,9,FALSE),0)","v":203},{"$f":"IFERROR(VLOOKUP($A54,Filtros!$A$5:$AY$22116,10,FALSE),0)","v":329},{"$f":"IFERROR(VLOOKUP($A54,Filtros!$A$5:$AY$22116,11,FALSE),0)","v":283},{"$f":"IFERROR(VLOOKUP($A54,Filtros!$A$5:$AY$22116,12,FALSE),0)","v":408}]
["P5300560",null,"Alto",null,{"$f":"IFERROR(VLOOKUP($A55,Filtros!$A$5:$AY$22116,2,FALSE),0)","v":826},{"$f":"IFERROR(VLOOKUP($A55,Filtros!$A$5:$AY$22116,3,FALSE),0)","v":277},{"$f":"IFERROR(VLOOKUP($A55,Filtros!$A$5:$AY$22116,4,FALSE),0)","v":549},{"$f":"IFERROR(VLOOKUP($A55,Filtros!$A$5:$AY$22116,5,FALSE),0)","v":40},{"$f":"IFERROR(VLOOKUP($A55,Filtros!$A$5:$AY$22116,6,FALSE),0)","v":71},{"$f":"IFERROR(VLOOKUP($A55,Filtros!$A$5:$AY$22116,7,FALSE),0)","v":43},{"$f":"IFERROR(VLOOKUP($A55,Filtros!$A$5:$AY$22116,8,FALSE),0)","v":91},{"$f":"IFERROR(VLOOKUP($A55,Filtros!$A$5:$AY$22116,9,FALSE),0)","v":49},{"$f":"IFERROR(VLOOKUP($A55,Filtros!$A$5:$AY$22116,10,FALSE),0)","v":106},{"$f":"IFERROR(VLOOKUP($A55,Filtros!$A$5:$AY$22116,11,FALSE),0)","v":145},{"$f":"IFERROR(VLOOKUP($A55,Filtros!$A$5:$AY$22116,12,FALSE),0)","v":281},{"$f":" AC55 & AD55 & AE55 & AF55 & AG55 & AH55 & AI55 & AJ55","v":""},{"$nulls":12},{"$f":"IF(SUM($H53:$H55)>$H15,\"* Riesgo de caída Hombres (65 a 69 años) deben ser menor o igual al Total Adultos Mayores con EFAM de sección A. \",\"\")","v":""},{"$f":"IF(SUM($I53:$I55)>$I15,\"* Riesgo de caída Mujeres (65 a 69 años) deben ser menor o igual al Total Adultos Mayores con EFAM de sección A. \",\"\")","v":""},{"$f":"IF(SUM($J53:$J55)>$J15,\"* Riesgo de caída Hombres (70 a 74 años) deben ser menor o igual al Total Adultos Mayores con EFAM de sección A. \",\"\")","v":""},{"$f":"IF(SUM($K53:$K55)>$K15,\"* Riesgo de caída Mujeres (70 a 74 años) deben ser menor o igual al Total Adultos Mayores con EFAM de sección A. \",\"\")","v":""},{"$f":"IF(SUM($L53:$L55)>$L15,\"* Riesgo de caída Hombres (75 a 79 años) deben ser menor o igual al Total Adultos Mayores con EFAM de sección A. \",\"\")","v":""},{"$f":"IF(SUM($M53:$M55)>$M15,\"* Riesgo de caída Mujeres (75 a 79 años) deben ser menor o igual al Total Adultos Mayores con EFAM de sección A. \",\"\")","v":""},{"$f":"IF(SUM($N53:$N55)>$N15,\"* Riesgo de caída Hombres (80 y más) deben ser menor o igual al Total Adultos Mayores con EFAM de sección A. \",\"\")","v":""},{"$f":"IF(SUM($O53:$O55)>$O15,\"* Riesgo de caída Mujeres (80 y más) deben ser menor o igual al Total Adultos Mayores con EFAM de sección A. \",\"\")","v":""},null,{"$f":"IF(SUM($H53:$H55)>$H15,1,0)","v":0},{"$f":"IF(SUM($I53:$I55)>$I15,1,0)","v":0},{"$f":"IF(SUM($J53:$J55)>$J15,1,0)","v":0},{"$f":"IF(SUM($K53:$K55)>$K15,1,0)","v":0},{"$f":"IF(SUM($L53:$L55)>$L15,1,0)","v":0},{"$f":"IF(SUM($M53:$M55)>$M15,1,0)","v":0},{"$f":"IF(SUM($N53:$N55)>$N15,1,0)","v":0},{"$f":"IF(SUM($O53:$O55)>$O15,1,0)","v":0}]
["P5400100","ESTACIÓN UNIPODAL","Normal ",null,{"$f":"IFERROR(VLOOKUP($A56,Filtros!$A$5:$AY$22116,2,FALSE),0)","v":6611},{"$f":"IFERROR(VLOOKUP($A56,Filtros!$A$5:$AY$22116,3,FALSE),0)","v":2786},{"$f":"IFERROR(VLOOKUP($A56,Filtros!$A$5:$AY$22116,4,FALSE),0)","v":3825},{"$f":"IFERROR(VLOOKUP($A56,Filtros!$A$5:$AY$22116,5,FALSE),0)","v":891},{"$f":"IFERROR(VLOOKUP($A56,Filtros!$A$5:$AY$22116,6,FALSE),0)","v":1396},{"$f":"IFERROR(VLOOKUP($A56,Filtros!$A$5:$AY$22116,7,FALSE),0)","v":840},{"$f":"IFERROR(VLOOKUP($A56,Filtros!$A$5:$AY$22116,8,FALSE),0)","v":1162},{"$f":"IFERROR(VLOOKUP($A56,Filtros!$A$5:$AY$22116,9,FALSE),0)","v":615},{"$f":"IFERROR(VLOOKUP($A56,Filtros!$A$5:$AY$22116,10,FALSE),0)","v":780},{"$f":"IFERROR(VLOOKUP($A56,Filtros!$A$5:$AY$22116,11,FALSE),0)","v":440},{"$f":"IFERROR(VLOOKUP($A56,Filtros!$A$5:$AY$22116,12,FALSE),0)","v":487}]
["P5400200",null,"Alterado",null,{"$f":"IFERROR(VLOOKUP($A57,Filtros!$A$5:$AY$22116,2,FALSE),0)","v":4204},{"$f":"IFERROR(VLOOKUP($A57,Filtros!$A$5:$AY$22116,3,FALSE),0)","v":1542},{"$f":"IFERROR(VLOOKUP($A57,Filtros!$A$5:$AY$22116,4,FALSE),0)","v":2662},{"$f":"IFERROR(VLOOKUP($A57,Filtros!$A$5:$AY$22116,5,FALSE),0)","v":267},{"$f":"IFERROR(VLOOKUP($A57,Filtros!$A$5:$AY$22116,6,FALSE),0)","v":568},{"$f":"IFERROR(VLOOKUP($A57,Filtros!$A$5:$AY$22116,7,FALSE),0)","v":353},{"$f":"IFERROR(VLOOKUP($A57,Filtros!$A$5:$AY$22116,8,FALSE),0)","v":629},{"$f":"IFERROR(VLOOKUP($A57,Filtros!$A$5:$AY$22116,9,FALSE),0)","v":369},{"$f":"IFERROR(VLOOKUP($A57,Filtros!$A$5:$AY$22116,10,FALSE),0)","v":565},{"$f":"IFERROR(VLOOKUP($A57,Filtros!$A$5:$AY$22116,11,FALSE),0)","v":553},{"$f":"IFERROR(VLOOKUP($A57,Filtros!$A$5:$AY$22116,12,FALSE),0)","v":900}]
{"$rows_empty":23}
[null,{"$f":"SUM(E12:S21, E26:U29,D34:R38,D43:N43,D48:N48,E53:O57)","v":457498},"datos"]
[null,{"$f":"SUM(AL12:AS58)","v":0},"errores"]

{"sheet":"P6","index":6,"n_rows":136,"n_cols":120,"rows_kept":136,"merged":[[6,1,6,21],[8,1,8,7],[8,8,8,9],[8,10,8,11],[8,12,8,13],[8,14,8,15],[8,16,8,17],[8,18,8,19],[8,20,8,21],[8,22,8,23],[8,24,8,25],[8,26,8,27],[8,28,8,29],[8,30,8,31],[8,32,8,33],[8,34,8,35],[8,36,8,37],[8,38,8,39],[9,1,11,2],[9,3,10,5],[9,6,9,39],[9,40,11,40],[9,41,11,41],[9,42,10,43],[9,44,10,45],[9,46,11,46],[9,47,11,47],[10,6,10,7],[10,8,10,9],[10,10,10,11],[10,12,10,13],[10,14,10,15],[10,16,10,17],[10,18,10,19],[10,20,10,21],[10,22,10,23],[10,24,10,25],[10,26,10,27],[10,28,10,29],[10,30,10,31],[10,32,10,33],[10,34,10,35],[10,36,10,37],[10,38,10,39],[10,84,11,84],[10,85,11,85],[10,86,10,87],[10,88,10,89],[10,90,11,90],[12,1,12,2],[13,1,13,2],[14,1,15,1],[16,1,16,2],[17,1,18,1],[19,1,19,2],[20,1,24,1],[25,1,27,1],[28,1,31,1],[32,1,37,1],[38,1,40,1],[41,1,41,2],[42,1,42,2],[43,1,43,2],[44,1,44,2],[45,1,45,2],[46,1,50,1],[52,1,52,2],[54,1,56,1],[54,2,56,2],[54,3,55,5],[54,6,54,39],[55,6,55,7],[55,8,55,9],[55,10,55,11],[55,12,55,13],[55,14,55,15],[55,16,55,17],[55,18,55,19],[55,20,55,21],[55,22,55,23],[55,24,55,25],[55,26,55,27],[55,28,55,29],[55,30,55,31],[55,32,55,33],[55,34,55,35],[55,36,55,37],[55,38,55,39],[60,1,62,2],[60,3,61,5],[60,6,60,15],[60,16,61,17],[61,6,61,7],[61,8,61,9],[61,10,61,11],[61,12,61,13],[61,14,61,15],[63,1,63,2],[64,1,64,15],[65,1,67,2],[65,3,66,5],[65,6,65,39],[65,40,67,40],[65,41,67,41],[65,42,66,43],[65,44,66,45],[65,46,67,46],[65,47,67,47],[66,6,66,7],[66,8,66,9],[66,10,66,11],[66,12,66,13],[66,14,66,15],[66,16,66,17],[66,18,66,19],[66,20,66,21],[66,22,66,23],[66,24,66,25],[66,26,66,27],[66,28,66,29],[66,30,66,31],[66,32,66,33],[66,34,66,35],[66,36,66,37],[66,38,66,39],[66,84,67,84],[66,85,67,85],[66,90,67,90],[66,98,67,98],[68,1,68,2],[69,1,69,2],[70,1,71,1],[72,1,72,2],[73,1,74,1],[75,1,75,2],[76,1,80,1],[81,1,83,1],[84,1,87,1],[88,1,93,1],[94,1,96,1],[97,1,97,2],[98,1,98,2],[99,1,99,2],[100,1,100,2],[101,1,101,2],[102,1,106,1],[108,1,108,2],[110,1,112,1],[110,2,112,2],[110,3,111,5],[110,6,110,39],[111,6,111,7],[111,8,111,9],[111,10,111,11],[111,12,111,13],[111,14,111,15],[111,16,111,17],[111,18,111,19],[111,20,111,21],[111,22,111,23],[111,24,111,25],[111,26,111,27],[111,28,111,29],[111,30,111,31],[111,32,111,33],[111,34,111,35],[111,36,111,37],[111,38,111,39]]}
[]
[]
[]
[]
[]
[]
[null,"REM-P6. POBLACIÓN EN CONTROL PROGRAMA DE SALUD MENTAL EN ATENCIÓN PRIMARIA Y ESPECIALIDAD"]
[null,"A. ATENCIÓN PRIMARIA"]
[null,"SECCION A.1: POBLACIÓN EN CONTROL EN APS AL CORTE"]
[null,"CONCEPTO",null,"T O T A L",null,null,"GRUPO DE EDAD (en años)",{"$nulls":33},"Gestantes","Madre de Hijo menor de 5 años ","Pueblos Originarios",null,"Población Migrantes",null,"Niños, Niñas, Adolescentes y Jóvenes de Población SENAME","Plan Cuidado Integral Elaborado"]
[{"$nulls":6},"0 a 4 años",null,"5 a 9 años",null,"10 a 14 años",null,"15 a 19 años",null,"20 a 24 años",null,"25 a 29 años",null,"30 a 34 años",null,"35 a 39 años",null,"40 a 44 años",null,"45 a 49 años",null,"50 a 54 años",null,"55 a 59 años",null,"60 a 64 años",null,"65 a 69 años",null,"70 a 74 años",null,"75 a 79 años",null,"80 y más años",{"$nulls":45},"Gestantes","Madre de hijos","Pueblos originarios",null,"Poblacion Migrantes",null,"Niños y niñas SENAME","Gestantes","Madre de hojos","Niños y niñas SENAME","Pueblos originarios","Poblacion Migrantes",{"$nulls":8},"Gestantes","Madre de hijos","Pueblos originarios","Pueblos originarios","Poblacion Migrantes","Poblacion Migrantes","Niños y niñas SENAME","Gestantes","Madre de hojos","Niños y niñas SENAME","Pueblos originarios","Poblacion Migrantes"]
[{"$nulls":3},"Ambos\nsexos","Hombres","Mujeres","Hombres","Mujeres","Hombres","Mujeres","Hombres","Mujeres","Hombres","Mujeres","Hombres","Mujeres","Hombres","Mujeres","Hombres","Mujeres","Hombres","Mujeres","Hombres","Mujeres","Hombres","Mujeres","Hombres","Mujeres","Hombres","Mujeres","Hombres","Mujeres","Hombres ","Mujeres","Hombres ","Mujeres","Hombres ","Mujeres","Hombres","Mujeres",null,null,"Hombres","Mujeres","Hombres","Mujeres",{"$nulls":40},"Hombres","Mujeres","Hombres","Mujeres",null,"No Olvide","No Olvide","No Olvide","No Olvide","No Olvide",{"$nulls":10},"Hombres","Mujeres","Hombres","Mujeres",null,"No Olvide","No Olvide","No Olvide","No Olvide","No Olvide"]
["P6221000","NUMERO DE PERSONAS EN CONTROL EN EL PROGRAMA",null,{"$f":"IFERROR(VLOOKUP($A13,Filtros!$A$5:$AY$22116,2,FALSE),0)","v":30241},{"$f":"IFERROR(VLOOKUP($A13,Filtros!$A$5:$AY$22116,3,FALSE),0)","v":8877},{"$f":"IFERROR(VLOOKUP($A13,Filtros!$A$5:$AY$22116,4,FALSE),0)","v":21364},{"$f":"IFERROR(VLOOKUP($A13,Filtros!$A$5:$AY$22116,5,FALSE),0)","v":128},{"$f":"IFERROR(VLOOKUP($A13,Filtros!$A$5:$AY$22116,6,FALSE),0)","v":103},{"$f":"IFERROR(VLOOKUP($A13,Filtros!$A$5:$AY$22116,7,FALSE),0)","v":1306},{"$f":"IFERROR(VLOOKUP($A13,Filtros!$A$5:$AY$22116,8,FALSE),0)","v":894},{"$f":"IFERROR(VLOOKUP($A13,Filtros!$A$5:$AY$22116,9,FALSE),0)","v":1162},{"$f":"IFERROR(VLOOKUP($A13,Filtros!$A$5:$AY$22116,10,FALSE),0)","v":1337},{"$f":"IFERROR(VLOOKUP($A13,Filtros!$A$5:$AY$22116,11,FALSE),0)","v":916},{"$f":"IFERROR(VLOOKUP($A13,Filtros!$A$5:$AY$22116,12,FALSE),0)","v":1780},{"$f":"IFERROR(VLOOKUP($A13,Filtros!$A$5:$AY$22116,13,FALSE),0)","v":561},{"$f":"IFERROR(VLOOKUP($A13,Filtros!$A$5:$AY$22116,14,FALSE),0)","v":1400},{"$f":"IFERROR(VLOOKUP($A13,Filtros!$A$5:$AY$22116,15,FALSE),0)","v":497},{"$f":"IFERROR(VLOOKUP($A13,Filtros!$A$5:$AY$22116,16,FALSE),0)","v":1359},{"$f":"IFERROR(VLOOKUP($A13,Filtros!$A$5:$AY$22116,17,FALSE),0)","v":479},{"$f":"IFERROR(VLOOKUP($A13,Filtros!$A$5:$AY$22116,18,FALSE),0)","v":1364},{"$f":"IFERROR(VLOOKUP($A13,Filtros!$A$5:$AY$22116,19,FALSE),0)","v":467},{"$f":"IFERROR(VLOOKUP($A13,Filtros!$A$5:$AY$22116,20,FALSE),0)","v":1286},{"$f":"IFERROR(VLOOKUP($A13,Filtros!$A$5:$AY$22116,21,FALSE),0)","v":415},{"$f":"IFERROR(VLOOKUP($A13,Filtros!$A$5:$AY$22116,22,FALSE),0)","v":1330},{"$f":"IFERROR(VLOOKUP($A13,Filtros!$A$5:$AY$22116,23,FALSE),0)","v":419},{"$f":"IFERROR(VLOOKUP($A13,Filtros!$A$5:$AY$22116,24,FALSE),0)","v":1469},{"$f":"IFERROR(VLOOKUP($A13,Filtros!$A$5:$AY$22116,25,FALSE),0)","v":406},{"$f":"IFERROR(VLOOKUP($A13,Filtros!$A$5:$AY$22116,26,FALSE),0)","v":1581},{"$f":"IFERROR(VLOOKUP($A13,Filtros!$A$5:$AY$22116,27,FALSE),0)","v":424},{"$f":"IFERROR(VLOOKUP($A13,Filtros!$A$5:$AY$22116,28,FALSE),0)","v":1693},{"$f":"IFERROR(VLOOKUP($A13,Filtros!$A$5:$AY$22116,29,FALSE),0)","v":405},{"$f":"IFERROR(VLOOKUP($A13,Filtros!$A$5:$AY$22116,30,FALSE),0)","v":1533},{"$f":"IFERROR(VLOOKUP($A13,Filtros!$A$5:$AY$22116,31,FALSE),0)","v":417},{"$f":"IFERROR(VLOOKUP($A13,Filtros!$A$5:$AY$22116,32,FALSE),0)","v":1356},{"$f":"IFERROR(VLOOKUP($A13,Filtros!$A$5:$AY$22116,33,FALSE),0)","v":310},{"$f":"IFERROR(VLOOKUP($A13,Filtros!$A$5:$AY$22116,34,FALSE),0)","v":1139},{"$f":"IFERROR(VLOOKUP($A13,Filtros!$A$5:$AY$22116,35,FALSE),0)","v":254},{"$f":"IFERROR(VLOOKUP($A13,Filtros!$A$5:$AY$22116,36,FALSE),0)","v":792},{"$f":"IFERROR(VLOOKUP($A13,Filtros!$A$5:$AY$22116,37,FALSE),0)","v":311},{"$f":"IFERROR(VLOOKUP($A13,Filtros!$A$5:$AY$22116,38,FALSE),0)","v":948},{"$f":"IFERROR(VLOOKUP($A13,Filtros!$A$5:$AY$22116,39,FALSE),0)","v":235},{"$f":"IFERROR(VLOOKUP($A13,Filtros!$A$5:$AY$22116,40,FALSE),0)","v":963},{"$f":"IFERROR(VLOOKUP($A13,Filtros!$A$5:$AY$22116,41,FALSE),0)","v":35},{"$f":"IFERROR(VLOOKUP($A13,Filtros!$A$5:$AY$22116,42,FALSE),0)","v":87},{"$f":"IFERROR(VLOOKUP($A13,Filtros!$A$5:$AY$22116,43,FALSE),0)","v":38},{"$f":"IFERROR(VLOOKUP($A13,Filtros!$A$5:$AY$22116,44,FALSE),0)","v":135},{"$f":"IFERROR(VLOOKUP($A13,Filtros!$A$5:$AY$22116,45,FALSE),0)","v":525},{"$f":"IFERROR(VLOOKUP($A13,Filtros!$A$5:$AY$22116,46,FALSE),0)","v":1632},{"$f":"$CG13 & $CH13 & $CI13 & $CJ13 & $CK13 & CL13 & CM13 & CU13 & CN13 & CO13 & CQ13 & CR13 & CS13 & CV13","v":""},{"$nulls":35},{"$f":"IF($AO13>$F13,\"* La celda 'Gestantes' debe ser menor o igual al Total de Mujeres en control. \",\"\")","v":""},{"$f":"IF($AP13>$F13,\"* La celda 'Madres de Hijos menor de 5 años' debe ser menor o igual al Total de Mujeres en control. \",\"\")","v":""},{"$f":"IF(($AQ13)>$E13,\"* La celda 'Pueblos Originarios / Hombres' debe ser menor o igual al Total de Hombres en control. \",\"\")","v":""},{"$f":"IF($AR13>$F13,\"* La celda 'Pueblos Originarios / Mujeres' debe ser menor o igual al Total de Mujeres en control. \",\"\")","v":""},{"$f":"IF(($AS13)>$E13,\"* La celda 'Población Migrantes / Hombres' debe ser menor o igual al Total de Hombres en control. \",\"\")","v":""},{"$f":"IF($AT13>$F13,\"* La celda 'Población Migrantes / Mujeres' debe ser menor o igual al Total de Mujeres en control. \",\"\")","v":""},{"$f":"IF($AU13>$D13,\"* La celda 'Niños, Niñas, Adolescentes y Jóvenes de Población SENAME' debe ser menor o igual al Total de Ambos Sexos. \",\"\")","v":""},{"$f":"IF(AND($D13<>0,$AO13=\"\"),\"* No olvide escribir en la celda de 'Gestantes' (Digite CERO si no tiene). \",\"\")","v":""},{"$f":"IF(AND($D13<>0,$AP13=\"\"),\"* No olvide escribir en la celda de 'Madres de Hijos menor de 5 años' (Digite CERO si no tiene). \",\"\")","v":""},{"$f":"IF(AND($D13<>0,$AU13=\"\"),\"* No olvide escribir en la celda de 'Niños, Niñas, Adolescentes y Jóvenes de Población SENAME' (Digite CERO si no tiene). \",\"\")","v":""},{"$f":"IF(AND($E13<>0,$AQ13=\"\"),\"* No olvide escribir en las celdas de 'Pueblos Originarios' (Digite CERO si no tiene). \",IF(AND($F13<>0,$AR13=\"\"),\"* No olvide escribir en las celdas de 'Pueblos Originarios' (Digite CERO si no tiene). \",\"\"))","v":""},{"$f":"IF(AND($E13<>0,$AS13=\"\"),\"* No olvide escribir en las celdas de 'Población Migrantes' (Digite CERO si no tiene). \",IF(AND($F13<>0,$AT13=\"\"),\"* No olvide escribir en las celdas de 'Población Migrantes' (Digite CERO si no tiene). \",\"\"))","v":""},{"$nulls":8},{"$f":"IF($AO13>$F13,1,0)","v":0},{"$f":"IF($AP13>$F13,1,0)","v":0},{"$f":"IF(($AQ13)>$E13,1,0)","v":0},{"$f":"IF($AR13>$F13,1,0)","v":0},{"$f":"IF(($AS13)>$E13,1,0)","v":0},{"$f":"IF($AT13>$F13,1,0)","v":0},{"$f":"IF($AU13>$D13,1,0)","v":0},{"$f":"IF(AND($D13<>0,$AO13=\"\"),1,0)","v":0},{"$f":"IF(AND($D13<>0,$AP13=\"\"),1,0)","v":0},{"$f":"IF(AND($D13<>0,$AU13=\"\"),1,0)","v":0},{"$f":"IF(AND($E13<>0,$AQ13=\"\"),1,IF(AND($F13<>0,$AR13=\"\"),1,0))","v":0},{"$f":"IF(AND($E13<>0,$AS13=\"\"),1,IF(AND($F13<>0,$AT13=\"\"),1,0))","v":0}]
[null,"FACTORES DE RIESGO Y CONDICIONANTES DE LA SALUD MENTAL"]
["P6221100","VIOLENCIA ","VICTIMA",{"$f":"IFERROR(VLOOKUP($A15,Filtros!$A$5:$AY$22116,2,FALSE),0)","v":1043},{"$f":"IFERROR(VLOOKUP($A15,Filtros!$A$5:$AY$22116,3,FALSE),0)","v":134},{"$f":"IFERROR(VLOOKUP($A15,Filtros!$A$5:$AY$22116,4,FALSE),0)","v":909},{"$f":"IFERROR(VLOOKUP($A15,Filtros!$A$5:$AY$22116,5,FALSE),0)","v":2},{"$f":"IFERROR(VLOOKUP($A15,Filtros!$A$5:$AY$22116,6,FALSE),0)","v":4},{"$f":"IFERROR(VLOOKUP($A15,Filtros!$A$5:$AY$22116,7,FALSE),0)","v":32},{"$f":"IFERROR(VLOOKUP($A15,Filtros!$A$5:$AY$22116,8,FALSE),0)","v":16},{"$f":"IFERROR(VLOOKUP($A15,Filtros!$A$5:$AY$22116,9,FALSE),0)","v":20},{"$f":"IFERROR(VLOOKUP($A15,Filtros!$A$5:$AY$22116,10,FALSE),0)","v":43},{"$f":"IFERROR(VLOOKUP($A15,Filtros!$A$5:$AY$22116,11,FALSE),0)","v":26},{"$f":"IFERROR(VLOOKUP($A15,Filtros!$A$5:$AY$22116,12,FALSE),0)","v":61},{"$f":"IFERROR(VLOOKUP($A15,Filtros!$A$5:$AY$22116,13,FALSE),0)","v":10},{"$f":"IFERROR(VLOOKUP($A15,Filtros!$A$5:$AY$22116,14,FALSE),0)","v":70},{"$f":"IFERROR(VLOOKUP($A15,Filtros!$A$5:$AY$22116,15,FALSE),0)","v":8},{"$f":"IFERROR(VLOOKUP($A15,Filtros!$A$5:$AY$22116,16,FALSE),0)","v":92},{"$f":"IFERROR(VLOOKUP($A15,Filtros!$A$5:$AY$22116,17,FALSE),0)","v":3},{"$f":"IFERROR(VLOOKUP($A15,Filtros!$A$5:$AY$22116,18,FALSE),0)","v":76},{"$f":"IFERROR(VLOOKUP($A15,Filtros!$A$5:$AY$22116,19,FALSE),0)","v":3},{"$f":"IFERROR(VLOOKUP($A15,Filtros!$A$5:$AY$22116,20,FALSE),0)","v":74},{"$f":"IFERROR(VLOOKUP($A15,Filtros!$A$5:$AY$22116,21,FALSE),0)","v":5},{"$f":"IFERROR(VLOOKUP($A15,Filtros!$A$5:$AY$22116,22,FALSE),0)","v":72},{"$f":"IFERROR(VLOOKUP($A15,Filtros!$A$5:$AY$22116,23,FALSE),0)","v":2},{"$f":"IFERROR(VLOOKUP($A15,Filtros!$A$5:$AY$22116,24,FALSE),0)","v":79},{"$f":"IFERROR(VLOOKUP($A15,Filtros!$A$5:$AY$22116,25,FALSE),0)","v":6},{"$f":"IFERROR(VLOOKUP($A15,Filtros!$A$5:$AY$22116,26,FALSE),0)","v":78},{"$f":"IFERROR(VLOOKUP($A15,Filtros!$A$5:$AY$22116,27,FALSE),0)","v":2},{"$f":"IFERROR(VLOOKUP($A15,Filtros!$A$5:$AY$22116,28,FALSE),0)","v":70},{"$f":"IFERROR(VLOOKUP($A15,Filtros!$A$5:$AY$22116,29,FALSE),0)","v":6},{"$f":"IFERROR(VLOOKUP($A15,Filtros!$A$5:$AY$22116,30,FALSE),0)","v":54},{"$f":"IFERROR(VLOOKUP($A15,Filtros!$A$5:$AY$22116,31,FALSE),0)","v":6},{"$f":"IFERROR(VLOOKUP($A15,Filtros!$A$5:$AY$22116,32,FALSE),0)","v":39},{"$f":"IFERROR(VLOOKUP($A15,Filtros!$A$5:$AY$22116,33,FALSE),0)","v":1},{"$f":"IFERROR(VLOOKUP($A15,Filtros!$A$5:$AY$22116,34,FALSE),0)","v":47},{"$f":"IFERROR(VLOOKUP($A15,Filtros!$A$5:$AY$22116,35,FALSE),0)","v":0},{"$f":"IFERROR(VLOOKUP($A15,Filtros!$A$5:$AY$22116,36,FALSE),0)","v":20},{"$f":"IFERROR(VLOOKUP($A15,Filtros!$A$5:$AY$22116,37,FALSE),0)","v":2},{"$f":"IFERROR(VLOOKUP($A15,Filtros!$A$5:$AY$22116,38,FALSE),0)","v":14},{"$f":"IFERROR(VLOOKUP($A15,Filtros!$A$5:$AY$22116,39,FALSE),0)","v":16},{"$f":"IFERROR(VLOOKUP($A15,Filtros!$A$5:$AY$22116,40,FALSE),0)","v":87},{"$f":"IFERROR(VLOOKUP($A15,Filtros!$A$5:$AY$22116,41,FALSE),0)","v":1},{"$f":"IFERROR(VLOOKUP($A15,Filtros!$A$5:$AY$22116,42,FALSE),0)","v":4},{"$f":"IFERROR(VLOOKUP($A15,Filtros!$A$5:$AY$22116,43,FALSE),0)","v":0},{"$f":"IFERROR(VLOOKUP($A15,Filtros!$A$5:$AY$22116,44,FALSE),0)","v":8},{"$f":"IFERROR(VLOOKUP($A15,Filtros!$A$5:$AY$22116,45,FALSE),0)","v":50},{"$f":"IFERROR(VLOOKUP($A15,Filtros!$A$5:$AY$22116,46,FALSE),0)","v":17},{"$f":"$CG15 & $CH15 & $CI15 & $CJ15 & $CK15 & CL15 & CM15 & CU15 & CN15 & CO15 & CQ15 & CR15 & CS15 & CV15","v":""},{"$nulls":35},{"$f":"IF($AO15>$F15,\"* La celda 'Gestantes' debe ser menor o igual al Total de Mujeres en control. \",\"\")","v":""},{"$f":"IF($AP15>$F15,\"* La celda 'Madres de Hijos menor de 5 años' debe ser menor o igual al Total de Mujeres en control. \",\"\")","v":""},{"$f":"IF(($AQ15)>$E15,\"* La celda 'Pueblos Originarios / Hombres' debe ser menor o igual al Total de Hombres en control. \",\"\")","v":""},{"$f":"IF($AR15>$F15,\"* La celda 'Pueblos Originarios / Mujeres' debe ser menor o igual al Total de Mujeres en control. \",\"\")","v":""},{"$f":"IF(($AS15)>$E15,\"* La celda 'Población Migrantes / Hombres' debe ser menor o igual al Total de Hombres en control. \",\"\")","v":""},{"$f":"IF($AT15>$F15,\"* La celda 'Población Migrantes / Mujeres' debe ser menor o igual al Total de Mujeres en control. \",\"\")","v":""},{"$f":"IF($AU15>$D15,\"* La celda 'Niños, Niñas, Adolescentes y Jóvenes de Población SENAME' debe ser menor o igual al Total de Ambos Sexos. \",\"\")","v":""},{"$f":"IF(AND($D15<>0,$AO15=\"\"),\"* No olvide escribir en la celda de 'Gestantes' (Digite CERO si no tiene). \",\"\")","v":""},{"$f":"IF(AND($D15<>0,$AP15=\"\"),\"* No olvide escribir en la celda de 'Madres de Hijos menor de 5 años' (Digite CERO si no tiene). \",\"\")","v":""},{"$f":"IF(AND($D15<>0,$AU15=\"\"),\"* No olvide escribir en la celda de 'Niños, Niñas, Adolescentes y Jóvenes de Población SENAME' (Digite CERO si no tiene). \",\"\")","v":""},{"$f":"IF(AND($E15<>0,$AQ15=\"\"),\"* No olvide escribir en las celdas de 'Pueblos Originarios' (Digite CERO si no tiene). \",IF(AND($F15<>0,$AR15=\"\"),\"* No olvide escribir en las celdas de 'Pueblos Originarios' (Digite CERO si no tiene). \",\"\"))","v":""},{"$f":"IF(AND($E15<>0,$AS15=\"\"),\"* No olvide escribir en las celdas de 'Población Migrantes' (Digite CERO si no tiene). \",IF(AND($F15<>0,$AT15=\"\"),\"* No olvide escribir en las celdas de 'Población Migrantes' (Digite CERO si no tiene). \",\"\"))","v":""},{"$nulls":8},{"$f":"IF($AO15>$F15,1,0)","v":0},{"$f":"IF($AP15>$F15,1,0)","v":0},{"$f":"IF(($AQ15)>$E15,1,0)","v":0},{"$f":"IF($AR15>$F15,1,0)","v":0},{"$f":"IF(($AS15)>$E15,1,0)","v":0},{"$f":"IF($AT15>$F15,1,0)","v":0},{"$f":"IF($AU15>$D15,1,0)","v":0},{"$f":"IF(AND($D15<>0,$AO15=\"\"),1,0)","v":0},{"$f":"IF(AND($D15<>0,$AP15=\"\"),1,0)","v":0},{"$f":"IF(AND($D15<>0,$AU15=\"\"),1,0)","v":0},{"$f":"IF(AND($E15<>0,$AQ15=\"\"),1,IF(AND($F15<>0,$AR15=\"\"),1,0))","v":0},{"$f":"IF(AND($E15<>0,$AS15=\"\"),1,IF(AND($F15<>0,$AT15=\"\"),1,0))","v":0}]
["P6221200",null,"AGRESOR/A",{"$f":"IFERROR(VLOOKUP($A16,Filtros!$A$5:$AY$22116,2,FALSE),0)","v":284},{"$f":"IFERROR(VLOOKUP($A16,Filtros!$A$5:$AY$22116,3,FALSE),0)","v":215},{"$f":"IFERROR(VLOOKUP($A16,Filtros!$A$5:$AY$22116,4,FALSE),0)","v":69},{"$f":"IFERROR(VLOOKUP($A16,Filtros!$A$5:$AY$22116,5,FALSE),0)","v":0},{"$f":"IFERROR(VLOOKUP($A16,Filtros!$A$5:$AY$22116,6,FALSE),0)","v":0},{"$f":"IFERROR(VLOOKUP($A16,Filtros!$A$5:$AY$22116,7,FALSE),0)","v":0},{"$f":"IFERROR(VLOOKUP($A16,Filtros!$A$5:$AY$22116,8,FALSE),0)","v":0},{"$f":"IFERROR(VLOOKUP($A16,Filtros!$A$5:$AY$22116,9,FALSE),0)","v":0},{"$f":"IFERROR(VLOOKUP($A16,Filtros!$A$5:$AY$22116,10,FALSE),0)","v":1},{"$f":"IFERROR(VLOOKUP($A16,Filtros!$A$5:$AY$22116,11,FALSE),0)","v":4},{"$f":"IFERROR(VLOOKUP($A16,Filtros!$A$5:$AY$22116,12,FALSE),0)","v":1},{"$f":"IFERROR(VLOOKUP($A16,Filtros!$A$5:$AY$22116,13,FALSE),0)","v":12},{"$f":"IFERROR(VLOOKUP($A16,Filtros!$A$5:$AY$22116,14,FALSE),0)","v":5},{"$f":"IFERROR(VLOOKUP($A16,Filtros!$A$5:$AY$22116,15,FALSE),0)","v":29},{"$f":"IFERROR(VLOOKUP($A16,Filtros!$A$5:$AY$22116,16,FALSE),0)","v":12},{"$f":"IFERROR(VLOOKUP($A16,Filtros!$A$5:$AY$22116,17,FALSE),0)","v":27},{"$f":"IFERROR(VLOOKUP($A16,Filtros!$A$5:$AY$22116,18,FALSE),0)","v":8},{"$f":"IFERROR(VLOOKUP($A16,Filtros!$A$5:$AY$22116,19,FALSE),0)","v":26},{"$f":"IFERROR(VLOOKUP($A16,Filtros!$A$5:$AY$22116,20,FALSE),0)","v":8},{"$f":"IFERROR(VLOOKUP($A16,Filtros!$A$5:$AY$22116,21,FALSE),0)","v":28},{"$f":"IFERROR(VLOOKUP($A16,Filtros!$A$5:$AY$22116,22,FALSE),0)","v":8},{"$f":"IFERROR(VLOOKUP($A16,Filtros!$A$5:$AY$22116,23,FALSE),0)","v":22},{"$f":"IFERROR(VLOOKUP($A16,Filtros!$A$5:$AY$22116,24,FALSE),0)","v":13},{"$f":"IFERROR(VLOOKUP($A16,Filtros!$A$5:$AY$22116,25,FALSE),0)","v":23},{"$f":"IFERROR(VLOOKUP($A16,Filtros!$A$5:$AY$22116,26,FALSE),0)","v":6},{"$f":"IFERROR(VLOOKUP($A16,Filtros!$A$5:$AY$22116,27,FALSE),0)","v":9},{"$f":"IFERROR(VLOOKUP($A16,Filtros!$A$5:$AY$22116,28,FALSE),0)","v":1},{"$f":"IFERROR(VLOOKUP($A16,Filtros!$A$5:$AY$22116,29,FALSE),0)","v":14},{"$f":"IFERROR(VLOOKUP($A16,Filtros!$A$5:$AY$22116,30,FALSE),0)","v":2},{"$f":"IFERROR(VLOOKUP($A16,Filtros!$A$5:$AY$22116,31,FALSE),0)","v":12},{"$f":"IFERROR(VLOOKUP($A16,Filtros!$A$5:$AY$22116,32,FALSE),0)","v":1},{"$f":"IFERROR(VLOOKUP($A16,Filtros!$A$5:$AY$22116,33,FALSE),0)","v":4},{"$f":"IFERROR(VLOOKUP($A16,Filtros!$A$5:$AY$22116,34,FALSE),0)","v":3},{"$f":"IFERROR(VLOOKUP($A16,Filtros!$A$5:$AY$22116,35,FALSE),0)","v":2},{"$f":"IFERROR(VLOOKUP($A16,Filtros!$A$5:$AY$22116,36,FALSE),0)","v":0},{"$f":"IFERROR(VLOOKUP($A16,Filtros!$A$5:$AY$22116,37,FALSE),0)","v":3},{"$f":"IFERROR(VLOOKUP($A16,Filtros!$A$5:$AY$22116,38,FALSE),0)","v":0},{"$f":"IFERROR(VLOOKUP($A16,Filtros!$A$5:$AY$22116,39,FALSE),0)","v":3},{"$f":"IFERROR(VLOOKUP($A16,Filtros!$A$5:$AY$22116,40,FALSE),0)","v":5},{"$f":"IFERROR(VLOOKUP($A16,Filtros!$A$5:$AY$22116,41,FALSE),0)","v":1},{"$f":"IFERROR(VLOOKUP($A16,Filtros!$A$5:$AY$22116,42,FALSE),0)","v":1},{"$f":"IFERROR(VLOOKUP($A16,Filtros!$A$5:$AY$22116,43,FALSE),0)","v":0},{"$f":"IFERROR(VLOOKUP($A16,Filtros!$A$5:$AY$22116,44,FALSE),0)","v":0},{"$f":"IFERROR(VLOOKUP($A16,Filtros!$A$5:$AY$22116,45,FALSE),0)","v":2},{"$f":"IFERROR(VLOOKUP($A16,Filtros!$A$5:$AY$22116,46,FALSE),0)","v":3},"",{"$nulls":35},"","","","","","","","","","","","",{"$nulls":8},0,0,0,0,0,0,0,0,0,0,0,0]
["P6221500","ABUSO SEXUAL",null,{"$f":"IFERROR(VLOOKUP($A17,Filtros!$A$5:$AY$22116,2,FALSE),0)","v":214},{"$f":"IFERROR(VLOOKUP($A17,Filtros!$A$5:$AY$22116,3,FALSE),0)","v":27},{"$f":"IFERROR(VLOOKUP($A17,Filtros!$A$5:$AY$22116,4,FALSE),0)","v":187},{"$f":"IFERROR(VLOOKUP($A17,Filtros!$A$5:$AY$22116,5,FALSE),0)","v":0},{"$f":"IFERROR(VLOOKUP($A17,Filtros!$A$5:$AY$22116,6,FALSE),0)","v":1},{"$f":"IFERROR(VLOOKUP($A17,Filtros!$A$5:$AY$22116,7,FALSE),0)","v":15},{"$f":"IFERROR(VLOOKUP($A17,Filtros!$A$5:$AY$22116,8,FALSE),0)","v":8},{"$f":"IFERROR(VLOOKUP($A17,Filtros!$A$5:$AY$22116,9,FALSE),0)","v":4},{"$f":"IFERROR(VLOOKUP($A17,Filtros!$A$5:$AY$22116,10,FALSE),0)","v":21},{"$f":"IFERROR(VLOOKUP($A17,Filtros!$A$5:$AY$22116,11,FALSE),0)","v":5},{"$f":"IFERROR(VLOOKUP($A17,Filtros!$A$5:$AY$22116,12,FALSE),0)","v":63},{"$f":"IFERROR(VLOOKUP($A17,Filtros!$A$5:$AY$22116,13,FALSE),0)","v":0},{"$f":"IFERROR(VLOOKUP($A17,Filtros!$A$5:$AY$22116,14,FALSE),0)","v":20},{"$f":"IFERROR(VLOOKUP($A17,Filtros!$A$5:$AY$22116,15,FALSE),0)","v":1},{"$f":"IFERROR(VLOOKUP($A17,Filtros!$A$5:$AY$22116,16,FALSE),0)","v":12},{"$f":"IFERROR(VLOOKUP($A17,Filtros!$A$5:$AY$22116,17,FALSE),0)","v":0},{"$f":"IFERROR(VLOOKUP($A17,Filtros!$A$5:$AY$22116,18,FALSE),0)","v":16},{"$f":"IFERROR(VLOOKUP($A17,Filtros!$A$5:$AY$22116,19,FALSE),0)","v":1},{"$f":"IFERROR(VLOOKUP($A17,Filtros!$A$5:$AY$22116,20,FALSE),0)","v":12},{"$f":"IFERROR(VLOOKUP($A17,Filtros!$A$5:$AY$22116,21,FALSE),0)","v":0},{"$f":"IFERROR(VLOOKUP($A17,Filtros!$A$5:$AY$22116,22,FALSE),0)","v":12},{"$f":"IFERROR(VLOOKUP($A17,Filtros!$A$5:$AY$22116,23,FALSE),0)","v":0},{"$f":"IFERROR(VLOOKUP($A17,Filtros!$A$5:$AY$22116,24,FALSE),0)","v":4},{"$f":"IFERROR(VLOOKUP($A17,Filtros!$A$5:$AY$22116,25,FALSE),0)","v":0},{"$f":"IFERROR(VLOOKUP($A17,Filtros!$A$5:$AY$22116,26,FALSE),0)","v":2},{"$f":"IFERROR(VLOOKUP($A17,Filtros!$A$5:$AY$22116,27,FALSE),0)","v":1},{"$f":"IFERROR(VLOOKUP($A17,Filtros!$A$5:$AY$22116,28,FALSE),0)","v":5},{"$f":"IFERROR(VLOOKUP($A17,Filtros!$A$5:$AY$22116,29,FALSE),0)","v":0},{"$f":"IFERROR(VLOOKUP($A17,Filtros!$A$5:$AY$22116,30,FALSE),0)","v":5},{"$f":"IFERROR(VLOOKUP($A17,Filtros!$A$5:$AY$22116,31,FALSE),0)","v":0},{"$f":"IFERROR(VLOOKUP($A17,Filtros!$A$5:$AY$22116,32,FALSE),0)","v":2},{"$f":"IFERROR(VLOOKUP($A17,Filtros!$A$5:$AY$22116,33,FALSE),0)","v":0},{"$f":"IFERROR(VLOOKUP($A17,Filtros!$A$5:$AY$22116,34,FALSE),0)","v":3},{"$f":"IFERROR(VLOOKUP($A17,Filtros!$A$5:$AY$22116,35,FALSE),0)","v":0},{"$f":"IFERROR(VLOOKUP($A17,Filtros!$A$5:$AY$22116,36,FALSE),0)","v":0},{"$f":"IFERROR(VLOOKUP($A17,Filtros!$A$5:$AY$22116,37,FALSE),0)","v":0},{"$f":"IFERROR(VLOOKUP($A17,Filtros!$A$5:$AY$22116,38,FALSE),0)","v":1},{"$f":"IFERROR(VLOOKUP($A17,Filtros!$A$5:$AY$22116,39,FALSE),0)","v":1},{"$f":"IFERROR(VLOOKUP($A17,Filtros!$A$5:$AY$22116,40,FALSE),0)","v":5},{"$f":"IFERROR(VLOOKUP($A17,Filtros!$A$5:$AY$22116,41,FALSE),0)","v":0},{"$f":"IFERROR(VLOOKUP($A17,Filtros!$A$5:$AY$22116,42,FALSE),0)","v":0},{"$f":"IFERROR(VLOOKUP($A17,Filtros!$A$5:$AY$22116,43,FALSE),0)","v":1},{"$f":"IFERROR(VLOOKUP($A17,Filtros!$A$5:$AY$22116,44,FALSE),0)","v":4},{"$f":"IFERROR(VLOOKUP($A17,Filtros!$A$5:$AY$22116,45,FALSE),0)","v":26},{"$f":"IFERROR(VLOOKUP($A17,Filtros!$A$5:$AY$22116,46,FALSE),0)","v":25},"",{"$nulls":35},"","","","","","","","","","","","",{"$nulls":8},0,0,0,0,0,0,0,0,0,0,0,0]
["P6230800","SUICIDIO","IDEACIÓN",{"$f":"IFERROR(VLOOKUP($A18,Filtros!$A$5:$AY$22116,2,FALSE),0)","v":515},{"$f":"IFERROR(VLOOKUP($A18,Filtros!$A$5:$AY$22116,3,FALSE),0)","v":138},{"$f":"IFERROR(VLOOKUP($A18,Filtros!$A$5:$AY$22116,4,FALSE),0)","v":377},{"$f":"IFERROR(VLOOKUP($A18,Filtros!$A$5:$AY$22116,5,FALSE),0)","v":0},{"$f":"IFERROR(VLOOKUP($A18,Filtros!$A$5:$AY$22116,6,FALSE),0)","v":0},{"$f":"IFERROR(VLOOKUP($A18,Filtros!$A$5:$AY$22116,7,FALSE),0)","v":0},{"$f":"IFERROR(VLOOKUP($A18,Filtros!$A$5:$AY$22116,8,FALSE),0)","v":1},{"$f":"IFERROR(VLOOKUP($A18,Filtros!$A$5:$AY$22116,9,FALSE),0)","v":6},{"$f":"IFERROR(VLOOKUP($A18,Filtros!$A$5:$AY$22116,10,FALSE),0)","v":40},{"$f":"IFERROR(VLOOKUP($A18,Filtros!$A$5:$AY$22116,11,FALSE),0)","v":41},{"$f":"IFERROR(VLOOKUP($A18,Filtros!$A$5:$AY$22116,12,FALSE),0)","v":65},{"$f":"IFERROR(VLOOKUP($A18,Filtros!$A$5:$AY$22116,13,FALSE),0)","v":16},{"$f":"IFERROR(VLOOKUP($A18,Filtros!$A$5:$AY$22116,14,FALSE),0)","v":40},{"$f":"IFERROR(VLOOKUP($A18,Filtros!$A$5:$AY$22116,15,FALSE),0)","v":11},{"$f":"IFERROR(VLOOKUP($A18,Filtros!$A$5:$AY$22116,16,FALSE),0)","v":24},{"$f":"IFERROR(VLOOKUP($A18,Filtros!$A$5:$AY$22116,17,FALSE),0)","v":5},{"$f":"IFERROR(VLOOKUP($A18,Filtros!$A$5:$AY$22116,18,FALSE),0)","v":27},{"$f":"IFERROR(VLOOKUP($A18,Filtros!$A$5:$AY$22116,19,FALSE),0)","v":6},{"$f":"IFERROR(VLOOKUP($A18,Filtros!$A$5:$AY$22116,20,FALSE),0)","v":27},{"$f":"IFERROR(VLOOKUP($A18,Filtros!$A$5:$AY$22116,21,FALSE),0)","v":5},{"$f":"IFERROR(VLOOKUP($A18,Filtros!$A$5:$AY$22116,22,FALSE),0)","v":20},{"$f":"IFERROR(VLOOKUP($A18,Filtros!$A$5:$AY$22116,23,FALSE),0)","v":4},{"$f":"IFERROR(VLOOKUP($A18,Filtros!$A$5:$AY$22116,24,FALSE),0)","v":19},{"$f":"IFERROR(VLOOKUP($A18,Filtros!$A$5:$AY$22116,25,FALSE),0)","v":7},{"$f":"IFERROR(VLOOKUP($A18,Filtros!$A$5:$AY$22116,26,FALSE),0)","v":31},{"$f":"IFERROR(VLOOKUP($A18,Filtros!$A$5:$AY$22116,27,FALSE),0)","v":9},{"$f":"IFERROR(VLOOKUP($A18,Filtros!$A$5:$AY$22116,28,FALSE),0)","v":23},{"$f":"IFERROR(VLOOKUP($A18,Filtros!$A$5:$AY$22116,29,FALSE),0)","v":11},{"$f":"IFERROR(VLOOKUP($A18,Filtros!$A$5:$AY$22116,30,FALSE),0)","v":20},{"$f":"IFERROR(VLOOKUP($A18,Filtros!$A$5:$AY$22116,31,FALSE),0)","v":5},{"$f":"IFERROR(VLOOKUP($A18,Filtros!$A$5:$AY$22116,32,FALSE),0)","v":18},{"$f":"IFERROR(VLOOKUP($A18,Filtros!$A$5:$AY$22116,33,FALSE),0)","v":9},{"$f":"IFERROR(VLOOKUP($A18,Filtros!$A$5:$AY$22116,34,FALSE),0)","v":9},{"$f":"IFERROR(VLOOKUP($A18,Filtros!$A$5:$AY$22116,35,FALSE),0)","v":0},{"$f":"IFERROR(VLOOKUP($A18,Filtros!$A$5:$AY$22116,36,FALSE),0)","v":8},{"$f":"IFERROR(VLOOKUP($A18,Filtros!$A$5:$AY$22116,37,FALSE),0)","v":3},{"$f":"IFERROR(VLOOKUP($A18,Filtros!$A$5:$AY$22116,38,FALSE),0)","v":5},{"$f":"IFERROR(VLOOKUP($A18,Filtros!$A$5:$AY$22116,39,FALSE),0)","v":0},{"$f":"IFERROR(VLOOKUP($A18,Filtros!$A$5:$AY$22116,40,FALSE),0)","v":21},{"$f":"IFERROR(VLOOKUP($A18,Filtros!$A$5:$AY$22116,41,FALSE),0)","v":0},{"$f":"IFERROR(VLOOKUP($A18,Filtros!$A$5:$AY$22116,42,FALSE),0)","v":2},{"$f":"IFERROR(VLOOKUP($A18,Filtros!$A$5:$AY$22116,43,FALSE),0)","v":1},{"$f":"IFERROR(VLOOKUP($A18,Filtros!$A$5:$AY$22116,44,FALSE),0)","v":1},{"$f":"IFERROR(VLOOKUP($A18,Filtros!$A$5:$AY$22116,45,FALSE),0)","v":12},{"$f":"IFERROR(VLOOKUP($A18,Filtros!$A$5:$AY$22116,46,FALSE),0)","v":76},"",{"$nulls":35},"","","","","","","","","","","","",{"$nulls":8},0,0,0,0,0,0,0,0,0,0,0,0]
["P6230900",null,"INTENTO",{"$f":"IFERROR(VLOOKUP($A19,Filtros!$A$5:$AY$22116,2,FALSE),0)","v":324},{"$f":"IFERROR(VLOOKUP($A19,Filtros!$A$5:$AY$22116,3,FALSE),0)","v":89},{"$f":"IFERROR(VLOOKUP($A19,Filtros!$A$5:$AY$22116,4,FALSE),0)","v":235},{"$f":"IFERROR(VLOOKUP($A19,Filtros!$A$5:$AY$22116,5,FALSE),0)","v":0},{"$f":"IFERROR(VLOOKUP($A19,Filtros!$A$5:$AY$22116,6,FALSE),0)","v":0},{"$f":"IFERROR(VLOOKUP($A19,Filtros!$A$5:$AY$22116,7,FALSE),0)","v":0},{"$f":"IFERROR(VLOOKUP($A19,Filtros!$A$5:$AY$22116,8,FALSE),0)","v":0},{"$f":"IFERROR(VLOOKUP($A19,Filtros!$A$5:$AY$22116,9,FALSE),0)","v":1},{"$f":"IFERROR(VLOOKUP($A19,Filtros!$A$5:$AY$22116,10,FALSE),0)","v":12},{"$f":"IFERROR(VLOOKUP($A19,Filtros!$A$5:$AY$22116,11,FALSE),0)","v":16},{"$f":"IFERROR(VLOOKUP($A19,Filtros!$A$5:$AY$22116,12,FALSE),0)","v":50},{"$f":"IFERROR(VLOOKUP($A19,Filtros!$A$5:$AY$22116,13,FALSE),0)","v":13},{"$f":"IFERROR(VLOOKUP($A19,Filtros!$A$5:$AY$22116,14,FALSE),0)","v":30},{"$f":"IFERROR(VLOOKUP($A19,Filtros!$A$5:$AY$22116,15,FALSE),0)","v":10},{"$f":"IFERROR(VLOOKUP($A19,Filtros!$A$5:$AY$22116,16,FALSE),0)","v":22},{"$f":"IFERROR(VLOOKUP($A19,Filtros!$A$5:$AY$22116,17,FALSE),0)","v":10},{"$f":"IFERROR(VLOOKUP($A19,Filtros!$A$5:$AY$22116,18,FALSE),0)","v":14},{"$f":"IFERROR(VLOOKUP($A19,Filtros!$A$5:$AY$22116,19,FALSE),0)","v":4},{"$f":"IFERROR(VLOOKUP($A19,Filtros!$A$5:$AY$22116,20,FALSE),0)","v":16},{"$f":"IFERROR(VLOOKUP($A19,Filtros!$A$5:$AY$22116,21,FALSE),0)","v":3},{"$f":"IFERROR(VLOOKUP($A19,Filtros!$A$5:$AY$22116,22,FALSE),0)","v":18},{"$f":"IFERROR(VLOOKUP($A19,Filtros!$A$5:$AY$22116,23,FALSE),0)","v":7},{"$f":"IFERROR(VLOOKUP($A19,Filtros!$A$5:$AY$22116,24,FALSE),0)","v":25},{"$f":"IFERROR(VLOOKUP($A19,Filtros!$A$5:$AY$22116,25,FALSE),0)","v":5},{"$f":"IFERROR(VLOOKUP($A19,Filtros!$A$5:$AY$22116,26,FALSE),0)","v":18},{"$f":"IFERROR(VLOOKUP($A19,Filtros!$A$5:$AY$22116,27,FALSE),0)","v":5},{"$f":"IFERROR(VLOOKUP($A19,Filtros!$A$5:$AY$22116,28,FALSE),0)","v":17},{"$f":"IFERROR(VLOOKUP($A19,Filtros!$A$5:$AY$22116,29,FALSE),0)","v":4},{"$f":"IFERROR(VLOOKUP($A19,Filtros!$A$5:$AY$22116,30,FALSE),0)","v":7},{"$f":"IFERROR(VLOOKUP($A19,Filtros!$A$5:$AY$22116,31,FALSE),0)","v":3},{"$f":"IFERROR(VLOOKUP($A19,Filtros!$A$5:$AY$22116,32,FALSE),0)","v":2},{"$f":"IFERROR(VLOOKUP($A19,Filtros!$A$5:$AY$22116,33,FALSE),0)","v":3},{"$f":"IFERROR(VLOOKUP($A19,Filtros!$A$5:$AY$22116,34,FALSE),0)","v":1},{"$f":"IFERROR(VLOOKUP($A19,Filtros!$A$5:$AY$22116,35,FALSE),0)","v":3},{"$f":"IFERROR(VLOOKUP($A19,Filtros!$A$5:$AY$22116,36,FALSE),0)","v":3},{"$f":"IFERROR(VLOOKUP($A19,Filtros!$A$5:$AY$22116,37,FALSE),0)","v":2},{"$f":"IFERROR(VLOOKUP($A19,Filtros!$A$5:$AY$22116,38,FALSE),0)","v":0},{"$f":"IFERROR(VLOOKUP($A19,Filtros!$A$5:$AY$22116,39,FALSE),0)","v":1},{"$f":"IFERROR(VLOOKUP($A19,Filtros!$A$5:$AY$22116,40,FALSE),0)","v":20},{"$f":"IFERROR(VLOOKUP($A19,Filtros!$A$5:$AY$22116,41,FALSE),0)","v":0},{"$f":"IFERROR(VLOOKUP($A19,Filtros!$A$5:$AY$22116,42,FALSE),0)","v":0},{"$f":"IFERROR(VLOOKUP($A19,Filtros!$A$5:$AY$22116,43,FALSE),0)","v":0},{"$f":"IFERROR(VLOOKUP($A19,Filtros!$A$5:$AY$22116,44,FALSE),0)","v":1},{"$f":"IFERROR(VLOOKUP($A19,Filtros!$A$5:$AY$22116,45,FALSE),0)","v":5},{"$f":"IFERROR(VLOOKUP($A19,Filtros!$A$5:$AY$22116,46,FALSE),0)","v":24},"",{"$nulls":35},"","","","","","","","","","","","",{"$nulls":8},0,0,0,0,0,0,0,0,0,0,0,0]
["P6227601","PERSONAS CON DIAGNOSTICOS DE TRASTORNOS MENTALES ",null,{"$f":"IFERROR(VLOOKUP($A20,Filtros!$A$5:$AY$22116,2,FALSE),0)","v":29663},{"$f":"IFERROR(VLOOKUP($A20,Filtros!$A$5:$AY$22116,3,FALSE),0)","v":8675},{"$f":"IFERROR(VLOOKUP($A20,Filtros!$A$5:$AY$22116,4,FALSE),0)","v":20988},{"$f":"IFERROR(VLOOKUP($A20,Filtros!$A$5:$AY$22116,5,FALSE),0)","v":125},{"$f":"IFERROR(VLOOKUP($A20,Filtros!$A$5:$AY$22116,6,FALSE),0)","v":101},{"$f":"IFERROR(VLOOKUP($A20,Filtros!$A$5:$AY$22116,7,FALSE),0)","v":1300},{"$f":"IFERROR(VLOOKUP($A20,Filtros!$A$5:$AY$22116,8,FALSE),0)","v":875},{"$f":"IFERROR(VLOOKUP($A20,Filtros!$A$5:$AY$22116,9,FALSE),0)","v":1147},{"$f":"IFERROR(VLOOKUP($A20,Filtros!$A$5:$AY$22116,10,FALSE),0)","v":1323},{"$f":"IFERROR(VLOOKUP($A20,Filtros!$A$5:$AY$22116,11,FALSE),0)","v":897},{"$f":"IFERROR(VLOOKUP($A20,Filtros!$A$5:$AY$22116,12,FALSE),0)","v":1737},{"$f":"IFERROR(VLOOKUP($A20,Filtros!$A$5:$AY$22116,13,FALSE),0)","v":549},{"$f":"IFERROR(VLOOKUP($A20,Filtros!$A$5:$AY$22116,14,FALSE),0)","v":1367},{"$f":"IFERROR(VLOOKUP($A20,Filtros!$A$5:$AY$22116,15,FALSE),0)","v":476},{"$f":"IFERROR(VLOOKUP($A20,Filtros!$A$5:$AY$22116,16,FALSE),0)","v":1310},{"$f":"IFERROR(VLOOKUP($A20,Filtros!$A$5:$AY$22116,17,FALSE),0)","v":457},{"$f":"IFERROR(VLOOKUP($A20,Filtros!$A$5:$AY$22116,18,FALSE),0)","v":1332},{"$f":"IFERROR(VLOOKUP($A20,Filtros!$A$5:$AY$22116,19,FALSE),0)","v":448},{"$f":"IFERROR(VLOOKUP($A20,Filtros!$A$5:$AY$22116,20,FALSE),0)","v":1257},{"$f":"IFERROR(VLOOKUP($A20,Filtros!$A$5:$AY$22116,21,FALSE),0)","v":394},{"$f":"IFERROR(VLOOKUP($A20,Filtros!$A$5:$AY$22116,22,FALSE),0)","v":1292},{"$f":"IFERROR(VLOOKUP($A20,Filtros!$A$5:$AY$22116,23,FALSE),0)","v":405},{"$f":"IFERROR(VLOOKUP($A20,Filtros!$A$5:$AY$22116,24,FALSE),0)","v":1432},{"$f":"IFERROR(VLOOKUP($A20,Filtros!$A$5:$AY$22116,25,FALSE),0)","v":395},{"$f":"IFERROR(VLOOKUP($A20,Filtros!$A$5:$AY$22116,26,FALSE),0)","v":1567},{"$f":"IFERROR(VLOOKUP($A20,Filtros!$A$5:$AY$22116,27,FALSE),0)","v":412},{"$f":"IFERROR(VLOOKUP($A20,Filtros!$A$5:$AY$22116,28,FALSE),0)","v":1668},{"$f":"IFERROR(VLOOKUP($A20,Filtros!$A$5:$AY$22116,29,FALSE),0)","v":397},{"$f":"IFERROR(VLOOKUP($A20,Filtros!$A$5:$AY$22116,30,FALSE),0)","v":1518},{"$f":"IFERROR(VLOOKUP($A20,Filtros!$A$5:$AY$22116,31,FALSE),0)","v":407},{"$f":"IFERROR(VLOOKUP($A20,Filtros!$A$5:$AY$22116,32,FALSE),0)","v":1350},{"$f":"IFERROR(VLOOKUP($A20,Filtros!$A$5:$AY$22116,33,FALSE),0)","v":307},{"$f":"IFERROR(VLOOKUP($A20,Filtros!$A$5:$AY$22116,34,FALSE),0)","v":1127},{"$f":"IFERROR(VLOOKUP($A20,Filtros!$A$5:$AY$22116,35,FALSE),0)","v":250},{"$f":"IFERROR(VLOOKUP($A20,Filtros!$A$5:$AY$22116,36,FALSE),0)","v":781},{"$f":"IFERROR(VLOOKUP($A20,Filtros!$A$5:$AY$22116,37,FALSE),0)","v":309},{"$f":"IFERROR(VLOOKUP($A20,Filtros!$A$5:$AY$22116,38,FALSE),0)","v":951},{"$f":"IFERROR(VLOOKUP($A20,Filtros!$A$5:$AY$22116,39,FALSE),0)","v":208},{"$f":"IFERROR(VLOOKUP($A20,Filtros!$A$5:$AY$22116,40,FALSE),0)","v":854},{"$f":"IFERROR(VLOOKUP($A20,Filtros!$A$5:$AY$22116,41,FALSE),0)","v":35},{"$f":"IFERROR(VLOOKUP($A20,Filtros!$A$5:$AY$22116,42,FALSE),0)","v":81},{"$f":"IFERROR(VLOOKUP($A20,Filtros!$A$5:$AY$22116,43,FALSE),0)","v":37},{"$f":"IFERROR(VLOOKUP($A20,Filtros!$A$5:$AY$22116,44,FALSE),0)","v":132},{"$f":"IFERROR(VLOOKUP($A20,Filtros!$A$5:$AY$22116,45,FALSE),0)","v":514},{"$f":"IFERROR(VLOOKUP($A20,Filtros!$A$5:$AY$22116,46,FALSE),0)","v":1360},"",{"$nulls":35},"","","","","","","","","","","","",{"$nulls":8},0,0,0,0,0,0,0,0,0,0,0,0]
["P6221600","TRASTORNOS DEL HUMOR\n(AFECTIVOS)","DEPRESIÓN LEVE",{"$f":"IFERROR(VLOOKUP($A21,Filtros!$A$5:$AY$22116,2,FALSE),0)","v":2639},{"$f":"IFERROR(VLOOKUP($A21,Filtros!$A$5:$AY$22116,3,FALSE),0)","v":458},{"$f":"IFERROR(VLOOKUP($A21,Filtros!$A$5:$AY$22116,4,FALSE),0)","v":2181},{"$f":"IFERROR(VLOOKUP($A21,Filtros!$A$5:$AY$22116,5,FALSE),0)","v":0},{"$f":"IFERROR(VLOOKUP($A21,Filtros!$A$5:$AY$22116,6,FALSE),0)","v":0},{"$f":"IFERROR(VLOOKUP($A21,Filtros!$A$5:$AY$22116,7,FALSE),0)","v":9},{"$f":"IFERROR(VLOOKUP($A21,Filtros!$A$5:$AY$22116,8,FALSE),0)","v":9},{"$f":"IFERROR(VLOOKUP($A21,Filtros!$A$5:$AY$22116,9,FALSE),0)","v":28},{"$f":"IFERROR(VLOOKUP($A21,Filtros!$A$5:$AY$22116,10,FALSE),0)","v":79},{"$f":"IFERROR(VLOOKUP($A21,Filtros!$A$5:$AY$22116,11,FALSE),0)","v":60},{"$f":"IFERROR(VLOOKUP($A21,Filtros!$A$5:$AY$22116,12,FALSE),0)","v":186},{"$f":"IFERROR(VLOOKUP($A21,Filtros!$A$5:$AY$22116,13,FALSE),0)","v":30},{"$f":"IFERROR(VLOOKUP($A21,Filtros!$A$5:$AY$22116,14,FALSE),0)","v":164},{"$f":"IFERROR(VLOOKUP($A21,Filtros!$A$5:$AY$22116,15,FALSE),0)","v":32},{"$f":"IFERROR(VLOOKUP($A21,Filtros!$A$5:$AY$22116,16,FALSE),0)","v":123},{"$f":"IFERROR(VLOOKUP($A21,Filtros!$A$5:$AY$22116,17,FALSE),0)","v":22},{"$f":"IFERROR(VLOOKUP($A21,Filtros!$A$5:$AY$22116,18,FALSE),0)","v":118},{"$f":"IFERROR(VLOOKUP($A21,Filtros!$A$5:$AY$22116,19,FALSE),0)","v":19},{"$f":"IFERROR(VLOOKUP($A21,Filtros!$A$5:$AY$22116,20,FALSE),0)","v":106},{"$f":"IFERROR(VLOOKUP($A21,Filtros!$A$5:$AY$22116,21,FALSE),0)","v":17},{"$f":"IFERROR(VLOOKUP($A21,Filtros!$A$5:$AY$22116,22,FALSE),0)","v":117},{"$f":"IFERROR(VLOOKUP($A21,Filtros!$A$5:$AY$22116,23,FALSE),0)","v":20},{"$f":"IFERROR(VLOOKUP($A21,Filtros!$A$5:$AY$22116,24,FALSE),0)","v":142},{"$f":"IFERROR(VLOOKUP($A21,Filtros!$A$5:$AY$22116,25,FALSE),0)","v":20},{"$f":"IFERROR(VLOOKUP($A21,Filtros!$A$5:$AY$22116,26,FALSE),0)","v":168},{"$f":"IFERROR(VLOOKUP($A21,Filtros!$A$5:$AY$22116,27,FALSE),0)","v":37},{"$f":"IFERROR(VLOOKUP($A21,Filtros!$A$5:$AY$22116,28,FALSE),0)","v":193},{"$f":"IFERROR(VLOOKUP($A21,Filtros!$A$5:$AY$22116,29,FALSE),0)","v":31},{"$f":"IFERROR(VLOOKUP($A21,Filtros!$A$5:$AY$22116,30,FALSE),0)","v":190},{"$f":"IFERROR(VLOOKUP($A21,Filtros!$A$5:$AY$22116,31,FALSE),0)","v":39},{"$f":"IFERROR(VLOOKUP($A21,Filtros!$A$5:$AY$22116,32,FALSE),0)","v":195},{"$f":"IFERROR(VLOOKUP($A21,Filtros!$A$5:$AY$22116,33,FALSE),0)","v":38},{"$f":"IFERROR(VLOOKUP($A21,Filtros!$A$5:$AY$22116,34,FALSE),0)","v":145},{"$f":"IFERROR(VLOOKUP($A21,Filtros!$A$5:$AY$22116,35,FALSE),0)","v":24},{"$f":"IFERROR(VLOOKUP($A21,Filtros!$A$5:$AY$22116,36,FALSE),0)","v":119},{"$f":"IFERROR(VLOOKUP($A21,Filtros!$A$5:$AY$22116,37,FALSE),0)","v":32},{"$f":"IFERROR(VLOOKUP($A21,Filtros!$A$5:$AY$22116,38,FALSE),0)","v":127},{"$f":"IFERROR(VLOOKUP($A21,Filtros!$A$5:$AY$22116,39,FALSE),0)","v":46},{"$f":"IFERROR(VLOOKUP($A21,Filtros!$A$5:$AY$22116,40,FALSE),0)","v":100},{"$f":"IFERROR(VLOOKUP($A21,Filtros!$A$5:$AY$22116,41,FALSE),0)","v":6},{"$f":"IFERROR(VLOOKUP($A21,Filtros!$A$5:$AY$22116,42,FALSE),0)","v":9},{"$f":"IFERROR(VLOOKUP($A21,Filtros!$A$5:$AY$22116,43,FALSE),0)","v":4},{"$f":"IFERROR(VLOOKUP($A21,Filtros!$A$5:$AY$22116,44,FALSE),0)","v":16},{"$f":"IFERROR(VLOOKUP($A21,Filtros!$A$5:$AY$22116,45,FALSE),0)","v":18},{"$f":"IFERROR(VLOOKUP($A21,Filtros!$A$5:$AY$22116,46,FALSE),0)","v":103},"",{"$nulls":35},"","","","","","","","","","","","",{"$nulls":8},0,0,0,0,0,0,0,0,0,0,0,0]
["P6227500",null,"DEPRESIÓN MODERADA",{"$f":"IFERROR(VLOOKUP($A22,Filtros!$A$5:$AY$22116,2,FALSE),0)","v":5350},{"$f":"IFERROR(VLOOKUP($A22,Filtros!$A$5:$AY$22116,3,FALSE),0)","v":851},{"$f":"IFERROR(VLOOKUP($A22,Filtros!$A$5:$AY$22116,4,FALSE),0)","v":4499},{"$f":"IFERROR(VLOOKUP($A22,Filtros!$A$5:$AY$22116,5,FALSE),0)","v":1},{"$f":"IFERROR(VLOOKUP($A22,Filtros!$A$5:$AY$22116,6,FALSE),0)","v":0},{"$f":"IFERROR(VLOOKUP($A22,Filtros!$A$5:$AY$22116,7,FALSE),0)","v":4},{"$f":"IFERROR(VLOOKUP($A22,Filtros!$A$5:$AY$22116,8,FALSE),0)","v":4},{"$f":"IFERROR(VLOOKUP($A22,Filtros!$A$5:$AY$22116,9,FALSE),0)","v":25},{"$f":"IFERROR(VLOOKUP($A22,Filtros!$A$5:$AY$22116,10,FALSE),0)","v":108},{"$f":"IFERROR(VLOOKUP($A22,Filtros!$A$5:$AY$22116,11,FALSE),0)","v":110},{"$f":"IFERROR(VLOOKUP($A22,Filtros!$A$5:$AY$22116,12,FALSE),0)","v":258},{"$f":"IFERROR(VLOOKUP($A22,Filtros!$A$5:$AY$22116,13,FALSE),0)","v":85},{"$f":"IFERROR(VLOOKUP($A22,Filtros!$A$5:$AY$22116,14,FALSE),0)","v":217},{"$f":"IFERROR(VLOOKUP($A22,Filtros!$A$5:$AY$22116,15,FALSE),0)","v":51},{"$f":"IFERROR(VLOOKUP($A22,Filtros!$A$5:$AY$22116,16,FALSE),0)","v":237},{"$f":"IFERROR(VLOOKUP($A22,Filtros!$A$5:$AY$22116,17,FALSE),0)","v":37},{"$f":"IFERROR(VLOOKUP($A22,Filtros!$A$5:$AY$22116,18,FALSE),0)","v":226},{"$f":"IFERROR(VLOOKUP($A22,Filtros!$A$5:$AY$22116,19,FALSE),0)","v":45},{"$f":"IFERROR(VLOOKUP($A22,Filtros!$A$5:$AY$22116,20,FALSE),0)","v":258},{"$f":"IFERROR(VLOOKUP($A22,Filtros!$A$5:$AY$22116,21,FALSE),0)","v":39},{"$f":"IFERROR(VLOOKUP($A22,Filtros!$A$5:$AY$22116,22,FALSE),0)","v":311},{"$f":"IFERROR(VLOOKUP($A22,Filtros!$A$5:$AY$22116,23,FALSE),0)","v":40},{"$f":"IFERROR(VLOOKUP($A22,Filtros!$A$5:$AY$22116,24,FALSE),0)","v":338},{"$f":"IFERROR(VLOOKUP($A22,Filtros!$A$5:$AY$22116,25,FALSE),0)","v":60},{"$f":"IFERROR(VLOOKUP($A22,Filtros!$A$5:$AY$22116,26,FALSE),0)","v":452},{"$f":"IFERROR(VLOOKUP($A22,Filtros!$A$5:$AY$22116,27,FALSE),0)","v":73},{"$f":"IFERROR(VLOOKUP($A22,Filtros!$A$5:$AY$22116,28,FALSE),0)","v":502},{"$f":"IFERROR(VLOOKUP($A22,Filtros!$A$5:$AY$22116,29,FALSE),0)","v":72},{"$f":"IFERROR(VLOOKUP($A22,Filtros!$A$5:$AY$22116,30,FALSE),0)","v":454},{"$f":"IFERROR(VLOOKUP($A22,Filtros!$A$5:$AY$22116,31,FALSE),0)","v":71},{"$f":"IFERROR(VLOOKUP($A22,Filtros!$A$5:$AY$22116,32,FALSE),0)","v":394},{"$f":"IFERROR(VLOOKUP($A22,Filtros!$A$5:$AY$22116,33,FALSE),0)","v":66},{"$f":"IFERROR(VLOOKUP($A22,Filtros!$A$5:$AY$22116,34,FALSE),0)","v":325},{"$f":"IFERROR(VLOOKUP($A22,Filtros!$A$5:$AY$22116,35,FALSE),0)","v":30},{"$f":"IFERROR(VLOOKUP($A22,Filtros!$A$5:$AY$22116,36,FALSE),0)","v":191},{"$f":"IFERROR(VLOOKUP($A22,Filtros!$A$5:$AY$22116,37,FALSE),0)","v":42},{"$f":"IFERROR(VLOOKUP($A22,Filtros!$A$5:$AY$22116,38,FALSE),0)","v":224},{"$f":"IFERROR(VLOOKUP($A22,Filtros!$A$5:$AY$22116,39,FALSE),0)","v":32},{"$f":"IFERROR(VLOOKUP($A22,Filtros!$A$5:$AY$22116,40,FALSE),0)","v":169},{"$f":"IFERROR(VLOOKUP($A22,Filtros!$A$5:$AY$22116,41,FALSE),0)","v":3},{"$f":"IFERROR(VLOOKUP($A22,Filtros!$A$5:$AY$22116,42,FALSE),0)","v":16},{"$f":"IFERROR(VLOOKUP($A22,Filtros!$A$5:$AY$22116,43,FALSE),0)","v":9},{"$f":"IFERROR(VLOOKUP($A22,Filtros!$A$5:$AY$22116,44,FALSE),0)","v":19},{"$f":"IFERROR(VLOOKUP($A22,Filtros!$A$5:$AY$22116,45,FALSE),0)","v":23},{"$f":"IFERROR(VLOOKUP($A22,Filtros!$A$5:$AY$22116,46,FALSE),0)","v":147},"",{"$nulls":35},"","","","","","","","","","","","",{"$nulls":8},0,0,0,0,0,0,0,0,0,0,0,0]
["P6227600",null,"DEPRESIÓN GRAVE",{"$f":"IFERROR(VLOOKUP($A23,Filtros!$A$5:$AY$22116,2,FALSE),0)","v":831},{"$f":"IFERROR(VLOOKUP($A23,Filtros!$A$5:$AY$22116,3,FALSE),0)","v":199},{"$f":"IFERROR(VLOOKUP($A23,Filtros!$A$5:$AY$22116,4,FALSE),0)","v":632},{"$f":"IFERROR(VLOOKUP($A23,Filtros!$A$5:$AY$22116,5,FALSE),0)","v":0},{"$f":"IFERROR(VLOOKUP($A23,Filtros!$A$5:$AY$22116,6,FALSE),0)","v":0},{"$f":"IFERROR(VLOOKUP($A23,Filtros!$A$5:$AY$22116,7,FALSE),0)","v":5},{"$f":"IFERROR(VLOOKUP($A23,Filtros!$A$5:$AY$22116,8,FALSE),0)","v":5},{"$f":"IFERROR(VLOOKUP($A23,Filtros!$A$5:$AY$22116,9,FALSE),0)","v":14},{"$f":"IFERROR(VLOOKUP($A23,Filtros!$A$5:$AY$22116,10,FALSE),0)","v":51},{"$f":"IFERROR(VLOOKUP($A23,Filtros!$A$5:$AY$22116,11,FALSE),0)","v":42},{"$f":"IFERROR(VLOOKUP($A23,Filtros!$A$5:$AY$22116,12,FALSE),0)","v":92},{"$f":"IFERROR(VLOOKUP($A23,Filtros!$A$5:$AY$22116,13,FALSE),0)","v":17},{"$f":"IFERROR(VLOOKUP($A23,Filtros!$A$5:$AY$22116,14,FALSE),0)","v":33},{"$f":"IFERROR(VLOOKUP($A23,Filtros!$A$5:$AY$22116,15,FALSE),0)","v":9},{"$f":"IFERROR(VLOOKUP($A23,Filtros!$A$5:$AY$22116,16,FALSE),0)","v":38},{"$f":"IFERROR(VLOOKUP($A23,Filtros!$A$5:$AY$22116,17,FALSE),0)","v":9},{"$f":"IFERROR(VLOOKUP($A23,Filtros!$A$5:$AY$22116,18,FALSE),0)","v":38},{"$f":"IFERROR(VLOOKUP($A23,Filtros!$A$5:$AY$22116,19,FALSE),0)","v":9},{"$f":"IFERROR(VLOOKUP($A23,Filtros!$A$5:$AY$22116,20,FALSE),0)","v":28},{"$f":"IFERROR(VLOOKUP($A23,Filtros!$A$5:$AY$22116,21,FALSE),0)","v":13},{"$f":"IFERROR(VLOOKUP($A23,Filtros!$A$5:$AY$22116,22,FALSE),0)","v":46},{"$f":"IFERROR(VLOOKUP($A23,Filtros!$A$5:$AY$22116,23,FALSE),0)","v":12},{"$f":"IFERROR(VLOOKUP($A23,Filtros!$A$5:$AY$22116,24,FALSE),0)","v":42},{"$f":"IFERROR(VLOOKUP($A23,Filtros!$A$5:$AY$22116,25,FALSE),0)","v":16},{"$f":"IFERROR(VLOOKUP($A23,Filtros!$A$5:$AY$22116,26,FALSE),0)","v":54},{"$f":"IFERROR(VLOOKUP($A23,Filtros!$A$5:$AY$22116,27,FALSE),0)","v":11},{"$f":"IFERROR(VLOOKUP($A23,Filtros!$A$5:$AY$22116,28,FALSE),0)","v":67},{"$f":"IFERROR(VLOOKUP($A23,Filtros!$A$5:$AY$22116,29,FALSE),0)","v":12},{"$f":"IFERROR(VLOOKUP($A23,Filtros!$A$5:$AY$22116,30,FALSE),0)","v":57},{"$f":"IFERROR(VLOOKUP($A23,Filtros!$A$5:$AY$22116,31,FALSE),0)","v":11},{"$f":"IFERROR(VLOOKUP($A23,Filtros!$A$5:$AY$22116,32,FALSE),0)","v":41},{"$f":"IFERROR(VLOOKUP($A23,Filtros!$A$5:$AY$22116,33,FALSE),0)","v":11},{"$f":"IFERROR(VLOOKUP($A23,Filtros!$A$5:$AY$22116,34,FALSE),0)","v":23},{"$f":"IFERROR(VLOOKUP($A23,Filtros!$A$5:$AY$22116,35,FALSE),0)","v":5},{"$f":"IFERROR(VLOOKUP($A23,Filtros!$A$5:$AY$22116,36,FALSE),0)","v":12},{"$f":"IFERROR(VLOOKUP($A23,Filtros!$A$5:$AY$22116,37,FALSE),0)","v":3},{"$f":"IFERROR(VLOOKUP($A23,Filtros!$A$5:$AY$22116,38,FALSE),0)","v":5},{"$f":"IFERROR(VLOOKUP($A23,Filtros!$A$5:$AY$22116,39,FALSE),0)","v":4},{"$f":"IFERROR(VLOOKUP($A23,Filtros!$A$5:$AY$22116,40,FALSE),0)","v":14},{"$f":"IFERROR(VLOOKUP($A23,Filtros!$A$5:$AY$22116,41,FALSE),0)","v":0},{"$f":"IFERROR(VLOOKUP($A23,Filtros!$A$5:$AY$22116,42,FALSE),0)","v":5},{"$f":"IFERROR(VLOOKUP($A23,Filtros!$A$5:$AY$22116,43,FALSE),0)","v":2},{"$f":"IFERROR(VLOOKUP($A23,Filtros!$A$5:$AY$22116,44,FALSE),0)","v":9},{"$f":"IFERROR(VLOOKUP($A23,Filtros!$A$5:$AY$22116,45,FALSE),0)","v":12},{"$f":"IFERROR(VLOOKUP($A23,Filtros!$A$5:$AY$22116,46,FALSE),0)","v":47},"",{"$nulls":35},"","","","","","","","","","","","",{"$nulls":8},0,0,0,0,0,0,0,0,0,0,0,0]
["P6221700",null,"DEPRESIÓN POST PARTO",{"$f":"IFERROR(VLOOKUP($A24,Filtros!$A$5:$AY$22116,2,FALSE),0)","v":79},{"$f":"IFERROR(VLOOKUP($A24,Filtros!$A$5:$AY$22116,3,FALSE),0)","v":0},{"$f":"IFERROR(VLOOKUP($A24,Filtros!$A$5:$AY$22116,4,FALSE),0)","v":79},{"$f":"IFERROR(VLOOKUP($A24,Filtros!$A$5:$AY$22116,5,FALSE),0)","v":0},{"$f":"IFERROR(VLOOKUP($A24,Filtros!$A$5:$AY$22116,6,FALSE),0)","v":0},{"$f":"IFERROR(VLOOKUP($A24,Filtros!$A$5:$AY$22116,7,FALSE),0)","v":0},{"$f":"IFERROR(VLOOKUP($A24,Filtros!$A$5:$AY$22116,8,FALSE),0)","v":0},{"$f":"IFERROR(VLOOKUP($A24,Filtros!$A$5:$AY$22116,9,FALSE),0)","v":0},{"$f":"IFERROR(VLOOKUP($A24,Filtros!$A$5:$AY$22116,10,FALSE),0)","v":1},{"$f":"IFERROR(VLOOKUP($A24,Filtros!$A$5:$AY$22116,11,FALSE),0)","v":0},{"$f":"IFERROR(VLOOKUP($A24,Filtros!$A$5:$AY$22116,12,FALSE),0)","v":3},{"$f":"IFERROR(VLOOKUP($A24,Filtros!$A$5:$AY$22116,13,FALSE),0)","v":0},{"$f":"IFERROR(VLOOKUP($A24,Filtros!$A$5:$AY$22116,14,FALSE),0)","v":13},{"$f":"IFERROR(VLOOKUP($A24,Filtros!$A$5:$AY$22116,15,FALSE),0)","v":0},{"$f":"IFERROR(VLOOKUP($A24,Filtros!$A$5:$AY$22116,16,FALSE),0)","v":24},{"$f":"IFERROR(VLOOKUP($A24,Filtros!$A$5:$AY$22116,17,FALSE),0)","v":0},{"$f":"IFERROR(VLOOKUP($A24,Filtros!$A$5:$AY$22116,18,FALSE),0)","v":22},{"$f":"IFERROR(VLOOKUP($A24,Filtros!$A$5:$AY$22116,19,FALSE),0)","v":0},{"$f":"IFERROR(VLOOKUP($A24,Filtros!$A$5:$AY$22116,20,FALSE),0)","v":10},{"$f":"IFERROR(VLOOKUP($A24,Filtros!$A$5:$AY$22116,21,FALSE),0)","v":0},{"$f":"IFERROR(VLOOKUP($A24,Filtros!$A$5:$AY$22116,22,FALSE),0)","v":4},{"$f":"IFERROR(VLOOKUP($A24,Filtros!$A$5:$AY$22116,23,FALSE),0)","v":0},{"$f":"IFERROR(VLOOKUP($A24,Filtros!$A$5:$AY$22116,24,FALSE),0)","v":2},{"$f":"IFERROR(VLOOKUP($A24,Filtros!$A$5:$AY$22116,25,FALSE),0)","v":0},{"$f":"IFERROR(VLOOKUP($A24,Filtros!$A$5:$AY$22116,26,FALSE),0)","v":0},{"$f":"IFERROR(VLOOKUP($A24,Filtros!$A$5:$AY$22116,27,FALSE),0)","v":0},{"$f":"IFERROR(VLOOKUP($A24,Filtros!$A$5:$AY$22116,28,FALSE),0)","v":0},{"$f":"IFERROR(VLOOKUP($A24,Filtros!$A$5:$AY$22116,29,FALSE),0)","v":0},{"$f":"IFERROR(VLOOKUP($A24,Filtros!$A$5:$AY$22116,30,FALSE),0)","v":0},{"$f":"IFERROR(VLOOKUP($A24,Filtros!$A$5:$AY$22116,31,FALSE),0)","v":0},{"$f":"IFERROR(VLOOKUP($A24,Filtros!$A$5:$AY$22116,32,FALSE),0)","v":0},{"$f":"IFERROR(VLOOKUP($A24,Filtros!$A$5:$AY$22116,33,FALSE),0)","v":0},{"$f":"IFERROR(VLOOKUP($A24,Filtros!$A$5:$AY$22116,34,FALSE),0)","v":0},{"$f":"IFERROR(VLOOKUP($A24,Filtros!$A$5:$AY$22116,35,FALSE),0)","v":0},{"$f":"IFERROR(VLOOKUP($A24,Filtros!$A$5:$AY$22116,36,FALSE),0)","v":0},{"$f":"IFERROR(VLOOKUP($A24,Filtros!$A$5:$AY$22116,37,FALSE),0)","v":0},{"$f":"IFERROR(VLOOKUP($A24,Filtros!$A$5:$AY$22116,38,FALSE),0)","v":0},{"$f":"IFERROR(VLOOKUP($A24,Filtros!$A$5:$AY$22116,39,FALSE),0)","v":0},{"$f":"IFERROR(VLOOKUP($A24,Filtros!$A$5:$AY$22116,40,FALSE),0)","v":38},{"$f":"IFERROR(VLOOKUP($A24,Filtros!$A$5:$AY$22116,41,FALSE),0)","v":0},{"$f":"IFERROR(VLOOKUP($A24,Filtros!$A$5:$AY$22116,42,FALSE),0)","v":0},{"$f":"IFERROR(VLOOKUP($A24,Filtros!$A$5:$AY$22116,43,FALSE),0)","v":0},{"$f":"IFERROR(VLOOKUP($A24,Filtros!$A$5:$AY$22116,44,FALSE),0)","v":2},{"$f":"IFERROR(VLOOKUP($A24,Filtros!$A$5:$AY$22116,45,FALSE),0)","v":0},{"$f":"IFERROR(VLOOKUP($A24,Filtros!$A$5:$AY$22116,46,FALSE),0)","v":2},"",{"$nulls":36},"",null,"",null,"","",null,{"$f":"IF(AND($D24<>0,$AP24=\"\"),\"* No olvide escribir en la celda de 'Madres de Hijos menor de 5 años' (Digite CERO si no tiene). \",\"\")","v":""},{"$f":"IF(AND($D24<>0,$AU24=\"\"),\"* No olvide escribir en la celda de 'Niños, Niñas, Adolescentes y Jóvenes de Población SENAME' (Digite CERO si no tiene). \",\"\")","v":""},{"$f":"IF(AND($F24<>0,$AR24=\"\"),\"* No olvide escribir en las celdas de 'Pueblos Originarios / Mujeres' (Digite CERO si no tiene). \",\"\")","v":""},{"$f":"IF(AND($F24<>0,$AT24=\"\"),\"* No olvide escribir en las celdas de ''Población Migrantes / Mujeres' (Digite CERO si no tiene). \",\"\")","v":""},{"$nulls":9},0,null,0,null,0,0,null,0,0,{"$f":"IF(AND($F24<>0,$AR24=\"\"),1,0)","v":0},{"$f":"IF(AND($F24<>0,$AT24=\"\"),1,0)","v":0}]
["P6221800",null,"TRASTORNO BIPOLAR",{"$f":"IFERROR(VLOOKUP($A25,Filtros!$A$5:$AY$22116,2,FALSE),0)","v":275},{"$f":"IFERROR(VLOOKUP($A25,Filtros!$A$5:$AY$22116,3,FALSE),0)","v":68},{"$f":"IFERROR(VLOOKUP($A25,Filtros!$A$5:$AY$22116,4,FALSE),0)","v":207},{"$f":"IFERROR(VLOOKUP($A25,Filtros!$A$5:$AY$22116,5,FALSE),0)","v":0},{"$f":"IFERROR(VLOOKUP($A25,Filtros!$A$5:$AY$22116,6,FALSE),0)","v":0},{"$f":"IFERROR(VLOOKUP($A25,Filtros!$A$5:$AY$22116,7,FALSE),0)","v":0},{"$f":"IFERROR(VLOOKUP($A25,Filtros!$A$5:$AY$22116,8,FALSE),0)","v":0},{"$f":"IFERROR(VLOOKUP($A25,Filtros!$A$5:$AY$22116,9,FALSE),0)","v":0},{"$f":"IFERROR(VLOOKUP($A25,Filtros!$A$5:$AY$22116,10,FALSE),0)","v":2},{"$f":"IFERROR(VLOOKUP($A25,Filtros!$A$5:$AY$22116,11,FALSE),0)","v":6},{"$f":"IFERROR(VLOOKUP($A25,Filtros!$A$5:$AY$22116,12,FALSE),0)","v":7},{"$f":"IFERROR(VLOOKUP($A25,Filtros!$A$5:$AY$22116,13,FALSE),0)","v":6},{"$f":"IFERROR(VLOOKUP($A25,Filtros!$A$5:$AY$22116,14,FALSE),0)","v":16},{"$f":"IFERROR(VLOOKUP($A25,Filtros!$A$5:$AY$22116,15,FALSE),0)","v":7},{"$f":"IFERROR(VLOOKUP($A25,Filtros!$A$5:$AY$22116,16,FALSE),0)","v":20},{"$f":"IFERROR(VLOOKUP($A25,Filtros!$A$5:$AY$22116,17,FALSE),0)","v":5},{"$f":"IFERROR(VLOOKUP($A25,Filtros!$A$5:$AY$22116,18,FALSE),0)","v":17},{"$f":"IFERROR(VLOOKUP($A25,Filtros!$A$5:$AY$22116,19,FALSE),0)","v":7},{"$f":"IFERROR(VLOOKUP($A25,Filtros!$A$5:$AY$22116,20,FALSE),0)","v":18},{"$f":"IFERROR(VLOOKUP($A25,Filtros!$A$5:$AY$22116,21,FALSE),0)","v":7},{"$f":"IFERROR(VLOOKUP($A25,Filtros!$A$5:$AY$22116,22,FALSE),0)","v":18},{"$f":"IFERROR(VLOOKUP($A25,Filtros!$A$5:$AY$22116,23,FALSE),0)","v":6},{"$f":"IFERROR(VLOOKUP($A25,Filtros!$A$5:$AY$22116,24,FALSE),0)","v":30},{"$f":"IFERROR(VLOOKUP($A25,Filtros!$A$5:$AY$22116,25,FALSE),0)","v":8},{"$f":"IFERROR(VLOOKUP($A25,Filtros!$A$5:$AY$22116,26,FALSE),0)","v":11},{"$f":"IFERROR(VLOOKUP($A25,Filtros!$A$5:$AY$22116,27,FALSE),0)","v":5},{"$f":"IFERROR(VLOOKUP($A25,Filtros!$A$5:$AY$22116,28,FALSE),0)","v":21},{"$f":"IFERROR(VLOOKUP($A25,Filtros!$A$5:$AY$22116,29,FALSE),0)","v":6},{"$f":"IFERROR(VLOOKUP($A25,Filtros!$A$5:$AY$22116,30,FALSE),0)","v":24},{"$f":"IFERROR(VLOOKUP($A25,Filtros!$A$5:$AY$22116,31,FALSE),0)","v":1},{"$f":"IFERROR(VLOOKUP($A25,Filtros!$A$5:$AY$22116,32,FALSE),0)","v":8},{"$f":"IFERROR(VLOOKUP($A25,Filtros!$A$5:$AY$22116,33,FALSE),0)","v":2},{"$f":"IFERROR(VLOOKUP($A25,Filtros!$A$5:$AY$22116,34,FALSE),0)","v":11},{"$f":"IFERROR(VLOOKUP($A25,Filtros!$A$5:$AY$22116,35,FALSE),0)","v":2},{"$f":"IFERROR(VLOOKUP($A25,Filtros!$A$5:$AY$22116,36,FALSE),0)","v":2},{"$f":"IFERROR(VLOOKUP($A25,Filtros!$A$5:$AY$22116,37,FALSE),0)","v":0},{"$f":"IFERROR(VLOOKUP($A25,Filtros!$A$5:$AY$22116,38,FALSE),0)","v":2},{"$f":"IFERROR(VLOOKUP($A25,Filtros!$A$5:$AY$22116,39,FALSE),0)","v":0},{"$f":"IFERROR(VLOOKUP($A25,Filtros!$A$5:$AY$22116,40,FALSE),0)","v":12},{"$f":"IFERROR(VLOOKUP($A25,Filtros!$A$5:$AY$22116,41,FALSE),0)","v":1},{"$f":"IFERROR(VLOOKUP($A25,Filtros!$A$5:$AY$22116,42,FALSE),0)","v":1},{"$f":"IFERROR(VLOOKUP($A25,Filtros!$A$5:$AY$22116,43,FALSE),0)","v":0},{"$f":"IFERROR(VLOOKUP($A25,Filtros!$A$5:$AY$22116,44,FALSE),0)","v":2},{"$f":"IFERROR(VLOOKUP($A25,Filtros!$A$5:$AY$22116,45,FALSE),0)","v":2},{"$f":"IFERROR(VLOOKUP($A25,Filtros!$A$5:$AY$22116,46,FALSE),0)","v":6},"",{"$nulls":35},{"$f":"IF($AO25>$F25,\"* La celda 'Gestantes' debe ser menor o igual al Total de Mujeres en control. \",\"\")","v":""},{"$f":"IF($AP25>$F25,\"* La celda 'Madres de Hijos menor de 5 años' debe ser menor o igual al Total de Mujeres en control. \",\"\")","v":""},{"$f":"IF(($AQ25)>$E25,\"* La celda 'Pueblos Originarios / Hombres' debe ser menor o igual al Total de Hombres en control. \",\"\")","v":""},{"$f":"IF($AR25>$F25,\"* La celda 'Pueblos Originarios / Mujeres' debe ser menor o igual al Total de Mujeres en control. \",\"\")","v":""},{"$f":"IF(($AS25)>$E25,\"* La celda 'Población Migrantes / Hombres' debe ser menor o igual al Total de Hombres en control. \",\"\")","v":""},{"$f":"IF($AT25>$F25,\"* La celda 'Población Migrantes / Mujeres' debe ser menor o igual al Total de Mujeres en control. \",\"\")","v":""},{"$f":"IF($AU25>$D25,\"* La celda 'Niños, Niñas, Adolescentes y Jóvenes de Población SENAME' debe ser menor o igual al Total de Ambos Sexos. \",\"\")","v":""},{"$f":"IF(AND($D25<>0,$AO25=\"\"),\"* No olvide escribir en la celda de 'Gestantes' (Digite CERO si no tiene). \",\"\")","v":""},{"$f":"IF(AND($D25<>0,$AP25=\"\"),\"* No olvide escribir en la celda de 'Madres de Hijos menor de 5 años' (Digite CERO si no tiene). \",\"\")","v":""},{"$f":"IF(AND($D25<>0,$AU25=\"\"),\"* No olvide escribir en la celda de 'Niños, Niñas, Adolescentes y Jóvenes de Población SENAME' (Digite CERO si no tiene). \",\"\")","v":""},{"$f":"IF(AND($E25<>0,$AQ25=\"\"),\"* No olvide escribir en las celdas de 'Pueblos Originarios' (Digite CERO si no tiene). \",IF(AND($F25<>0,$AR25=\"\"),\"* No olvide escribir en las celdas de 'Pueblos Originarios' (Digite CERO si no tiene). \",\"\"))","v":""},{"$f":"IF(AND($E25<>0,$AS25=\"\"),\"* No olvide escribir en las celdas de 'Población Migrantes' (Digite CERO si no tiene). \",IF(AND($F25<>0,$AT25=\"\"),\"* No olvide escribir en las celdas de 'Población Migrantes' (Digite CERO si no tiene). \",\"\"))","v":""},{"$nulls":8},{"$f":"IF($AO25>$F25,1,0)","v":0},0,{"$f":"IF(($AQ25)>$E25,1,0)","v":0},0,{"$f":"IF(($AS25)>$E25,1,0)","v":0},0,0,{"$f":"IF(AND($D25<>0,$AO25=\"\"),1,0)","v":0},0,0,{"$f":"IF(AND($E25<>0,$AQ25=\"\"),1,IF(AND($F25<>0,$AR25=\"\"),1,0))","v":0},{"$f":"IF(AND($E25<>0,$AS25=\"\"),1,IF(AND($F25<>0,$AT25=\"\"),1,0))","v":0}]
["P6221900","TRASTORNOS MENTALES Y DEL COMPORTAMIENTO DEBIDO A CONSUMO SUSTANCIAS PSICOTROPICAS","CONSUMO PERJUDICIAL O DEPENDENCIA DE ALCOHOL \n",{"$f":"IFERROR(VLOOKUP($A26,Filtros!$A$5:$AY$22116,2,FALSE),0)","v":538},{"$f":"IFERROR(VLOOKUP($A26,Filtros!$A$5:$AY$22116,3,FALSE),0)","v":408},{"$f":"IFERROR(VLOOKUP($A26,Filtros!$A$5:$AY$22116,4,FALSE),0)","v":130},{"$f":"IFERROR(VLOOKUP($A26,Filtros!$A$5:$AY$22116,5,FALSE),0)","v":0},{"$f":"IFERROR(VLOOKUP($A26,Filtros!$A$5:$AY$22116,6,FALSE),0)","v":0},{"$f":"IFERROR(VLOOKUP($A26,Filtros!$A$5:$AY$22116,7,FALSE),0)","v":0},{"$f":"IFERROR(VLOOKUP($A26,Filtros!$A$5:$AY$22116,8,FALSE),0)","v":0},{"$f":"IFERROR(VLOOKUP($A26,Filtros!$A$5:$AY$22116,9,FALSE),0)","v":2},{"$f":"IFERROR(VLOOKUP($A26,Filtros!$A$5:$AY$22116,10,FALSE),0)","v":0},{"$f":"IFERROR(VLOOKUP($A26,Filtros!$A$5:$AY$22116,11,FALSE),0)","v":6},{"$f":"IFERROR(VLOOKUP($A26,Filtros!$A$5:$AY$22116,12,FALSE),0)","v":2},{"$f":"IFERROR(VLOOKUP($A26,Filtros!$A$5:$AY$22116,13,FALSE),0)","v":14},{"$f":"IFERROR(VLOOKUP($A26,Filtros!$A$5:$AY$22116,14,FALSE),0)","v":6},{"$f":"IFERROR(VLOOKUP($A26,Filtros!$A$5:$AY$22116,15,FALSE),0)","v":29},{"$f":"IFERROR(VLOOKUP($A26,Filtros!$A$5:$AY$22116,16,FALSE),0)","v":12},{"$f":"IFERROR(VLOOKUP($A26,Filtros!$A$5:$AY$22116,17,FALSE),0)","v":25},{"$f":"IFERROR(VLOOKUP($A26,Filtros!$A$5:$AY$22116,18,FALSE),0)","v":13},{"$f":"IFERROR(VLOOKUP($A26,Filtros!$A$5:$AY$22116,19,FALSE),0)","v":44},{"$f":"IFERROR(VLOOKUP($A26,Filtros!$A$5:$AY$22116,20,FALSE),0)","v":12},{"$f":"IFERROR(VLOOKUP($A26,Filtros!$A$5:$AY$22116,21,FALSE),0)","v":42},{"$f":"IFERROR(VLOOKUP($A26,Filtros!$A$5:$AY$22116,22,FALSE),0)","v":17},{"$f":"IFERROR(VLOOKUP($A26,Filtros!$A$5:$AY$22116,23,FALSE),0)","v":67},{"$f":"IFERROR(VLOOKUP($A26,Filtros!$A$5:$AY$22116,24,FALSE),0)","v":14},{"$f":"IFERROR(VLOOKUP($A26,Filtros!$A$5:$AY$22116,25,FALSE),0)","v":52},{"$f":"IFERROR(VLOOKUP($A26,Filtros!$A$5:$AY$22116,26,FALSE),0)","v":20},{"$f":"IFERROR(VLOOKUP($A26,Filtros!$A$5:$AY$22116,27,FALSE),0)","v":46},{"$f":"IFERROR(VLOOKUP($A26,Filtros!$A$5:$AY$22116,28,FALSE),0)","v":11},{"$f":"IFERROR(VLOOKUP($A26,Filtros!$A$5:$AY$22116,29,FALSE),0)","v":35},{"$f":"IFERROR(VLOOKUP($A26,Filtros!$A$5:$AY$22116,30,FALSE),0)","v":11},{"$f":"IFERROR(VLOOKUP($A26,Filtros!$A$5:$AY$22116,31,FALSE),0)","v":24},{"$f":"IFERROR(VLOOKUP($A26,Filtros!$A$5:$AY$22116,32,FALSE),0)","v":8},{"$f":"IFERROR(VLOOKUP($A26,Filtros!$A$5:$AY$22116,33,FALSE),0)","v":11},{"$f":"IFERROR(VLOOKUP($A26,Filtros!$A$5:$AY$22116,34,FALSE),0)","v":1},{"$f":"IFERROR(VLOOKUP($A26,Filtros!$A$5:$AY$22116,35,FALSE),0)","v":8},{"$f":"IFERROR(VLOOKUP($A26,Filtros!$A$5:$AY$22116,36,FALSE),0)","v":3},{"$f":"IFERROR(VLOOKUP($A26,Filtros!$A$5:$AY$22116,37,FALSE),0)","v":3},{"$f":"IFERROR(VLOOKUP($A26,Filtros!$A$5:$AY$22116,38,FALSE),0)","v":0},{"$f":"IFERROR(VLOOKUP($A26,Filtros!$A$5:$AY$22116,39,FALSE),0)","v":0},{"$f":"IFERROR(VLOOKUP($A26,Filtros!$A$5:$AY$22116,40,FALSE),0)","v":4},{"$f":"IFERROR(VLOOKUP($A26,Filtros!$A$5:$AY$22116,41,FALSE),0)","v":1},{"$f":"IFERROR(VLOOKUP($A26,Filtros!$A$5:$AY$22116,42,FALSE),0)","v":0},{"$f":"IFERROR(VLOOKUP($A26,Filtros!$A$5:$AY$22116,43,FALSE),0)","v":0},{"$f":"IFERROR(VLOOKUP($A26,Filtros!$A$5:$AY$22116,44,FALSE),0)","v":0},{"$f":"IFERROR(VLOOKUP($A26,Filtros!$A$5:$AY$22116,45,FALSE),0)","v":1},{"$f":"IFERROR(VLOOKUP($A26,Filtros!$A$5:$AY$22116,46,FALSE),0)","v":17},"",{"$nulls":35},{"$f":"IF($AO26>$F26,\"* La celda 'Gestantes' debe ser menor o igual al Total de Mujeres en control. \",\"\")","v":""},{"$f":"IF($AP26>$F26,\"* La celda 'Madres de Hijos menor de 5 años' debe ser menor o igual al Total de Mujeres en control. \",\"\")","v":""},"","","","","",{"$f":"IF(AND($D26<>0,$AO26=\"\"),\"* No olvide escribir en la celda de 'Gestantes' (Digite CERO si no tiene). \",\"\")","v":""},{"$f":"IF(AND($D26<>0,$AP26=\"\"),\"* No olvide escribir en la celda de 'Madres de Hijos menor de 5 años' (Digite CERO si no tiene). \",\"\")","v":""},"","","",{"$nulls":8},{"$f":"IF($AO26>$F26,1,0)","v":0},0,0,0,0,0,0,{"$f":"IF(AND($D26<>0,$AO26=\"\"),1,0)","v":0},0,0,0,0]
["P6222000",null,"CONSUMO PERJUDICIAL O DEPENDENCIA COMO DROGA PRINCIPAL",{"$f":"IFERROR(VLOOKUP($A27,Filtros!$A$5:$AY$22116,2,FALSE),0)","v":361},{"$f":"IFERROR(VLOOKUP($A27,Filtros!$A$5:$AY$22116,3,FALSE),0)","v":240},{"$f":"IFERROR(VLOOKUP($A27,Filtros!$A$5:$AY$22116,4,FALSE),0)","v":121},{"$f":"IFERROR(VLOOKUP($A27,Filtros!$A$5:$AY$22116,5,FALSE),0)","v":0},{"$f":"IFERROR(VLOOKUP($A27,Filtros!$A$5:$AY$22116,6,FALSE),0)","v":0},{"$f":"IFERROR(VLOOKUP($A27,Filtros!$A$5:$AY$22116,7,FALSE),0)","v":0},{"$f":"IFERROR(VLOOKUP($A27,Filtros!$A$5:$AY$22116,8,FALSE),0)","v":0},{"$f":"IFERROR(VLOOKUP($A27,Filtros!$A$5:$AY$22116,9,FALSE),0)","v":1},{"$f":"IFERROR(VLOOKUP($A27,Filtros!$A$5:$AY$22116,10,FALSE),0)","v":1},{"$f":"IFERROR(VLOOKUP($A27,Filtros!$A$5:$AY$22116,11,FALSE),0)","v":32},{"$f":"IFERROR(VLOOKUP($A27,Filtros!$A$5:$AY$22116,12,FALSE),0)","v":7},{"$f":"IFERROR(VLOOKUP($A27,Filtros!$A$5:$AY$22116,13,FALSE),0)","v":25},{"$f":"IFERROR(VLOOKUP($A27,Filtros!$A$5:$AY$22116,14,FALSE),0)","v":11},{"$f":"IFERROR(VLOOKUP($A27,Filtros!$A$5:$AY$22116,15,FALSE),0)","v":26},{"$f":"IFERROR(VLOOKUP($A27,Filtros!$A$5:$AY$22116,16,FALSE),0)","v":12},{"$f":"IFERROR(VLOOKUP($A27,Filtros!$A$5:$AY$22116,17,FALSE),0)","v":42},{"$f":"IFERROR(VLOOKUP($A27,Filtros!$A$5:$AY$22116,18,FALSE),0)","v":8},{"$f":"IFERROR(VLOOKUP($A27,Filtros!$A$5:$AY$22116,19,FALSE),0)","v":27},{"$f":"IFERROR(VLOOKUP($A27,Filtros!$A$5:$AY$22116,20,FALSE),0)","v":9},{"$f":"IFERROR(VLOOKUP($A27,Filtros!$A$5:$AY$22116,21,FALSE),0)","v":22},{"$f":"IFERROR(VLOOKUP($A27,Filtros!$A$5:$AY$22116,22,FALSE),0)","v":13},{"$f":"IFERROR(VLOOKUP($A27,Filtros!$A$5:$AY$22116,23,FALSE),0)","v":22},{"$f":"IFERROR(VLOOKUP($A27,Filtros!$A$5:$AY$22116,24,FALSE),0)","v":11},{"$f":"IFERROR(VLOOKUP($A27,Filtros!$A$5:$AY$22116,25,FALSE),0)","v":9},{"$f":"IFERROR(VLOOKUP($A27,Filtros!$A$5:$AY$22116,26,FALSE),0)","v":6},{"$f":"IFERROR(VLOOKUP($A27,Filtros!$A$5:$AY$22116,27,FALSE),0)","v":8},{"$f":"IFERROR(VLOOKUP($A27,Filtros!$A$5:$AY$22116,28,FALSE),0)","v":13},{"$f":"IFERROR(VLOOKUP($A27,Filtros!$A$5:$AY$22116,29,FALSE),0)","v":15},{"$f":"IFERROR(VLOOKUP($A27,Filtros!$A$5:$AY$22116,30,FALSE),0)","v":7},{"$f":"IFERROR(VLOOKUP($A27,Filtros!$A$5:$AY$22116,31,FALSE),0)","v":3},{"$f":"IFERROR(VLOOKUP($A27,Filtros!$A$5:$AY$22116,32,FALSE),0)","v":5},{"$f":"IFERROR(VLOOKUP($A27,Filtros!$A$5:$AY$22116,33,FALSE),0)","v":2},{"$f":"IFERROR(VLOOKUP($A27,Filtros!$A$5:$AY$22116,34,FALSE),0)","v":7},{"$f":"IFERROR(VLOOKUP($A27,Filtros!$A$5:$AY$22116,35,FALSE),0)","v":2},{"$f":"IFERROR(VLOOKUP($A27,Filtros!$A$5:$AY$22116,36,FALSE),0)","v":4},{"$f":"IFERROR(VLOOKUP($A27,Filtros!$A$5:$AY$22116,37,FALSE),0)","v":4},{"$f":"IFERROR(VLOOKUP($A27,Filtros!$A$5:$AY$22116,38,FALSE),0)","v":7},{"$f":"IFERROR(VLOOKUP($A27,Filtros!$A$5:$AY$22116,39,FALSE),0)","v":1},{"$f":"IFERROR(VLOOKUP($A27,Filtros!$A$5:$AY$22116,40,FALSE),0)","v":4},{"$f":"IFERROR(VLOOKUP($A27,Filtros!$A$5:$AY$22116,41,FALSE),0)","v":1},{"$f":"IFERROR(VLOOKUP($A27,Filtros!$A$5:$AY$22116,42,FALSE),0)","v":0},{"$f":"IFERROR(VLOOKUP($A27,Filtros!$A$5:$AY$22116,43,FALSE),0)","v":0},{"$f":"IFERROR(VLOOKUP($A27,Filtros!$A$5:$AY$22116,44,FALSE),0)","v":0},{"$f":"IFERROR(VLOOKUP($A27,Filtros!$A$5:$AY$22116,45,FALSE),0)","v":4},{"$f":"IFERROR(VLOOKUP($A27,Filtros!$A$5:$AY$22116,46,FALSE),0)","v":10},"",{"$nulls":35},{"$f":"IF($AO27>$F27,\"* La celda 'Gestantes' debe ser menor o igual al Total de Mujeres en control. \",\"\")","v":""},{"$f":"IF($AP27>$F27,\"* La celda 'Madres de Hijos menor de 5 años' debe ser menor o igual al Total de Mujeres en control. \",\"\")","v":""},"","","","","",{"$f":"IF(AND($D27<>0,$AO27=\"\"),\"* No olvide escribir en la celda de 'Gestantes' (Digite CERO si no tiene). \",\"\")","v":""},{"$f":"IF(AND($D27<>0,$AP27=\"\"),\"* No olvide escribir en la celda de 'Madres de Hijos menor de 5 años' (Digite CERO si no tiene). \",\"\")","v":""},"","","",{"$nulls":8},{"$f":"IF($AO27>$F27,1,0)","v":0},0,0,0,0,0,0,{"$f":"IF(AND($D27<>0,$AO27=\"\"),1,0)","v":0},0,0,0,0]
["P6222100",null,"POLICONSUMO",{"$f":"IFERROR(VLOOKUP($A28,Filtros!$A$5:$AY$22116,2,FALSE),0)","v":350},{"$f":"IFERROR(VLOOKUP($A28,Filtros!$A$5:$AY$22116,3,FALSE),0)","v":238},{"$f":"IFERROR(VLOOKUP($A28,Filtros!$A$5:$AY$22116,4,FALSE),0)","v":112},{"$f":"IFERROR(VLOOKUP($A28,Filtros!$A$5:$AY$22116,5,FALSE),0)","v":0},{"$f":"IFERROR(VLOOKUP($A28,Filtros!$A$5:$AY$22116,6,FALSE),0)","v":0},{"$f":"IFERROR(VLOOKUP($A28,Filtros!$A$5:$AY$22116,7,FALSE),0)","v":0},{"$f":"IFERROR(VLOOKUP($A28,Filtros!$A$5:$AY$22116,8,FALSE),0)","v":0},{"$f":"IFERROR(VLOOKUP($A28,Filtros!$A$5:$AY$22116,9,FALSE),0)","v":1},{"$f":"IFERROR(VLOOKUP($A28,Filtros!$A$5:$AY$22116,10,FALSE),0)","v":1},{"$f":"IFERROR(VLOOKUP($A28,Filtros!$A$5:$AY$22116,11,FALSE),0)","v":19},{"$f":"IFERROR(VLOOKUP($A28,Filtros!$A$5:$AY$22116,12,FALSE),0)","v":13},{"$f":"IFERROR(VLOOKUP($A28,Filtros!$A$5:$AY$22116,13,FALSE),0)","v":26},{"$f":"IFERROR(VLOOKUP($A28,Filtros!$A$5:$AY$22116,14,FALSE),0)","v":11},{"$f":"IFERROR(VLOOKUP($A28,Filtros!$A$5:$AY$22116,15,FALSE),0)","v":32},{"$f":"IFERROR(VLOOKUP($A28,Filtros!$A$5:$AY$22116,16,FALSE),0)","v":13},{"$f":"IFERROR(VLOOKUP($A28,Filtros!$A$5:$AY$22116,17,FALSE),0)","v":45},{"$f":"IFERROR(VLOOKUP($A28,Filtros!$A$5:$AY$22116,18,FALSE),0)","v":18},{"$f":"IFERROR(VLOOKUP($A28,Filtros!$A$5:$AY$22116,19,FALSE),0)","v":34},{"$f":"IFERROR(VLOOKUP($A28,Filtros!$A$5:$AY$22116,20,FALSE),0)","v":16},{"$f":"IFERROR(VLOOKUP($A28,Filtros!$A$5:$AY$22116,21,FALSE),0)","v":27},{"$f":"IFERROR(VLOOKUP($A28,Filtros!$A$5:$AY$22116,22,FALSE),0)","v":20},{"$f":"IFERROR(VLOOKUP($A28,Filtros!$A$5:$AY$22116,23,FALSE),0)","v":19},{"$f":"IFERROR(VLOOKUP($A28,Filtros!$A$5:$AY$22116,24,FALSE),0)","v":8},{"$f":"IFERROR(VLOOKUP($A28,Filtros!$A$5:$AY$22116,25,FALSE),0)","v":16},{"$f":"IFERROR(VLOOKUP($A28,Filtros!$A$5:$AY$22116,26,FALSE),0)","v":6},{"$f":"IFERROR(VLOOKUP($A28,Filtros!$A$5:$AY$22116,27,FALSE),0)","v":13},{"$f":"IFERROR(VLOOKUP($A28,Filtros!$A$5:$AY$22116,28,FALSE),0)","v":5},{"$f":"IFERROR(VLOOKUP($A28,Filtros!$A$5:$AY$22116,29,FALSE),0)","v":2},{"$f":"IFERROR(VLOOKUP($A28,Filtros!$A$5:$AY$22116,30,FALSE),0)","v":1},{"$f":"IFERROR(VLOOKUP($A28,Filtros!$A$5:$AY$22116,31,FALSE),0)","v":4},{"$f":"IFERROR(VLOOKUP($A28,Filtros!$A$5:$AY$22116,32,FALSE),0)","v":0},{"$f":"IFERROR(VLOOKUP($A28,Filtros!$A$5:$AY$22116,33,FALSE),0)","v":0},{"$f":"IFERROR(VLOOKUP($A28,Filtros!$A$5:$AY$22116,34,FALSE),0)","v":0},{"$f":"IFERROR(VLOOKUP($A28,Filtros!$A$5:$AY$22116,35,FALSE),0)","v":0},{"$f":"IFERROR(VLOOKUP($A28,Filtros!$A$5:$AY$22116,36,FALSE),0)","v":0},{"$f":"IFERROR(VLOOKUP($A28,Filtros!$A$5:$AY$22116,37,FALSE),0)","v":0},{"$f":"IFERROR(VLOOKUP($A28,Filtros!$A$5:$AY$22116,38,FALSE),0)","v":0},{"$f":"IFERROR(VLOOKUP($A28,Filtros!$A$5:$AY$22116,39,FALSE),0)","v":0},{"$f":"IFERROR(VLOOKUP($A28,Filtros!$A$5:$AY$22116,40,FALSE),0)","v":10},{"$f":"IFERROR(VLOOKUP($A28,Filtros!$A$5:$AY$22116,41,FALSE),0)","v":0},{"$f":"IFERROR(VLOOKUP($A28,Filtros!$A$5:$AY$22116,42,FALSE),0)","v":0},{"$f":"IFERROR(VLOOKUP($A28,Filtros!$A$5:$AY$22116,43,FALSE),0)","v":0},{"$f":"IFERROR(VLOOKUP($A28,Filtros!$A$5:$AY$22116,44,FALSE),0)","v":0},{"$f":"IFERROR(VLOOKUP($A28,Filtros!$A$5:$AY$22116,45,FALSE),0)","v":4},{"$f":"IFERROR(VLOOKUP($A28,Filtros!$A$5:$AY$22116,46,FALSE),0)","v":7},"",{"$nulls":35},{"$f":"IF($AO28>$F28,\"* La celda 'Gestantes' debe ser menor o igual al Total de Mujeres en control. \",\"\")","v":""},{"$f":"IF($AP28>$F28,\"* La celda 'Madres de Hijos menor de 5 años' debe ser menor o igual al Total de Mujeres en control. \",\"\")","v":""},"","","","","",{"$f":"IF(AND($D28<>0,$AO28=\"\"),\"* No olvide escribir en la celda de 'Gestantes' (Digite CERO si no tiene). \",\"\")","v":""},{"$f":"IF(AND($D28<>0,$AP28=\"\"),\"* No olvide escribir en la celda de 'Madres de Hijos menor de 5 años' (Digite CERO si no tiene). \",\"\")","v":""},"","","",{"$nulls":8},{"$f":"IF($AO28>$F28,1,0)","v":0},0,0,0,0,0,0,{"$f":"IF(AND($D28<>0,$AO28=\"\"),1,0)","v":0},0,0,0,0]
["P6222600","TRASTORNOS DEL COMPORTAMIENTO Y DE LAS EMOCIONES DE COMIENZO HABITUAL EN LA INFANCIA Y ADOLESCENCIA","TRASTORNO HIPERCINÉTICO",{"$f":"IFERROR(VLOOKUP($A29,Filtros!$A$5:$AY$22116,2,FALSE),0)","v":1134},{"$f":"IFERROR(VLOOKUP($A29,Filtros!$A$5:$AY$22116,3,FALSE),0)","v":812},{"$f":"IFERROR(VLOOKUP($A29,Filtros!$A$5:$AY$22116,4,FALSE),0)","v":322},{"$f":"IFERROR(VLOOKUP($A29,Filtros!$A$5:$AY$22116,5,FALSE),0)","v":15},{"$f":"IFERROR(VLOOKUP($A29,Filtros!$A$5:$AY$22116,6,FALSE),0)","v":4},{"$f":"IFERROR(VLOOKUP($A29,Filtros!$A$5:$AY$22116,7,FALSE),0)","v":337},{"$f":"IFERROR(VLOOKUP($A29,Filtros!$A$5:$AY$22116,8,FALSE),0)","v":148},{"$f":"IFERROR(VLOOKUP($A29,Filtros!$A$5:$AY$22116,9,FALSE),0)","v":352},{"$f":"IFERROR(VLOOKUP($A29,Filtros!$A$5:$AY$22116,10,FALSE),0)","v":115},{"$f":"IFERROR(VLOOKUP($A29,Filtros!$A$5:$AY$22116,11,FALSE),0)","v":96},{"$f":"IFERROR(VLOOKUP($A29,Filtros!$A$5:$AY$22116,12,FALSE),0)","v":50},{"$f":"IFERROR(VLOOKUP($A29,Filtros!$A$5:$AY$22116,13,FALSE),0)","v":10},{"$f":"IFERROR(VLOOKUP($A29,Filtros!$A$5:$AY$22116,14,FALSE),0)","v":4},{"$f":"IFERROR(VLOOKUP($A29,Filtros!$A$5:$AY$22116,15,FALSE),0)","v":2},{"$f":"IFERROR(VLOOKUP($A29,Filtros!$A$5:$AY$22116,16,FALSE),0)","v":0},{"$f":"IFERROR(VLOOKUP($A29,Filtros!$A$5:$AY$22116,17,FALSE),0)","v":0},{"$f":"IFERROR(VLOOKUP($A29,Filtros!$A$5:$AY$22116,18,FALSE),0)","v":0},{"$f":"IFERROR(VLOOKUP($A29,Filtros!$A$5:$AY$22116,19,FALSE),0)","v":0},{"$f":"IFERROR(VLOOKUP($A29,Filtros!$A$5:$AY$22116,20,FALSE),0)","v":0},{"$f":"IFERROR(VLOOKUP($A29,Filtros!$A$5:$AY$22116,21,FALSE),0)","v":0},{"$f":"IFERROR(VLOOKUP($A29,Filtros!$A$5:$AY$22116,22,FALSE),0)","v":1},{"$f":"IFERROR(VLOOKUP($A29,Filtros!$A$5:$AY$22116,23,FALSE),0)","v":0},{"$f":"IFERROR(VLOOKUP($A29,Filtros!$A$5:$AY$22116,24,FALSE),0)","v":0},{"$f":"IFERROR(VLOOKUP($A29,Filtros!$A$5:$AY$22116,25,FALSE),0)","v":0},{"$f":"IFERROR(VLOOKUP($A29,Filtros!$A$5:$AY$22116,26,FALSE),0)","v":0},{"$f":"IFERROR(VLOOKUP($A29,Filtros!$A$5:$AY$22116,27,FALSE),0)","v":0},{"$f":"IFERROR(VLOOKUP($A29,Filtros!$A$5:$AY$22116,28,FALSE),0)","v":0},{"$f":"IFERROR(VLOOKUP($A29,Filtros!$A$5:$AY$22116,29,FALSE),0)","v":0},{"$f":"IFERROR(VLOOKUP($A29,Filtros!$A$5:$AY$22116,30,FALSE),0)","v":0},{"$f":"IFERROR(VLOOKUP($A29,Filtros!$A$5:$AY$22116,31,FALSE),0)","v":0},{"$f":"IFERROR(VLOOKUP($A29,Filtros!$A$5:$AY$22116,32,FALSE),0)","v":0},{"$f":"IFERROR(VLOOKUP($A29,Filtros!$A$5:$AY$22116,33,FALSE),0)","v":0},{"$f":"IFERROR(VLOOKUP($A29,Filtros!$A$5:$AY$22116,34,FALSE),0)","v":0},{"$f":"IFERROR(VLOOKUP($A29,Filtros!$A$5:$AY$22116,35,FALSE),0)","v":0},{"$f":"IFERROR(VLOOKUP($A29,Filtros!$A$5:$AY$22116,36,FALSE),0)","v":0},{"$f":"IFERROR(VLOOKUP($A29,Filtros!$A$5:$AY$22116,37,FALSE),0)","v":0},{"$f":"IFERROR(VLOOKUP($A29,Filtros!$A$5:$AY$22116,38,FALSE),0)","v":0},{"$f":"IFERROR(VLOOKUP($A29,Filtros!$A$5:$AY$22116,39,FALSE),0)","v":0},{"$f":"IFERROR(VLOOKUP($A29,Filtros!$A$5:$AY$22116,40,FALSE),0)","v":0},{"$f":"IFERROR(VLOOKUP($A29,Filtros!$A$5:$AY$22116,41,FALSE),0)","v":4},{"$f":"IFERROR(VLOOKUP($A29,Filtros!$A$5:$AY$22116,42,FALSE),0)","v":0},{"$f":"IFERROR(VLOOKUP($A29,Filtros!$A$5:$AY$22116,43,FALSE),0)","v":1},{"$f":"IFERROR(VLOOKUP($A29,Filtros!$A$5:$AY$22116,44,FALSE),0)","v":1},{"$f":"IFERROR(VLOOKUP($A29,Filtros!$A$5:$AY$22116,45,FALSE),0)","v":44},{"$f":"IFERROR(VLOOKUP($A29,Filtros!$A$5:$AY$22116,46,FALSE),0)","v":135},"",{"$nulls":37},"","","","","",null,null,"","","",{"$nulls":10},0,0,0,0,0,null,null,0,0,0]
["P6223060",null,"TRASTORNO DISOCIAL DESAFIANTE Y OPOSICIONISTA",{"$f":"IFERROR(VLOOKUP($A30,Filtros!$A$5:$AY$22116,2,FALSE),0)","v":173},{"$f":"IFERROR(VLOOKUP($A30,Filtros!$A$5:$AY$22116,3,FALSE),0)","v":112},{"$f":"IFERROR(VLOOKUP($A30,Filtros!$A$5:$AY$22116,4,FALSE),0)","v":61},{"$f":"IFERROR(VLOOKUP($A30,Filtros!$A$5:$AY$22116,5,FALSE),0)","v":5},{"$f":"IFERROR(VLOOKUP($A30,Filtros!$A$5:$AY$22116,6,FALSE),0)","v":1},{"$f":"IFERROR(VLOOKUP($A30,Filtros!$A$5:$AY$22116,7,FALSE),0)","v":55},{"$f":"IFERROR(VLOOKUP($A30,Filtros!$A$5:$AY$22116,8,FALSE),0)","v":25},{"$f":"IFERROR(VLOOKUP($A30,Filtros!$A$5:$AY$22116,9,FALSE),0)","v":36},{"$f":"IFERROR(VLOOKUP($A30,Filtros!$A$5:$AY$22116,10,FALSE),0)","v":28},{"$f":"IFERROR(VLOOKUP($A30,Filtros!$A$5:$AY$22116,11,FALSE),0)","v":14},{"$f":"IFERROR(VLOOKUP($A30,Filtros!$A$5:$AY$22116,12,FALSE),0)","v":6},{"$f":"IFERROR(VLOOKUP($A30,Filtros!$A$5:$AY$22116,13,FALSE),0)","v":1},{"$f":"IFERROR(VLOOKUP($A30,Filtros!$A$5:$AY$22116,14,FALSE),0)","v":0},{"$f":"IFERROR(VLOOKUP($A30,Filtros!$A$5:$AY$22116,15,FALSE),0)","v":0},{"$f":"IFERROR(VLOOKUP($A30,Filtros!$A$5:$AY$22116,16,FALSE),0)","v":0},{"$f":"IFERROR(VLOOKUP($A30,Filtros!$A$5:$AY$22116,17,FALSE),0)","v":0},{"$f":"IFERROR(VLOOKUP($A30,Filtros!$A$5:$AY$22116,18,FALSE),0)","v":0},{"$f":"IFERROR(VLOOKUP($A30,Filtros!$A$5:$AY$22116,19,FALSE),0)","v":0},{"$f":"IFERROR(VLOOKUP($A30,Filtros!$A$5:$AY$22116,20,FALSE),0)","v":0},{"$f":"IFERROR(VLOOKUP($A30,Filtros!$A$5:$AY$22116,21,FALSE),0)","v":0},{"$f":"IFERROR(VLOOKUP($A30,Filtros!$A$5:$AY$22116,22,FALSE),0)","v":1},{"$f":"IFERROR(VLOOKUP($A30,Filtros!$A$5:$AY$22116,23,FALSE),0)","v":0},{"$f":"IFERROR(VLOOKUP($A30,Filtros!$A$5:$AY$22116,24,FALSE),0)","v":0},{"$f":"IFERROR(VLOOKUP($A30,Filtros!$A$5:$AY$22116,25,FALSE),0)","v":0},{"$f":"IFERROR(VLOOKUP($A30,Filtros!$A$5:$AY$22116,26,FALSE),0)","v":0},{"$f":"IFERROR(VLOOKUP($A30,Filtros!$A$5:$AY$22116,27,FALSE),0)","v":0},{"$f":"IFERROR(VLOOKUP($A30,Filtros!$A$5:$AY$22116,28,FALSE),0)","v":0},{"$f":"IFERROR(VLOOKUP($A30,Filtros!$A$5:$AY$22116,29,FALSE),0)","v":0},{"$f":"IFERROR(VLOOKUP($A30,Filtros!$A$5:$AY$22116,30,FALSE),0)","v":0},{"$f":"IFERROR(VLOOKUP($A30,Filtros!$A$5:$AY$22116,31,FALSE),0)","v":0},{"$f":"IFERROR(VLOOKUP($A30,Filtros!$A$5:$AY$22116,32,FALSE),0)","v":0},{"$f":"IFERROR(VLOOKUP($A30,Filtros!$A$5:$AY$22116,33,FALSE),0)","v":1},{"$f":"IFERROR(VLOOKUP($A30,Filtros!$A$5:$AY$22116,34,FALSE),0)","v":0},{"$f":"IFERROR(VLOOKUP($A30,Filtros!$A$5:$AY$22116,35,FALSE),0)","v":0},{"$f":"IFERROR(VLOOKUP($A30,Filtros!$A$5:$AY$22116,36,FALSE),0)","v":0},{"$f":"IFERROR(VLOOKUP($A30,Filtros!$A$5:$AY$22116,37,FALSE),0)","v":0},{"$f":"IFERROR(VLOOKUP($A30,Filtros!$A$5:$AY$22116,38,FALSE),0)","v":0},{"$f":"IFERROR(VLOOKUP($A30,Filtros!$A$5:$AY$22116,39,FALSE),0)","v":0},{"$f":"IFERROR(VLOOKUP($A30,Filtros!$A$5:$AY$22116,40,FALSE),0)","v":0},{"$f":"IFERROR(VLOOKUP($A30,Filtros!$A$5:$AY$22116,41,FALSE),0)","v":1},{"$f":"IFERROR(VLOOKUP($A30,Filtros!$A$5:$AY$22116,42,FALSE),0)","v":0},{"$f":"IFERROR(VLOOKUP($A30,Filtros!$A$5:$AY$22116,43,FALSE),0)","v":0},{"$f":"IFERROR(VLOOKUP($A30,Filtros!$A$5:$AY$22116,44,FALSE),0)","v":1},{"$f":"IFERROR(VLOOKUP($A30,Filtros!$A$5:$AY$22116,45,FALSE),0)","v":17},{"$f":"IFERROR(VLOOKUP($A30,Filtros!$A$5:$AY$22116,46,FALSE),0)","v":8},"",{"$nulls":37},"","","","","",null,null,"","","",{"$nulls":10},0,0,0,0,0,null,null,0,0,0]
["P6223070",null,"TRASTORNO DE ANSIEDAD DE SEPARACIÓN EN LA INFANCIA",{"$f":"IFERROR(VLOOKUP($A31,Filtros!$A$5:$AY$22116,2,FALSE),0)","v":105},{"$f":"IFERROR(VLOOKUP($A31,Filtros!$A$5:$AY$22116,3,FALSE),0)","v":49},{"$f":"IFERROR(VLOOKUP($A31,Filtros!$A$5:$AY$22116,4,FALSE),0)","v":56},{"$f":"IFERROR(VLOOKUP($A31,Filtros!$A$5:$AY$22116,5,FALSE),0)","v":0},{"$f":"IFERROR(VLOOKUP($A31,Filtros!$A$5:$AY$22116,6,FALSE),0)","v":6},{"$f":"IFERROR(VLOOKUP($A31,Filtros!$A$5:$AY$22116,7,FALSE),0)","v":28},{"$f":"IFERROR(VLOOKUP($A31,Filtros!$A$5:$AY$22116,8,FALSE),0)","v":32},{"$f":"IFERROR(VLOOKUP($A31,Filtros!$A$5:$AY$22116,9,FALSE),0)","v":21},{"$f":"IFERROR(VLOOKUP($A31,Filtros!$A$5:$AY$22116,10,FALSE),0)","v":18},{"$f":"IFERROR(VLOOKUP($A31,Filtros!$A$5:$AY$22116,11,FALSE),0)","v":0},{"$f":"IFERROR(VLOOKUP($A31,Filtros!$A$5:$AY$22116,12,FALSE),0)","v":0},{"$f":"IFERROR(VLOOKUP($A31,Filtros!$A$5:$AY$22116,13,FALSE),0)","v":0},{"$f":"IFERROR(VLOOKUP($A31,Filtros!$A$5:$AY$22116,14,FALSE),0)","v":0},{"$f":"IFERROR(VLOOKUP($A31,Filtros!$A$5:$AY$22116,15,FALSE),0)","v":0},{"$f":"IFERROR(VLOOKUP($A31,Filtros!$A$5:$AY$22116,16,FALSE),0)","v":0},{"$f":"IFERROR(VLOOKUP($A31,Filtros!$A$5:$AY$22116,17,FALSE),0)","v":0},{"$f":"IFERROR(VLOOKUP($A31,Filtros!$A$5:$AY$22116,18,FALSE),0)","v":0},{"$f":"IFERROR(VLOOKUP($A31,Filtros!$A$5:$AY$22116,19,FALSE),0)","v":0},{"$f":"IFERROR(VLOOKUP($A31,Filtros!$A$5:$AY$22116,20,FALSE),0)","v":0},{"$f":"IFERROR(VLOOKUP($A31,Filtros!$A$5:$AY$22116,21,FALSE),0)","v":0},{"$f":"IFERROR(VLOOKUP($A31,Filtros!$A$5:$AY$22116,22,FALSE),0)","v":0},{"$f":"IFERROR(VLOOKUP($A31,Filtros!$A$5:$AY$22116,23,FALSE),0)","v":0},{"$f":"IFERROR(VLOOKUP($A31,Filtros!$A$5:$AY$22116,24,FALSE),0)","v":0},{"$f":"IFERROR(VLOOKUP($A31,Filtros!$A$5:$AY$22116,25,FALSE),0)","v":0},{"$f":"IFERROR(VLOOKUP($A31,Filtros!$A$5:$AY$22116,26,FALSE),0)","v":0},{"$f":"IFERROR(VLOOKUP($A31,Filtros!$A$5:$AY$22116,27,FALSE),0)","v":0},{"$f":"IFERROR(VLOOKUP($A31,Filtros!$A$5:$AY$22116,28,FALSE),0)","v":0},{"$f":"IFERROR(VLOOKUP($A31,Filtros!$A$5:$AY$22116,29,FALSE),0)","v":0},{"$f":"IFERROR(VLOOKUP($A31,Filtros!$A$5:$AY$22116,30,FALSE),0)","v":0},{"$f":"IFERROR(VLOOKUP($A31,Filtros!$A$5:$AY$22116,31,FALSE),0)","v":0},{"$f":"IFERROR(VLOOKUP($A31,Filtros!$A$5:$AY$22116,32,FALSE),0)","v":0},{"$f":"IFERROR(VLOOKUP($A31,Filtros!$A$5:$AY$22116,33,FALSE),0)","v":0},{"$f":"IFERROR(VLOOKUP($A31,Filtros!$A$5:$AY$22116,34,FALSE),0)","v":0},{"$f":"IFERROR(VLOOKUP($A31,Filtros!$A$5:$AY$22116,35,FALSE),0)","v":0},{"$f":"IFERROR(VLOOKUP($A31,Filtros!$A$5:$AY$22116,36,FALSE),0)","v":0},{"$f":"IFERROR(VLOOKUP($A31,Filtros!$A$5:$AY$22116,37,FALSE),0)","v":0},{"$f":"IFERROR(VLOOKUP($A31,Filtros!$A$5:$AY$22116,38,FALSE),0)","v":0},{"$f":"IFERROR(VLOOKUP($A31,Filtros!$A$5:$AY$22116,39,FALSE),0)","v":0},{"$f":"IFERROR(VLOOKUP($A31,Filtros!$A$5:$AY$22116,40,FALSE),0)","v":0},{"$f":"IFERROR(VLOOKUP($A31,Filtros!$A$5:$AY$22116,41,FALSE),0)","v":0},{"$f":"IFERROR(VLOOKUP($A31,Filtros!$A$5:$AY$22116,42,FALSE),0)","v":0},{"$f":"IFERROR(VLOOKUP($A31,Filtros!$A$5:$AY$22116,43,FALSE),0)","v":0},{"$f":"IFERROR(VLOOKUP($A31,Filtros!$A$5:$AY$22116,44,FALSE),0)","v":0},{"$f":"IFERROR(VLOOKUP($A31,Filtros!$A$5:$AY$22116,45,FALSE),0)","v":4},{"$f":"IFERROR(VLOOKUP($A31,Filtros!$A$5:$AY$22116,46,FALSE),0)","v":7},"",{"$nulls":37},"","","","","",null,null,"","","",{"$nulls":10},0,0,0,0,0,null,null,0,0,0]
["P6223080",null,"OTROS TRASTORNOS DEL COMPORTAMIENTO Y DE LAS EMOCIONES DE COMIENZO HABITUAL EN LA INFANCIA Y ADOLESCENCIA",{"$f":"IFERROR(VLOOKUP($A32,Filtros!$A$5:$AY$22116,2,FALSE),0)","v":2122},{"$f":"IFERROR(VLOOKUP($A32,Filtros!$A$5:$AY$22116,3,FALSE),0)","v":1043},{"$f":"IFERROR(VLOOKUP($A32,Filtros!$A$5:$AY$22116,4,FALSE),0)","v":1079},{"$f":"IFERROR(VLOOKUP($A32,Filtros!$A$5:$AY$22116,5,FALSE),0)","v":41},{"$f":"IFERROR(VLOOKUP($A32,Filtros!$A$5:$AY$22116,6,FALSE),0)","v":21},{"$f":"IFERROR(VLOOKUP($A32,Filtros!$A$5:$AY$22116,7,FALSE),0)","v":464},{"$f":"IFERROR(VLOOKUP($A32,Filtros!$A$5:$AY$22116,8,FALSE),0)","v":348},{"$f":"IFERROR(VLOOKUP($A32,Filtros!$A$5:$AY$22116,9,FALSE),0)","v":366},{"$f":"IFERROR(VLOOKUP($A32,Filtros!$A$5:$AY$22116,10,FALSE),0)","v":439},{"$f":"IFERROR(VLOOKUP($A32,Filtros!$A$5:$AY$22116,11,FALSE),0)","v":167},{"$f":"IFERROR(VLOOKUP($A32,Filtros!$A$5:$AY$22116,12,FALSE),0)","v":261},{"$f":"IFERROR(VLOOKUP($A32,Filtros!$A$5:$AY$22116,13,FALSE),0)","v":5},{"$f":"IFERROR(VLOOKUP($A32,Filtros!$A$5:$AY$22116,14,FALSE),0)","v":10},{"$f":"IFERROR(VLOOKUP($A32,Filtros!$A$5:$AY$22116,15,FALSE),0)","v":0},{"$f":"IFERROR(VLOOKUP($A32,Filtros!$A$5:$AY$22116,16,FALSE),0)","v":0},{"$f":"IFERROR(VLOOKUP($A32,Filtros!$A$5:$AY$22116,17,FALSE),0)","v":0},{"$f":"IFERROR(VLOOKUP($A32,Filtros!$A$5:$AY$22116,18,FALSE),0)","v":0},{"$f":"IFERROR(VLOOKUP($A32,Filtros!$A$5:$AY$22116,19,FALSE),0)","v":0},{"$f":"IFERROR(VLOOKUP($A32,Filtros!$A$5:$AY$22116,20,FALSE),0)","v":0},{"$f":"IFERROR(VLOOKUP($A32,Filtros!$A$5:$AY$22116,21,FALSE),0)","v":0},{"$f":"IFERROR(VLOOKUP($A32,Filtros!$A$5:$AY$22116,22,FALSE),0)","v":0},{"$f":"IFERROR(VLOOKUP($A32,Filtros!$A$5:$AY$22116,23,FALSE),0)","v":0},{"$f":"IFERROR(VLOOKUP($A32,Filtros!$A$5:$AY$22116,24,FALSE),0)","v":0},{"$f":"IFERROR(VLOOKUP($A32,Filtros!$A$5:$AY$22116,25,FALSE),0)","v":0},{"$f":"IFERROR(VLOOKUP($A32,Filtros!$A$5:$AY$22116,26,FALSE),0)","v":0},{"$f":"IFERROR(VLOOKUP($A32,Filtros!$A$5:$AY$22116,27,FALSE),0)","v":0},{"$f":"IFERROR(VLOOKUP($A32,Filtros!$A$5:$AY$22116,28,FALSE),0)","v":0},{"$f":"IFERROR(VLOOKUP($A32,Filtros!$A$5:$AY$22116,29,FALSE),0)","v":0},{"$f":"IFERROR(VLOOKUP($A32,Filtros!$A$5:$AY$22116,30,FALSE),0)","v":0},{"$f":"IFERROR(VLOOKUP($A32,Filtros!$A$5:$AY$22116,31,FALSE),0)","v":0},{"$f":"IFERROR(VLOOKUP($A32,Filtros!$A$5:$AY$22116,32,FALSE),0)","v":0},{"$f":"IFERROR(VLOOKUP($A32,Filtros!$A$5:$AY$22116,33,FALSE),0)","v":0},{"$f":"IFERROR(VLOOKUP($A32,Filtros!$A$5:$AY$22116,34,FALSE),0)","v":0},{"$f":"IFERROR(VLOOKUP($A32,Filtros!$A$5:$AY$22116,35,FALSE),0)","v":0},{"$f":"IFERROR(VLOOKUP($A32,Filtros!$A$5:$AY$22116,36,FALSE),0)","v":0},{"$f":"IFERROR(VLOOKUP($A32,Filtros!$A$5:$AY$22116,37,FALSE),0)","v":0},{"$f":"IFERROR(VLOOKUP($A32,Filtros!$A$5:$AY$22116,38,FALSE),0)","v":0},{"$f":"IFERROR(VLOOKUP($A32,Filtros!$A$5:$AY$22116,39,FALSE),0)","v":0},{"$f":"IFERROR(VLOOKUP($A32,Filtros!$A$5:$AY$22116,40,FALSE),0)","v":0},{"$f":"IFERROR(VLOOKUP($A32,Filtros!$A$5:$AY$22116,41,FALSE),0)","v":6},{"$f":"IFERROR(VLOOKUP($A32,Filtros!$A$5:$AY$22116,42,FALSE),0)","v":3},{"$f":"IFERROR(VLOOKUP($A32,Filtros!$A$5:$AY$22116,43,FALSE),0)","v":3},{"$f":"IFERROR(VLOOKUP($A32,Filtros!$A$5:$AY$22116,44,FALSE),0)","v":6},{"$f":"IFERROR(VLOOKUP($A32,Filtros!$A$5:$AY$22116,45,FALSE),0)","v":172},{"$f":"IFERROR(VLOOKUP($A32,Filtros!$A$5:$AY$22116,46,FALSE),0)","v":264},"",{"$nulls":37},"","","","","",null,null,"","","",{"$nulls":10},0,0,0,0,0,null,null,0,0,0]
["P6231000","TRASTORNOS DE ANSIEDAD","TRASTORNO DE ESTRÉS POST TRAUMATICO",{"$f":"IFERROR(VLOOKUP($A33,Filtros!$A$5:$AY$22116,2,FALSE),0)","v":384},{"$f":"IFERROR(VLOOKUP($A33,Filtros!$A$5:$AY$22116,3,FALSE),0)","v":116},{"$f":"IFERROR(VLOOKUP($A33,Filtros!$A$5:$AY$22116,4,FALSE),0)","v":268},{"$f":"IFERROR(VLOOKUP($A33,Filtros!$A$5:$AY$22116,5,FALSE),0)","v":1},{"$f":"IFERROR(VLOOKUP($A33,Filtros!$A$5:$AY$22116,6,FALSE),0)","v":0},{"$f":"IFERROR(VLOOKUP($A33,Filtros!$A$5:$AY$22116,7,FALSE),0)","v":36},{"$f":"IFERROR(VLOOKUP($A33,Filtros!$A$5:$AY$22116,8,FALSE),0)","v":35},{"$f":"IFERROR(VLOOKUP($A33,Filtros!$A$5:$AY$22116,9,FALSE),0)","v":9},{"$f":"IFERROR(VLOOKUP($A33,Filtros!$A$5:$AY$22116,10,FALSE),0)","v":18},{"$f":"IFERROR(VLOOKUP($A33,Filtros!$A$5:$AY$22116,11,FALSE),0)","v":18},{"$f":"IFERROR(VLOOKUP($A33,Filtros!$A$5:$AY$22116,12,FALSE),0)","v":33},{"$f":"IFERROR(VLOOKUP($A33,Filtros!$A$5:$AY$22116,13,FALSE),0)","v":4},{"$f":"IFERROR(VLOOKUP($A33,Filtros!$A$5:$AY$22116,14,FALSE),0)","v":24},{"$f":"IFERROR(VLOOKUP($A33,Filtros!$A$5:$AY$22116,15,FALSE),0)","v":3},{"$f":"IFERROR(VLOOKUP($A33,Filtros!$A$5:$AY$22116,16,FALSE),0)","v":23},{"$f":"IFERROR(VLOOKUP($A33,Filtros!$A$5:$AY$22116,17,FALSE),0)","v":2},{"$f":"IFERROR(VLOOKUP($A33,Filtros!$A$5:$AY$22116,18,FALSE),0)","v":11},{"$f":"IFERROR(VLOOKUP($A33,Filtros!$A$5:$AY$22116,19,FALSE),0)","v":10},{"$f":"IFERROR(VLOOKUP($A33,Filtros!$A$5:$AY$22116,20,FALSE),0)","v":11},{"$f":"IFERROR(VLOOKUP($A33,Filtros!$A$5:$AY$22116,21,FALSE),0)","v":1},{"$f":"IFERROR(VLOOKUP($A33,Filtros!$A$5:$AY$22116,22,FALSE),0)","v":20},{"$f":"IFERROR(VLOOKUP($A33,Filtros!$A$5:$AY$22116,23,FALSE),0)","v":5},{"$f":"IFERROR(VLOOKUP($A33,Filtros!$A$5:$AY$22116,24,FALSE),0)","v":19},{"$f":"IFERROR(VLOOKUP($A33,Filtros!$A$5:$AY$22116,25,FALSE),0)","v":4},{"$f":"IFERROR(VLOOKUP($A33,Filtros!$A$5:$AY$22116,26,FALSE),0)","v":16},{"$f":"IFERROR(VLOOKUP($A33,Filtros!$A$5:$AY$22116,27,FALSE),0)","v":2},{"$f":"IFERROR(VLOOKUP($A33,Filtros!$A$5:$AY$22116,28,FALSE),0)","v":17},{"$f":"IFERROR(VLOOKUP($A33,Filtros!$A$5:$AY$22116,29,FALSE),0)","v":7},{"$f":"IFERROR(VLOOKUP($A33,Filtros!$A$5:$AY$22116,30,FALSE),0)","v":14},{"$f":"IFERROR(VLOOKUP($A33,Filtros!$A$5:$AY$22116,31,FALSE),0)","v":7},{"$f":"IFERROR(VLOOKUP($A33,Filtros!$A$5:$AY$22116,32,FALSE),0)","v":11},{"$f":"IFERROR(VLOOKUP($A33,Filtros!$A$5:$AY$22116,33,FALSE),0)","v":4},{"$f":"IFERROR(VLOOKUP($A33,Filtros!$A$5:$AY$22116,34,FALSE),0)","v":7},{"$f":"IFERROR(VLOOKUP($A33,Filtros!$A$5:$AY$22116,35,FALSE),0)","v":2},{"$f":"IFERROR(VLOOKUP($A33,Filtros!$A$5:$AY$22116,36,FALSE),0)","v":3},{"$f":"IFERROR(VLOOKUP($A33,Filtros!$A$5:$AY$22116,37,FALSE),0)","v":1},{"$f":"IFERROR(VLOOKUP($A33,Filtros!$A$5:$AY$22116,38,FALSE),0)","v":6},{"$f":"IFERROR(VLOOKUP($A33,Filtros!$A$5:$AY$22116,39,FALSE),0)","v":0},{"$f":"IFERROR(VLOOKUP($A33,Filtros!$A$5:$AY$22116,40,FALSE),0)","v":6},{"$f":"IFERROR(VLOOKUP($A33,Filtros!$A$5:$AY$22116,41,FALSE),0)","v":0},{"$f":"IFERROR(VLOOKUP($A33,Filtros!$A$5:$AY$22116,42,FALSE),0)","v":0},{"$f":"IFERROR(VLOOKUP($A33,Filtros!$A$5:$AY$22116,43,FALSE),0)","v":0},{"$f":"IFERROR(VLOOKUP($A33,Filtros!$A$5:$AY$22116,44,FALSE),0)","v":2},{"$f":"IFERROR(VLOOKUP($A33,Filtros!$A$5:$AY$22116,45,FALSE),0)","v":10},{"$f":"IFERROR(VLOOKUP($A33,Filtros!$A$5:$AY$22116,46,FALSE),0)","v":32},"",{"$nulls":35},{"$f":"IF($AO33>$F33,\"* La celda 'Gestantes' debe ser menor o igual al Total de Mujeres en control. \",\"\")","v":""},{"$f":"IF($AP33>$F33,\"* La celda 'Madres de Hijos menor de 5 años' debe ser menor o igual al Total de Mujeres en control. \",\"\")","v":""},"","","","","",{"$f":"IF(AND($D33<>0,$AO33=\"\"),\"* No olvide escribir en la celda de 'Gestantes' (Digite CERO si no tiene). \",\"\")","v":""},{"$f":"IF(AND($D33<>0,$AP33=\"\"),\"* No olvide escribir en la celda de 'Madres de Hijos menor de 5 años' (Digite CERO si no tiene). \",\"\")","v":""},"","","",{"$nulls":8},{"$f":"IF($AO33>$F33,1,0)","v":0},{"$f":"IF($AP33>$F33,1,0)","v":0},0,0,0,0,0,{"$f":"IF(AND($D33<>0,$AO33=\"\"),1,0)","v":0},{"$f":"IF(AND($D33<>0,$AP33=\"\"),1,0)","v":0},0,0,0]
["P6231100",null,"TRASTORNO DE PANICO CON AGOROFOBIA ",{"$f":"IFERROR(VLOOKUP($A34,Filtros!$A$5:$AY$22116,2,FALSE),0)","v":220},{"$f":"IFERROR(VLOOKUP($A34,Filtros!$A$5:$AY$22116,3,FALSE),0)","v":45},{"$f":"IFERROR(VLOOKUP($A34,Filtros!$A$5:$AY$22116,4,FALSE),0)","v":175},{"$f":"IFERROR(VLOOKUP($A34,Filtros!$A$5:$AY$22116,5,FALSE),0)","v":0},{"$f":"IFERROR(VLOOKUP($A34,Filtros!$A$5:$AY$22116,6,FALSE),0)","v":0},{"$f":"IFERROR(VLOOKUP($A34,Filtros!$A$5:$AY$22116,7,FALSE),0)","v":1},{"$f":"IFERROR(VLOOKUP($A34,Filtros!$A$5:$AY$22116,8,FALSE),0)","v":1},{"$f":"IFERROR(VLOOKUP($A34,Filtros!$A$5:$AY$22116,9,FALSE),0)","v":1},{"$f":"IFERROR(VLOOKUP($A34,Filtros!$A$5:$AY$22116,10,FALSE),0)","v":6},{"$f":"IFERROR(VLOOKUP($A34,Filtros!$A$5:$AY$22116,11,FALSE),0)","v":10},{"$f":"IFERROR(VLOOKUP($A34,Filtros!$A$5:$AY$22116,12,FALSE),0)","v":8},{"$f":"IFERROR(VLOOKUP($A34,Filtros!$A$5:$AY$22116,13,FALSE),0)","v":6},{"$f":"IFERROR(VLOOKUP($A34,Filtros!$A$5:$AY$22116,14,FALSE),0)","v":8},{"$f":"IFERROR(VLOOKUP($A34,Filtros!$A$5:$AY$22116,15,FALSE),0)","v":6},{"$f":"IFERROR(VLOOKUP($A34,Filtros!$A$5:$AY$22116,16,FALSE),0)","v":16},{"$f":"IFERROR(VLOOKUP($A34,Filtros!$A$5:$AY$22116,17,FALSE),0)","v":3},{"$f":"IFERROR(VLOOKUP($A34,Filtros!$A$5:$AY$22116,18,FALSE),0)","v":18},{"$f":"IFERROR(VLOOKUP($A34,Filtros!$A$5:$AY$22116,19,FALSE),0)","v":5},{"$f":"IFERROR(VLOOKUP($A34,Filtros!$A$5:$AY$22116,20,FALSE),0)","v":20},{"$f":"IFERROR(VLOOKUP($A34,Filtros!$A$5:$AY$22116,21,FALSE),0)","v":3},{"$f":"IFERROR(VLOOKUP($A34,Filtros!$A$5:$AY$22116,22,FALSE),0)","v":23},{"$f":"IFERROR(VLOOKUP($A34,Filtros!$A$5:$AY$22116,23,FALSE),0)","v":1},{"$f":"IFERROR(VLOOKUP($A34,Filtros!$A$5:$AY$22116,24,FALSE),0)","v":23},{"$f":"IFERROR(VLOOKUP($A34,Filtros!$A$5:$AY$22116,25,FALSE),0)","v":2},{"$f":"IFERROR(VLOOKUP($A34,Filtros!$A$5:$AY$22116,26,FALSE),0)","v":16},{"$f":"IFERROR(VLOOKUP($A34,Filtros!$A$5:$AY$22116,27,FALSE),0)","v":1},{"$f":"IFERROR(VLOOKUP($A34,Filtros!$A$5:$AY$22116,28,FALSE),0)","v":8},{"$f":"IFERROR(VLOOKUP($A34,Filtros!$A$5:$AY$22116,29,FALSE),0)","v":1},{"$f":"IFERROR(VLOOKUP($A34,Filtros!$A$5:$AY$22116,30,FALSE),0)","v":10},{"$f":"IFERROR(VLOOKUP($A34,Filtros!$A$5:$AY$22116,31,FALSE),0)","v":2},{"$f":"IFERROR(VLOOKUP($A34,Filtros!$A$5:$AY$22116,32,FALSE),0)","v":7},{"$f":"IFERROR(VLOOKUP($A34,Filtros!$A$5:$AY$22116,33,FALSE),0)","v":2},{"$f":"IFERROR(VLOOKUP($A34,Filtros!$A$5:$AY$22116,34,FALSE),0)","v":4},{"$f":"IFERROR(VLOOKUP($A34,Filtros!$A$5:$AY$22116,35,FALSE),0)","v":0},{"$f":"IFERROR(VLOOKUP($A34,Filtros!$A$5:$AY$22116,36,FALSE),0)","v":4},{"$f":"IFERROR(VLOOKUP($A34,Filtros!$A$5:$AY$22116,37,FALSE),0)","v":1},{"$f":"IFERROR(VLOOKUP($A34,Filtros!$A$5:$AY$22116,38,FALSE),0)","v":3},{"$f":"IFERROR(VLOOKUP($A34,Filtros!$A$5:$AY$22116,39,FALSE),0)","v":3},{"$f":"IFERROR(VLOOKUP($A34,Filtros!$A$5:$AY$22116,40,FALSE),0)","v":7},{"$f":"IFERROR(VLOOKUP($A34,Filtros!$A$5:$AY$22116,41,FALSE),0)","v":0},{"$f":"IFERROR(VLOOKUP($A34,Filtros!$A$5:$AY$22116,42,FALSE),0)","v":1},{"$f":"IFERROR(VLOOKUP($A34,Filtros!$A$5:$AY$22116,43,FALSE),0)","v":0},{"$f":"IFERROR(VLOOKUP($A34,Filtros!$A$5:$AY$22116,44,FALSE),0)","v":2},{"$f":"IFERROR(VLOOKUP($A34,Filtros!$A$5:$AY$22116,45,FALSE),0)","v":0},{"$f":"IFERROR(VLOOKUP($A34,Filtros!$A$5:$AY$22116,46,FALSE),0)","v":4},"",{"$nulls":35},"","","","","","","","","","","","",{"$nulls":8},0,0,0,0,0,0,0,0,0,0,0,0]
["P6231200",null,"TRASTORNO DE PANICO SIN AGOROFOBIA ",{"$f":"IFERROR(VLOOKUP($A35,Filtros!$A$5:$AY$22116,2,FALSE),0)","v":977},{"$f":"IFERROR(VLOOKUP($A35,Filtros!$A$5:$AY$22116,3,FALSE),0)","v":195},{"$f":"IFERROR(VLOOKUP($A35,Filtros!$A$5:$AY$22116,4,FALSE),0)","v":782},{"$f":"IFERROR(VLOOKUP($A35,Filtros!$A$5:$AY$22116,5,FALSE),0)","v":0},{"$f":"IFERROR(VLOOKUP($A35,Filtros!$A$5:$AY$22116,6,FALSE),0)","v":0},{"$f":"IFERROR(VLOOKUP($A35,Filtros!$A$5:$AY$22116,7,FALSE),0)","v":1},{"$f":"IFERROR(VLOOKUP($A35,Filtros!$A$5:$AY$22116,8,FALSE),0)","v":4},{"$f":"IFERROR(VLOOKUP($A35,Filtros!$A$5:$AY$22116,9,FALSE),0)","v":10},{"$f":"IFERROR(VLOOKUP($A35,Filtros!$A$5:$AY$22116,10,FALSE),0)","v":35},{"$f":"IFERROR(VLOOKUP($A35,Filtros!$A$5:$AY$22116,11,FALSE),0)","v":14},{"$f":"IFERROR(VLOOKUP($A35,Filtros!$A$5:$AY$22116,12,FALSE),0)","v":83},{"$f":"IFERROR(VLOOKUP($A35,Filtros!$A$5:$AY$22116,13,FALSE),0)","v":22},{"$f":"IFERROR(VLOOKUP($A35,Filtros!$A$5:$AY$22116,14,FALSE),0)","v":71},{"$f":"IFERROR(VLOOKUP($A35,Filtros!$A$5:$AY$22116,15,FALSE),0)","v":18},{"$f":"IFERROR(VLOOKUP($A35,Filtros!$A$5:$AY$22116,16,FALSE),0)","v":70},{"$f":"IFERROR(VLOOKUP($A35,Filtros!$A$5:$AY$22116,17,FALSE),0)","v":23},{"$f":"IFERROR(VLOOKUP($A35,Filtros!$A$5:$AY$22116,18,FALSE),0)","v":78},{"$f":"IFERROR(VLOOKUP($A35,Filtros!$A$5:$AY$22116,19,FALSE),0)","v":12},{"$f":"IFERROR(VLOOKUP($A35,Filtros!$A$5:$AY$22116,20,FALSE),0)","v":73},{"$f":"IFERROR(VLOOKUP($A35,Filtros!$A$5:$AY$22116,21,FALSE),0)","v":16},{"$f":"IFERROR(VLOOKUP($A35,Filtros!$A$5:$AY$22116,22,FALSE),0)","v":65},{"$f":"IFERROR(VLOOKUP($A35,Filtros!$A$5:$AY$22116,23,FALSE),0)","v":17},{"$f":"IFERROR(VLOOKUP($A35,Filtros!$A$5:$AY$22116,24,FALSE),0)","v":63},{"$f":"IFERROR(VLOOKUP($A35,Filtros!$A$5:$AY$22116,25,FALSE),0)","v":13},{"$f":"IFERROR(VLOOKUP($A35,Filtros!$A$5:$AY$22116,26,FALSE),0)","v":54},{"$f":"IFERROR(VLOOKUP($A35,Filtros!$A$5:$AY$22116,27,FALSE),0)","v":24},{"$f":"IFERROR(VLOOKUP($A35,Filtros!$A$5:$AY$22116,28,FALSE),0)","v":55},{"$f":"IFERROR(VLOOKUP($A35,Filtros!$A$5:$AY$22116,29,FALSE),0)","v":10},{"$f":"IFERROR(VLOOKUP($A35,Filtros!$A$5:$AY$22116,30,FALSE),0)","v":49},{"$f":"IFERROR(VLOOKUP($A35,Filtros!$A$5:$AY$22116,31,FALSE),0)","v":6},{"$f":"IFERROR(VLOOKUP($A35,Filtros!$A$5:$AY$22116,32,FALSE),0)","v":34},{"$f":"IFERROR(VLOOKUP($A35,Filtros!$A$5:$AY$22116,33,FALSE),0)","v":6},{"$f":"IFERROR(VLOOKUP($A35,Filtros!$A$5:$AY$22116,34,FALSE),0)","v":22},{"$f":"IFERROR(VLOOKUP($A35,Filtros!$A$5:$AY$22116,35,FALSE),0)","v":2},{"$f":"IFERROR(VLOOKUP($A35,Filtros!$A$5:$AY$22116,36,FALSE),0)","v":14},{"$f":"IFERROR(VLOOKUP($A35,Filtros!$A$5:$AY$22116,37,FALSE),0)","v":1},{"$f":"IFERROR(VLOOKUP($A35,Filtros!$A$5:$AY$22116,38,FALSE),0)","v":12},{"$f":"IFERROR(VLOOKUP($A35,Filtros!$A$5:$AY$22116,39,FALSE),0)","v":3},{"$f":"IFERROR(VLOOKUP($A35,Filtros!$A$5:$AY$22116,40,FALSE),0)","v":43},{"$f":"IFERROR(VLOOKUP($A35,Filtros!$A$5:$AY$22116,41,FALSE),0)","v":0},{"$f":"IFERROR(VLOOKUP($A35,Filtros!$A$5:$AY$22116,42,FALSE),0)","v":2},{"$f":"IFERROR(VLOOKUP($A35,Filtros!$A$5:$AY$22116,43,FALSE),0)","v":5},{"$f":"IFERROR(VLOOKUP($A35,Filtros!$A$5:$AY$22116,44,FALSE),0)","v":4},{"$f":"IFERROR(VLOOKUP($A35,Filtros!$A$5:$AY$22116,45,FALSE),0)","v":5},{"$f":"IFERROR(VLOOKUP($A35,Filtros!$A$5:$AY$22116,46,FALSE),0)","v":18},"",{"$nulls":35},"","","","","","","","","","","","",{"$nulls":8},0,0,0,0,0,0,0,0,0,0,0,0]
["P6231300",null,"FOBIAS SOCIALES",{"$f":"IFERROR(VLOOKUP($A36,Filtros!$A$5:$AY$22116,2,FALSE),0)","v":63},{"$f":"IFERROR(VLOOKUP($A36,Filtros!$A$5:$AY$22116,3,FALSE),0)","v":22},{"$f":"IFERROR(VLOOKUP($A36,Filtros!$A$5:$AY$22116,4,FALSE),0)","v":41},{"$f":"IFERROR(VLOOKUP($A36,Filtros!$A$5:$AY$22116,5,FALSE),0)","v":0},{"$f":"IFERROR(VLOOKUP($A36,Filtros!$A$5:$AY$22116,6,FALSE),0)","v":0},{"$f":"IFERROR(VLOOKUP($A36,Filtros!$A$5:$AY$22116,7,FALSE),0)","v":0},{"$f":"IFERROR(VLOOKUP($A36,Filtros!$A$5:$AY$22116,8,FALSE),0)","v":1},{"$f":"IFERROR(VLOOKUP($A36,Filtros!$A$5:$AY$22116,9,FALSE),0)","v":1},{"$f":"IFERROR(VLOOKUP($A36,Filtros!$A$5:$AY$22116,10,FALSE),0)","v":2},{"$f":"IFERROR(VLOOKUP($A36,Filtros!$A$5:$AY$22116,11,FALSE),0)","v":3},{"$f":"IFERROR(VLOOKUP($A36,Filtros!$A$5:$AY$22116,12,FALSE),0)","v":10},{"$f":"IFERROR(VLOOKUP($A36,Filtros!$A$5:$AY$22116,13,FALSE),0)","v":4},{"$f":"IFERROR(VLOOKUP($A36,Filtros!$A$5:$AY$22116,14,FALSE),0)","v":5},{"$f":"IFERROR(VLOOKUP($A36,Filtros!$A$5:$AY$22116,15,FALSE),0)","v":2},{"$f":"IFERROR(VLOOKUP($A36,Filtros!$A$5:$AY$22116,16,FALSE),0)","v":1},{"$f":"IFERROR(VLOOKUP($A36,Filtros!$A$5:$AY$22116,17,FALSE),0)","v":9},{"$f":"IFERROR(VLOOKUP($A36,Filtros!$A$5:$AY$22116,18,FALSE),0)","v":10},{"$f":"IFERROR(VLOOKUP($A36,Filtros!$A$5:$AY$22116,19,FALSE),0)","v":2},{"$f":"IFERROR(VLOOKUP($A36,Filtros!$A$5:$AY$22116,20,FALSE),0)","v":3},{"$f":"IFERROR(VLOOKUP($A36,Filtros!$A$5:$AY$22116,21,FALSE),0)","v":0},{"$f":"IFERROR(VLOOKUP($A36,Filtros!$A$5:$AY$22116,22,FALSE),0)","v":2},{"$f":"IFERROR(VLOOKUP($A36,Filtros!$A$5:$AY$22116,23,FALSE),0)","v":0},{"$f":"IFERROR(VLOOKUP($A36,Filtros!$A$5:$AY$22116,24,FALSE),0)","v":2},{"$f":"IFERROR(VLOOKUP($A36,Filtros!$A$5:$AY$22116,25,FALSE),0)","v":0},{"$f":"IFERROR(VLOOKUP($A36,Filtros!$A$5:$AY$22116,26,FALSE),0)","v":2},{"$f":"IFERROR(VLOOKUP($A36,Filtros!$A$5:$AY$22116,27,FALSE),0)","v":0},{"$f":"IFERROR(VLOOKUP($A36,Filtros!$A$5:$AY$22116,28,FALSE),0)","v":1},{"$f":"IFERROR(VLOOKUP($A36,Filtros!$A$5:$AY$22116,29,FALSE),0)","v":0},{"$f":"IFERROR(VLOOKUP($A36,Filtros!$A$5:$AY$22116,30,FALSE),0)","v":1},{"$f":"IFERROR(VLOOKUP($A36,Filtros!$A$5:$AY$22116,31,FALSE),0)","v":0},{"$f":"IFERROR(VLOOKUP($A36,Filtros!$A$5:$AY$22116,32,FALSE),0)","v":0},{"$f":"IFERROR(VLOOKUP($A36,Filtros!$A$5:$AY$22116,33,FALSE),0)","v":0},{"$f":"IFERROR(VLOOKUP($A36,Filtros!$A$5:$AY$22116,34,FALSE),0)","v":0},{"$f":"IFERROR(VLOOKUP($A36,Filtros!$A$5:$AY$22116,35,FALSE),0)","v":0},{"$f":"IFERROR(VLOOKUP($A36,Filtros!$A$5:$AY$22116,36,FALSE),0)","v":0},{"$f":"IFERROR(VLOOKUP($A36,Filtros!$A$5:$AY$22116,37,FALSE),0)","v":1},{"$f":"IFERROR(VLOOKUP($A36,Filtros!$A$5:$AY$22116,38,FALSE),0)","v":1},{"$f":"IFERROR(VLOOKUP($A36,Filtros!$A$5:$AY$22116,39,FALSE),0)","v":0},{"$f":"IFERROR(VLOOKUP($A36,Filtros!$A$5:$AY$22116,40,FALSE),0)","v":0},{"$f":"IFERROR(VLOOKUP($A36,Filtros!$A$5:$AY$22116,41,FALSE),0)","v":0},{"$f":"IFERROR(VLOOKUP($A36,Filtros!$A$5:$AY$22116,42,FALSE),0)","v":0},{"$f":"IFERROR(VLOOKUP($A36,Filtros!$A$5:$AY$22116,43,FALSE),0)","v":0},{"$f":"IFERROR(VLOOKUP($A36,Filtros!$A$5:$AY$22116,44,FALSE),0)","v":0},{"$f":"IFERROR(VLOOKUP($A36,Filtros!$A$5:$AY$22116,45,FALSE),0)","v":1},{"$f":"IFERROR(VLOOKUP($A36,Filtros!$A$5:$AY$22116,46,FALSE),0)","v":3},"",{"$nulls":35},"","","","","","","","","","","","",{"$nulls":8},0,0,0,0,0,0,0,0,0,0,0,0]
["P6231400",null,"TRASTORNOS DE ANSIEDAD GENERALIZADA",{"$f":"IFERROR(VLOOKUP($A37,Filtros!$A$5:$AY$22116,2,FALSE),0)","v":1938},{"$f":"IFERROR(VLOOKUP($A37,Filtros!$A$5:$AY$22116,3,FALSE),0)","v":433},{"$f":"IFERROR(VLOOKUP($A37,Filtros!$A$5:$AY$22116,4,FALSE),0)","v":1505},{"$f":"IFERROR(VLOOKUP($A37,Filtros!$A$5:$AY$22116,5,FALSE),0)","v":1},{"$f":"IFERROR(VLOOKUP($A37,Filtros!$A$5:$AY$22116,6,FALSE),0)","v":1},{"$f":"IFERROR(VLOOKUP($A37,Filtros!$A$5:$AY$22116,7,FALSE),0)","v":9},{"$f":"IFERROR(VLOOKUP($A37,Filtros!$A$5:$AY$22116,8,FALSE),0)","v":10},{"$f":"IFERROR(VLOOKUP($A37,Filtros!$A$5:$AY$22116,9,FALSE),0)","v":26},{"$f":"IFERROR(VLOOKUP($A37,Filtros!$A$5:$AY$22116,10,FALSE),0)","v":38},{"$f":"IFERROR(VLOOKUP($A37,Filtros!$A$5:$AY$22116,11,FALSE),0)","v":40},{"$f":"IFERROR(VLOOKUP($A37,Filtros!$A$5:$AY$22116,12,FALSE),0)","v":92},{"$f":"IFERROR(VLOOKUP($A37,Filtros!$A$5:$AY$22116,13,FALSE),0)","v":40},{"$f":"IFERROR(VLOOKUP($A37,Filtros!$A$5:$AY$22116,14,FALSE),0)","v":97},{"$f":"IFERROR(VLOOKUP($A37,Filtros!$A$5:$AY$22116,15,FALSE),0)","v":27},{"$f":"IFERROR(VLOOKUP($A37,Filtros!$A$5:$AY$22116,16,FALSE),0)","v":90},{"$f":"IFERROR(VLOOKUP($A37,Filtros!$A$5:$AY$22116,17,FALSE),0)","v":31},{"$f":"IFERROR(VLOOKUP($A37,Filtros!$A$5:$AY$22116,18,FALSE),0)","v":142},{"$f":"IFERROR(VLOOKUP($A37,Filtros!$A$5:$AY$22116,19,FALSE),0)","v":36},{"$f":"IFERROR(VLOOKUP($A37,Filtros!$A$5:$AY$22116,20,FALSE),0)","v":104},{"$f":"IFERROR(VLOOKUP($A37,Filtros!$A$5:$AY$22116,21,FALSE),0)","v":28},{"$f":"IFERROR(VLOOKUP($A37,Filtros!$A$5:$AY$22116,22,FALSE),0)","v":103},{"$f":"IFERROR(VLOOKUP($A37,Filtros!$A$5:$AY$22116,23,FALSE),0)","v":24},{"$f":"IFERROR(VLOOKUP($A37,Filtros!$A$5:$AY$22116,24,FALSE),0)","v":131},{"$f":"IFERROR(VLOOKUP($A37,Filtros!$A$5:$AY$22116,25,FALSE),0)","v":25},{"$f":"IFERROR(VLOOKUP($A37,Filtros!$A$5:$AY$22116,26,FALSE),0)","v":125},{"$f":"IFERROR(VLOOKUP($A37,Filtros!$A$5:$AY$22116,27,FALSE),0)","v":30},{"$f":"IFERROR(VLOOKUP($A37,Filtros!$A$5:$AY$22116,28,FALSE),0)","v":118},{"$f":"IFERROR(VLOOKUP($A37,Filtros!$A$5:$AY$22116,29,FALSE),0)","v":27},{"$f":"IFERROR(VLOOKUP($A37,Filtros!$A$5:$AY$22116,30,FALSE),0)","v":111},{"$f":"IFERROR(VLOOKUP($A37,Filtros!$A$5:$AY$22116,31,FALSE),0)","v":39},{"$f":"IFERROR(VLOOKUP($A37,Filtros!$A$5:$AY$22116,32,FALSE),0)","v":116},{"$f":"IFERROR(VLOOKUP($A37,Filtros!$A$5:$AY$22116,33,FALSE),0)","v":11},{"$f":"IFERROR(VLOOKUP($A37,Filtros!$A$5:$AY$22116,34,FALSE),0)","v":104},{"$f":"IFERROR(VLOOKUP($A37,Filtros!$A$5:$AY$22116,35,FALSE),0)","v":19},{"$f":"IFERROR(VLOOKUP($A37,Filtros!$A$5:$AY$22116,36,FALSE),0)","v":74},{"$f":"IFERROR(VLOOKUP($A37,Filtros!$A$5:$AY$22116,37,FALSE),0)","v":20},{"$f":"IFERROR(VLOOKUP($A37,Filtros!$A$5:$AY$22116,38,FALSE),0)","v":49},{"$f":"IFERROR(VLOOKUP($A37,Filtros!$A$5:$AY$22116,39,FALSE),0)","v":7},{"$f":"IFERROR(VLOOKUP($A37,Filtros!$A$5:$AY$22116,40,FALSE),0)","v":43},{"$f":"IFERROR(VLOOKUP($A37,Filtros!$A$5:$AY$22116,41,FALSE),0)","v":3},{"$f":"IFERROR(VLOOKUP($A37,Filtros!$A$5:$AY$22116,42,FALSE),0)","v":7},{"$f":"IFERROR(VLOOKUP($A37,Filtros!$A$5:$AY$22116,43,FALSE),0)","v":4},{"$f":"IFERROR(VLOOKUP($A37,Filtros!$A$5:$AY$22116,44,FALSE),0)","v":8},{"$f":"IFERROR(VLOOKUP($A37,Filtros!$A$5:$AY$22116,45,FALSE),0)","v":7},{"$f":"IFERROR(VLOOKUP($A37,Filtros!$A$5:$AY$22116,46,FALSE),0)","v":31},"",{"$nulls":35},"","","","","","","","","","","","",{"$nulls":8},0,0,0,0,0,0,0,0,0,0,0,0]
["P6231500",null,"OTROS TRASTORNOS DE ANSIEDAD",{"$f":"IFERROR(VLOOKUP($A38,Filtros!$A$5:$AY$22116,2,FALSE),0)","v":7023},{"$f":"IFERROR(VLOOKUP($A38,Filtros!$A$5:$AY$22116,3,FALSE),0)","v":1476},{"$f":"IFERROR(VLOOKUP($A38,Filtros!$A$5:$AY$22116,4,FALSE),0)","v":5547},{"$f":"IFERROR(VLOOKUP($A38,Filtros!$A$5:$AY$22116,5,FALSE),0)","v":0},{"$f":"IFERROR(VLOOKUP($A38,Filtros!$A$5:$AY$22116,6,FALSE),0)","v":2},{"$f":"IFERROR(VLOOKUP($A38,Filtros!$A$5:$AY$22116,7,FALSE),0)","v":74},{"$f":"IFERROR(VLOOKUP($A38,Filtros!$A$5:$AY$22116,8,FALSE),0)","v":98},{"$f":"IFERROR(VLOOKUP($A38,Filtros!$A$5:$AY$22116,9,FALSE),0)","v":101},{"$f":"IFERROR(VLOOKUP($A38,Filtros!$A$5:$AY$22116,10,FALSE),0)","v":196},{"$f":"IFERROR(VLOOKUP($A38,Filtros!$A$5:$AY$22116,11,FALSE),0)","v":163},{"$f":"IFERROR(VLOOKUP($A38,Filtros!$A$5:$AY$22116,12,FALSE),0)","v":405},{"$f":"IFERROR(VLOOKUP($A38,Filtros!$A$5:$AY$22116,13,FALSE),0)","v":127},{"$f":"IFERROR(VLOOKUP($A38,Filtros!$A$5:$AY$22116,14,FALSE),0)","v":420},{"$f":"IFERROR(VLOOKUP($A38,Filtros!$A$5:$AY$22116,15,FALSE),0)","v":104},{"$f":"IFERROR(VLOOKUP($A38,Filtros!$A$5:$AY$22116,16,FALSE),0)","v":413},{"$f":"IFERROR(VLOOKUP($A38,Filtros!$A$5:$AY$22116,17,FALSE),0)","v":81},{"$f":"IFERROR(VLOOKUP($A38,Filtros!$A$5:$AY$22116,18,FALSE),0)","v":417},{"$f":"IFERROR(VLOOKUP($A38,Filtros!$A$5:$AY$22116,19,FALSE),0)","v":89},{"$f":"IFERROR(VLOOKUP($A38,Filtros!$A$5:$AY$22116,20,FALSE),0)","v":413},{"$f":"IFERROR(VLOOKUP($A38,Filtros!$A$5:$AY$22116,21,FALSE),0)","v":97},{"$f":"IFERROR(VLOOKUP($A38,Filtros!$A$5:$AY$22116,22,FALSE),0)","v":382},{"$f":"IFERROR(VLOOKUP($A38,Filtros!$A$5:$AY$22116,23,FALSE),0)","v":89},{"$f":"IFERROR(VLOOKUP($A38,Filtros!$A$5:$AY$22116,24,FALSE),0)","v":436},{"$f":"IFERROR(VLOOKUP($A38,Filtros!$A$5:$AY$22116,25,FALSE),0)","v":75},{"$f":"IFERROR(VLOOKUP($A38,Filtros!$A$5:$AY$22116,26,FALSE),0)","v":427},{"$f":"IFERROR(VLOOKUP($A38,Filtros!$A$5:$AY$22116,27,FALSE),0)","v":91},{"$f":"IFERROR(VLOOKUP($A38,Filtros!$A$5:$AY$22116,28,FALSE),0)","v":469},{"$f":"IFERROR(VLOOKUP($A38,Filtros!$A$5:$AY$22116,29,FALSE),0)","v":107},{"$f":"IFERROR(VLOOKUP($A38,Filtros!$A$5:$AY$22116,30,FALSE),0)","v":422},{"$f":"IFERROR(VLOOKUP($A38,Filtros!$A$5:$AY$22116,31,FALSE),0)","v":90},{"$f":"IFERROR(VLOOKUP($A38,Filtros!$A$5:$AY$22116,32,FALSE),0)","v":362},{"$f":"IFERROR(VLOOKUP($A38,Filtros!$A$5:$AY$22116,33,FALSE),0)","v":69},{"$f":"IFERROR(VLOOKUP($A38,Filtros!$A$5:$AY$22116,34,FALSE),0)","v":320},{"$f":"IFERROR(VLOOKUP($A38,Filtros!$A$5:$AY$22116,35,FALSE),0)","v":62},{"$f":"IFERROR(VLOOKUP($A38,Filtros!$A$5:$AY$22116,36,FALSE),0)","v":188},{"$f":"IFERROR(VLOOKUP($A38,Filtros!$A$5:$AY$22116,37,FALSE),0)","v":57},{"$f":"IFERROR(VLOOKUP($A38,Filtros!$A$5:$AY$22116,38,FALSE),0)","v":177},{"$f":"IFERROR(VLOOKUP($A38,Filtros!$A$5:$AY$22116,39,FALSE),0)","v":98},{"$f":"IFERROR(VLOOKUP($A38,Filtros!$A$5:$AY$22116,40,FALSE),0)","v":336},{"$f":"IFERROR(VLOOKUP($A38,Filtros!$A$5:$AY$22116,41,FALSE),0)","v":9},{"$f":"IFERROR(VLOOKUP($A38,Filtros!$A$5:$AY$22116,42,FALSE),0)","v":31},{"$f":"IFERROR(VLOOKUP($A38,Filtros!$A$5:$AY$22116,43,FALSE),0)","v":4},{"$f":"IFERROR(VLOOKUP($A38,Filtros!$A$5:$AY$22116,44,FALSE),0)","v":42},{"$f":"IFERROR(VLOOKUP($A38,Filtros!$A$5:$AY$22116,45,FALSE),0)","v":51},{"$f":"IFERROR(VLOOKUP($A38,Filtros!$A$5:$AY$22116,46,FALSE),0)","v":138},"",{"$nulls":35},"","","","","","","","","","","","",{"$nulls":8},0,0,0,0,0,0,0,0,0,0,0,0]
["P6222300","DEMENCIAS (INCLUYE ALZHEIMER)","LEVE",{"$f":"IFERROR(VLOOKUP($A39,Filtros!$A$5:$AY$22116,2,FALSE),0)","v":196},{"$f":"IFERROR(VLOOKUP($A39,Filtros!$A$5:$AY$22116,3,FALSE),0)","v":77},{"$f":"IFERROR(VLOOKUP($A39,Filtros!$A$5:$AY$22116,4,FALSE),0)","v":119},{"$f":"IFERROR(VLOOKUP($A39,Filtros!$A$5:$AY$22116,5,FALSE),0)","v":1},{"$f":"IFERROR(VLOOKUP($A39,Filtros!$A$5:$AY$22116,6,FALSE),0)","v":0},{"$f":"IFERROR(VLOOKUP($A39,Filtros!$A$5:$AY$22116,7,FALSE),0)","v":0},{"$f":"IFERROR(VLOOKUP($A39,Filtros!$A$5:$AY$22116,8,FALSE),0)","v":0},{"$f":"IFERROR(VLOOKUP($A39,Filtros!$A$5:$AY$22116,9,FALSE),0)","v":0},{"$f":"IFERROR(VLOOKUP($A39,Filtros!$A$5:$AY$22116,10,FALSE),0)","v":3},{"$f":"IFERROR(VLOOKUP($A39,Filtros!$A$5:$AY$22116,11,FALSE),0)","v":1},{"$f":"IFERROR(VLOOKUP($A39,Filtros!$A$5:$AY$22116,12,FALSE),0)","v":0},{"$f":"IFERROR(VLOOKUP($A39,Filtros!$A$5:$AY$22116,13,FALSE),0)","v":0},{"$f":"IFERROR(VLOOKUP($A39,Filtros!$A$5:$AY$22116,14,FALSE),0)","v":0},{"$f":"IFERROR(VLOOKUP($A39,Filtros!$A$5:$AY$22116,15,FALSE),0)","v":0},{"$f":"IFERROR(VLOOKUP($A39,Filtros!$A$5:$AY$22116,16,FALSE),0)","v":1},{"$f":"IFERROR(VLOOKUP($A39,Filtros!$A$5:$AY$22116,17,FALSE),0)","v":0},{"$f":"IFERROR(VLOOKUP($A39,Filtros!$A$5:$AY$22116,18,FALSE),0)","v":0},{"$f":"IFERROR(VLOOKUP($A39,Filtros!$A$5:$AY$22116,19,FALSE),0)","v":0},{"$f":"IFERROR(VLOOKUP($A39,Filtros!$A$5:$AY$22116,20,FALSE),0)","v":0},{"$f":"IFERROR(VLOOKUP($A39,Filtros!$A$5:$AY$22116,21,FALSE),0)","v":0},{"$f":"IFERROR(VLOOKUP($A39,Filtros!$A$5:$AY$22116,22,FALSE),0)","v":0},{"$f":"IFERROR(VLOOKUP($A39,Filtros!$A$5:$AY$22116,23,FALSE),0)","v":0},{"$f":"IFERROR(VLOOKUP($A39,Filtros!$A$5:$AY$22116,24,FALSE),0)","v":1},{"$f":"IFERROR(VLOOKUP($A39,Filtros!$A$5:$AY$22116,25,FALSE),0)","v":2},{"$f":"IFERROR(VLOOKUP($A39,Filtros!$A$5:$AY$22116,26,FALSE),0)","v":4},{"$f":"IFERROR(VLOOKUP($A39,Filtros!$A$5:$AY$22116,27,FALSE),0)","v":3},{"$f":"IFERROR(VLOOKUP($A39,Filtros!$A$5:$AY$22116,28,FALSE),0)","v":1},{"$f":"IFERROR(VLOOKUP($A39,Filtros!$A$5:$AY$22116,29,FALSE),0)","v":7},{"$f":"IFERROR(VLOOKUP($A39,Filtros!$A$5:$AY$22116,30,FALSE),0)","v":5},{"$f":"IFERROR(VLOOKUP($A39,Filtros!$A$5:$AY$22116,31,FALSE),0)","v":6},{"$f":"IFERROR(VLOOKUP($A39,Filtros!$A$5:$AY$22116,32,FALSE),0)","v":5},{"$f":"IFERROR(VLOOKUP($A39,Filtros!$A$5:$AY$22116,33,FALSE),0)","v":14},{"$f":"IFERROR(VLOOKUP($A39,Filtros!$A$5:$AY$22116,34,FALSE),0)","v":13},{"$f":"IFERROR(VLOOKUP($A39,Filtros!$A$5:$AY$22116,35,FALSE),0)","v":12},{"$f":"IFERROR(VLOOKUP($A39,Filtros!$A$5:$AY$22116,36,FALSE),0)","v":25},{"$f":"IFERROR(VLOOKUP($A39,Filtros!$A$5:$AY$22116,37,FALSE),0)","v":31},{"$f":"IFERROR(VLOOKUP($A39,Filtros!$A$5:$AY$22116,38,FALSE),0)","v":61},{"$f":"IFERROR(VLOOKUP($A39,Filtros!$A$5:$AY$22116,39,FALSE),0)","v":0},{"$f":"IFERROR(VLOOKUP($A39,Filtros!$A$5:$AY$22116,40,FALSE),0)","v":0},{"$f":"IFERROR(VLOOKUP($A39,Filtros!$A$5:$AY$22116,41,FALSE),0)","v":0},{"$f":"IFERROR(VLOOKUP($A39,Filtros!$A$5:$AY$22116,42,FALSE),0)","v":0},{"$f":"IFERROR(VLOOKUP($A39,Filtros!$A$5:$AY$22116,43,FALSE),0)","v":1},{"$f":"IFERROR(VLOOKUP($A39,Filtros!$A$5:$AY$22116,44,FALSE),0)","v":1},{"$f":"IFERROR(VLOOKUP($A39,Filtros!$A$5:$AY$22116,45,FALSE),0)","v":0},{"$f":"IFERROR(VLOOKUP($A39,Filtros!$A$5:$AY$22116,46,FALSE),0)","v":6},"",{"$nulls":35},"","","","","","","",null,null,"","","",{"$nulls":8},0,0,0,0,0,0,0,null,null,0,0,0]
["P6230100",null,"MODERADO",{"$f":"IFERROR(VLOOKUP($A40,Filtros!$A$5:$AY$22116,2,FALSE),0)","v":243},{"$f":"IFERROR(VLOOKUP($A40,Filtros!$A$5:$AY$22116,3,FALSE),0)","v":85},{"$f":"IFERROR(VLOOKUP($A40,Filtros!$A$5:$AY$22116,4,FALSE),0)","v":158},{"$f":"IFERROR(VLOOKUP($A40,Filtros!$A$5:$AY$22116,5,FALSE),0)","v":0},{"$f":"IFERROR(VLOOKUP($A40,Filtros!$A$5:$AY$22116,6,FALSE),0)","v":0},{"$f":"IFERROR(VLOOKUP($A40,Filtros!$A$5:$AY$22116,7,FALSE),0)","v":0},{"$f":"IFERROR(VLOOKUP($A40,Filtros!$A$5:$AY$22116,8,FALSE),0)","v":0},{"$f":"IFERROR(VLOOKUP($A40,Filtros!$A$5:$AY$22116,9,FALSE),0)","v":0},{"$f":"IFERROR(VLOOKUP($A40,Filtros!$A$5:$AY$22116,10,FALSE),0)","v":0},{"$f":"IFERROR(VLOOKUP($A40,Filtros!$A$5:$AY$22116,11,FALSE),0)","v":0},{"$f":"IFERROR(VLOOKUP($A40,Filtros!$A$5:$AY$22116,12,FALSE),0)","v":0},{"$f":"IFERROR(VLOOKUP($A40,Filtros!$A$5:$AY$22116,13,FALSE),0)","v":0},{"$f":"IFERROR(VLOOKUP($A40,Filtros!$A$5:$AY$22116,14,FALSE),0)","v":0},{"$f":"IFERROR(VLOOKUP($A40,Filtros!$A$5:$AY$22116,15,FALSE),0)","v":0},{"$f":"IFERROR(VLOOKUP($A40,Filtros!$A$5:$AY$22116,16,FALSE),0)","v":1},{"$f":"IFERROR(VLOOKUP($A40,Filtros!$A$5:$AY$22116,17,FALSE),0)","v":0},{"$f":"IFERROR(VLOOKUP($A40,Filtros!$A$5:$AY$22116,18,FALSE),0)","v":0},{"$f":"IFERROR(VLOOKUP($A40,Filtros!$A$5:$AY$22116,19,FALSE),0)","v":0},{"$f":"IFERROR(VLOOKUP($A40,Filtros!$A$5:$AY$22116,20,FALSE),0)","v":0},{"$f":"IFERROR(VLOOKUP($A40,Filtros!$A$5:$AY$22116,21,FALSE),0)","v":0},{"$f":"IFERROR(VLOOKUP($A40,Filtros!$A$5:$AY$22116,22,FALSE),0)","v":0},{"$f":"IFERROR(VLOOKUP($A40,Filtros!$A$5:$AY$22116,23,FALSE),0)","v":0},{"$f":"IFERROR(VLOOKUP($A40,Filtros!$A$5:$AY$22116,24,FALSE),0)","v":2},{"$f":"IFERROR(VLOOKUP($A40,Filtros!$A$5:$AY$22116,25,FALSE),0)","v":1},{"$f":"IFERROR(VLOOKUP($A40,Filtros!$A$5:$AY$22116,26,FALSE),0)","v":0},{"$f":"IFERROR(VLOOKUP($A40,Filtros!$A$5:$AY$22116,27,FALSE),0)","v":1},{"$f":"IFERROR(VLOOKUP($A40,Filtros!$A$5:$AY$22116,28,FALSE),0)","v":1},{"$f":"IFERROR(VLOOKUP($A40,Filtros!$A$5:$AY$22116,29,FALSE),0)","v":0},{"$f":"IFERROR(VLOOKUP($A40,Filtros!$A$5:$AY$22116,30,FALSE),0)","v":5},{"$f":"IFERROR(VLOOKUP($A40,Filtros!$A$5:$AY$22116,31,FALSE),0)","v":12},{"$f":"IFERROR(VLOOKUP($A40,Filtros!$A$5:$AY$22116,32,FALSE),0)","v":10},{"$f":"IFERROR(VLOOKUP($A40,Filtros!$A$5:$AY$22116,33,FALSE),0)","v":8},{"$f":"IFERROR(VLOOKUP($A40,Filtros!$A$5:$AY$22116,34,FALSE),0)","v":14},{"$f":"IFERROR(VLOOKUP($A40,Filtros!$A$5:$AY$22116,35,FALSE),0)","v":19},{"$f":"IFERROR(VLOOKUP($A40,Filtros!$A$5:$AY$22116,36,FALSE),0)","v":17},{"$f":"IFERROR(VLOOKUP($A40,Filtros!$A$5:$AY$22116,37,FALSE),0)","v":44},{"$f":"IFERROR(VLOOKUP($A40,Filtros!$A$5:$AY$22116,38,FALSE),0)","v":108},{"$f":"IFERROR(VLOOKUP($A40,Filtros!$A$5:$AY$22116,39,FALSE),0)","v":0},{"$f":"IFERROR(VLOOKUP($A40,Filtros!$A$5:$AY$22116,40,FALSE),0)","v":0},{"$f":"IFERROR(VLOOKUP($A40,Filtros!$A$5:$AY$22116,41,FALSE),0)","v":0},{"$f":"IFERROR(VLOOKUP($A40,Filtros!$A$5:$AY$22116,42,FALSE),0)","v":1},{"$f":"IFERROR(VLOOKUP($A40,Filtros!$A$5:$AY$22116,43,FALSE),0)","v":0},{"$f":"IFERROR(VLOOKUP($A40,Filtros!$A$5:$AY$22116,44,FALSE),0)","v":0},{"$f":"IFERROR(VLOOKUP($A40,Filtros!$A$5:$AY$22116,45,FALSE),0)","v":0},{"$f":"IFERROR(VLOOKUP($A40,Filtros!$A$5:$AY$22116,46,FALSE),0)","v":17},"",{"$nulls":35},"","","","","","","",null,null,"","","",{"$nulls":8},0,0,0,0,0,0,0,null,null,0,0,0]
["P6230200",null,"AVANZADO",{"$f":"IFERROR(VLOOKUP($A41,Filtros!$A$5:$AY$22116,2,FALSE),0)","v":75},{"$f":"IFERROR(VLOOKUP($A41,Filtros!$A$5:$AY$22116,3,FALSE),0)","v":30},{"$f":"IFERROR(VLOOKUP($A41,Filtros!$A$5:$AY$22116,4,FALSE),0)","v":45},{"$f":"IFERROR(VLOOKUP($A41,Filtros!$A$5:$AY$22116,5,FALSE),0)","v":0},{"$f":"IFERROR(VLOOKUP($A41,Filtros!$A$5:$AY$22116,6,FALSE),0)","v":0},{"$f":"IFERROR(VLOOKUP($A41,Filtros!$A$5:$AY$22116,7,FALSE),0)","v":0},{"$f":"IFERROR(VLOOKUP($A41,Filtros!$A$5:$AY$22116,8,FALSE),0)","v":0},{"$f":"IFERROR(VLOOKUP($A41,Filtros!$A$5:$AY$22116,9,FALSE),0)","v":0},{"$f":"IFERROR(VLOOKUP($A41,Filtros!$A$5:$AY$22116,10,FALSE),0)","v":0},{"$f":"IFERROR(VLOOKUP($A41,Filtros!$A$5:$AY$22116,11,FALSE),0)","v":0},{"$f":"IFERROR(VLOOKUP($A41,Filtros!$A$5:$AY$22116,12,FALSE),0)","v":0},{"$f":"IFERROR(VLOOKUP($A41,Filtros!$A$5:$AY$22116,13,FALSE),0)","v":0},{"$f":"IFERROR(VLOOKUP($A41,Filtros!$A$5:$AY$22116,14,FALSE),0)","v":1},{"$f":"IFERROR(VLOOKUP($A41,Filtros!$A$5:$AY$22116,15,FALSE),0)","v":2},{"$f":"IFERROR(VLOOKUP($A41,Filtros!$A$5:$AY$22116,16,FALSE),0)","v":1},{"$f":"IFERROR(VLOOKUP($A41,Filtros!$A$5:$AY$22116,17,FALSE),0)","v":0},{"$f":"IFERROR(VLOOKUP($A41,Filtros!$A$5:$AY$22116,18,FALSE),0)","v":0},{"$f":"IFERROR(VLOOKUP($A41,Filtros!$A$5:$AY$22116,19,FALSE),0)","v":0},{"$f":"IFERROR(VLOOKUP($A41,Filtros!$A$5:$AY$22116,20,FALSE),0)","v":2},{"$f":"IFERROR(VLOOKUP($A41,Filtros!$A$5:$AY$22116,21,FALSE),0)","v":1},{"$f":"IFERROR(VLOOKUP($A41,Filtros!$A$5:$AY$22116,22,FALSE),0)","v":0},{"$f":"IFERROR(VLOOKUP($A41,Filtros!$A$5:$AY$22116,23,FALSE),0)","v":0},{"$f":"IFERROR(VLOOKUP($A41,Filtros!$A$5:$AY$22116,24,FALSE),0)","v":0},{"$f":"IFERROR(VLOOKUP($A41,Filtros!$A$5:$AY$22116,25,FALSE),0)","v":1},{"$f":"IFERROR(VLOOKUP($A41,Filtros!$A$5:$AY$22116,26,FALSE),0)","v":0},{"$f":"IFERROR(VLOOKUP($A41,Filtros!$A$5:$AY$22116,27,FALSE),0)","v":1},{"$f":"IFERROR(VLOOKUP($A41,Filtros!$A$5:$AY$22116,28,FALSE),0)","v":1},{"$f":"IFERROR(VLOOKUP($A41,Filtros!$A$5:$AY$22116,29,FALSE),0)","v":2},{"$f":"IFERROR(VLOOKUP($A41,Filtros!$A$5:$AY$22116,30,FALSE),0)","v":0},{"$f":"IFERROR(VLOOKUP($A41,Filtros!$A$5:$AY$22116,31,FALSE),0)","v":3},{"$f":"IFERROR(VLOOKUP($A41,Filtros!$A$5:$AY$22116,32,FALSE),0)","v":1},{"$f":"IFERROR(VLOOKUP($A41,Filtros!$A$5:$AY$22116,33,FALSE),0)","v":5},{"$f":"IFERROR(VLOOKUP($A41,Filtros!$A$5:$AY$22116,34,FALSE),0)","v":4},{"$f":"IFERROR(VLOOKUP($A41,Filtros!$A$5:$AY$22116,35,FALSE),0)","v":4},{"$f":"IFERROR(VLOOKUP($A41,Filtros!$A$5:$AY$22116,36,FALSE),0)","v":6},{"$f":"IFERROR(VLOOKUP($A41,Filtros!$A$5:$AY$22116,37,FALSE),0)","v":11},{"$f":"IFERROR(VLOOKUP($A41,Filtros!$A$5:$AY$22116,38,FALSE),0)","v":29},{"$f":"IFERROR(VLOOKUP($A41,Filtros!$A$5:$AY$22116,39,FALSE),0)","v":0},{"$f":"IFERROR(VLOOKUP($A41,Filtros!$A$5:$AY$22116,40,FALSE),0)","v":0},{"$f":"IFERROR(VLOOKUP($A41,Filtros!$A$5:$AY$22116,41,FALSE),0)","v":0},{"$f":"IFERROR(VLOOKUP($A41,Filtros!$A$5:$AY$22116,42,FALSE),0)","v":0},{"$f":"IFERROR(VLOOKUP($A41,Filtros!$A$5:$AY$22116,43,FALSE),0)","v":0},{"$f":"IFERROR(VLOOKUP($A41,Filtros!$A$5:$AY$22116,44,FALSE),0)","v":0},{"$f":"IFERROR(VLOOKUP($A41,Filtros!$A$5:$AY$22116,45,FALSE),0)","v":0},{"$f":"IFERROR(VLOOKUP($A41,Filtros!$A$5:$AY$22116,46,FALSE),0)","v":12},"",{"$nulls":35},"","","","","","","",null,null,"","","",{"$nulls":8},0,0,0,0,0,0,0,null,null,0,0,0]
["P6222400","ESQUIZOFRENIA",null,{"$f":"IFERROR(VLOOKUP($A42,Filtros!$A$5:$AY$22116,2,FALSE),0)","v":319},{"$f":"IFERROR(VLOOKUP($A42,Filtros!$A$5:$AY$22116,3,FALSE),0)","v":176},{"$f":"IFERROR(VLOOKUP($A42,Filtros!$A$5:$AY$22116,4,FALSE),0)","v":143},{"$f":"IFERROR(VLOOKUP($A42,Filtros!$A$5:$AY$22116,5,FALSE),0)","v":0},{"$f":"IFERROR(VLOOKUP($A42,Filtros!$A$5:$AY$22116,6,FALSE),0)","v":0},{"$f":"IFERROR(VLOOKUP($A42,Filtros!$A$5:$AY$22116,7,FALSE),0)","v":0},{"$f":"IFERROR(VLOOKUP($A42,Filtros!$A$5:$AY$22116,8,FALSE),0)","v":0},{"$f":"IFERROR(VLOOKUP($A42,Filtros!$A$5:$AY$22116,9,FALSE),0)","v":0},{"$f":"IFERROR(VLOOKUP($A42,Filtros!$A$5:$AY$22116,10,FALSE),0)","v":6},{"$f":"IFERROR(VLOOKUP($A42,Filtros!$A$5:$AY$22116,11,FALSE),0)","v":11},{"$f":"IFERROR(VLOOKUP($A42,Filtros!$A$5:$AY$22116,12,FALSE),0)","v":12},{"$f":"IFERROR(VLOOKUP($A42,Filtros!$A$5:$AY$22116,13,FALSE),0)","v":15},{"$f":"IFERROR(VLOOKUP($A42,Filtros!$A$5:$AY$22116,14,FALSE),0)","v":4},{"$f":"IFERROR(VLOOKUP($A42,Filtros!$A$5:$AY$22116,15,FALSE),0)","v":18},{"$f":"IFERROR(VLOOKUP($A42,Filtros!$A$5:$AY$22116,16,FALSE),0)","v":7},{"$f":"IFERROR(VLOOKUP($A42,Filtros!$A$5:$AY$22116,17,FALSE),0)","v":17},{"$f":"IFERROR(VLOOKUP($A42,Filtros!$A$5:$AY$22116,18,FALSE),0)","v":5},{"$f":"IFERROR(VLOOKUP($A42,Filtros!$A$5:$AY$22116,19,FALSE),0)","v":12},{"$f":"IFERROR(VLOOKUP($A42,Filtros!$A$5:$AY$22116,20,FALSE),0)","v":4},{"$f":"IFERROR(VLOOKUP($A42,Filtros!$A$5:$AY$22116,21,FALSE),0)","v":16},{"$f":"IFERROR(VLOOKUP($A42,Filtros!$A$5:$AY$22116,22,FALSE),0)","v":12},{"$f":"IFERROR(VLOOKUP($A42,Filtros!$A$5:$AY$22116,23,FALSE),0)","v":23},{"$f":"IFERROR(VLOOKUP($A42,Filtros!$A$5:$AY$22116,24,FALSE),0)","v":14},{"$f":"IFERROR(VLOOKUP($A42,Filtros!$A$5:$AY$22116,25,FALSE),0)","v":18},{"$f":"IFERROR(VLOOKUP($A42,Filtros!$A$5:$AY$22116,26,FALSE),0)","v":20},{"$f":"IFERROR(VLOOKUP($A42,Filtros!$A$5:$AY$22116,27,FALSE),0)","v":15},{"$f":"IFERROR(VLOOKUP($A42,Filtros!$A$5:$AY$22116,28,FALSE),0)","v":8},{"$f":"IFERROR(VLOOKUP($A42,Filtros!$A$5:$AY$22116,29,FALSE),0)","v":11},{"$f":"IFERROR(VLOOKUP($A42,Filtros!$A$5:$AY$22116,30,FALSE),0)","v":18},{"$f":"IFERROR(VLOOKUP($A42,Filtros!$A$5:$AY$22116,31,FALSE),0)","v":11},{"$f":"IFERROR(VLOOKUP($A42,Filtros!$A$5:$AY$22116,32,FALSE),0)","v":11},{"$f":"IFERROR(VLOOKUP($A42,Filtros!$A$5:$AY$22116,33,FALSE),0)","v":5},{"$f":"IFERROR(VLOOKUP($A42,Filtros!$A$5:$AY$22116,34,FALSE),0)","v":7},{"$f":"IFERROR(VLOOKUP($A42,Filtros!$A$5:$AY$22116,35,FALSE),0)","v":2},{"$f":"IFERROR(VLOOKUP($A42,Filtros!$A$5:$AY$22116,36,FALSE),0)","v":11},{"$f":"IFERROR(VLOOKUP($A42,Filtros!$A$5:$AY$22116,37,FALSE),0)","v":2},{"$f":"IFERROR(VLOOKUP($A42,Filtros!$A$5:$AY$22116,38,FALSE),0)","v":4},{"$f":"IFERROR(VLOOKUP($A42,Filtros!$A$5:$AY$22116,39,FALSE),0)","v":0},{"$f":"IFERROR(VLOOKUP($A42,Filtros!$A$5:$AY$22116,40,FALSE),0)","v":0},{"$f":"IFERROR(VLOOKUP($A42,Filtros!$A$5:$AY$22116,41,FALSE),0)","v":0},{"$f":"IFERROR(VLOOKUP($A42,Filtros!$A$5:$AY$22116,42,FALSE),0)","v":0},{"$f":"IFERROR(VLOOKUP($A42,Filtros!$A$5:$AY$22116,43,FALSE),0)","v":0},{"$f":"IFERROR(VLOOKUP($A42,Filtros!$A$5:$AY$22116,44,FALSE),0)","v":0},{"$f":"IFERROR(VLOOKUP($A42,Filtros!$A$5:$AY$22116,45,FALSE),0)","v":0},{"$f":"IFERROR(VLOOKUP($A42,Filtros!$A$5:$AY$22116,46,FALSE),0)","v":9},"",{"$nulls":35},"","","","","","","","","","","","",{"$nulls":8},0,0,0,0,0,0,0,0,0,0,0,0]
["P6227400","PRIMER EPISODIO ESQUIZOFRENIA CON OCUPACION REGULAR",null,{"$f":"IFERROR(VLOOKUP($A43,Filtros!$A$5:$AY$22116,2,FALSE),0)","v":10},{"$f":"IFERROR(VLOOKUP($A43,Filtros!$A$5:$AY$22116,3,FALSE),0)","v":10},{"$f":"IFERROR(VLOOKUP($A43,Filtros!$A$5:$AY$22116,4,FALSE),0)","v":0},{"$f":"IFERROR(VLOOKUP($A43,Filtros!$A$5:$AY$22116,5,FALSE),0)","v":0},{"$f":"IFERROR(VLOOKUP($A43,Filtros!$A$5:$AY$22116,6,FALSE),0)","v":0},{"$f":"IFERROR(VLOOKUP($A43,Filtros!$A$5:$AY$22116,7,FALSE),0)","v":0},{"$f":"IFERROR(VLOOKUP($A43,Filtros!$A$5:$AY$22116,8,FALSE),0)","v":0},{"$f":"IFERROR(VLOOKUP($A43,Filtros!$A$5:$AY$22116,9,FALSE),0)","v":1},{"$f":"IFERROR(VLOOKUP($A43,Filtros!$A$5:$AY$22116,10,FALSE),0)","v":0},{"$f":"IFERROR(VLOOKUP($A43,Filtros!$A$5:$AY$22116,11,FALSE),0)","v":1},{"$f":"IFERROR(VLOOKUP($A43,Filtros!$A$5:$AY$22116,12,FALSE),0)","v":0},{"$f":"IFERROR(VLOOKUP($A43,Filtros!$A$5:$AY$22116,13,FALSE),0)","v":5},{"$f":"IFERROR(VLOOKUP($A43,Filtros!$A$5:$AY$22116,14,FALSE),0)","v":0},{"$f":"IFERROR(VLOOKUP($A43,Filtros!$A$5:$AY$22116,15,FALSE),0)","v":1},{"$f":"IFERROR(VLOOKUP($A43,Filtros!$A$5:$AY$22116,16,FALSE),0)","v":0},{"$f":"IFERROR(VLOOKUP($A43,Filtros!$A$5:$AY$22116,17,FALSE),0)","v":0},{"$f":"IFERROR(VLOOKUP($A43,Filtros!$A$5:$AY$22116,18,FALSE),0)","v":0},{"$f":"IFERROR(VLOOKUP($A43,Filtros!$A$5:$AY$22116,19,FALSE),0)","v":0},{"$f":"IFERROR(VLOOKUP($A43,Filtros!$A$5:$AY$22116,20,FALSE),0)","v":0},{"$f":"IFERROR(VLOOKUP($A43,Filtros!$A$5:$AY$22116,21,FALSE),0)","v":0},{"$f":"IFERROR(VLOOKUP($A43,Filtros!$A$5:$AY$22116,22,FALSE),0)","v":0},{"$f":"IFERROR(VLOOKUP($A43,Filtros!$A$5:$AY$22116,23,FALSE),0)","v":0},{"$f":"IFERROR(VLOOKUP($A43,Filtros!$A$5:$AY$22116,24,FALSE),0)","v":0},{"$f":"IFERROR(VLOOKUP($A43,Filtros!$A$5:$AY$22116,25,FALSE),0)","v":0},{"$f":"IFERROR(VLOOKUP($A43,Filtros!$A$5:$AY$22116,26,FALSE),0)","v":0},{"$f":"IFERROR(VLOOKUP($A43,Filtros!$A$5:$AY$22116,27,FALSE),0)","v":0},{"$f":"IFERROR(VLOOKUP($A43,Filtros!$A$5:$AY$22116,28,FALSE),0)","v":0},{"$f":"IFERROR(VLOOKUP($A43,Filtros!$A$5:$AY$22116,29,FALSE),0)","v":1},{"$f":"IFERROR(VLOOKUP($A43,Filtros!$A$5:$AY$22116,30,FALSE),0)","v":0},{"$f":"IFERROR(VLOOKUP($A43,Filtros!$A$5:$AY$22116,31,FALSE),0)","v":0},{"$f":"IFERROR(VLOOKUP($A43,Filtros!$A$5:$AY$22116,32,FALSE),0)","v":0},{"$f":"IFERROR(VLOOKUP($A43,Filtros!$A$5:$AY$22116,33,FALSE),0)","v":0},{"$f":"IFERROR(VLOOKUP($A43,Filtros!$A$5:$AY$22116,34,FALSE),0)","v":0},{"$f":"IFERROR(VLOOKUP($A43,Filtros!$A$5:$AY$22116,35,FALSE),0)","v":0},{"$f":"IFERROR(VLOOKUP($A43,Filtros!$A$5:$AY$22116,36,FALSE),0)","v":0},{"$f":"IFERROR(VLOOKUP($A43,Filtros!$A$5:$AY$22116,37,FALSE),0)","v":1},{"$f":"IFERROR(VLOOKUP($A43,Filtros!$A$5:$AY$22116,38,FALSE),0)","v":0},{"$f":"IFERROR(VLOOKUP($A43,Filtros!$A$5:$AY$22116,39,FALSE),0)","v":0},{"$f":"IFERROR(VLOOKUP($A43,Filtros!$A$5:$AY$22116,40,FALSE),0)","v":0},{"$f":"IFERROR(VLOOKUP($A43,Filtros!$A$5:$AY$22116,41,FALSE),0)","v":0},{"$f":"IFERROR(VLOOKUP($A43,Filtros!$A$5:$AY$22116,42,FALSE),0)","v":0},{"$f":"IFERROR(VLOOKUP($A43,Filtros!$A$5:$AY$22116,43,FALSE),0)","v":0},{"$f":"IFERROR(VLOOKUP($A43,Filtros!$A$5:$AY$22116,44,FALSE),0)","v":0},{"$f":"IFERROR(VLOOKUP($A43,Filtros!$A$5:$AY$22116,45,FALSE),0)","v":0},{"$f":"IFERROR(VLOOKUP($A43,Filtros!$A$5:$AY$22116,46,FALSE),0)","v":1},"",{"$nulls":35},"","","","","","","","","","","","",{"$nulls":8},0,0,0,0,0,0,0,0,0,0,0,0]
["P6222500","TRASTORNOS DE LA CONDUCTA ALIMENTARIA",null,{"$f":"IFERROR(VLOOKUP($A44,Filtros!$A$5:$AY$22116,2,FALSE),0)","v":166},{"$f":"IFERROR(VLOOKUP($A44,Filtros!$A$5:$AY$22116,3,FALSE),0)","v":22},{"$f":"IFERROR(VLOOKUP($A44,Filtros!$A$5:$AY$22116,4,FALSE),0)","v":144},{"$f":"IFERROR(VLOOKUP($A44,Filtros!$A$5:$AY$22116,5,FALSE),0)","v":1},{"$f":"IFERROR(VLOOKUP($A44,Filtros!$A$5:$AY$22116,6,FALSE),0)","v":0},{"$f":"IFERROR(VLOOKUP($A44,Filtros!$A$5:$AY$22116,7,FALSE),0)","v":4},{"$f":"IFERROR(VLOOKUP($A44,Filtros!$A$5:$AY$22116,8,FALSE),0)","v":4},{"$f":"IFERROR(VLOOKUP($A44,Filtros!$A$5:$AY$22116,9,FALSE),0)","v":1},{"$f":"IFERROR(VLOOKUP($A44,Filtros!$A$5:$AY$22116,10,FALSE),0)","v":27},{"$f":"IFERROR(VLOOKUP($A44,Filtros!$A$5:$AY$22116,11,FALSE),0)","v":9},{"$f":"IFERROR(VLOOKUP($A44,Filtros!$A$5:$AY$22116,12,FALSE),0)","v":49},{"$f":"IFERROR(VLOOKUP($A44,Filtros!$A$5:$AY$22116,13,FALSE),0)","v":4},{"$f":"IFERROR(VLOOKUP($A44,Filtros!$A$5:$AY$22116,14,FALSE),0)","v":19},{"$f":"IFERROR(VLOOKUP($A44,Filtros!$A$5:$AY$22116,15,FALSE),0)","v":1},{"$f":"IFERROR(VLOOKUP($A44,Filtros!$A$5:$AY$22116,16,FALSE),0)","v":9},{"$f":"IFERROR(VLOOKUP($A44,Filtros!$A$5:$AY$22116,17,FALSE),0)","v":0},{"$f":"IFERROR(VLOOKUP($A44,Filtros!$A$5:$AY$22116,18,FALSE),0)","v":7},{"$f":"IFERROR(VLOOKUP($A44,Filtros!$A$5:$AY$22116,19,FALSE),0)","v":0},{"$f":"IFERROR(VLOOKUP($A44,Filtros!$A$5:$AY$22116,20,FALSE),0)","v":7},{"$f":"IFERROR(VLOOKUP($A44,Filtros!$A$5:$AY$22116,21,FALSE),0)","v":1},{"$f":"IFERROR(VLOOKUP($A44,Filtros!$A$5:$AY$22116,22,FALSE),0)","v":7},{"$f":"IFERROR(VLOOKUP($A44,Filtros!$A$5:$AY$22116,23,FALSE),0)","v":1},{"$f":"IFERROR(VLOOKUP($A44,Filtros!$A$5:$AY$22116,24,FALSE),0)","v":3},{"$f":"IFERROR(VLOOKUP($A44,Filtros!$A$5:$AY$22116,25,FALSE),0)","v":0},{"$f":"IFERROR(VLOOKUP($A44,Filtros!$A$5:$AY$22116,26,FALSE),0)","v":5},{"$f":"IFERROR(VLOOKUP($A44,Filtros!$A$5:$AY$22116,27,FALSE),0)","v":0},{"$f":"IFERROR(VLOOKUP($A44,Filtros!$A$5:$AY$22116,28,FALSE),0)","v":2},{"$f":"IFERROR(VLOOKUP($A44,Filtros!$A$5:$AY$22116,29,FALSE),0)","v":0},{"$f":"IFERROR(VLOOKUP($A44,Filtros!$A$5:$AY$22116,30,FALSE),0)","v":3},{"$f":"IFERROR(VLOOKUP($A44,Filtros!$A$5:$AY$22116,31,FALSE),0)","v":0},{"$f":"IFERROR(VLOOKUP($A44,Filtros!$A$5:$AY$22116,32,FALSE),0)","v":1},{"$f":"IFERROR(VLOOKUP($A44,Filtros!$A$5:$AY$22116,33,FALSE),0)","v":0},{"$f":"IFERROR(VLOOKUP($A44,Filtros!$A$5:$AY$22116,34,FALSE),0)","v":1},{"$f":"IFERROR(VLOOKUP($A44,Filtros!$A$5:$AY$22116,35,FALSE),0)","v":0},{"$f":"IFERROR(VLOOKUP($A44,Filtros!$A$5:$AY$22116,36,FALSE),0)","v":0},{"$f":"IFERROR(VLOOKUP($A44,Filtros!$A$5:$AY$22116,37,FALSE),0)","v":0},{"$f":"IFERROR(VLOOKUP($A44,Filtros!$A$5:$AY$22116,38,FALSE),0)","v":0},{"$f":"IFERROR(VLOOKUP($A44,Filtros!$A$5:$AY$22116,39,FALSE),0)","v":0},{"$f":"IFERROR(VLOOKUP($A44,Filtros!$A$5:$AY$22116,40,FALSE),0)","v":4},{"$f":"IFERROR(VLOOKUP($A44,Filtros!$A$5:$AY$22116,41,FALSE),0)","v":0},{"$f":"IFERROR(VLOOKUP($A44,Filtros!$A$5:$AY$22116,42,FALSE),0)","v":0},{"$f":"IFERROR(VLOOKUP($A44,Filtros!$A$5:$AY$22116,43,FALSE),0)","v":0},{"$f":"IFERROR(VLOOKUP($A44,Filtros!$A$5:$AY$22116,44,FALSE),0)","v":2},{"$f":"IFERROR(VLOOKUP($A44,Filtros!$A$5:$AY$22116,45,FALSE),0)","v":3},{"$f":"IFERROR(VLOOKUP($A44,Filtros!$A$5:$AY$22116,46,FALSE),0)","v":6},"",{"$nulls":35},"","","","","","","","","","","","",{"$nulls":8},0,0,0,0,0,0,0,0,0,0,0,0]
["P6222800","RETRASO MENTAL",null,{"$f":"IFERROR(VLOOKUP($A45,Filtros!$A$5:$AY$22116,2,FALSE),0)","v":290},{"$f":"IFERROR(VLOOKUP($A45,Filtros!$A$5:$AY$22116,3,FALSE),0)","v":141},{"$f":"IFERROR(VLOOKUP($A45,Filtros!$A$5:$AY$22116,4,FALSE),0)","v":149},{"$f":"IFERROR(VLOOKUP($A45,Filtros!$A$5:$AY$22116,5,FALSE),0)","v":0},{"$f":"IFERROR(VLOOKUP($A45,Filtros!$A$5:$AY$22116,6,FALSE),0)","v":1},{"$f":"IFERROR(VLOOKUP($A45,Filtros!$A$5:$AY$22116,7,FALSE),0)","v":8},{"$f":"IFERROR(VLOOKUP($A45,Filtros!$A$5:$AY$22116,8,FALSE),0)","v":4},{"$f":"IFERROR(VLOOKUP($A45,Filtros!$A$5:$AY$22116,9,FALSE),0)","v":13},{"$f":"IFERROR(VLOOKUP($A45,Filtros!$A$5:$AY$22116,10,FALSE),0)","v":14},{"$f":"IFERROR(VLOOKUP($A45,Filtros!$A$5:$AY$22116,11,FALSE),0)","v":12},{"$f":"IFERROR(VLOOKUP($A45,Filtros!$A$5:$AY$22116,12,FALSE),0)","v":10},{"$f":"IFERROR(VLOOKUP($A45,Filtros!$A$5:$AY$22116,13,FALSE),0)","v":14},{"$f":"IFERROR(VLOOKUP($A45,Filtros!$A$5:$AY$22116,14,FALSE),0)","v":14},{"$f":"IFERROR(VLOOKUP($A45,Filtros!$A$5:$AY$22116,15,FALSE),0)","v":8},{"$f":"IFERROR(VLOOKUP($A45,Filtros!$A$5:$AY$22116,16,FALSE),0)","v":15},{"$f":"IFERROR(VLOOKUP($A45,Filtros!$A$5:$AY$22116,17,FALSE),0)","v":15},{"$f":"IFERROR(VLOOKUP($A45,Filtros!$A$5:$AY$22116,18,FALSE),0)","v":16},{"$f":"IFERROR(VLOOKUP($A45,Filtros!$A$5:$AY$22116,19,FALSE),0)","v":16},{"$f":"IFERROR(VLOOKUP($A45,Filtros!$A$5:$AY$22116,20,FALSE),0)","v":9},{"$f":"IFERROR(VLOOKUP($A45,Filtros!$A$5:$AY$22116,21,FALSE),0)","v":14},{"$f":"IFERROR(VLOOKUP($A45,Filtros!$A$5:$AY$22116,22,FALSE),0)","v":15},{"$f":"IFERROR(VLOOKUP($A45,Filtros!$A$5:$AY$22116,23,FALSE),0)","v":8},{"$f":"IFERROR(VLOOKUP($A45,Filtros!$A$5:$AY$22116,24,FALSE),0)","v":13},{"$f":"IFERROR(VLOOKUP($A45,Filtros!$A$5:$AY$22116,25,FALSE),0)","v":16},{"$f":"IFERROR(VLOOKUP($A45,Filtros!$A$5:$AY$22116,26,FALSE),0)","v":10},{"$f":"IFERROR(VLOOKUP($A45,Filtros!$A$5:$AY$22116,27,FALSE),0)","v":8},{"$f":"IFERROR(VLOOKUP($A45,Filtros!$A$5:$AY$22116,28,FALSE),0)","v":11},{"$f":"IFERROR(VLOOKUP($A45,Filtros!$A$5:$AY$22116,29,FALSE),0)","v":6},{"$f":"IFERROR(VLOOKUP($A45,Filtros!$A$5:$AY$22116,30,FALSE),0)","v":7},{"$f":"IFERROR(VLOOKUP($A45,Filtros!$A$5:$AY$22116,31,FALSE),0)","v":2},{"$f":"IFERROR(VLOOKUP($A45,Filtros!$A$5:$AY$22116,32,FALSE),0)","v":5},{"$f":"IFERROR(VLOOKUP($A45,Filtros!$A$5:$AY$22116,33,FALSE),0)","v":1},{"$f":"IFERROR(VLOOKUP($A45,Filtros!$A$5:$AY$22116,34,FALSE),0)","v":2},{"$f":"IFERROR(VLOOKUP($A45,Filtros!$A$5:$AY$22116,35,FALSE),0)","v":0},{"$f":"IFERROR(VLOOKUP($A45,Filtros!$A$5:$AY$22116,36,FALSE),0)","v":0},{"$f":"IFERROR(VLOOKUP($A45,Filtros!$A$5:$AY$22116,37,FALSE),0)","v":0},{"$f":"IFERROR(VLOOKUP($A45,Filtros!$A$5:$AY$22116,38,FALSE),0)","v":3},{"$f":"IFERROR(VLOOKUP($A45,Filtros!$A$5:$AY$22116,39,FALSE),0)","v":1},{"$f":"IFERROR(VLOOKUP($A45,Filtros!$A$5:$AY$22116,40,FALSE),0)","v":6},{"$f":"IFERROR(VLOOKUP($A45,Filtros!$A$5:$AY$22116,41,FALSE),0)","v":2},{"$f":"IFERROR(VLOOKUP($A45,Filtros!$A$5:$AY$22116,42,FALSE),0)","v":0},{"$f":"IFERROR(VLOOKUP($A45,Filtros!$A$5:$AY$22116,43,FALSE),0)","v":1},{"$f":"IFERROR(VLOOKUP($A45,Filtros!$A$5:$AY$22116,44,FALSE),0)","v":0},{"$f":"IFERROR(VLOOKUP($A45,Filtros!$A$5:$AY$22116,45,FALSE),0)","v":4},{"$f":"IFERROR(VLOOKUP($A45,Filtros!$A$5:$AY$22116,46,FALSE),0)","v":13},"",{"$nulls":35},"","","","","","","","","","","","",{"$nulls":8},0,0,0,0,0,0,0,0,0,0,0,0]
["P6222900","TRASTORNO DE PERSONALIDAD",null,{"$f":"IFERROR(VLOOKUP($A46,Filtros!$A$5:$AY$22116,2,FALSE),0)","v":1260},{"$f":"IFERROR(VLOOKUP($A46,Filtros!$A$5:$AY$22116,3,FALSE),0)","v":299},{"$f":"IFERROR(VLOOKUP($A46,Filtros!$A$5:$AY$22116,4,FALSE),0)","v":961},{"$f":"IFERROR(VLOOKUP($A46,Filtros!$A$5:$AY$22116,5,FALSE),0)","v":0},{"$f":"IFERROR(VLOOKUP($A46,Filtros!$A$5:$AY$22116,6,FALSE),0)","v":0},{"$f":"IFERROR(VLOOKUP($A46,Filtros!$A$5:$AY$22116,7,FALSE),0)","v":0},{"$f":"IFERROR(VLOOKUP($A46,Filtros!$A$5:$AY$22116,8,FALSE),0)","v":0},{"$f":"IFERROR(VLOOKUP($A46,Filtros!$A$5:$AY$22116,9,FALSE),0)","v":6},{"$f":"IFERROR(VLOOKUP($A46,Filtros!$A$5:$AY$22116,10,FALSE),0)","v":12},{"$f":"IFERROR(VLOOKUP($A46,Filtros!$A$5:$AY$22116,11,FALSE),0)","v":34},{"$f":"IFERROR(VLOOKUP($A46,Filtros!$A$5:$AY$22116,12,FALSE),0)","v":74},{"$f":"IFERROR(VLOOKUP($A46,Filtros!$A$5:$AY$22116,13,FALSE),0)","v":45},{"$f":"IFERROR(VLOOKUP($A46,Filtros!$A$5:$AY$22116,14,FALSE),0)","v":60},{"$f":"IFERROR(VLOOKUP($A46,Filtros!$A$5:$AY$22116,15,FALSE),0)","v":31},{"$f":"IFERROR(VLOOKUP($A46,Filtros!$A$5:$AY$22116,16,FALSE),0)","v":73},{"$f":"IFERROR(VLOOKUP($A46,Filtros!$A$5:$AY$22116,17,FALSE),0)","v":29},{"$f":"IFERROR(VLOOKUP($A46,Filtros!$A$5:$AY$22116,18,FALSE),0)","v":75},{"$f":"IFERROR(VLOOKUP($A46,Filtros!$A$5:$AY$22116,19,FALSE),0)","v":21},{"$f":"IFERROR(VLOOKUP($A46,Filtros!$A$5:$AY$22116,20,FALSE),0)","v":58},{"$f":"IFERROR(VLOOKUP($A46,Filtros!$A$5:$AY$22116,21,FALSE),0)","v":15},{"$f":"IFERROR(VLOOKUP($A46,Filtros!$A$5:$AY$22116,22,FALSE),0)","v":84},{"$f":"IFERROR(VLOOKUP($A46,Filtros!$A$5:$AY$22116,23,FALSE),0)","v":25},{"$f":"IFERROR(VLOOKUP($A46,Filtros!$A$5:$AY$22116,24,FALSE),0)","v":94},{"$f":"IFERROR(VLOOKUP($A46,Filtros!$A$5:$AY$22116,25,FALSE),0)","v":20},{"$f":"IFERROR(VLOOKUP($A46,Filtros!$A$5:$AY$22116,26,FALSE),0)","v":104},{"$f":"IFERROR(VLOOKUP($A46,Filtros!$A$5:$AY$22116,27,FALSE),0)","v":20},{"$f":"IFERROR(VLOOKUP($A46,Filtros!$A$5:$AY$22116,28,FALSE),0)","v":105},{"$f":"IFERROR(VLOOKUP($A46,Filtros!$A$5:$AY$22116,29,FALSE),0)","v":16},{"$f":"IFERROR(VLOOKUP($A46,Filtros!$A$5:$AY$22116,30,FALSE),0)","v":91},{"$f":"IFERROR(VLOOKUP($A46,Filtros!$A$5:$AY$22116,31,FALSE),0)","v":22},{"$f":"IFERROR(VLOOKUP($A46,Filtros!$A$5:$AY$22116,32,FALSE),0)","v":54},{"$f":"IFERROR(VLOOKUP($A46,Filtros!$A$5:$AY$22116,33,FALSE),0)","v":5},{"$f":"IFERROR(VLOOKUP($A46,Filtros!$A$5:$AY$22116,34,FALSE),0)","v":33},{"$f":"IFERROR(VLOOKUP($A46,Filtros!$A$5:$AY$22116,35,FALSE),0)","v":9},{"$f":"IFERROR(VLOOKUP($A46,Filtros!$A$5:$AY$22116,36,FALSE),0)","v":24},{"$f":"IFERROR(VLOOKUP($A46,Filtros!$A$5:$AY$22116,37,FALSE),0)","v":1},{"$f":"IFERROR(VLOOKUP($A46,Filtros!$A$5:$AY$22116,38,FALSE),0)","v":20},{"$f":"IFERROR(VLOOKUP($A46,Filtros!$A$5:$AY$22116,39,FALSE),0)","v":2},{"$f":"IFERROR(VLOOKUP($A46,Filtros!$A$5:$AY$22116,40,FALSE),0)","v":37},{"$f":"IFERROR(VLOOKUP($A46,Filtros!$A$5:$AY$22116,41,FALSE),0)","v":2},{"$f":"IFERROR(VLOOKUP($A46,Filtros!$A$5:$AY$22116,42,FALSE),0)","v":10},{"$f":"IFERROR(VLOOKUP($A46,Filtros!$A$5:$AY$22116,43,FALSE),0)","v":0},{"$f":"IFERROR(VLOOKUP($A46,Filtros!$A$5:$AY$22116,44,FALSE),0)","v":2},{"$f":"IFERROR(VLOOKUP($A46,Filtros!$A$5:$AY$22116,45,FALSE),0)","v":20},{"$f":"IFERROR(VLOOKUP($A46,Filtros!$A$5:$AY$22116,46,FALSE),0)","v":73},"",{"$nulls":35},"","","","","","","","","","","","",{"$nulls":8},0,0,0,0,0,0,0,0,0,0,0,0]
["P6241010","TRASTORNO GENERALIZADOS DEL DESARROLLO","AUTISMO",{"$f":"IFERROR(VLOOKUP($A47,Filtros!$A$5:$AY$22116,2,FALSE),0)","v":268},{"$f":"IFERROR(VLOOKUP($A47,Filtros!$A$5:$AY$22116,3,FALSE),0)","v":206},{"$f":"IFERROR(VLOOKUP($A47,Filtros!$A$5:$AY$22116,4,FALSE),0)","v":62},{"$f":"IFERROR(VLOOKUP($A47,Filtros!$A$5:$AY$22116,5,FALSE),0)","v":17},{"$f":"IFERROR(VLOOKUP($A47,Filtros!$A$5:$AY$22116,6,FALSE),0)","v":13},{"$f":"IFERROR(VLOOKUP($A47,Filtros!$A$5:$AY$22116,7,FALSE),0)","v":89},{"$f":"IFERROR(VLOOKUP($A47,Filtros!$A$5:$AY$22116,8,FALSE),0)","v":29},{"$f":"IFERROR(VLOOKUP($A47,Filtros!$A$5:$AY$22116,9,FALSE),0)","v":57},{"$f":"IFERROR(VLOOKUP($A47,Filtros!$A$5:$AY$22116,10,FALSE),0)","v":16},{"$f":"IFERROR(VLOOKUP($A47,Filtros!$A$5:$AY$22116,11,FALSE),0)","v":31},{"$f":"IFERROR(VLOOKUP($A47,Filtros!$A$5:$AY$22116,12,FALSE),0)","v":4},{"$f":"IFERROR(VLOOKUP($A47,Filtros!$A$5:$AY$22116,13,FALSE),0)","v":1},{"$f":"IFERROR(VLOOKUP($A47,Filtros!$A$5:$AY$22116,14,FALSE),0)","v":0},{"$f":"IFERROR(VLOOKUP($A47,Filtros!$A$5:$AY$22116,15,FALSE),0)","v":5},{"$f":"IFERROR(VLOOKUP($A47,Filtros!$A$5:$AY$22116,16,FALSE),0)","v":0},{"$f":"IFERROR(VLOOKUP($A47,Filtros!$A$5:$AY$22116,17,FALSE),0)","v":1},{"$f":"IFERROR(VLOOKUP($A47,Filtros!$A$5:$AY$22116,18,FALSE),0)","v":0},{"$f":"IFERROR(VLOOKUP($A47,Filtros!$A$5:$AY$22116,19,FALSE),0)","v":0},{"$f":"IFERROR(VLOOKUP($A47,Filtros!$A$5:$AY$22116,20,FALSE),0)","v":0},{"$f":"IFERROR(VLOOKUP($A47,Filtros!$A$5:$AY$22116,21,FALSE),0)","v":4},{"$f":"IFERROR(VLOOKUP($A47,Filtros!$A$5:$AY$22116,22,FALSE),0)","v":0},{"$f":"IFERROR(VLOOKUP($A47,Filtros!$A$5:$AY$22116,23,FALSE),0)","v":1},{"$f":"IFERROR(VLOOKUP($A47,Filtros!$A$5:$AY$22116,24,FALSE),0)","v":0},{"$f":"IFERROR(VLOOKUP($A47,Filtros!$A$5:$AY$22116,25,FALSE),0)","v":0},{"$f":"IFERROR(VLOOKUP($A47,Filtros!$A$5:$AY$22116,26,FALSE),0)","v":0},{"$f":"IFERROR(VLOOKUP($A47,Filtros!$A$5:$AY$22116,27,FALSE),0)","v":0},{"$f":"IFERROR(VLOOKUP($A47,Filtros!$A$5:$AY$22116,28,FALSE),0)","v":0},{"$f":"IFERROR(VLOOKUP($A47,Filtros!$A$5:$AY$22116,29,FALSE),0)","v":0},{"$f":"IFERROR(VLOOKUP($A47,Filtros!$A$5:$AY$22116,30,FALSE),0)","v":0},{"$f":"IFERROR(VLOOKUP($A47,Filtros!$A$5:$AY$22116,31,FALSE),0)","v":0},{"$f":"IFERROR(VLOOKUP($A47,Filtros!$A$5:$AY$22116,32,FALSE),0)","v":0},{"$f":"IFERROR(VLOOKUP($A47,Filtros!$A$5:$AY$22116,33,FALSE),0)","v":0},{"$f":"IFERROR(VLOOKUP($A47,Filtros!$A$5:$AY$22116,34,FALSE),0)","v":0},{"$f":"IFERROR(VLOOKUP($A47,Filtros!$A$5:$AY$22116,35,FALSE),0)","v":0},{"$f":"IFERROR(VLOOKUP($A47,Filtros!$A$5:$AY$22116,36,FALSE),0)","v":0},{"$f":"IFERROR(VLOOKUP($A47,Filtros!$A$5:$AY$22116,37,FALSE),0)","v":0},{"$f":"IFERROR(VLOOKUP($A47,Filtros!$A$5:$AY$22116,38,FALSE),0)","v":0},{"$f":"IFERROR(VLOOKUP($A47,Filtros!$A$5:$AY$22116,39,FALSE),0)","v":0},{"$f":"IFERROR(VLOOKUP($A47,Filtros!$A$5:$AY$22116,40,FALSE),0)","v":0},{"$f":"IFERROR(VLOOKUP($A47,Filtros!$A$5:$AY$22116,41,FALSE),0)","v":0},{"$f":"IFERROR(VLOOKUP($A47,Filtros!$A$5:$AY$22116,42,FALSE),0)","v":0},{"$f":"IFERROR(VLOOKUP($A47,Filtros!$A$5:$AY$22116,43,FALSE),0)","v":2},{"$f":"IFERROR(VLOOKUP($A47,Filtros!$A$5:$AY$22116,44,FALSE),0)","v":0},{"$f":"IFERROR(VLOOKUP($A47,Filtros!$A$5:$AY$22116,45,FALSE),0)","v":8},{"$f":"IFERROR(VLOOKUP($A47,Filtros!$A$5:$AY$22116,46,FALSE),0)","v":32}]
["P6241020",null,"ASPERGER",{"$f":"IFERROR(VLOOKUP($A48,Filtros!$A$5:$AY$22116,2,FALSE),0)","v":92},{"$f":"IFERROR(VLOOKUP($A48,Filtros!$A$5:$AY$22116,3,FALSE),0)","v":77},{"$f":"IFERROR(VLOOKUP($A48,Filtros!$A$5:$AY$22116,4,FALSE),0)","v":15},{"$f":"IFERROR(VLOOKUP($A48,Filtros!$A$5:$AY$22116,5,FALSE),0)","v":1},{"$f":"IFERROR(VLOOKUP($A48,Filtros!$A$5:$AY$22116,6,FALSE),0)","v":0},{"$f":"IFERROR(VLOOKUP($A48,Filtros!$A$5:$AY$22116,7,FALSE),0)","v":24},{"$f":"IFERROR(VLOOKUP($A48,Filtros!$A$5:$AY$22116,8,FALSE),0)","v":6},{"$f":"IFERROR(VLOOKUP($A48,Filtros!$A$5:$AY$22116,9,FALSE),0)","v":22},{"$f":"IFERROR(VLOOKUP($A48,Filtros!$A$5:$AY$22116,10,FALSE),0)","v":3},{"$f":"IFERROR(VLOOKUP($A48,Filtros!$A$5:$AY$22116,11,FALSE),0)","v":14},{"$f":"IFERROR(VLOOKUP($A48,Filtros!$A$5:$AY$22116,12,FALSE),0)","v":5},{"$f":"IFERROR(VLOOKUP($A48,Filtros!$A$5:$AY$22116,13,FALSE),0)","v":8},{"$f":"IFERROR(VLOOKUP($A48,Filtros!$A$5:$AY$22116,14,FALSE),0)","v":1},{"$f":"IFERROR(VLOOKUP($A48,Filtros!$A$5:$AY$22116,15,FALSE),0)","v":5},{"$f":"IFERROR(VLOOKUP($A48,Filtros!$A$5:$AY$22116,16,FALSE),0)","v":0},{"$f":"IFERROR(VLOOKUP($A48,Filtros!$A$5:$AY$22116,17,FALSE),0)","v":2},{"$f":"IFERROR(VLOOKUP($A48,Filtros!$A$5:$AY$22116,18,FALSE),0)","v":0},{"$f":"IFERROR(VLOOKUP($A48,Filtros!$A$5:$AY$22116,19,FALSE),0)","v":1},{"$f":"IFERROR(VLOOKUP($A48,Filtros!$A$5:$AY$22116,20,FALSE),0)","v":0},{"$f":"IFERROR(VLOOKUP($A48,Filtros!$A$5:$AY$22116,21,FALSE),0)","v":0},{"$f":"IFERROR(VLOOKUP($A48,Filtros!$A$5:$AY$22116,22,FALSE),0)","v":0},{"$f":"IFERROR(VLOOKUP($A48,Filtros!$A$5:$AY$22116,23,FALSE),0)","v":0},{"$f":"IFERROR(VLOOKUP($A48,Filtros!$A$5:$AY$22116,24,FALSE),0)","v":0},{"$f":"IFERROR(VLOOKUP($A48,Filtros!$A$5:$AY$22116,25,FALSE),0)","v":0},{"$f":"IFERROR(VLOOKUP($A48,Filtros!$A$5:$AY$22116,26,FALSE),0)","v":0},{"$f":"IFERROR(VLOOKUP($A48,Filtros!$A$5:$AY$22116,27,FALSE),0)","v":0},{"$f":"IFERROR(VLOOKUP($A48,Filtros!$A$5:$AY$22116,28,FALSE),0)","v":0},{"$f":"IFERROR(VLOOKUP($A48,Filtros!$A$5:$AY$22116,29,FALSE),0)","v":0},{"$f":"IFERROR(VLOOKUP($A48,Filtros!$A$5:$AY$22116,30,FALSE),0)","v":0},{"$f":"IFERROR(VLOOKUP($A48,Filtros!$A$5:$AY$22116,31,FALSE),0)","v":0},{"$f":"IFERROR(VLOOKUP($A48,Filtros!$A$5:$AY$22116,32,FALSE),0)","v":0},{"$f":"IFERROR(VLOOKUP($A48,Filtros!$A$5:$AY$22116,33,FALSE),0)","v":0},{"$f":"IFERROR(VLOOKUP($A48,Filtros!$A$5:$AY$22116,34,FALSE),0)","v":0},{"$f":"IFERROR(VLOOKUP($A48,Filtros!$A$5:$AY$22116,35,FALSE),0)","v":0},{"$f":"IFERROR(VLOOKUP($A48,Filtros!$A$5:$AY$22116,36,FALSE),0)","v":0},{"$f":"IFERROR(VLOOKUP($A48,Filtros!$A$5:$AY$22116,37,FALSE),0)","v":0},{"$f":"IFERROR(VLOOKUP($A48,Filtros!$A$5:$AY$22116,38,FALSE),0)","v":0},{"$f":"IFERROR(VLOOKUP($A48,Filtros!$A$5:$AY$22116,39,FALSE),0)","v":0},{"$f":"IFERROR(VLOOKUP($A48,Filtros!$A$5:$AY$22116,40,FALSE),0)","v":0},{"$f":"IFERROR(VLOOKUP($A48,Filtros!$A$5:$AY$22116,41,FALSE),0)","v":3},{"$f":"IFERROR(VLOOKUP($A48,Filtros!$A$5:$AY$22116,42,FALSE),0)","v":0},{"$f":"IFERROR(VLOOKUP($A48,Filtros!$A$5:$AY$22116,43,FALSE),0)","v":0},{"$f":"IFERROR(VLOOKUP($A48,Filtros!$A$5:$AY$22116,44,FALSE),0)","v":0},{"$f":"IFERROR(VLOOKUP($A48,Filtros!$A$5:$AY$22116,45,FALSE),0)","v":2},{"$f":"IFERROR(VLOOKUP($A48,Filtros!$A$5:$AY$22116,46,FALSE),0)","v":10}]
["P6241030",null,"SÍNDROME DE RETT",{"$f":"IFERROR(VLOOKUP($A49,Filtros!$A$5:$AY$22116,2,FALSE),0)","v":1},{"$f":"IFERROR(VLOOKUP($A49,Filtros!$A$5:$AY$22116,3,FALSE),0)","v":1},{"$f":"IFERROR(VLOOKUP($A49,Filtros!$A$5:$AY$22116,4,FALSE),0)","v":0},{"$f":"IFERROR(VLOOKUP($A49,Filtros!$A$5:$AY$22116,5,FALSE),0)","v":0},{"$f":"IFERROR(VLOOKUP($A49,Filtros!$A$5:$AY$22116,6,FALSE),0)","v":0},{"$f":"IFERROR(VLOOKUP($A49,Filtros!$A$5:$AY$22116,7,FALSE),0)","v":1},{"$f":"IFERROR(VLOOKUP($A49,Filtros!$A$5:$AY$22116,8,FALSE),0)","v":0},{"$f":"IFERROR(VLOOKUP($A49,Filtros!$A$5:$AY$22116,9,FALSE),0)","v":0},{"$f":"IFERROR(VLOOKUP($A49,Filtros!$A$5:$AY$22116,10,FALSE),0)","v":0},{"$f":"IFERROR(VLOOKUP($A49,Filtros!$A$5:$AY$22116,11,FALSE),0)","v":0},{"$f":"IFERROR(VLOOKUP($A49,Filtros!$A$5:$AY$22116,12,FALSE),0)","v":0},{"$f":"IFERROR(VLOOKUP($A49,Filtros!$A$5:$AY$22116,13,FALSE),0)","v":0},{"$f":"IFERROR(VLOOKUP($A49,Filtros!$A$5:$AY$22116,14,FALSE),0)","v":0},{"$f":"IFERROR(VLOOKUP($A49,Filtros!$A$5:$AY$22116,15,FALSE),0)","v":0},{"$f":"IFERROR(VLOOKUP($A49,Filtros!$A$5:$AY$22116,16,FALSE),0)","v":0},{"$f":"IFERROR(VLOOKUP($A49,Filtros!$A$5:$AY$22116,17,FALSE),0)","v":0},{"$f":"IFERROR(VLOOKUP($A49,Filtros!$A$5:$AY$22116,18,FALSE),0)","v":0},{"$f":"IFERROR(VLOOKUP($A49,Filtros!$A$5:$AY$22116,19,FALSE),0)","v":0},{"$f":"IFERROR(VLOOKUP($A49,Filtros!$A$5:$AY$22116,20,FALSE),0)","v":0},{"$f":"IFERROR(VLOOKUP($A49,Filtros!$A$5:$AY$22116,21,FALSE),0)","v":0},{"$f":"IFERROR(VLOOKUP($A49,Filtros!$A$5:$AY$22116,22,FALSE),0)","v":0},{"$f":"IFERROR(VLOOKUP($A49,Filtros!$A$5:$AY$22116,23,FALSE),0)","v":0},{"$f":"IFERROR(VLOOKUP($A49,Filtros!$A$5:$AY$22116,24,FALSE),0)","v":0},{"$f":"IFERROR(VLOOKUP($A49,Filtros!$A$5:$AY$22116,25,FALSE),0)","v":0},{"$f":"IFERROR(VLOOKUP($A49,Filtros!$A$5:$AY$22116,26,FALSE),0)","v":0},{"$f":"IFERROR(VLOOKUP($A49,Filtros!$A$5:$AY$22116,27,FALSE),0)","v":0},{"$f":"IFERROR(VLOOKUP($A49,Filtros!$A$5:$AY$22116,28,FALSE),0)","v":0},{"$f":"IFERROR(VLOOKUP($A49,Filtros!$A$5:$AY$22116,29,FALSE),0)","v":0},{"$f":"IFERROR(VLOOKUP($A49,Filtros!$A$5:$AY$22116,30,FALSE),0)","v":0},{"$f":"IFERROR(VLOOKUP($A49,Filtros!$A$5:$AY$22116,31,FALSE),0)","v":0},{"$f":"IFERROR(VLOOKUP($A49,Filtros!$A$5:$AY$22116,32,FALSE),0)","v":0},{"$f":"IFERROR(VLOOKUP($A49,Filtros!$A$5:$AY$22116,33,FALSE),0)","v":0},{"$f":"IFERROR(VLOOKUP($A49,Filtros!$A$5:$AY$22116,34,FALSE),0)","v":0},{"$f":"IFERROR(VLOOKUP($A49,Filtros!$A$5:$AY$22116,35,FALSE),0)","v":0},{"$f":"IFERROR(VLOOKUP($A49,Filtros!$A$5:$AY$22116,36,FALSE),0)","v":0},{"$f":"IFERROR(VLOOKUP($A49,Filtros!$A$5:$AY$22116,37,FALSE),0)","v":0},{"$f":"IFERROR(VLOOKUP($A49,Filtros!$A$5:$AY$22116,38,FALSE),0)","v":0},{"$f":"IFERROR(VLOOKUP($A49,Filtros!$A$5:$AY$22116,39,FALSE),0)","v":0},{"$f":"IFERROR(VLOOKUP($A49,Filtros!$A$5:$AY$22116,40,FALSE),0)","v":0},{"$f":"IFERROR(VLOOKUP($A49,Filtros!$A$5:$AY$22116,41,FALSE),0)","v":0},{"$f":"IFERROR(VLOOKUP($A49,Filtros!$A$5:$AY$22116,42,FALSE),0)","v":0},{"$f":"IFERROR(VLOOKUP($A49,Filtros!$A$5:$AY$22116,43,FALSE),0)","v":0},{"$f":"IFERROR(VLOOKUP($A49,Filtros!$A$5:$AY$22116,44,FALSE),0)","v":0},{"$f":"IFERROR(VLOOKUP($A49,Filtros!$A$5:$AY$22116,45,FALSE),0)","v":0},{"$f":"IFERROR(VLOOKUP($A49,Filtros!$A$5:$AY$22116,46,FALSE),0)","v":0}]
["P6241040",null,"TRASTORNO DESINTEGRATIVO DE LA INFANCIA",{"$f":"IFERROR(VLOOKUP($A50,Filtros!$A$5:$AY$22116,2,FALSE),0)","v":7},{"$f":"IFERROR(VLOOKUP($A50,Filtros!$A$5:$AY$22116,3,FALSE),0)","v":3},{"$f":"IFERROR(VLOOKUP($A50,Filtros!$A$5:$AY$22116,4,FALSE),0)","v":4},{"$f":"IFERROR(VLOOKUP($A50,Filtros!$A$5:$AY$22116,5,FALSE),0)","v":0},{"$f":"IFERROR(VLOOKUP($A50,Filtros!$A$5:$AY$22116,6,FALSE),0)","v":0},{"$f":"IFERROR(VLOOKUP($A50,Filtros!$A$5:$AY$22116,7,FALSE),0)","v":0},{"$f":"IFERROR(VLOOKUP($A50,Filtros!$A$5:$AY$22116,8,FALSE),0)","v":0},{"$f":"IFERROR(VLOOKUP($A50,Filtros!$A$5:$AY$22116,9,FALSE),0)","v":0},{"$f":"IFERROR(VLOOKUP($A50,Filtros!$A$5:$AY$22116,10,FALSE),0)","v":1},{"$f":"IFERROR(VLOOKUP($A50,Filtros!$A$5:$AY$22116,11,FALSE),0)","v":1},{"$f":"IFERROR(VLOOKUP($A50,Filtros!$A$5:$AY$22116,12,FALSE),0)","v":0},{"$f":"IFERROR(VLOOKUP($A50,Filtros!$A$5:$AY$22116,13,FALSE),0)","v":0},{"$f":"IFERROR(VLOOKUP($A50,Filtros!$A$5:$AY$22116,14,FALSE),0)","v":0},{"$f":"IFERROR(VLOOKUP($A50,Filtros!$A$5:$AY$22116,15,FALSE),0)","v":0},{"$f":"IFERROR(VLOOKUP($A50,Filtros!$A$5:$AY$22116,16,FALSE),0)","v":0},{"$f":"IFERROR(VLOOKUP($A50,Filtros!$A$5:$AY$22116,17,FALSE),0)","v":0},{"$f":"IFERROR(VLOOKUP($A50,Filtros!$A$5:$AY$22116,18,FALSE),0)","v":0},{"$f":"IFERROR(VLOOKUP($A50,Filtros!$A$5:$AY$22116,19,FALSE),0)","v":2},{"$f":"IFERROR(VLOOKUP($A50,Filtros!$A$5:$AY$22116,20,FALSE),0)","v":0},{"$f":"IFERROR(VLOOKUP($A50,Filtros!$A$5:$AY$22116,21,FALSE),0)","v":0},{"$f":"IFERROR(VLOOKUP($A50,Filtros!$A$5:$AY$22116,22,FALSE),0)","v":0},{"$f":"IFERROR(VLOOKUP($A50,Filtros!$A$5:$AY$22116,23,FALSE),0)","v":0},{"$f":"IFERROR(VLOOKUP($A50,Filtros!$A$5:$AY$22116,24,FALSE),0)","v":0},{"$f":"IFERROR(VLOOKUP($A50,Filtros!$A$5:$AY$22116,25,FALSE),0)","v":0},{"$f":"IFERROR(VLOOKUP($A50,Filtros!$A$5:$AY$22116,26,FALSE),0)","v":1},{"$f":"IFERROR(VLOOKUP($A50,Filtros!$A$5:$AY$22116,27,FALSE),0)","v":0},{"$f":"IFERROR(VLOOKUP($A50,Filtros!$A$5:$AY$22116,28,FALSE),0)","v":1},{"$f":"IFERROR(VLOOKUP($A50,Filtros!$A$5:$AY$22116,29,FALSE),0)","v":0},{"$f":"IFERROR(VLOOKUP($A50,Filtros!$A$5:$AY$22116,30,FALSE),0)","v":0},{"$f":"IFERROR(VLOOKUP($A50,Filtros!$A$5:$AY$22116,31,FALSE),0)","v":0},{"$f":"IFERROR(VLOOKUP($A50,Filtros!$A$5:$AY$22116,32,FALSE),0)","v":0},{"$f":"IFERROR(VLOOKUP($A50,Filtros!$A$5:$AY$22116,33,FALSE),0)","v":0},{"$f":"IFERROR(VLOOKUP($A50,Filtros!$A$5:$AY$22116,34,FALSE),0)","v":0},{"$f":"IFERROR(VLOOKUP($A50,Filtros!$A$5:$AY$22116,35,FALSE),0)","v":0},{"$f":"IFERROR(VLOOKUP($A50,Filtros!$A$5:$AY$22116,36,FALSE),0)","v":0},{"$f":"IFERROR(VLOOKUP($A50,Filtros!$A$5:$AY$22116,37,FALSE),0)","v":0},{"$f":"IFERROR(VLOOKUP($A50,Filtros!$A$5:$AY$22116,38,FALSE),0)","v":1},{"$f":"IFERROR(VLOOKUP($A50,Filtros!$A$5:$AY$22116,39,FALSE),0)","v":0},{"$f":"IFERROR(VLOOKUP($A50,Filtros!$A$5:$AY$22116,40,FALSE),0)","v":0},{"$f":"IFERROR(VLOOKUP($A50,Filtros!$A$5:$AY$22116,41,FALSE),0)","v":0},{"$f":"IFERROR(VLOOKUP($A50,Filtros!$A$5:$AY$22116,42,FALSE),0)","v":0},{"$f":"IFERROR(VLOOKUP($A50,Filtros!$A$5:$AY$22116,43,FALSE),0)","v":0},{"$f":"IFERROR(VLOOKUP($A50,Filtros!$A$5:$AY$22116,44,FALSE),0)","v":0},{"$f":"IFERROR(VLOOKUP($A50,Filtros!$A$5:$AY$22116,45,FALSE),0)","v":0},{"$f":"IFERROR(VLOOKUP($A50,Filtros!$A$5:$AY$22116,46,FALSE),0)","v":0}]
["P6241050",null,"TRASTONO GENERALIZADO DEL DESARROLLO NO ESPECÍFICO",{"$f":"IFERROR(VLOOKUP($A51,Filtros!$A$5:$AY$22116,2,FALSE),0)","v":94},{"$f":"IFERROR(VLOOKUP($A51,Filtros!$A$5:$AY$22116,3,FALSE),0)","v":60},{"$f":"IFERROR(VLOOKUP($A51,Filtros!$A$5:$AY$22116,4,FALSE),0)","v":34},{"$f":"IFERROR(VLOOKUP($A51,Filtros!$A$5:$AY$22116,5,FALSE),0)","v":2},{"$f":"IFERROR(VLOOKUP($A51,Filtros!$A$5:$AY$22116,6,FALSE),0)","v":0},{"$f":"IFERROR(VLOOKUP($A51,Filtros!$A$5:$AY$22116,7,FALSE),0)","v":21},{"$f":"IFERROR(VLOOKUP($A51,Filtros!$A$5:$AY$22116,8,FALSE),0)","v":4},{"$f":"IFERROR(VLOOKUP($A51,Filtros!$A$5:$AY$22116,9,FALSE),0)","v":21},{"$f":"IFERROR(VLOOKUP($A51,Filtros!$A$5:$AY$22116,10,FALSE),0)","v":4},{"$f":"IFERROR(VLOOKUP($A51,Filtros!$A$5:$AY$22116,11,FALSE),0)","v":7},{"$f":"IFERROR(VLOOKUP($A51,Filtros!$A$5:$AY$22116,12,FALSE),0)","v":9},{"$f":"IFERROR(VLOOKUP($A51,Filtros!$A$5:$AY$22116,13,FALSE),0)","v":1},{"$f":"IFERROR(VLOOKUP($A51,Filtros!$A$5:$AY$22116,14,FALSE),0)","v":3},{"$f":"IFERROR(VLOOKUP($A51,Filtros!$A$5:$AY$22116,15,FALSE),0)","v":1},{"$f":"IFERROR(VLOOKUP($A51,Filtros!$A$5:$AY$22116,16,FALSE),0)","v":2},{"$f":"IFERROR(VLOOKUP($A51,Filtros!$A$5:$AY$22116,17,FALSE),0)","v":3},{"$f":"IFERROR(VLOOKUP($A51,Filtros!$A$5:$AY$22116,18,FALSE),0)","v":1},{"$f":"IFERROR(VLOOKUP($A51,Filtros!$A$5:$AY$22116,19,FALSE),0)","v":1},{"$f":"IFERROR(VLOOKUP($A51,Filtros!$A$5:$AY$22116,20,FALSE),0)","v":1},{"$f":"IFERROR(VLOOKUP($A51,Filtros!$A$5:$AY$22116,21,FALSE),0)","v":1},{"$f":"IFERROR(VLOOKUP($A51,Filtros!$A$5:$AY$22116,22,FALSE),0)","v":1},{"$f":"IFERROR(VLOOKUP($A51,Filtros!$A$5:$AY$22116,23,FALSE),0)","v":0},{"$f":"IFERROR(VLOOKUP($A51,Filtros!$A$5:$AY$22116,24,FALSE),0)","v":1},{"$f":"IFERROR(VLOOKUP($A51,Filtros!$A$5:$AY$22116,25,FALSE),0)","v":1},{"$f":"IFERROR(VLOOKUP($A51,Filtros!$A$5:$AY$22116,26,FALSE),0)","v":5},{"$f":"IFERROR(VLOOKUP($A51,Filtros!$A$5:$AY$22116,27,FALSE),0)","v":0},{"$f":"IFERROR(VLOOKUP($A51,Filtros!$A$5:$AY$22116,28,FALSE),0)","v":0},{"$f":"IFERROR(VLOOKUP($A51,Filtros!$A$5:$AY$22116,29,FALSE),0)","v":0},{"$f":"IFERROR(VLOOKUP($A51,Filtros!$A$5:$AY$22116,30,FALSE),0)","v":1},{"$f":"IFERROR(VLOOKUP($A51,Filtros!$A$5:$AY$22116,31,FALSE),0)","v":1},{"$f":"IFERROR(VLOOKUP($A51,Filtros!$A$5:$AY$22116,32,FALSE),0)","v":1},{"$f":"IFERROR(VLOOKUP($A51,Filtros!$A$5:$AY$22116,33,FALSE),0)","v":0},{"$f":"IFERROR(VLOOKUP($A51,Filtros!$A$5:$AY$22116,34,FALSE),0)","v":1},{"$f":"IFERROR(VLOOKUP($A51,Filtros!$A$5:$AY$22116,35,FALSE),0)","v":0},{"$f":"IFERROR(VLOOKUP($A51,Filtros!$A$5:$AY$22116,36,FALSE),0)","v":0},{"$f":"IFERROR(VLOOKUP($A51,Filtros!$A$5:$AY$22116,37,FALSE),0)","v":0},{"$f":"IFERROR(VLOOKUP($A51,Filtros!$A$5:$AY$22116,38,FALSE),0)","v":0},{"$f":"IFERROR(VLOOKUP($A51,Filtros!$A$5:$AY$22116,39,FALSE),0)","v":0},{"$f":"IFERROR(VLOOKUP($A51,Filtros!$A$5:$AY$22116,40,FALSE),0)","v":0},{"$f":"IFERROR(VLOOKUP($A51,Filtros!$A$5:$AY$22116,41,FALSE),0)","v":0},{"$f":"IFERROR(VLOOKUP($A51,Filtros!$A$5:$AY$22116,42,FALSE),0)","v":0},{"$f":"IFERROR(VLOOKUP($A51,Filtros!$A$5:$AY$22116,43,FALSE),0)","v":0},{"$f":"IFERROR(VLOOKUP($A51,Filtros!$A$5:$AY$22116,44,FALSE),0)","v":0},{"$f":"IFERROR(VLOOKUP($A51,Filtros!$A$5:$AY$22116,45,FALSE),0)","v":1},{"$f":"IFERROR(VLOOKUP($A51,Filtros!$A$5:$AY$22116,46,FALSE),0)","v":8},"",{"$nulls":35},"","","","","","","","","","","","",{"$nulls":8},0,0,0,0,0,0,0,0,0,0,0,0]
["P6231600","EPILEPSIA",null,{"$f":"IFERROR(VLOOKUP($A52,Filtros!$A$5:$AY$22116,2,FALSE),0)","v":212},{"$f":"IFERROR(VLOOKUP($A52,Filtros!$A$5:$AY$22116,3,FALSE),0)","v":106},{"$f":"IFERROR(VLOOKUP($A52,Filtros!$A$5:$AY$22116,4,FALSE),0)","v":106},{"$f":"IFERROR(VLOOKUP($A52,Filtros!$A$5:$AY$22116,5,FALSE),0)","v":0},{"$f":"IFERROR(VLOOKUP($A52,Filtros!$A$5:$AY$22116,6,FALSE),0)","v":0},{"$f":"IFERROR(VLOOKUP($A52,Filtros!$A$5:$AY$22116,7,FALSE),0)","v":3},{"$f":"IFERROR(VLOOKUP($A52,Filtros!$A$5:$AY$22116,8,FALSE),0)","v":4},{"$f":"IFERROR(VLOOKUP($A52,Filtros!$A$5:$AY$22116,9,FALSE),0)","v":12},{"$f":"IFERROR(VLOOKUP($A52,Filtros!$A$5:$AY$22116,10,FALSE),0)","v":9},{"$f":"IFERROR(VLOOKUP($A52,Filtros!$A$5:$AY$22116,11,FALSE),0)","v":7},{"$f":"IFERROR(VLOOKUP($A52,Filtros!$A$5:$AY$22116,12,FALSE),0)","v":10},{"$f":"IFERROR(VLOOKUP($A52,Filtros!$A$5:$AY$22116,13,FALSE),0)","v":8},{"$f":"IFERROR(VLOOKUP($A52,Filtros!$A$5:$AY$22116,14,FALSE),0)","v":5},{"$f":"IFERROR(VLOOKUP($A52,Filtros!$A$5:$AY$22116,15,FALSE),0)","v":7},{"$f":"IFERROR(VLOOKUP($A52,Filtros!$A$5:$AY$22116,16,FALSE),0)","v":6},{"$f":"IFERROR(VLOOKUP($A52,Filtros!$A$5:$AY$22116,17,FALSE),0)","v":9},{"$f":"IFERROR(VLOOKUP($A52,Filtros!$A$5:$AY$22116,18,FALSE),0)","v":9},{"$f":"IFERROR(VLOOKUP($A52,Filtros!$A$5:$AY$22116,19,FALSE),0)","v":6},{"$f":"IFERROR(VLOOKUP($A52,Filtros!$A$5:$AY$22116,20,FALSE),0)","v":5},{"$f":"IFERROR(VLOOKUP($A52,Filtros!$A$5:$AY$22116,21,FALSE),0)","v":6},{"$f":"IFERROR(VLOOKUP($A52,Filtros!$A$5:$AY$22116,22,FALSE),0)","v":6},{"$f":"IFERROR(VLOOKUP($A52,Filtros!$A$5:$AY$22116,23,FALSE),0)","v":10},{"$f":"IFERROR(VLOOKUP($A52,Filtros!$A$5:$AY$22116,24,FALSE),0)","v":11},{"$f":"IFERROR(VLOOKUP($A52,Filtros!$A$5:$AY$22116,25,FALSE),0)","v":11},{"$f":"IFERROR(VLOOKUP($A52,Filtros!$A$5:$AY$22116,26,FALSE),0)","v":10},{"$f":"IFERROR(VLOOKUP($A52,Filtros!$A$5:$AY$22116,27,FALSE),0)","v":12},{"$f":"IFERROR(VLOOKUP($A52,Filtros!$A$5:$AY$22116,28,FALSE),0)","v":10},{"$f":"IFERROR(VLOOKUP($A52,Filtros!$A$5:$AY$22116,29,FALSE),0)","v":4},{"$f":"IFERROR(VLOOKUP($A52,Filtros!$A$5:$AY$22116,30,FALSE),0)","v":4},{"$f":"IFERROR(VLOOKUP($A52,Filtros!$A$5:$AY$22116,31,FALSE),0)","v":6},{"$f":"IFERROR(VLOOKUP($A52,Filtros!$A$5:$AY$22116,32,FALSE),0)","v":9},{"$f":"IFERROR(VLOOKUP($A52,Filtros!$A$5:$AY$22116,33,FALSE),0)","v":0},{"$f":"IFERROR(VLOOKUP($A52,Filtros!$A$5:$AY$22116,34,FALSE),0)","v":2},{"$f":"IFERROR(VLOOKUP($A52,Filtros!$A$5:$AY$22116,35,FALSE),0)","v":2},{"$f":"IFERROR(VLOOKUP($A52,Filtros!$A$5:$AY$22116,36,FALSE),0)","v":3},{"$f":"IFERROR(VLOOKUP($A52,Filtros!$A$5:$AY$22116,37,FALSE),0)","v":3},{"$f":"IFERROR(VLOOKUP($A52,Filtros!$A$5:$AY$22116,38,FALSE),0)","v":3},{"$f":"IFERROR(VLOOKUP($A52,Filtros!$A$5:$AY$22116,39,FALSE),0)","v":0},{"$f":"IFERROR(VLOOKUP($A52,Filtros!$A$5:$AY$22116,40,FALSE),0)","v":0},{"$f":"IFERROR(VLOOKUP($A52,Filtros!$A$5:$AY$22116,41,FALSE),0)","v":0},{"$f":"IFERROR(VLOOKUP($A52,Filtros!$A$5:$AY$22116,42,FALSE),0)","v":0},{"$f":"IFERROR(VLOOKUP($A52,Filtros!$A$5:$AY$22116,43,FALSE),0)","v":1},{"$f":"IFERROR(VLOOKUP($A52,Filtros!$A$5:$AY$22116,44,FALSE),0)","v":1},{"$f":"IFERROR(VLOOKUP($A52,Filtros!$A$5:$AY$22116,45,FALSE),0)","v":2},{"$f":"IFERROR(VLOOKUP($A52,Filtros!$A$5:$AY$22116,46,FALSE),0)","v":7},"",{"$nulls":35},"","","","","","","","","","","","",{"$nulls":8},0,0,0,0,0,0,0,0,0,0,0,0]
["P6227602","OTRAS ",null,{"$f":"IFERROR(VLOOKUP($A53,Filtros!$A$5:$AY$22116,2,FALSE),0)","v":5338},{"$f":"IFERROR(VLOOKUP($A53,Filtros!$A$5:$AY$22116,3,FALSE),0)","v":1626},{"$f":"IFERROR(VLOOKUP($A53,Filtros!$A$5:$AY$22116,4,FALSE),0)","v":3712},{"$f":"IFERROR(VLOOKUP($A53,Filtros!$A$5:$AY$22116,5,FALSE),0)","v":44},{"$f":"IFERROR(VLOOKUP($A53,Filtros!$A$5:$AY$22116,6,FALSE),0)","v":54},{"$f":"IFERROR(VLOOKUP($A53,Filtros!$A$5:$AY$22116,7,FALSE),0)","v":265},{"$f":"IFERROR(VLOOKUP($A53,Filtros!$A$5:$AY$22116,8,FALSE),0)","v":206},{"$f":"IFERROR(VLOOKUP($A53,Filtros!$A$5:$AY$22116,9,FALSE),0)","v":168},{"$f":"IFERROR(VLOOKUP($A53,Filtros!$A$5:$AY$22116,10,FALSE),0)","v":242},{"$f":"IFERROR(VLOOKUP($A53,Filtros!$A$5:$AY$22116,11,FALSE),0)","v":146},{"$f":"IFERROR(VLOOKUP($A53,Filtros!$A$5:$AY$22116,12,FALSE),0)","v":305},{"$f":"IFERROR(VLOOKUP($A53,Filtros!$A$5:$AY$22116,13,FALSE),0)","v":88},{"$f":"IFERROR(VLOOKUP($A53,Filtros!$A$5:$AY$22116,14,FALSE),0)","v":265},{"$f":"IFERROR(VLOOKUP($A53,Filtros!$A$5:$AY$22116,15,FALSE),0)","v":92},{"$f":"IFERROR(VLOOKUP($A53,Filtros!$A$5:$AY$22116,16,FALSE),0)","v":242},{"$f":"IFERROR(VLOOKUP($A53,Filtros!$A$5:$AY$22116,17,FALSE),0)","v":83},{"$f":"IFERROR(VLOOKUP($A53,Filtros!$A$5:$AY$22116,18,FALSE),0)","v":236},{"$f":"IFERROR(VLOOKUP($A53,Filtros!$A$5:$AY$22116,19,FALSE),0)","v":112},{"$f":"IFERROR(VLOOKUP($A53,Filtros!$A$5:$AY$22116,20,FALSE),0)","v":209},{"$f":"IFERROR(VLOOKUP($A53,Filtros!$A$5:$AY$22116,21,FALSE),0)","v":62},{"$f":"IFERROR(VLOOKUP($A53,Filtros!$A$5:$AY$22116,22,FALSE),0)","v":199},{"$f":"IFERROR(VLOOKUP($A53,Filtros!$A$5:$AY$22116,23,FALSE),0)","v":54},{"$f":"IFERROR(VLOOKUP($A53,Filtros!$A$5:$AY$22116,24,FALSE),0)","v":205},{"$f":"IFERROR(VLOOKUP($A53,Filtros!$A$5:$AY$22116,25,FALSE),0)","v":65},{"$f":"IFERROR(VLOOKUP($A53,Filtros!$A$5:$AY$22116,26,FALSE),0)","v":225},{"$f":"IFERROR(VLOOKUP($A53,Filtros!$A$5:$AY$22116,27,FALSE),0)","v":66},{"$f":"IFERROR(VLOOKUP($A53,Filtros!$A$5:$AY$22116,28,FALSE),0)","v":274},{"$f":"IFERROR(VLOOKUP($A53,Filtros!$A$5:$AY$22116,29,FALSE),0)","v":65},{"$f":"IFERROR(VLOOKUP($A53,Filtros!$A$5:$AY$22116,30,FALSE),0)","v":215},{"$f":"IFERROR(VLOOKUP($A53,Filtros!$A$5:$AY$22116,31,FALSE),0)","v":92},{"$f":"IFERROR(VLOOKUP($A53,Filtros!$A$5:$AY$22116,32,FALSE),0)","v":225},{"$f":"IFERROR(VLOOKUP($A53,Filtros!$A$5:$AY$22116,33,FALSE),0)","v":77},{"$f":"IFERROR(VLOOKUP($A53,Filtros!$A$5:$AY$22116,34,FALSE),0)","v":212},{"$f":"IFERROR(VLOOKUP($A53,Filtros!$A$5:$AY$22116,35,FALSE),0)","v":64},{"$f":"IFERROR(VLOOKUP($A53,Filtros!$A$5:$AY$22116,36,FALSE),0)","v":191},{"$f":"IFERROR(VLOOKUP($A53,Filtros!$A$5:$AY$22116,37,FALSE),0)","v":83},{"$f":"IFERROR(VLOOKUP($A53,Filtros!$A$5:$AY$22116,38,FALSE),0)","v":207},{"$f":"IFERROR(VLOOKUP($A53,Filtros!$A$5:$AY$22116,39,FALSE),0)","v":54},{"$f":"IFERROR(VLOOKUP($A53,Filtros!$A$5:$AY$22116,40,FALSE),0)","v":185},{"$f":"IFERROR(VLOOKUP($A53,Filtros!$A$5:$AY$22116,41,FALSE),0)","v":1},{"$f":"IFERROR(VLOOKUP($A53,Filtros!$A$5:$AY$22116,42,FALSE),0)","v":13},{"$f":"IFERROR(VLOOKUP($A53,Filtros!$A$5:$AY$22116,43,FALSE),0)","v":7},{"$f":"IFERROR(VLOOKUP($A53,Filtros!$A$5:$AY$22116,44,FALSE),0)","v":30},{"$f":"IFERROR(VLOOKUP($A53,Filtros!$A$5:$AY$22116,45,FALSE),0)","v":94},{"$f":"IFERROR(VLOOKUP($A53,Filtros!$A$5:$AY$22116,46,FALSE),0)","v":211},"",{"$nulls":37},"","","","","",null,null,"","","",{"$nulls":10},0,0,0,0,0,null,null,0,0,0]
[null,"SECCION A.2: PROGRAMA DE REHABILITACIÓN EN ATENCION PRIMARIA (PERSONAS CON TRANSTORNOS PSIQUIÁTRICO)."]
[null,"TIPO","RUBRO","T O T A L",null,null,"GRUPO DE EDAD (en años)"]
[{"$nulls":6},"0 a 4 años",null,"5 a 9 años",null,"10 a 14 años",null,"15 a 19 años",null,"20 a 24 años",null,"25 a 29 años",null,"30 a 34 años",null,"35 a 39 años",null,"40 a 44 años",null,"45 a 49 años",null,"50 a 54 años",null,"55 a 59 años",null,"60 a 64 años",null,"65 a 69 años",null,"70 a 74 años",null,"75 a 79 años",null,"80 y más años"]
[{"$nulls":3},"Ambos\nsexos","Hombres","Mujeres","Hombres","Mujeres","Hombres","Mujeres","Hombres","Mujeres","Hombres","Mujeres","Hombres","Mujeres","Hombres","Mujeres","Hombres","Mujeres","Hombres","Mujeres","Hombres","Mujeres","Hombres","Mujeres","Hombres","Mujeres","Hombres","Mujeres","Hombres","Mujeres","Hombres","Mujeres","Hombres","Mujeres","Hombres","Mujeres","Hombres","Mujeres"]
["P6223040","PROGRAMA DE REHABILITACIÓN TIPO I","NÚMERO DE PERSONAS EN CONTROL EN EL PROGRAMA",{"$f":"IFERROR(VLOOKUP($A58,Filtros!$A$5:$AY$22116,2,FALSE),0)","v":0},{"$f":"IFERROR(VLOOKUP($A58,Filtros!$A$5:$AY$22116,3,FALSE),0)","v":0},{"$f":"IFERROR(VLOOKUP($A58,Filtros!$A$5:$AY$22116,4,FALSE),0)","v":0},{"$f":"IFERROR(VLOOKUP($A58,Filtros!$A$5:$AY$22116,5,FALSE),0)","v":0},{"$f":"IFERROR(VLOOKUP($A58,Filtros!$A$5:$AY$22116,6,FALSE),0)","v":0},{"$f":"IFERROR(VLOOKUP($A58,Filtros!$A$5:$AY$22116,7,FALSE),0)","v":0},{"$f":"IFERROR(VLOOKUP($A58,Filtros!$A$5:$AY$22116,8,FALSE),0)","v":0},{"$f":"IFERROR(VLOOKUP($A58,Filtros!$A$5:$AY$22116,9,FALSE),0)","v":0},{"$f":"IFERROR(VLOOKUP($A58,Filtros!$A$5:$AY$22116,10,FALSE),0)","v":0},{"$f":"IFERROR(VLOOKUP($A58,Filtros!$A$5:$AY$22116,11,FALSE),0)","v":0},{"$f":"IFERROR(VLOOKUP($A58,Filtros!$A$5:$AY$22116,12,FALSE),0)","v":0},{"$f":"IFERROR(VLOOKUP($A58,Filtros!$A$5:$AY$22116,13,FALSE),0)","v":0},{"$f":"IFERROR(VLOOKUP($A58,Filtros!$A$5:$AY$22116,14,FALSE),0)","v":0},{"$f":"IFERROR(VLOOKUP($A58,Filtros!$A$5:$AY$22116,15,FALSE),0)","v":0},{"$f":"IFERROR(VLOOKUP($A58,Filtros!$A$5:$AY$22116,16,FALSE),0)","v":0},{"$f":"IFERROR(VLOOKUP($A58,Filtros!$A$5:$AY$22116,17,FALSE),0)","v":0},{"$f":"IFERROR(VLOOKUP($A58,Filtros!$A$5:$AY$22116,18,FALSE),0)","v":0},{"$f":"IFERROR(VLOOKUP($A58,Filtros!$A$5:$AY$22116,19,FALSE),0)","v":0},{"$f":"IFERROR(VLOOKUP($A58,Filtros!$A$5:$AY$22116,20,FALSE),0)","v":0},{"$f":"IFERROR(VLOOKUP($A58,Filtros!$A$5:$AY$22116,21,FALSE),0)","v":0},{"$f":"IFERROR(VLOOKUP($A58,Filtros!$A$5:$AY$22116,22,FALSE),0)","v":0},{"$f":"IFERROR(VLOOKUP($A58,Filtros!$A$5:$AY$22116,23,FALSE),0)","v":0},{"$f":"IFERROR(VLOOKUP($A58,Filtros!$A$5:$AY$22116,24,FALSE),0)","v":0},{"$f":"IFERROR(VLOOKUP($A58,Filtros!$A$5:$AY$22116,25,FALSE),0)","v":0},{"$f":"IFERROR(VLOOKUP($A58,Filtros!$A$5:$AY$22116,26,FALSE),0)","v":0},{"$f":"IFERROR(VLOOKUP($A58,Filtros!$A$5:$AY$22116,27,FALSE),0)","v":0},{"$f":"IFERROR(VLOOKUP($A58,Filtros!$A$5:$AY$22116,28,FALSE),0)","v":0},{"$f":"IFERROR(VLOOKUP($A58,Filtros!$A$5:$AY$22116,29,FALSE),0)","v":0},{"$f":"IFERROR(VLOOKUP($A58,Filtros!$A$5:$AY$22116,30,FALSE),0)","v":0},{"$f":"IFERROR(VLOOKUP($A58,Filtros!$A$5:$AY$22116,31,FALSE),0)","v":0},{"$f":"IFERROR(VLOOKUP($A58,Filtros!$A$5:$AY$22116,32,FALSE),0)","v":0},{"$f":"IFERROR(VLOOKUP($A58,Filtros!$A$5:$AY$22116,33,FALSE),0)","v":0},{"$f":"IFERROR(VLOOKUP($A58,Filtros!$A$5:$AY$22116,34,FALSE),0)","v":0},{"$f":"IFERROR(VLOOKUP($A58,Filtros!$A$5:$AY$22116,35,FALSE),0)","v":0},{"$f":"IFERROR(VLOOKUP($A58,Filtros!$A$5:$AY$22116,36,FALSE),0)","v":0},{"$f":"IFERROR(VLOOKUP($A58,Filtros!$A$5:$AY$22116,37,FALSE),0)","v":0},{"$f":"IFERROR(VLOOKUP($A58,Filtros!$A$5:$AY$22116,38,FALSE),0)","v":0}]
["P6223050","PROGRAMA DE REHABILITACIÓN TIPO II","NÚMERO DE PERSONAS EN CONTROL EN EL PROGRAMA",{"$f":"IFERROR(VLOOKUP($A59,Filtros!$A$5:$AY$22116,2,FALSE),0)","v":0},{"$f":"IFERROR(VLOOKUP($A59,Filtros!$A$5:$AY$22116,3,FALSE),0)","v":0},{"$f":"IFERROR(VLOOKUP($A59,Filtros!$A$5:$AY$22116,4,FALSE),0)","v":0},{"$f":"IFERROR(VLOOKUP($A59,Filtros!$A$5:$AY$22116,5,FALSE),0)","v":0},{"$f":"IFERROR(VLOOKUP($A59,Filtros!$A$5:$AY$22116,6,FALSE),0)","v":0},{"$f":"IFERROR(VLOOKUP($A59,Filtros!$A$5:$AY$22116,7,FALSE),0)","v":0},{"$f":"IFERROR(VLOOKUP($A59,Filtros!$A$5:$AY$22116,8,FALSE),0)","v":0},{"$f":"IFERROR(VLOOKUP($A59,Filtros!$A$5:$AY$22116,9,FALSE),0)","v":0},{"$f":"IFERROR(VLOOKUP($A59,Filtros!$A$5:$AY$22116,10,FALSE),0)","v":0},{"$f":"IFERROR(VLOOKUP($A59,Filtros!$A$5:$AY$22116,11,FALSE),0)","v":0},{"$f":"IFERROR(VLOOKUP($A59,Filtros!$A$5:$AY$22116,12,FALSE),0)","v":0},{"$f":"IFERROR(VLOOKUP($A59,Filtros!$A$5:$AY$22116,13,FALSE),0)","v":0},{"$f":"IFERROR(VLOOKUP($A59,Filtros!$A$5:$AY$22116,14,FALSE),0)","v":0},{"$f":"IFERROR(VLOOKUP($A59,Filtros!$A$5:$AY$22116,15,FALSE),0)","v":0},{"$f":"IFERROR(VLOOKUP($A59,Filtros!$A$5:$AY$22116,16,FALSE),0)","v":0},{"$f":"IFERROR(VLOOKUP($A59,Filtros!$A$5:$AY$22116,17,FALSE),0)","v":0},{"$f":"IFERROR(VLOOKUP($A59,Filtros!$A$5:$AY$22116,18,FALSE),0)","v":0},{"$f":"IFERROR(VLOOKUP($A59,Filtros!$A$5:$AY$22116,19,FALSE),0)","v":0},{"$f":"IFERROR(VLOOKUP($A59,Filtros!$A$5:$AY$22116,20,FALSE),0)","v":0},{"$f":"IFERROR(VLOOKUP($A59,Filtros!$A$5:$AY$22116,21,FALSE),0)","v":0},{"$f":"IFERROR(VLOOKUP($A59,Filtros!$A$5:$AY$22116,22,FALSE),0)","v":0},{"$f":"IFERROR(VLOOKUP($A59,Filtros!$A$5:$AY$22116,23,FALSE),0)","v":0},{"$f":"IFERROR(VLOOKUP($A59,Filtros!$A$5:$AY$22116,24,FALSE),0)","v":0},{"$f":"IFERROR(VLOOKUP($A59,Filtros!$A$5:$AY$22116,25,FALSE),0)","v":0},{"$f":"IFERROR(VLOOKUP($A59,Filtros!$A$5:$AY$22116,26,FALSE),0)","v":0},{"$f":"IFERROR(VLOOKUP($A59,Filtros!$A$5:$AY$22116,27,FALSE),0)","v":0},{"$f":"IFERROR(VLOOKUP($A59,Filtros!$A$5:$AY$22116,28,FALSE),0)","v":0},{"$f":"IFERROR(VLOOKUP($A59,Filtros!$A$5:$AY$22116,29,FALSE),0)","v":0},{"$f":"IFERROR(VLOOKUP($A59,Filtros!$A$5:$AY$22116,30,FALSE),0)","v":0},{"$f":"IFERROR(VLOOKUP($A59,Filtros!$A$5:$AY$22116,31,FALSE),0)","v":0},{"$f":"IFERROR(VLOOKUP($A59,Filtros!$A$5:$AY$22116,32,FALSE),0)","v":0},{"$f":"IFERROR(VLOOKUP($A59,Filtros!$A$5:$AY$22116,33,FALSE),0)","v":0},{"$f":"IFERROR(VLOOKUP($A59,Filtros!$A$5:$AY$22116,34,FALSE),0)","v":0},{"$f":"IFERROR(VLOOKUP($A59,Filtros!$A$5:$AY$22116,35,FALSE),0)","v":0},{"$f":"IFERROR(VLOOKUP($A59,Filtros!$A$5:$AY$22116,36,FALSE),0)","v":0},{"$f":"IFERROR(VLOOKUP($A59,Filtros!$A$5:$AY$22116,37,FALSE),0)","v":0},{"$f":"IFERROR(VLOOKUP($A59,Filtros!$A$5:$AY$22116,38,FALSE),0)","v":0}]
[null,"SECCION A.3: PROGRAMA DE ACOMPAÑAMIENTO PSICOSOCIAL EN LA ATENCION PRIMARIA"]
[null,"CONCEPTO",null,"TOTAL",null,null,"GRUPOS DE EDAD (en años)",{"$nulls":9},"Población Migrantes"]
[{"$nulls":6},"0 a 4 años",null,"5 a 9 años",null,"10 a 14 años",null,"15 a 19 años",null,"20 a 24 años"]
[{"$nulls":3},"Ambos Sexos","Hombres","Mujeres","Hombres","Mujeres","Hombres","Mujeres","Hombres","Mujeres","Hombres","Mujeres","Hombres","Mujeres","Hombres","Mujeres"]
["P6230300","N° DE PERSONAS EN CONTROL EN PROGRAMA DE ACOMPAÑAMIENTO PSICOSOCIAL",null,{"$f":"IFERROR(VLOOKUP($A64,Filtros!$A$5:$AY$22116,2,FALSE),0)","v":912},{"$f":"IFERROR(VLOOKUP($A64,Filtros!$A$5:$AY$22116,3,FALSE),0)","v":367},{"$f":"IFERROR(VLOOKUP($A64,Filtros!$A$5:$AY$22116,4,FALSE),0)","v":545},{"$f":"IFERROR(VLOOKUP($A64,Filtros!$A$5:$AY$22116,5,FALSE),0)","v":75},{"$f":"IFERROR(VLOOKUP($A64,Filtros!$A$5:$AY$22116,6,FALSE),0)","v":72},{"$f":"IFERROR(VLOOKUP($A64,Filtros!$A$5:$AY$22116,7,FALSE),0)","v":109},{"$f":"IFERROR(VLOOKUP($A64,Filtros!$A$5:$AY$22116,8,FALSE),0)","v":76},{"$f":"IFERROR(VLOOKUP($A64,Filtros!$A$5:$AY$22116,9,FALSE),0)","v":98},{"$f":"IFERROR(VLOOKUP($A64,Filtros!$A$5:$AY$22116,10,FALSE),0)","v":144},{"$f":"IFERROR(VLOOKUP($A64,Filtros!$A$5:$AY$22116,11,FALSE),0)","v":69},{"$f":"IFERROR(VLOOKUP($A64,Filtros!$A$5:$AY$22116,12,FALSE),0)","v":191},{"$f":"IFERROR(VLOOKUP($A64,Filtros!$A$5:$AY$22116,13,FALSE),0)","v":16},{"$f":"IFERROR(VLOOKUP($A64,Filtros!$A$5:$AY$22116,14,FALSE),0)","v":62},{"$f":"IFERROR(VLOOKUP($A64,Filtros!$A$5:$AY$22116,15,FALSE),0)","v":27},{"$f":"IFERROR(VLOOKUP($A64,Filtros!$A$5:$AY$22116,16,FALSE),0)","v":55}]
[null,"B. ATENCIÓN DE ESPECIALIDADES\nSECCION B.1: POBLACIÓN EN CONTROL EN ESPECIALIDAD AL CORTE"]
[null,"CONCEPTO",null,"T O T A L",null,null,"GRUPO DE EDAD (en años)",{"$nulls":33},"Gestantes","Madre de Hijo menor de 5 años ","Pueblos Originarios",null,"Población Migrantes",null,"Niños, Niñas, Adolescentes y Jóvenes de Población SENAME","Plan Cuidado Integral Elaborado"]
[{"$nulls":6},"0 a 4 años",null,"5 a 9 años",null,"10 a 14 años",null,"15 a 19 años",null,"20 a 24 años",null,"25 a 29 años",null,"30 a 34 años",null,"35 a 39 años",null,"40 a 44 años",null,"45 a 49 años",null,"50 a 54 años",null,"55 a 59 años",null,"60 a 64 años",null,"65 a 69 años",null,"70 a 74 años",null,"75 a 79 años",null,"80 y más años",{"$nulls":45},"Gestantes","Madre de hijos","Pueblos originarios","Pueblos originarios","Poblacion Migrantes","Poblacion Migrantes","Población SENAME","Gestantes","Madre de hijos",null,"Pueblos originarios","Poblacion Migrantes","Población SENAME",null,"Plan Cuidado Integral Elaborado","PCIE",{"$nulls":4},"Gestantes","Madre de hojos","Pueblos originarios","Pueblos originarios","Poblacion Migrantes","Poblacion Migrantes","Poblacion SENAME","Gestantes","Madre de hijos",null,"Pueblos originarios","Poblacion Migrantes","Poblacion SENAME",null,"Plan Cuidado Integral Elaborado","Plan Cuidado Integral Elaborado"]
[{"$nulls":3},"Ambos\nsexos","Hombres","Mujeres","Hombres","Mujeres","Hombres","Mujeres","Hombres","Mujeres","Hombres","Mujeres","Hombres","Mujeres","Hombres","Mujeres","Hombres","Mujeres","Hombres","Mujeres","Hombres","Mujeres","Hombres","Mujeres","Hombres","Mujeres","Hombres","Mujeres","Hombres","Mujeres","Hombres ","Mujeres","Hombres ","Mujeres","Hombres ","Mujeres","Hombres","Mujeres",null,null,"Hombres","Mujeres","Hombres","Mujeres",{"$nulls":40},"Hombres","Mujeres","Hombres","Mujeres",null,"No Olvide","No Olvide",null,"No Olvide","No Olvide","No Olvide",null,null,"No Olvide",{"$nulls":6},"Hombres","Mujeres","Hombres","Mujeres",null,"No Olvide","No Olvide",null,"No Olvide","No Olvide","No Olvide",null,null,"No Olvide"]
["P6223090","NUMERO DE PERSONAS EN CONTROL EN EL PROGRAMA",null,{"$f":"IFERROR(VLOOKUP($A69,Filtros!$A$5:$AY$22116,2,FALSE),0)","v":4137},{"$f":"IFERROR(VLOOKUP($A69,Filtros!$A$5:$AY$22116,3,FALSE),0)","v":1622},{"$f":"IFERROR(VLOOKUP($A69,Filtros!$A$5:$AY$22116,4,FALSE),0)","v":2515},{"$f":"IFERROR(VLOOKUP($A69,Filtros!$A$5:$AY$22116,5,FALSE),0)","v":13},{"$f":"IFERROR(VLOOKUP($A69,Filtros!$A$5:$AY$22116,6,FALSE),0)","v":2},{"$f":"IFERROR(VLOOKUP($A69,Filtros!$A$5:$AY$22116,7,FALSE),0)","v":146},{"$f":"IFERROR(VLOOKUP($A69,Filtros!$A$5:$AY$22116,8,FALSE),0)","v":58},{"$f":"IFERROR(VLOOKUP($A69,Filtros!$A$5:$AY$22116,9,FALSE),0)","v":176},{"$f":"IFERROR(VLOOKUP($A69,Filtros!$A$5:$AY$22116,10,FALSE),0)","v":213},{"$f":"IFERROR(VLOOKUP($A69,Filtros!$A$5:$AY$22116,11,FALSE),0)","v":185},{"$f":"IFERROR(VLOOKUP($A69,Filtros!$A$5:$AY$22116,12,FALSE),0)","v":303},{"$f":"IFERROR(VLOOKUP($A69,Filtros!$A$5:$AY$22116,13,FALSE),0)","v":178},{"$f":"IFERROR(VLOOKUP($A69,Filtros!$A$5:$AY$22116,14,FALSE),0)","v":173},{"$f":"IFERROR(VLOOKUP($A69,Filtros!$A$5:$AY$22116,15,FALSE),0)","v":148},{"$f":"IFERROR(VLOOKUP($A69,Filtros!$A$5:$AY$22116,16,FALSE),0)","v":154},{"$f":"IFERROR(VLOOKUP($A69,Filtros!$A$5:$AY$22116,17,FALSE),0)","v":140},{"$f":"IFERROR(VLOOKUP($A69,Filtros!$A$5:$AY$22116,18,FALSE),0)","v":159},{"$f":"IFERROR(VLOOKUP($A69,Filtros!$A$5:$AY$22116,19,FALSE),0)","v":122},{"$f":"IFERROR(VLOOKUP($A69,Filtros!$A$5:$AY$22116,20,FALSE),0)","v":160},{"$f":"IFERROR(VLOOKUP($A69,Filtros!$A$5:$AY$22116,21,FALSE),0)","v":79},{"$f":"IFERROR(VLOOKUP($A69,Filtros!$A$5:$AY$22116,22,FALSE),0)","v":170},{"$f":"IFERROR(VLOOKUP($A69,Filtros!$A$5:$AY$22116,23,FALSE),0)","v":107},{"$f":"IFERROR(VLOOKUP($A69,Filtros!$A$5:$AY$22116,24,FALSE),0)","v":212},{"$f":"IFERROR(VLOOKUP($A69,Filtros!$A$5:$AY$22116,25,FALSE),0)","v":65},{"$f":"IFERROR(VLOOKUP($A69,Filtros!$A$5:$AY$22116,26,FALSE),0)","v":241},{"$f":"IFERROR(VLOOKUP($A69,Filtros!$A$5:$AY$22116,27,FALSE),0)","v":105},{"$f":"IFERROR(VLOOKUP($A69,Filtros!$A$5:$AY$22116,28,FALSE),0)","v":220},{"$f":"IFERROR(VLOOKUP($A69,Filtros!$A$5:$AY$22116,29,FALSE),0)","v":66},{"$f":"IFERROR(VLOOKUP($A69,Filtros!$A$5:$AY$22116,30,FALSE),0)","v":148},{"$f":"IFERROR(VLOOKUP($A69,Filtros!$A$5:$AY$22116,31,FALSE),0)","v":44},{"$f":"IFERROR(VLOOKUP($A69,Filtros!$A$5:$AY$22116,32,FALSE),0)","v":123},{"$f":"IFERROR(VLOOKUP($A69,Filtros!$A$5:$AY$22116,33,FALSE),0)","v":16},{"$f":"IFERROR(VLOOKUP($A69,Filtros!$A$5:$AY$22116,34,FALSE),0)","v":74},{"$f":"IFERROR(VLOOKUP($A69,Filtros!$A$5:$AY$22116,35,FALSE),0)","v":14},{"$f":"IFERROR(VLOOKUP($A69,Filtros!$A$5:$AY$22116,36,FALSE),0)","v":56},{"$f":"IFERROR(VLOOKUP($A69,Filtros!$A$5:$AY$22116,37,FALSE),0)","v":18},{"$f":"IFERROR(VLOOKUP($A69,Filtros!$A$5:$AY$22116,38,FALSE),0)","v":49},{"$f":"IFERROR(VLOOKUP($A69,Filtros!$A$5:$AY$22116,39,FALSE),0)","v":18},{"$f":"IFERROR(VLOOKUP($A69,Filtros!$A$5:$AY$22116,40,FALSE),0)","v":101},{"$f":"IFERROR(VLOOKUP($A69,Filtros!$A$5:$AY$22116,41,FALSE),0)","v":7},{"$f":"IFERROR(VLOOKUP($A69,Filtros!$A$5:$AY$22116,42,FALSE),0)","v":12},{"$f":"IFERROR(VLOOKUP($A69,Filtros!$A$5:$AY$22116,43,FALSE),0)","v":5},{"$f":"IFERROR(VLOOKUP($A69,Filtros!$A$5:$AY$22116,44,FALSE),0)","v":12},{"$f":"IFERROR(VLOOKUP($A69,Filtros!$A$5:$AY$22116,45,FALSE),0)","v":90},{"$f":"IFERROR(VLOOKUP($A69,Filtros!$A$5:$AY$22116,46,FALSE),0)","v":734},{"$f":"$CG69 & $CH69 & $CI69 & $CJ69 & $CK69 & CL69 & CM69 & CU69 & CN69 & CO69 & CQ69 & CR69 & CS69 & CV69","v":""},{"$nulls":35},{"$f":"IF($AO69>$F69,\"* La celda 'Gestantes' debe ser menor o igual al Total de Mujeres en control. \",\"\")","v":""},{"$f":"IF($AP69>$F69,\"* La celda 'Madres de Hijos menor de 5 años' debe ser menor o igual al Total de Mujeres en control. \",\"\")","v":""},{"$f":"IF(($AQ69)>$E69,\"* La celda 'Pueblos Originarios / Hombres' debe ser menor o igual al Total de Hombres en control. \",\"\")","v":""},{"$f":"IF($AR69>$F69,\"* La celda 'Pueblos Originarios / Mujeres' debe ser menor o igual al Total de Mujeres en control. \",\"\")","v":""},{"$f":"IF(($AS69)>$E69,\"* La celda 'Población Migrantes / Hombres' debe ser menor o igual al Total de Hombres en control. \",\"\")","v":""},{"$f":"IF($AT69>$F69,\"* La celda 'Población Migrantes / Mujeres' debe ser menor o igual al Total de Mujeres en control. \",\"\")","v":""},{"$f":"IF($AU69>$D69,\"* La celda 'Población SENAME' debe ser menor o igual al Total de Personas en control. \",\"\")","v":""},{"$f":"IF(AND($D69<>0,$AO69=\"\"),\"* No olvide escribir en la celda de 'Gestantes' (Digite CERO si no tiene). \",\"\")","v":""},{"$f":"IF(AND($D69<>0,$AP69=\"\"),\"* No olvide escribir en la celda de 'Madres de Hijos menor de 5 años' (Digite CERO si no tiene). \",\"\")","v":""},null,{"$f":"IF(AND($E69<>0,$AQ69=\"\"),\"* No olvide escribir en las celdas de 'Pueblos Originarios' (Digite CERO si no tiene). \",IF(AND($F69<>0,$AR69=\"\"),\"* No olvide escribir en las celdas de 'Pueblos Originarios' (Digite CERO si no tiene). \",\"\"))","v":""},{"$f":"IF(AND($E69<>0,$AS69=\"\"),\"* No olvide escribir en las celdas de 'Población Migrantes' (Digite CERO si no tiene). \",IF(AND($F69<>0,$AT69=\"\"),\"* No olvide escribir en las celdas de 'Población Migrantes' (Digite CERO si no tiene). \",\"\"))","v":""},{"$f":"IF(AND($D69<>0,$AU69=\"\"),\"* No olvide escribir en las celdas de 'Población SENAME' (Digite CERO si no tiene). \",\"\")","v":""},null,{"$f":"IF($AV69>$D69,\"* La celda 'Plan Cuidado Integral Elaborado' debe ser menor o igual al Total de Personas en control. \",\"\")","v":""},{"$f":"IF(AND($D69<>0,$AV69=\"\"),\"* No olvide escribir en las celdas de 'Plan Cuidado Integral Elaborado' (Digite CERO si no tiene). \",\"\")","v":""},{"$nulls":4},{"$f":"IF($AO69>$F69,1,0)","v":0},{"$f":"IF($AP69>$F69,1,0)","v":0},{"$f":"IF(($AQ69)>$E69,1,0)","v":0},{"$f":"IF($AR69>$F69,1,0)","v":0},{"$f":"IF(($AS69)>$E69,1,0)","v":0},{"$f":"IF($AT69>$F69,1,0)","v":0},{"$f":"IF($AU69>$D69,1,0)","v":0},{"$f":"IF(AND($D69<>0,$AO69=\"\"),1,0)","v":0},{"$f":"IF(AND($D69<>0,$AP69=\"\"),1,0)","v":0},null,{"$f":"IF(AND($E69<>0,$AQ69=\"\"),1,IF(AND($F69<>0,$AR69=\"\"),1,0))","v":0},{"$f":"IF(AND($E69<>0,$AS69=\"\"),1,IF(AND($F69<>0,$AT69=\"\"),1,0))","v":0},{"$f":"IF(AND($D69<>0,$AU69=\"\"),1,0)","v":0},null,{"$f":"IF($AV69>$D69,1,0)","v":0},{"$f":"IF(AND($D69<>0,$AV69=\"\"),1,0)","v":0}]
[null,"FACTORES DE RIESGO Y CONDICIONANTES DE LA SALUD MENTAL"]
["P6223100","VIOLENCIA ","VICTIMA",{"$f":"IFERROR(VLOOKUP($A71,Filtros!$A$5:$AY$22116,2,FALSE),0)","v":243},{"$f":"IFERROR(VLOOKUP($A71,Filtros!$A$5:$AY$22116,3,FALSE),0)","v":31},{"$f":"IFERROR(VLOOKUP($A71,Filtros!$A$5:$AY$22116,4,FALSE),0)","v":212},{"$f":"IFERROR(VLOOKUP($A71,Filtros!$A$5:$AY$22116,5,FALSE),0)","v":0},{"$f":"IFERROR(VLOOKUP($A71,Filtros!$A$5:$AY$22116,6,FALSE),0)","v":1},{"$f":"IFERROR(VLOOKUP($A71,Filtros!$A$5:$AY$22116,7,FALSE),0)","v":6},{"$f":"IFERROR(VLOOKUP($A71,Filtros!$A$5:$AY$22116,8,FALSE),0)","v":2},{"$f":"IFERROR(VLOOKUP($A71,Filtros!$A$5:$AY$22116,9,FALSE),0)","v":5},{"$f":"IFERROR(VLOOKUP($A71,Filtros!$A$5:$AY$22116,10,FALSE),0)","v":12},{"$f":"IFERROR(VLOOKUP($A71,Filtros!$A$5:$AY$22116,11,FALSE),0)","v":12},{"$f":"IFERROR(VLOOKUP($A71,Filtros!$A$5:$AY$22116,12,FALSE),0)","v":25},{"$f":"IFERROR(VLOOKUP($A71,Filtros!$A$5:$AY$22116,13,FALSE),0)","v":4},{"$f":"IFERROR(VLOOKUP($A71,Filtros!$A$5:$AY$22116,14,FALSE),0)","v":13},{"$f":"IFERROR(VLOOKUP($A71,Filtros!$A$5:$AY$22116,15,FALSE),0)","v":0},{"$f":"IFERROR(VLOOKUP($A71,Filtros!$A$5:$AY$22116,16,FALSE),0)","v":11},{"$f":"IFERROR(VLOOKUP($A71,Filtros!$A$5:$AY$22116,17,FALSE),0)","v":0},{"$f":"IFERROR(VLOOKUP($A71,Filtros!$A$5:$AY$22116,18,FALSE),0)","v":9},{"$f":"IFERROR(VLOOKUP($A71,Filtros!$A$5:$AY$22116,19,FALSE),0)","v":0},{"$f":"IFERROR(VLOOKUP($A71,Filtros!$A$5:$AY$22116,20,FALSE),0)","v":15},{"$f":"IFERROR(VLOOKUP($A71,Filtros!$A$5:$AY$22116,21,FALSE),0)","v":1},{"$f":"IFERROR(VLOOKUP($A71,Filtros!$A$5:$AY$22116,22,FALSE),0)","v":7},{"$f":"IFERROR(VLOOKUP($A71,Filtros!$A$5:$AY$22116,23,FALSE),0)","v":1},{"$f":"IFERROR(VLOOKUP($A71,Filtros!$A$5:$AY$22116,24,FALSE),0)","v":59},{"$f":"IFERROR(VLOOKUP($A71,Filtros!$A$5:$AY$22116,25,FALSE),0)","v":0},{"$f":"IFERROR(VLOOKUP($A71,Filtros!$A$5:$AY$22116,26,FALSE),0)","v":24},{"$f":"IFERROR(VLOOKUP($A71,Filtros!$A$5:$AY$22116,27,FALSE),0)","v":1},{"$f":"IFERROR(VLOOKUP($A71,Filtros!$A$5:$AY$22116,28,FALSE),0)","v":19},{"$f":"IFERROR(VLOOKUP($A71,Filtros!$A$5:$AY$22116,29,FALSE),0)","v":1},{"$f":"IFERROR(VLOOKUP($A71,Filtros!$A$5:$AY$22116,30,FALSE),0)","v":8},{"$f":"IFERROR(VLOOKUP($A71,Filtros!$A$5:$AY$22116,31,FALSE),0)","v":0},{"$f":"IFERROR(VLOOKUP($A71,Filtros!$A$5:$AY$22116,32,FALSE),0)","v":3},{"$f":"IFERROR(VLOOKUP($A71,Filtros!$A$5:$AY$22116,33,FALSE),0)","v":0},{"$f":"IFERROR(VLOOKUP($A71,Filtros!$A$5:$AY$22116,34,FALSE),0)","v":3},{"$f":"IFERROR(VLOOKUP($A71,Filtros!$A$5:$AY$22116,35,FALSE),0)","v":0},{"$f":"IFERROR(VLOOKUP($A71,Filtros!$A$5:$AY$22116,36,FALSE),0)","v":1},{"$f":"IFERROR(VLOOKUP($A71,Filtros!$A$5:$AY$22116,37,FALSE),0)","v":0},{"$f":"IFERROR(VLOOKUP($A71,Filtros!$A$5:$AY$22116,38,FALSE),0)","v":0},{"$f":"IFERROR(VLOOKUP($A71,Filtros!$A$5:$AY$22116,39,FALSE),0)","v":1},{"$f":"IFERROR(VLOOKUP($A71,Filtros!$A$5:$AY$22116,40,FALSE),0)","v":15},{"$f":"IFERROR(VLOOKUP($A71,Filtros!$A$5:$AY$22116,41,FALSE),0)","v":0},{"$f":"IFERROR(VLOOKUP($A71,Filtros!$A$5:$AY$22116,42,FALSE),0)","v":1},{"$f":"IFERROR(VLOOKUP($A71,Filtros!$A$5:$AY$22116,43,FALSE),0)","v":0},{"$f":"IFERROR(VLOOKUP($A71,Filtros!$A$5:$AY$22116,44,FALSE),0)","v":2},{"$f":"IFERROR(VLOOKUP($A71,Filtros!$A$5:$AY$22116,45,FALSE),0)","v":20},{"$f":"IFERROR(VLOOKUP($A71,Filtros!$A$5:$AY$22116,46,FALSE),0)","v":23},{"$f":"$CG71 & $CH71 & $CI71 & $CJ71 & $CK71 & CL71 & CM71 & CU71 & CN71 & CO71 & CQ71 & CR71 & CS71 & CV71","v":""},{"$nulls":35},{"$f":"IF($AO71>$F71,\"* La celda 'Gestantes' debe ser menor o igual al Total de Mujeres en control. \",\"\")","v":""},{"$f":"IF($AP71>$F71,\"* La celda 'Madres de Hijos menor de 5 años' debe ser menor o igual al Total de Mujeres en control. \",\"\")","v":""},{"$f":"IF(($AQ71)>$E71,\"* La celda 'Pueblos Originarios / Hombres' debe ser menor o igual al Total de Hombres en control. \",\"\")","v":""},{"$f":"IF($AR71>$F71,\"* La celda 'Pueblos Originarios / Mujeres' debe ser menor o igual al Total de Mujeres en control. \",\"\")","v":""},{"$f":"IF(($AS71)>$E71,\"* La celda 'Población Migrantes / Hombres' debe ser menor o igual al Total de Hombres en control. \",\"\")","v":""},{"$f":"IF($AT71>$F71,\"* La celda 'Población Migrantes / Mujeres' debe ser menor o igual al Total de Mujeres en control. \",\"\")","v":""},{"$f":"IF($AU71>$D71,\"* La celda 'Población SENAME' debe ser menor o igual al Total de Personas en control. \",\"\")","v":""},{"$f":"IF(AND($D71<>0,$AO71=\"\"),\"* No olvide escribir en la celda de 'Gestantes' (Digite CERO si no tiene). \",\"\")","v":""},{"$f":"IF(AND($D71<>0,$AP71=\"\"),\"* No olvide escribir en la celda de 'Madres de Hijos menor de 5 años' (Digite CERO si no tiene). \",\"\")","v":""},null,{"$f":"IF(AND($E71<>0,$AQ71=\"\"),\"* No olvide escribir en las celdas de 'Pueblos Originarios' (Digite CERO si no tiene). \",IF(AND($F71<>0,$AR71=\"\"),\"* No olvide escribir en las celdas de 'Pueblos Originarios' (Digite CERO si no tiene). \",\"\"))","v":""},{"$f":"IF(AND($E71<>0,$AS71=\"\"),\"* No olvide escribir en las celdas de 'Población Migrantes' (Digite CERO si no tiene). \",IF(AND($F71<>0,$AT71=\"\"),\"* No olvide escribir en las celdas de 'Población Migrantes' (Digite CERO si no tiene). \",\"\"))","v":""},{"$f":"IF(AND($D71<>0,$AU71=\"\"),\"* No olvide escribir en las celdas de 'Población SENAME' (Digite CERO si no tiene). \",\"\")","v":""},null,{"$f":"IF($AV71>$D71,\"* La celda 'Plan Cuidado Integral Elaborado' debe ser menor o igual al Total de Personas en control. \",\"\")","v":""},{"$f":"IF(AND($D71<>0,$AV71=\"\"),\"* No olvide escribir en las celdas de 'Plan Cuidado Integral Elaborado' (Digite CERO si no tiene). \",\"\")","v":""},{"$nulls":4},{"$f":"IF($AO71>$F71,1,0)","v":0},{"$f":"IF($AP71>$F71,1,0)","v":0},{"$f":"IF(($AQ71)>$E71,1,0)","v":0},{"$f":"IF($AR71>$F71,1,0)","v":0},{"$f":"IF(($AS71)>$E71,1,0)","v":0},{"$f":"IF($AT71>$F71,1,0)","v":0},{"$f":"IF($AU71>$D71,1,0)","v":0},{"$f":"IF(AND($D71<>0,$AO71=\"\"),1,0)","v":0},{"$f":"IF(AND($D71<>0,$AP71=\"\"),1,0)","v":0},null,{"$f":"IF(AND($E71<>0,$AQ71=\"\"),1,IF(AND($F71<>0,$AR71=\"\"),1,0))","v":0},{"$f":"IF(AND($E71<>0,$AS71=\"\"),1,IF(AND($F71<>0,$AT71=\"\"),1,0))","v":0},{"$f":"IF(AND($D71<>0,$AU71=\"\"),1,0)","v":0},null,{"$f":"IF($AV71>$D71,1,0)","v":0},{"$f":"IF(AND($D71<>0,$AV71=\"\"),1,0)","v":0}]
["P6223110",null,"AGRESOR/A",{"$f":"IFERROR(VLOOKUP($A72,Filtros!$A$5:$AY$22116,2,FALSE),0)","v":49},{"$f":"IFERROR(VLOOKUP($A72,Filtros!$A$5:$AY$22116,3,FALSE),0)","v":29},{"$f":"IFERROR(VLOOKUP($A72,Filtros!$A$5:$AY$22116,4,FALSE),0)","v":20},{"$f":"IFERROR(VLOOKUP($A72,Filtros!$A$5:$AY$22116,5,FALSE),0)","v":0},{"$f":"IFERROR(VLOOKUP($A72,Filtros!$A$5:$AY$22116,6,FALSE),0)","v":0},{"$f":"IFERROR(VLOOKUP($A72,Filtros!$A$5:$AY$22116,7,FALSE),0)","v":0},{"$f":"IFERROR(VLOOKUP($A72,Filtros!$A$5:$AY$22116,8,FALSE),0)","v":0},{"$f":"IFERROR(VLOOKUP($A72,Filtros!$A$5:$AY$22116,9,FALSE),0)","v":0},{"$f":"IFERROR(VLOOKUP($A72,Filtros!$A$5:$AY$22116,10,FALSE),0)","v":0},{"$f":"IFERROR(VLOOKUP($A72,Filtros!$A$5:$AY$22116,11,FALSE),0)","v":2},{"$f":"IFERROR(VLOOKUP($A72,Filtros!$A$5:$AY$22116,12,FALSE),0)","v":0},{"$f":"IFERROR(VLOOKUP($A72,Filtros!$A$5:$AY$22116,13,FALSE),0)","v":2},{"$f":"IFERROR(VLOOKUP($A72,Filtros!$A$5:$AY$22116,14,FALSE),0)","v":1},{"$f":"IFERROR(VLOOKUP($A72,Filtros!$A$5:$AY$22116,15,FALSE),0)","v":2},{"$f":"IFERROR(VLOOKUP($A72,Filtros!$A$5:$AY$22116,16,FALSE),0)","v":7},{"$f":"IFERROR(VLOOKUP($A72,Filtros!$A$5:$AY$22116,17,FALSE),0)","v":3},{"$f":"IFERROR(VLOOKUP($A72,Filtros!$A$5:$AY$22116,18,FALSE),0)","v":1},{"$f":"IFERROR(VLOOKUP($A72,Filtros!$A$5:$AY$22116,19,FALSE),0)","v":3},{"$f":"IFERROR(VLOOKUP($A72,Filtros!$A$5:$AY$22116,20,FALSE),0)","v":3},{"$f":"IFERROR(VLOOKUP($A72,Filtros!$A$5:$AY$22116,21,FALSE),0)","v":3},{"$f":"IFERROR(VLOOKUP($A72,Filtros!$A$5:$AY$22116,22,FALSE),0)","v":1},{"$f":"IFERROR(VLOOKUP($A72,Filtros!$A$5:$AY$22116,23,FALSE),0)","v":2},{"$f":"IFERROR(VLOOKUP($A72,Filtros!$A$5:$AY$22116,24,FALSE),0)","v":4},{"$f":"IFERROR(VLOOKUP($A72,Filtros!$A$5:$AY$22116,25,FALSE),0)","v":2},{"$f":"IFERROR(VLOOKUP($A72,Filtros!$A$5:$AY$22116,26,FALSE),0)","v":0},{"$f":"IFERROR(VLOOKUP($A72,Filtros!$A$5:$AY$22116,27,FALSE),0)","v":4},{"$f":"IFERROR(VLOOKUP($A72,Filtros!$A$5:$AY$22116,28,FALSE),0)","v":0},{"$f":"IFERROR(VLOOKUP($A72,Filtros!$A$5:$AY$22116,29,FALSE),0)","v":2},{"$f":"IFERROR(VLOOKUP($A72,Filtros!$A$5:$AY$22116,30,FALSE),0)","v":2},{"$f":"IFERROR(VLOOKUP($A72,Filtros!$A$5:$AY$22116,31,FALSE),0)","v":1},{"$f":"IFERROR(VLOOKUP($A72,Filtros!$A$5:$AY$22116,32,FALSE),0)","v":1},{"$f":"IFERROR(VLOOKUP($A72,Filtros!$A$5:$AY$22116,33,FALSE),0)","v":1},{"$f":"IFERROR(VLOOKUP($A72,Filtros!$A$5:$AY$22116,34,FALSE),0)","v":0},{"$f":"IFERROR(VLOOKUP($A72,Filtros!$A$5:$AY$22116,35,FALSE),0)","v":2},{"$f":"IFERROR(VLOOKUP($A72,Filtros!$A$5:$AY$22116,36,FALSE),0)","v":0},{"$f":"IFERROR(VLOOKUP($A72,Filtros!$A$5:$AY$22116,37,FALSE),0)","v":0},{"$f":"IFERROR(VLOOKUP($A72,Filtros!$A$5:$AY$22116,38,FALSE),0)","v":0},{"$f":"IFERROR(VLOOKUP($A72,Filtros!$A$5:$AY$22116,39,FALSE),0)","v":1},{"$f":"IFERROR(VLOOKUP($A72,Filtros!$A$5:$AY$22116,40,FALSE),0)","v":2},{"$f":"IFERROR(VLOOKUP($A72,Filtros!$A$5:$AY$22116,41,FALSE),0)","v":1},{"$f":"IFERROR(VLOOKUP($A72,Filtros!$A$5:$AY$22116,42,FALSE),0)","v":0},{"$f":"IFERROR(VLOOKUP($A72,Filtros!$A$5:$AY$22116,43,FALSE),0)","v":0},{"$f":"IFERROR(VLOOKUP($A72,Filtros!$A$5:$AY$22116,44,FALSE),0)","v":0},{"$f":"IFERROR(VLOOKUP($A72,Filtros!$A$5:$AY$22116,45,FALSE),0)","v":2},{"$f":"IFERROR(VLOOKUP($A72,Filtros!$A$5:$AY$22116,46,FALSE),0)","v":13},"",{"$nulls":35},"",{"$f":"IF($AP72>$F72,\"* La celda 'Madres de Hijos menor de 5 años' debe ser menor o igual al Total de Mujeres en control. \",\"\")","v":""},"",{"$f":"IF($AR72>$F72,\"* La celda 'Pueblos Originarios / Mujeres' debe ser menor o igual al Total de Mujeres en control. \",\"\")","v":""},"",{"$f":"IF($AT72>$F72,\"* La celda 'Población Migrantes / Mujeres' debe ser menor o igual al Total de Mujeres en control. \",\"\")","v":""},"","",{"$f":"IF(AND($D72<>0,$AP72=\"\"),\"* No olvide escribir en la celda de 'Madres de Hijos menor de 5 años' (Digite CERO si no tiene). \",\"\")","v":""},null,"","","",null,{"$f":"IF($AV72>$D72,\"* La celda 'Plan Cuidado Integral Elaborado' debe ser menor o igual al Total de Personas en control. \",\"\")","v":""},"",{"$nulls":4},0,{"$f":"IF($AP72>$F72,1,0)","v":0},0,{"$f":"IF($AR72>$F72,1,0)","v":0},0,{"$f":"IF($AT72>$F72,1,0)","v":0},0,0,0,null,0,0,0,null,0,0]
["P6223140","ABUSO SEXUAL",null,{"$f":"IFERROR(VLOOKUP($A73,Filtros!$A$5:$AY$22116,2,FALSE),0)","v":73},{"$f":"IFERROR(VLOOKUP($A73,Filtros!$A$5:$AY$22116,3,FALSE),0)","v":9},{"$f":"IFERROR(VLOOKUP($A73,Filtros!$A$5:$AY$22116,4,FALSE),0)","v":64},{"$f":"IFERROR(VLOOKUP($A73,Filtros!$A$5:$AY$22116,5,FALSE),0)","v":0},{"$f":"IFERROR(VLOOKUP($A73,Filtros!$A$5:$AY$22116,6,FALSE),0)","v":0},{"$f":"IFERROR(VLOOKUP($A73,Filtros!$A$5:$AY$22116,7,FALSE),0)","v":0},{"$f":"IFERROR(VLOOKUP($A73,Filtros!$A$5:$AY$22116,8,FALSE),0)","v":2},{"$f":"IFERROR(VLOOKUP($A73,Filtros!$A$5:$AY$22116,9,FALSE),0)","v":2},{"$f":"IFERROR(VLOOKUP($A73,Filtros!$A$5:$AY$22116,10,FALSE),0)","v":10},{"$f":"IFERROR(VLOOKUP($A73,Filtros!$A$5:$AY$22116,11,FALSE),0)","v":3},{"$f":"IFERROR(VLOOKUP($A73,Filtros!$A$5:$AY$22116,12,FALSE),0)","v":20},{"$f":"IFERROR(VLOOKUP($A73,Filtros!$A$5:$AY$22116,13,FALSE),0)","v":2},{"$f":"IFERROR(VLOOKUP($A73,Filtros!$A$5:$AY$22116,14,FALSE),0)","v":8},{"$f":"IFERROR(VLOOKUP($A73,Filtros!$A$5:$AY$22116,15,FALSE),0)","v":1},{"$f":"IFERROR(VLOOKUP($A73,Filtros!$A$5:$AY$22116,16,FALSE),0)","v":5},{"$f":"IFERROR(VLOOKUP($A73,Filtros!$A$5:$AY$22116,17,FALSE),0)","v":0},{"$f":"IFERROR(VLOOKUP($A73,Filtros!$A$5:$AY$22116,18,FALSE),0)","v":4},{"$f":"IFERROR(VLOOKUP($A73,Filtros!$A$5:$AY$22116,19,FALSE),0)","v":0},{"$f":"IFERROR(VLOOKUP($A73,Filtros!$A$5:$AY$22116,20,FALSE),0)","v":6},{"$f":"IFERROR(VLOOKUP($A73,Filtros!$A$5:$AY$22116,21,FALSE),0)","v":0},{"$f":"IFERROR(VLOOKUP($A73,Filtros!$A$5:$AY$22116,22,FALSE),0)","v":3},{"$f":"IFERROR(VLOOKUP($A73,Filtros!$A$5:$AY$22116,23,FALSE),0)","v":0},{"$f":"IFERROR(VLOOKUP($A73,Filtros!$A$5:$AY$22116,24,FALSE),0)","v":4},{"$f":"IFERROR(VLOOKUP($A73,Filtros!$A$5:$AY$22116,25,FALSE),0)","v":0},{"$f":"IFERROR(VLOOKUP($A73,Filtros!$A$5:$AY$22116,26,FALSE),0)","v":1},{"$f":"IFERROR(VLOOKUP($A73,Filtros!$A$5:$AY$22116,27,FALSE),0)","v":0},{"$f":"IFERROR(VLOOKUP($A73,Filtros!$A$5:$AY$22116,28,FALSE),0)","v":0},{"$f":"IFERROR(VLOOKUP($A73,Filtros!$A$5:$AY$22116,29,FALSE),0)","v":0},{"$f":"IFERROR(VLOOKUP($A73,Filtros!$A$5:$AY$22116,30,FALSE),0)","v":0},{"$f":"IFERROR(VLOOKUP($A73,Filtros!$A$5:$AY$22116,31,FALSE),0)","v":1},{"$f":"IFERROR(VLOOKUP($A73,Filtros!$A$5:$AY$22116,32,FALSE),0)","v":0},{"$f":"IFERROR(VLOOKUP($A73,Filtros!$A$5:$AY$22116,33,FALSE),0)","v":0},{"$f":"IFERROR(VLOOKUP($A73,Filtros!$A$5:$AY$22116,34,FALSE),0)","v":1},{"$f":"IFERROR(VLOOKUP($A73,Filtros!$A$5:$AY$22116,35,FALSE),0)","v":0},{"$f":"IFERROR(VLOOKUP($A73,Filtros!$A$5:$AY$22116,36,FALSE),0)","v":0},{"$f":"IFERROR(VLOOKUP($A73,Filtros!$A$5:$AY$22116,37,FALSE),0)","v":0},{"$f":"IFERROR(VLOOKUP($A73,Filtros!$A$5:$AY$22116,38,FALSE),0)","v":0},{"$f":"IFERROR(VLOOKUP($A73,Filtros!$A$5:$AY$22116,39,FALSE),0)","v":1},{"$f":"IFERROR(VLOOKUP($A73,Filtros!$A$5:$AY$22116,40,FALSE),0)","v":6},{"$f":"IFERROR(VLOOKUP($A73,Filtros!$A$5:$AY$22116,41,FALSE),0)","v":0},{"$f":"IFERROR(VLOOKUP($A73,Filtros!$A$5:$AY$22116,42,FALSE),0)","v":0},{"$f":"IFERROR(VLOOKUP($A73,Filtros!$A$5:$AY$22116,43,FALSE),0)","v":1},{"$f":"IFERROR(VLOOKUP($A73,Filtros!$A$5:$AY$22116,44,FALSE),0)","v":0},{"$f":"IFERROR(VLOOKUP($A73,Filtros!$A$5:$AY$22116,45,FALSE),0)","v":11},{"$f":"IFERROR(VLOOKUP($A73,Filtros!$A$5:$AY$22116,46,FALSE),0)","v":21},"",{"$nulls":35},"",{"$f":"IF($AP73>$F73,\"* La celda 'Madres de Hijos menor de 5 años' debe ser menor o igual al Total de Mujeres en control. \",\"\")","v":""},"",{"$f":"IF($AR73>$F73,\"* La celda 'Pueblos Originarios / Mujeres' debe ser menor o igual al Total de Mujeres en control. \",\"\")","v":""},"",{"$f":"IF($AT73>$F73,\"* La celda 'Población Migrantes / Mujeres' debe ser menor o igual al Total de Mujeres en control. \",\"\")","v":""},"","",{"$f":"IF(AND($D73<>0,$AP73=\"\"),\"* No olvide escribir en la celda de 'Madres de Hijos menor de 5 años' (Digite CERO si no tiene). \",\"\")","v":""},null,"","","",null,"","",{"$nulls":4},0,{"$f":"IF($AP73>$F73,1,0)","v":0},0,{"$f":"IF($AR73>$F73,1,0)","v":0},0,{"$f":"IF($AT73>$F73,1,0)","v":0},0,0,0,null,0,0,0,null,0,0]
["P6231900","SUICIDIO","IDEACIÓN",{"$f":"IFERROR(VLOOKUP($A74,Filtros!$A$5:$AY$22116,2,FALSE),0)","v":76},{"$f":"IFERROR(VLOOKUP($A74,Filtros!$A$5:$AY$22116,3,FALSE),0)","v":17},{"$f":"IFERROR(VLOOKUP($A74,Filtros!$A$5:$AY$22116,4,FALSE),0)","v":59},{"$f":"IFERROR(VLOOKUP($A74,Filtros!$A$5:$AY$22116,5,FALSE),0)","v":0},{"$f":"IFERROR(VLOOKUP($A74,Filtros!$A$5:$AY$22116,6,FALSE),0)","v":0},{"$f":"IFERROR(VLOOKUP($A74,Filtros!$A$5:$AY$22116,7,FALSE),0)","v":0},{"$f":"IFERROR(VLOOKUP($A74,Filtros!$A$5:$AY$22116,8,FALSE),0)","v":0},{"$f":"IFERROR(VLOOKUP($A74,Filtros!$A$5:$AY$22116,9,FALSE),0)","v":3},{"$f":"IFERROR(VLOOKUP($A74,Filtros!$A$5:$AY$22116,10,FALSE),0)","v":7},{"$f":"IFERROR(VLOOKUP($A74,Filtros!$A$5:$AY$22116,11,FALSE),0)","v":2},{"$f":"IFERROR(VLOOKUP($A74,Filtros!$A$5:$AY$22116,12,FALSE),0)","v":14},{"$f":"IFERROR(VLOOKUP($A74,Filtros!$A$5:$AY$22116,13,FALSE),0)","v":4},{"$f":"IFERROR(VLOOKUP($A74,Filtros!$A$5:$AY$22116,14,FALSE),0)","v":4},{"$f":"IFERROR(VLOOKUP($A74,Filtros!$A$5:$AY$22116,15,FALSE),0)","v":2},{"$f":"IFERROR(VLOOKUP($A74,Filtros!$A$5:$AY$22116,16,FALSE),0)","v":8},{"$f":"IFERROR(VLOOKUP($A74,Filtros!$A$5:$AY$22116,17,FALSE),0)","v":0},{"$f":"IFERROR(VLOOKUP($A74,Filtros!$A$5:$AY$22116,18,FALSE),0)","v":4},{"$f":"IFERROR(VLOOKUP($A74,Filtros!$A$5:$AY$22116,19,FALSE),0)","v":0},{"$f":"IFERROR(VLOOKUP($A74,Filtros!$A$5:$AY$22116,20,FALSE),0)","v":3},{"$f":"IFERROR(VLOOKUP($A74,Filtros!$A$5:$AY$22116,21,FALSE),0)","v":0},{"$f":"IFERROR(VLOOKUP($A74,Filtros!$A$5:$AY$22116,22,FALSE),0)","v":3},{"$f":"IFERROR(VLOOKUP($A74,Filtros!$A$5:$AY$22116,23,FALSE),0)","v":3},{"$f":"IFERROR(VLOOKUP($A74,Filtros!$A$5:$AY$22116,24,FALSE),0)","v":8},{"$f":"IFERROR(VLOOKUP($A74,Filtros!$A$5:$AY$22116,25,FALSE),0)","v":1},{"$f":"IFERROR(VLOOKUP($A74,Filtros!$A$5:$AY$22116,26,FALSE),0)","v":1},{"$f":"IFERROR(VLOOKUP($A74,Filtros!$A$5:$AY$22116,27,FALSE),0)","v":0},{"$f":"IFERROR(VLOOKUP($A74,Filtros!$A$5:$AY$22116,28,FALSE),0)","v":2},{"$f":"IFERROR(VLOOKUP($A74,Filtros!$A$5:$AY$22116,29,FALSE),0)","v":0},{"$f":"IFERROR(VLOOKUP($A74,Filtros!$A$5:$AY$22116,30,FALSE),0)","v":2},{"$f":"IFERROR(VLOOKUP($A74,Filtros!$A$5:$AY$22116,31,FALSE),0)","v":2},{"$f":"IFERROR(VLOOKUP($A74,Filtros!$A$5:$AY$22116,32,FALSE),0)","v":2},{"$f":"IFERROR(VLOOKUP($A74,Filtros!$A$5:$AY$22116,33,FALSE),0)","v":0},{"$f":"IFERROR(VLOOKUP($A74,Filtros!$A$5:$AY$22116,34,FALSE),0)","v":0},{"$f":"IFERROR(VLOOKUP($A74,Filtros!$A$5:$AY$22116,35,FALSE),0)","v":0},{"$f":"IFERROR(VLOOKUP($A74,Filtros!$A$5:$AY$22116,36,FALSE),0)","v":1},{"$f":"IFERROR(VLOOKUP($A74,Filtros!$A$5:$AY$22116,37,FALSE),0)","v":0},{"$f":"IFERROR(VLOOKUP($A74,Filtros!$A$5:$AY$22116,38,FALSE),0)","v":0},{"$f":"IFERROR(VLOOKUP($A74,Filtros!$A$5:$AY$22116,39,FALSE),0)","v":0},{"$f":"IFERROR(VLOOKUP($A74,Filtros!$A$5:$AY$22116,40,FALSE),0)","v":5},{"$f":"IFERROR(VLOOKUP($A74,Filtros!$A$5:$AY$22116,41,FALSE),0)","v":0},{"$f":"IFERROR(VLOOKUP($A74,Filtros!$A$5:$AY$22116,42,FALSE),0)","v":0},{"$f":"IFERROR(VLOOKUP($A74,Filtros!$A$5:$AY$22116,43,FALSE),0)","v":0},{"$f":"IFERROR(VLOOKUP($A74,Filtros!$A$5:$AY$22116,44,FALSE),0)","v":0},{"$f":"IFERROR(VLOOKUP($A74,Filtros!$A$5:$AY$22116,45,FALSE),0)","v":2},{"$f":"IFERROR(VLOOKUP($A74,Filtros!$A$5:$AY$22116,46,FALSE),0)","v":22},"",{"$nulls":35},"",{"$f":"IF($AP74>$F74,\"* La celda 'Madres de Hijos menor de 5 años' debe ser menor o igual al Total de Mujeres en control. \",\"\")","v":""},"",{"$f":"IF($AR74>$F74,\"* La celda 'Pueblos Originarios / Mujeres' debe ser menor o igual al Total de Mujeres en control. \",\"\")","v":""},"",{"$f":"IF($AT74>$F74,\"* La celda 'Población Migrantes / Mujeres' debe ser menor o igual al Total de Mujeres en control. \",\"\")","v":""},"","",{"$f":"IF(AND($D74<>0,$AP74=\"\"),\"* No olvide escribir en la celda de 'Madres de Hijos menor de 5 años' (Digite CERO si no tiene). \",\"\")","v":""},null,"","","",null,"","",{"$nulls":4},0,{"$f":"IF($AP74>$F74,1,0)","v":0},0,{"$f":"IF($AR74>$F74,1,0)","v":0},0,{"$f":"IF($AT74>$F74,1,0)","v":0},0,0,0,null,0,0,0,null,0,0]
["P6232000",null,"INTENTO",{"$f":"IFERROR(VLOOKUP($A75,Filtros!$A$5:$AY$22116,2,FALSE),0)","v":103},{"$f":"IFERROR(VLOOKUP($A75,Filtros!$A$5:$AY$22116,3,FALSE),0)","v":21},{"$f":"IFERROR(VLOOKUP($A75,Filtros!$A$5:$AY$22116,4,FALSE),0)","v":82},{"$f":"IFERROR(VLOOKUP($A75,Filtros!$A$5:$AY$22116,5,FALSE),0)","v":0},{"$f":"IFERROR(VLOOKUP($A75,Filtros!$A$5:$AY$22116,6,FALSE),0)","v":0},{"$f":"IFERROR(VLOOKUP($A75,Filtros!$A$5:$AY$22116,7,FALSE),0)","v":0},{"$f":"IFERROR(VLOOKUP($A75,Filtros!$A$5:$AY$22116,8,FALSE),0)","v":0},{"$f":"IFERROR(VLOOKUP($A75,Filtros!$A$5:$AY$22116,9,FALSE),0)","v":0},{"$f":"IFERROR(VLOOKUP($A75,Filtros!$A$5:$AY$22116,10,FALSE),0)","v":9},{"$f":"IFERROR(VLOOKUP($A75,Filtros!$A$5:$AY$22116,11,FALSE),0)","v":5},{"$f":"IFERROR(VLOOKUP($A75,Filtros!$A$5:$AY$22116,12,FALSE),0)","v":31},{"$f":"IFERROR(VLOOKUP($A75,Filtros!$A$5:$AY$22116,13,FALSE),0)","v":2},{"$f":"IFERROR(VLOOKUP($A75,Filtros!$A$5:$AY$22116,14,FALSE),0)","v":9},{"$f":"IFERROR(VLOOKUP($A75,Filtros!$A$5:$AY$22116,15,FALSE),0)","v":1},{"$f":"IFERROR(VLOOKUP($A75,Filtros!$A$5:$AY$22116,16,FALSE),0)","v":6},{"$f":"IFERROR(VLOOKUP($A75,Filtros!$A$5:$AY$22116,17,FALSE),0)","v":3},{"$f":"IFERROR(VLOOKUP($A75,Filtros!$A$5:$AY$22116,18,FALSE),0)","v":6},{"$f":"IFERROR(VLOOKUP($A75,Filtros!$A$5:$AY$22116,19,FALSE),0)","v":3},{"$f":"IFERROR(VLOOKUP($A75,Filtros!$A$5:$AY$22116,20,FALSE),0)","v":1},{"$f":"IFERROR(VLOOKUP($A75,Filtros!$A$5:$AY$22116,21,FALSE),0)","v":2},{"$f":"IFERROR(VLOOKUP($A75,Filtros!$A$5:$AY$22116,22,FALSE),0)","v":3},{"$f":"IFERROR(VLOOKUP($A75,Filtros!$A$5:$AY$22116,23,FALSE),0)","v":2},{"$f":"IFERROR(VLOOKUP($A75,Filtros!$A$5:$AY$22116,24,FALSE),0)","v":7},{"$f":"IFERROR(VLOOKUP($A75,Filtros!$A$5:$AY$22116,25,FALSE),0)","v":0},{"$f":"IFERROR(VLOOKUP($A75,Filtros!$A$5:$AY$22116,26,FALSE),0)","v":6},{"$f":"IFERROR(VLOOKUP($A75,Filtros!$A$5:$AY$22116,27,FALSE),0)","v":1},{"$f":"IFERROR(VLOOKUP($A75,Filtros!$A$5:$AY$22116,28,FALSE),0)","v":2},{"$f":"IFERROR(VLOOKUP($A75,Filtros!$A$5:$AY$22116,29,FALSE),0)","v":0},{"$f":"IFERROR(VLOOKUP($A75,Filtros!$A$5:$AY$22116,30,FALSE),0)","v":1},{"$f":"IFERROR(VLOOKUP($A75,Filtros!$A$5:$AY$22116,31,FALSE),0)","v":1},{"$f":"IFERROR(VLOOKUP($A75,Filtros!$A$5:$AY$22116,32,FALSE),0)","v":1},{"$f":"IFERROR(VLOOKUP($A75,Filtros!$A$5:$AY$22116,33,FALSE),0)","v":0},{"$f":"IFERROR(VLOOKUP($A75,Filtros!$A$5:$AY$22116,34,FALSE),0)","v":0},{"$f":"IFERROR(VLOOKUP($A75,Filtros!$A$5:$AY$22116,35,FALSE),0)","v":0},{"$f":"IFERROR(VLOOKUP($A75,Filtros!$A$5:$AY$22116,36,FALSE),0)","v":0},{"$f":"IFERROR(VLOOKUP($A75,Filtros!$A$5:$AY$22116,37,FALSE),0)","v":1},{"$f":"IFERROR(VLOOKUP($A75,Filtros!$A$5:$AY$22116,38,FALSE),0)","v":0},{"$f":"IFERROR(VLOOKUP($A75,Filtros!$A$5:$AY$22116,39,FALSE),0)","v":0},{"$f":"IFERROR(VLOOKUP($A75,Filtros!$A$5:$AY$22116,40,FALSE),0)","v":2},{"$f":"IFERROR(VLOOKUP($A75,Filtros!$A$5:$AY$22116,41,FALSE),0)","v":0},{"$f":"IFERROR(VLOOKUP($A75,Filtros!$A$5:$AY$22116,42,FALSE),0)","v":0},{"$f":"IFERROR(VLOOKUP($A75,Filtros!$A$5:$AY$22116,43,FALSE),0)","v":0},{"$f":"IFERROR(VLOOKUP($A75,Filtros!$A$5:$AY$22116,44,FALSE),0)","v":0},{"$f":"IFERROR(VLOOKUP($A75,Filtros!$A$5:$AY$22116,45,FALSE),0)","v":7},{"$f":"IFERROR(VLOOKUP($A75,Filtros!$A$5:$AY$22116,46,FALSE),0)","v":23},"",{"$nulls":35},"",{"$f":"IF($AP75>$F75,\"* La celda 'Madres de Hijos menor de 5 años' debe ser menor o igual al Total de Mujeres en control. \",\"\")","v":""},"",{"$f":"IF($AR75>$F75,\"* La celda 'Pueblos Originarios / Mujeres' debe ser menor o igual al Total de Mujeres en control. \",\"\")","v":""},"",{"$f":"IF($AT75>$F75,\"* La celda 'Población Migrantes / Mujeres' debe ser menor o igual al Total de Mujeres en control. \",\"\")","v":""},"","",{"$f":"IF(AND($D75<>0,$AP75=\"\"),\"* No olvide escribir en la celda de 'Madres de Hijos menor de 5 años' (Digite CERO si no tiene). \",\"\")","v":""},null,"","","",null,"","",{"$nulls":4},0,{"$f":"IF($AP75>$F75,1,0)","v":0},0,{"$f":"IF($AR75>$F75,1,0)","v":0},0,{"$f":"IF($AT75>$F75,1,0)","v":0},0,0,0,null,0,0,0,null,0,0]
["P6223170","PERSONAS CON DIAGNOSTICOS DE TRASTORNOS MENTALES ",null,{"$f":"IFERROR(VLOOKUP($A76,Filtros!$A$5:$AY$22116,2,FALSE),0)","v":3402},{"$f":"IFERROR(VLOOKUP($A76,Filtros!$A$5:$AY$22116,3,FALSE),0)","v":1329},{"$f":"IFERROR(VLOOKUP($A76,Filtros!$A$5:$AY$22116,4,FALSE),0)","v":2073},{"$f":"IFERROR(VLOOKUP($A76,Filtros!$A$5:$AY$22116,5,FALSE),0)","v":7},{"$f":"IFERROR(VLOOKUP($A76,Filtros!$A$5:$AY$22116,6,FALSE),0)","v":2},{"$f":"IFERROR(VLOOKUP($A76,Filtros!$A$5:$AY$22116,7,FALSE),0)","v":131},{"$f":"IFERROR(VLOOKUP($A76,Filtros!$A$5:$AY$22116,8,FALSE),0)","v":49},{"$f":"IFERROR(VLOOKUP($A76,Filtros!$A$5:$AY$22116,9,FALSE),0)","v":163},{"$f":"IFERROR(VLOOKUP($A76,Filtros!$A$5:$AY$22116,10,FALSE),0)","v":154},{"$f":"IFERROR(VLOOKUP($A76,Filtros!$A$5:$AY$22116,11,FALSE),0)","v":166},{"$f":"IFERROR(VLOOKUP($A76,Filtros!$A$5:$AY$22116,12,FALSE),0)","v":245},{"$f":"IFERROR(VLOOKUP($A76,Filtros!$A$5:$AY$22116,13,FALSE),0)","v":123},{"$f":"IFERROR(VLOOKUP($A76,Filtros!$A$5:$AY$22116,14,FALSE),0)","v":144},{"$f":"IFERROR(VLOOKUP($A76,Filtros!$A$5:$AY$22116,15,FALSE),0)","v":106},{"$f":"IFERROR(VLOOKUP($A76,Filtros!$A$5:$AY$22116,16,FALSE),0)","v":132},{"$f":"IFERROR(VLOOKUP($A76,Filtros!$A$5:$AY$22116,17,FALSE),0)","v":101},{"$f":"IFERROR(VLOOKUP($A76,Filtros!$A$5:$AY$22116,18,FALSE),0)","v":129},{"$f":"IFERROR(VLOOKUP($A76,Filtros!$A$5:$AY$22116,19,FALSE),0)","v":97},{"$f":"IFERROR(VLOOKUP($A76,Filtros!$A$5:$AY$22116,20,FALSE),0)","v":128},{"$f":"IFERROR(VLOOKUP($A76,Filtros!$A$5:$AY$22116,21,FALSE),0)","v":67},{"$f":"IFERROR(VLOOKUP($A76,Filtros!$A$5:$AY$22116,22,FALSE),0)","v":139},{"$f":"IFERROR(VLOOKUP($A76,Filtros!$A$5:$AY$22116,23,FALSE),0)","v":90},{"$f":"IFERROR(VLOOKUP($A76,Filtros!$A$5:$AY$22116,24,FALSE),0)","v":178},{"$f":"IFERROR(VLOOKUP($A76,Filtros!$A$5:$AY$22116,25,FALSE),0)","v":55},{"$f":"IFERROR(VLOOKUP($A76,Filtros!$A$5:$AY$22116,26,FALSE),0)","v":196},{"$f":"IFERROR(VLOOKUP($A76,Filtros!$A$5:$AY$22116,27,FALSE),0)","v":89},{"$f":"IFERROR(VLOOKUP($A76,Filtros!$A$5:$AY$22116,28,FALSE),0)","v":182},{"$f":"IFERROR(VLOOKUP($A76,Filtros!$A$5:$AY$22116,29,FALSE),0)","v":48},{"$f":"IFERROR(VLOOKUP($A76,Filtros!$A$5:$AY$22116,30,FALSE),0)","v":127},{"$f":"IFERROR(VLOOKUP($A76,Filtros!$A$5:$AY$22116,31,FALSE),0)","v":40},{"$f":"IFERROR(VLOOKUP($A76,Filtros!$A$5:$AY$22116,32,FALSE),0)","v":104},{"$f":"IFERROR(VLOOKUP($A76,Filtros!$A$5:$AY$22116,33,FALSE),0)","v":15},{"$f":"IFERROR(VLOOKUP($A76,Filtros!$A$5:$AY$22116,34,FALSE),0)","v":66},{"$f":"IFERROR(VLOOKUP($A76,Filtros!$A$5:$AY$22116,35,FALSE),0)","v":14},{"$f":"IFERROR(VLOOKUP($A76,Filtros!$A$5:$AY$22116,36,FALSE),0)","v":49},{"$f":"IFERROR(VLOOKUP($A76,Filtros!$A$5:$AY$22116,37,FALSE),0)","v":17},{"$f":"IFERROR(VLOOKUP($A76,Filtros!$A$5:$AY$22116,38,FALSE),0)","v":49},{"$f":"IFERROR(VLOOKUP($A76,Filtros!$A$5:$AY$22116,39,FALSE),0)","v":17},{"$f":"IFERROR(VLOOKUP($A76,Filtros!$A$5:$AY$22116,40,FALSE),0)","v":95},{"$f":"IFERROR(VLOOKUP($A76,Filtros!$A$5:$AY$22116,41,FALSE),0)","v":7},{"$f":"IFERROR(VLOOKUP($A76,Filtros!$A$5:$AY$22116,42,FALSE),0)","v":12},{"$f":"IFERROR(VLOOKUP($A76,Filtros!$A$5:$AY$22116,43,FALSE),0)","v":5},{"$f":"IFERROR(VLOOKUP($A76,Filtros!$A$5:$AY$22116,44,FALSE),0)","v":12},{"$f":"IFERROR(VLOOKUP($A76,Filtros!$A$5:$AY$22116,45,FALSE),0)","v":87},{"$f":"IFERROR(VLOOKUP($A76,Filtros!$A$5:$AY$22116,46,FALSE),0)","v":721},"",{"$nulls":35},"",{"$f":"IF($AP76>$F76,\"* La celda 'Madres de Hijos menor de 5 años' debe ser menor o igual al Total de Mujeres en control. \",\"\")","v":""},"",{"$f":"IF($AR76>$F76,\"* La celda 'Pueblos Originarios / Mujeres' debe ser menor o igual al Total de Mujeres en control. \",\"\")","v":""},"",{"$f":"IF($AT76>$F76,\"* La celda 'Población Migrantes / Mujeres' debe ser menor o igual al Total de Mujeres en control. \",\"\")","v":""},"","",{"$f":"IF(AND($D76<>0,$AP76=\"\"),\"* No olvide escribir en la celda de 'Madres de Hijos menor de 5 años' (Digite CERO si no tiene). \",\"\")","v":""},null,"","","",null,"","",{"$nulls":4},0,{"$f":"IF($AP76>$F76,1,0)","v":0},0,{"$f":"IF($AR76>$F76,1,0)","v":0},0,{"$f":"IF($AT76>$F76,1,0)","v":0},0,0,0,null,0,0,0,null,0,0]
["P6223180","TRASTORNOS DEL HUMOR\n(AFECTIVOS)","DEPRESIÓN REFRACTARIA",{"$f":"IFERROR(VLOOKUP($A77,Filtros!$A$5:$AY$22116,2,FALSE),0)","v":545},{"$f":"IFERROR(VLOOKUP($A77,Filtros!$A$5:$AY$22116,3,FALSE),0)","v":108},{"$f":"IFERROR(VLOOKUP($A77,Filtros!$A$5:$AY$22116,4,FALSE),0)","v":437},{"$f":"IFERROR(VLOOKUP($A77,Filtros!$A$5:$AY$22116,5,FALSE),0)","v":0},{"$f":"IFERROR(VLOOKUP($A77,Filtros!$A$5:$AY$22116,6,FALSE),0)","v":0},{"$f":"IFERROR(VLOOKUP($A77,Filtros!$A$5:$AY$22116,7,FALSE),0)","v":1},{"$f":"IFERROR(VLOOKUP($A77,Filtros!$A$5:$AY$22116,8,FALSE),0)","v":0},{"$f":"IFERROR(VLOOKUP($A77,Filtros!$A$5:$AY$22116,9,FALSE),0)","v":1},{"$f":"IFERROR(VLOOKUP($A77,Filtros!$A$5:$AY$22116,10,FALSE),0)","v":5},{"$f":"IFERROR(VLOOKUP($A77,Filtros!$A$5:$AY$22116,11,FALSE),0)","v":9},{"$f":"IFERROR(VLOOKUP($A77,Filtros!$A$5:$AY$22116,12,FALSE),0)","v":13},{"$f":"IFERROR(VLOOKUP($A77,Filtros!$A$5:$AY$22116,13,FALSE),0)","v":6},{"$f":"IFERROR(VLOOKUP($A77,Filtros!$A$5:$AY$22116,14,FALSE),0)","v":20},{"$f":"IFERROR(VLOOKUP($A77,Filtros!$A$5:$AY$22116,15,FALSE),0)","v":4},{"$f":"IFERROR(VLOOKUP($A77,Filtros!$A$5:$AY$22116,16,FALSE),0)","v":21},{"$f":"IFERROR(VLOOKUP($A77,Filtros!$A$5:$AY$22116,17,FALSE),0)","v":5},{"$f":"IFERROR(VLOOKUP($A77,Filtros!$A$5:$AY$22116,18,FALSE),0)","v":21},{"$f":"IFERROR(VLOOKUP($A77,Filtros!$A$5:$AY$22116,19,FALSE),0)","v":6},{"$f":"IFERROR(VLOOKUP($A77,Filtros!$A$5:$AY$22116,20,FALSE),0)","v":26},{"$f":"IFERROR(VLOOKUP($A77,Filtros!$A$5:$AY$22116,21,FALSE),0)","v":2},{"$f":"IFERROR(VLOOKUP($A77,Filtros!$A$5:$AY$22116,22,FALSE),0)","v":40},{"$f":"IFERROR(VLOOKUP($A77,Filtros!$A$5:$AY$22116,23,FALSE),0)","v":9},{"$f":"IFERROR(VLOOKUP($A77,Filtros!$A$5:$AY$22116,24,FALSE),0)","v":43},{"$f":"IFERROR(VLOOKUP($A77,Filtros!$A$5:$AY$22116,25,FALSE),0)","v":8},{"$f":"IFERROR(VLOOKUP($A77,Filtros!$A$5:$AY$22116,26,FALSE),0)","v":50},{"$f":"IFERROR(VLOOKUP($A77,Filtros!$A$5:$AY$22116,27,FALSE),0)","v":16},{"$f":"IFERROR(VLOOKUP($A77,Filtros!$A$5:$AY$22116,28,FALSE),0)","v":64},{"$f":"IFERROR(VLOOKUP($A77,Filtros!$A$5:$AY$22116,29,FALSE),0)","v":13},{"$f":"IFERROR(VLOOKUP($A77,Filtros!$A$5:$AY$22116,30,FALSE),0)","v":40},{"$f":"IFERROR(VLOOKUP($A77,Filtros!$A$5:$AY$22116,31,FALSE),0)","v":10},{"$f":"IFERROR(VLOOKUP($A77,Filtros!$A$5:$AY$22116,32,FALSE),0)","v":49},{"$f":"IFERROR(VLOOKUP($A77,Filtros!$A$5:$AY$22116,33,FALSE),0)","v":7},{"$f":"IFERROR(VLOOKUP($A77,Filtros!$A$5:$AY$22116,34,FALSE),0)","v":20},{"$f":"IFERROR(VLOOKUP($A77,Filtros!$A$5:$AY$22116,35,FALSE),0)","v":4},{"$f":"IFERROR(VLOOKUP($A77,Filtros!$A$5:$AY$22116,36,FALSE),0)","v":17},{"$f":"IFERROR(VLOOKUP($A77,Filtros!$A$5:$AY$22116,37,FALSE),0)","v":7},{"$f":"IFERROR(VLOOKUP($A77,Filtros!$A$5:$AY$22116,38,FALSE),0)","v":8},{"$f":"IFERROR(VLOOKUP($A77,Filtros!$A$5:$AY$22116,39,FALSE),0)","v":1},{"$f":"IFERROR(VLOOKUP($A77,Filtros!$A$5:$AY$22116,40,FALSE),0)","v":2},{"$f":"IFERROR(VLOOKUP($A77,Filtros!$A$5:$AY$22116,41,FALSE),0)","v":0},{"$f":"IFERROR(VLOOKUP($A77,Filtros!$A$5:$AY$22116,42,FALSE),0)","v":0},{"$f":"IFERROR(VLOOKUP($A77,Filtros!$A$5:$AY$22116,43,FALSE),0)","v":0},{"$f":"IFERROR(VLOOKUP($A77,Filtros!$A$5:$AY$22116,44,FALSE),0)","v":1},{"$f":"IFERROR(VLOOKUP($A77,Filtros!$A$5:$AY$22116,45,FALSE),0)","v":4},{"$f":"IFERROR(VLOOKUP($A77,Filtros!$A$5:$AY$22116,46,FALSE),0)","v":63},"",{"$nulls":35},"","","","","","","","","",null,"","","",null,"","",{"$nulls":4},0,0,0,0,0,0,0,0,0,null,0,0,0,null,0,0]
["P6223190",null,"DEPRESIÓN GRAVE CON PSICOSIS",{"$f":"IFERROR(VLOOKUP($A78,Filtros!$A$5:$AY$22116,2,FALSE),0)","v":313},{"$f":"IFERROR(VLOOKUP($A78,Filtros!$A$5:$AY$22116,3,FALSE),0)","v":53},{"$f":"IFERROR(VLOOKUP($A78,Filtros!$A$5:$AY$22116,4,FALSE),0)","v":260},{"$f":"IFERROR(VLOOKUP($A78,Filtros!$A$5:$AY$22116,5,FALSE),0)","v":0},{"$f":"IFERROR(VLOOKUP($A78,Filtros!$A$5:$AY$22116,6,FALSE),0)","v":0},{"$f":"IFERROR(VLOOKUP($A78,Filtros!$A$5:$AY$22116,7,FALSE),0)","v":0},{"$f":"IFERROR(VLOOKUP($A78,Filtros!$A$5:$AY$22116,8,FALSE),0)","v":6},{"$f":"IFERROR(VLOOKUP($A78,Filtros!$A$5:$AY$22116,9,FALSE),0)","v":3},{"$f":"IFERROR(VLOOKUP($A78,Filtros!$A$5:$AY$22116,10,FALSE),0)","v":11},{"$f":"IFERROR(VLOOKUP($A78,Filtros!$A$5:$AY$22116,11,FALSE),0)","v":15},{"$f":"IFERROR(VLOOKUP($A78,Filtros!$A$5:$AY$22116,12,FALSE),0)","v":35},{"$f":"IFERROR(VLOOKUP($A78,Filtros!$A$5:$AY$22116,13,FALSE),0)","v":7},{"$f":"IFERROR(VLOOKUP($A78,Filtros!$A$5:$AY$22116,14,FALSE),0)","v":13},{"$f":"IFERROR(VLOOKUP($A78,Filtros!$A$5:$AY$22116,15,FALSE),0)","v":8},{"$f":"IFERROR(VLOOKUP($A78,Filtros!$A$5:$AY$22116,16,FALSE),0)","v":16},{"$f":"IFERROR(VLOOKUP($A78,Filtros!$A$5:$AY$22116,17,FALSE),0)","v":0},{"$f":"IFERROR(VLOOKUP($A78,Filtros!$A$5:$AY$22116,18,FALSE),0)","v":16},{"$f":"IFERROR(VLOOKUP($A78,Filtros!$A$5:$AY$22116,19,FALSE),0)","v":3},{"$f":"IFERROR(VLOOKUP($A78,Filtros!$A$5:$AY$22116,20,FALSE),0)","v":18},{"$f":"IFERROR(VLOOKUP($A78,Filtros!$A$5:$AY$22116,21,FALSE),0)","v":2},{"$f":"IFERROR(VLOOKUP($A78,Filtros!$A$5:$AY$22116,22,FALSE),0)","v":21},{"$f":"IFERROR(VLOOKUP($A78,Filtros!$A$5:$AY$22116,23,FALSE),0)","v":3},{"$f":"IFERROR(VLOOKUP($A78,Filtros!$A$5:$AY$22116,24,FALSE),0)","v":24},{"$f":"IFERROR(VLOOKUP($A78,Filtros!$A$5:$AY$22116,25,FALSE),0)","v":2},{"$f":"IFERROR(VLOOKUP($A78,Filtros!$A$5:$AY$22116,26,FALSE),0)","v":25},{"$f":"IFERROR(VLOOKUP($A78,Filtros!$A$5:$AY$22116,27,FALSE),0)","v":2},{"$f":"IFERROR(VLOOKUP($A78,Filtros!$A$5:$AY$22116,28,FALSE),0)","v":27},{"$f":"IFERROR(VLOOKUP($A78,Filtros!$A$5:$AY$22116,29,FALSE),0)","v":4},{"$f":"IFERROR(VLOOKUP($A78,Filtros!$A$5:$AY$22116,30,FALSE),0)","v":18},{"$f":"IFERROR(VLOOKUP($A78,Filtros!$A$5:$AY$22116,31,FALSE),0)","v":2},{"$f":"IFERROR(VLOOKUP($A78,Filtros!$A$5:$AY$22116,32,FALSE),0)","v":11},{"$f":"IFERROR(VLOOKUP($A78,Filtros!$A$5:$AY$22116,33,FALSE),0)","v":2},{"$f":"IFERROR(VLOOKUP($A78,Filtros!$A$5:$AY$22116,34,FALSE),0)","v":6},{"$f":"IFERROR(VLOOKUP($A78,Filtros!$A$5:$AY$22116,35,FALSE),0)","v":0},{"$f":"IFERROR(VLOOKUP($A78,Filtros!$A$5:$AY$22116,36,FALSE),0)","v":4},{"$f":"IFERROR(VLOOKUP($A78,Filtros!$A$5:$AY$22116,37,FALSE),0)","v":0},{"$f":"IFERROR(VLOOKUP($A78,Filtros!$A$5:$AY$22116,38,FALSE),0)","v":9},{"$f":"IFERROR(VLOOKUP($A78,Filtros!$A$5:$AY$22116,39,FALSE),0)","v":1},{"$f":"IFERROR(VLOOKUP($A78,Filtros!$A$5:$AY$22116,40,FALSE),0)","v":22},{"$f":"IFERROR(VLOOKUP($A78,Filtros!$A$5:$AY$22116,41,FALSE),0)","v":0},{"$f":"IFERROR(VLOOKUP($A78,Filtros!$A$5:$AY$22116,42,FALSE),0)","v":2},{"$f":"IFERROR(VLOOKUP($A78,Filtros!$A$5:$AY$22116,43,FALSE),0)","v":0},{"$f":"IFERROR(VLOOKUP($A78,Filtros!$A$5:$AY$22116,44,FALSE),0)","v":0},{"$f":"IFERROR(VLOOKUP($A78,Filtros!$A$5:$AY$22116,45,FALSE),0)","v":2},{"$f":"IFERROR(VLOOKUP($A78,Filtros!$A$5:$AY$22116,46,FALSE),0)","v":14},"",{"$nulls":35},"","","","","","","","","",null,"","","",null,"","",{"$nulls":4},0,0,0,0,0,0,0,0,0,null,0,0,0,null,0,0]
["P6223200",null,"DEPRESIÓN CON ALTO RIESGO SUICIDA",{"$f":"IFERROR(VLOOKUP($A79,Filtros!$A$5:$AY$22116,2,FALSE),0)","v":216},{"$f":"IFERROR(VLOOKUP($A79,Filtros!$A$5:$AY$22116,3,FALSE),0)","v":62},{"$f":"IFERROR(VLOOKUP($A79,Filtros!$A$5:$AY$22116,4,FALSE),0)","v":154},{"$f":"IFERROR(VLOOKUP($A79,Filtros!$A$5:$AY$22116,5,FALSE),0)","v":0},{"$f":"IFERROR(VLOOKUP($A79,Filtros!$A$5:$AY$22116,6,FALSE),0)","v":0},{"$f":"IFERROR(VLOOKUP($A79,Filtros!$A$5:$AY$22116,7,FALSE),0)","v":0},{"$f":"IFERROR(VLOOKUP($A79,Filtros!$A$5:$AY$22116,8,FALSE),0)","v":0},{"$f":"IFERROR(VLOOKUP($A79,Filtros!$A$5:$AY$22116,9,FALSE),0)","v":5},{"$f":"IFERROR(VLOOKUP($A79,Filtros!$A$5:$AY$22116,10,FALSE),0)","v":21},{"$f":"IFERROR(VLOOKUP($A79,Filtros!$A$5:$AY$22116,11,FALSE),0)","v":12},{"$f":"IFERROR(VLOOKUP($A79,Filtros!$A$5:$AY$22116,12,FALSE),0)","v":50},{"$f":"IFERROR(VLOOKUP($A79,Filtros!$A$5:$AY$22116,13,FALSE),0)","v":12},{"$f":"IFERROR(VLOOKUP($A79,Filtros!$A$5:$AY$22116,14,FALSE),0)","v":12},{"$f":"IFERROR(VLOOKUP($A79,Filtros!$A$5:$AY$22116,15,FALSE),0)","v":7},{"$f":"IFERROR(VLOOKUP($A79,Filtros!$A$5:$AY$22116,16,FALSE),0)","v":8},{"$f":"IFERROR(VLOOKUP($A79,Filtros!$A$5:$AY$22116,17,FALSE),0)","v":3},{"$f":"IFERROR(VLOOKUP($A79,Filtros!$A$5:$AY$22116,18,FALSE),0)","v":6},{"$f":"IFERROR(VLOOKUP($A79,Filtros!$A$5:$AY$22116,19,FALSE),0)","v":3},{"$f":"IFERROR(VLOOKUP($A79,Filtros!$A$5:$AY$22116,20,FALSE),0)","v":8},{"$f":"IFERROR(VLOOKUP($A79,Filtros!$A$5:$AY$22116,21,FALSE),0)","v":3},{"$f":"IFERROR(VLOOKUP($A79,Filtros!$A$5:$AY$22116,22,FALSE),0)","v":8},{"$f":"IFERROR(VLOOKUP($A79,Filtros!$A$5:$AY$22116,23,FALSE),0)","v":3},{"$f":"IFERROR(VLOOKUP($A79,Filtros!$A$5:$AY$22116,24,FALSE),0)","v":10},{"$f":"IFERROR(VLOOKUP($A79,Filtros!$A$5:$AY$22116,25,FALSE),0)","v":2},{"$f":"IFERROR(VLOOKUP($A79,Filtros!$A$5:$AY$22116,26,FALSE),0)","v":14},{"$f":"IFERROR(VLOOKUP($A79,Filtros!$A$5:$AY$22116,27,FALSE),0)","v":4},{"$f":"IFERROR(VLOOKUP($A79,Filtros!$A$5:$AY$22116,28,FALSE),0)","v":3},{"$f":"IFERROR(VLOOKUP($A79,Filtros!$A$5:$AY$22116,29,FALSE),0)","v":3},{"$f":"IFERROR(VLOOKUP($A79,Filtros!$A$5:$AY$22116,30,FALSE),0)","v":4},{"$f":"IFERROR(VLOOKUP($A79,Filtros!$A$5:$AY$22116,31,FALSE),0)","v":4},{"$f":"IFERROR(VLOOKUP($A79,Filtros!$A$5:$AY$22116,32,FALSE),0)","v":5},{"$f":"IFERROR(VLOOKUP($A79,Filtros!$A$5:$AY$22116,33,FALSE),0)","v":0},{"$f":"IFERROR(VLOOKUP($A79,Filtros!$A$5:$AY$22116,34,FALSE),0)","v":2},{"$f":"IFERROR(VLOOKUP($A79,Filtros!$A$5:$AY$22116,35,FALSE),0)","v":1},{"$f":"IFERROR(VLOOKUP($A79,Filtros!$A$5:$AY$22116,36,FALSE),0)","v":2},{"$f":"IFERROR(VLOOKUP($A79,Filtros!$A$5:$AY$22116,37,FALSE),0)","v":0},{"$f":"IFERROR(VLOOKUP($A79,Filtros!$A$5:$AY$22116,38,FALSE),0)","v":1},{"$f":"IFERROR(VLOOKUP($A79,Filtros!$A$5:$AY$22116,39,FALSE),0)","v":0},{"$f":"IFERROR(VLOOKUP($A79,Filtros!$A$5:$AY$22116,40,FALSE),0)","v":3},{"$f":"IFERROR(VLOOKUP($A79,Filtros!$A$5:$AY$22116,41,FALSE),0)","v":0},{"$f":"IFERROR(VLOOKUP($A79,Filtros!$A$5:$AY$22116,42,FALSE),0)","v":1},{"$f":"IFERROR(VLOOKUP($A79,Filtros!$A$5:$AY$22116,43,FALSE),0)","v":0},{"$f":"IFERROR(VLOOKUP($A79,Filtros!$A$5:$AY$22116,44,FALSE),0)","v":0},{"$f":"IFERROR(VLOOKUP($A79,Filtros!$A$5:$AY$22116,45,FALSE),0)","v":8},{"$f":"IFERROR(VLOOKUP($A79,Filtros!$A$5:$AY$22116,46,FALSE),0)","v":24},"",{"$nulls":35},"","","","","","","","","",null,"","","",null,"","",{"$nulls":4},0,0,0,0,0,0,0,0,0,null,0,0,0,null,0,0]
["P6223210",null,"DEPRESIÓN POST PARTO",{"$f":"IFERROR(VLOOKUP($A80,Filtros!$A$5:$AY$22116,2,FALSE),0)","v":5},{"$f":"IFERROR(VLOOKUP($A80,Filtros!$A$5:$AY$22116,3,FALSE),0)","v":0},{"$f":"IFERROR(VLOOKUP($A80,Filtros!$A$5:$AY$22116,4,FALSE),0)","v":5},{"$f":"IFERROR(VLOOKUP($A80,Filtros!$A$5:$AY$22116,5,FALSE),0)","v":0},{"$f":"IFERROR(VLOOKUP($A80,Filtros!$A$5:$AY$22116,6,FALSE),0)","v":0},{"$f":"IFERROR(VLOOKUP($A80,Filtros!$A$5:$AY$22116,7,FALSE),0)","v":0},{"$f":"IFERROR(VLOOKUP($A80,Filtros!$A$5:$AY$22116,8,FALSE),0)","v":0},{"$f":"IFERROR(VLOOKUP($A80,Filtros!$A$5:$AY$22116,9,FALSE),0)","v":0},{"$f":"IFERROR(VLOOKUP($A80,Filtros!$A$5:$AY$22116,10,FALSE),0)","v":0},{"$f":"IFERROR(VLOOKUP($A80,Filtros!$A$5:$AY$22116,11,FALSE),0)","v":0},{"$f":"IFERROR(VLOOKUP($A80,Filtros!$A$5:$AY$22116,12,FALSE),0)","v":0},{"$f":"IFERROR(VLOOKUP($A80,Filtros!$A$5:$AY$22116,13,FALSE),0)","v":0},{"$f":"IFERROR(VLOOKUP($A80,Filtros!$A$5:$AY$22116,14,FALSE),0)","v":0},{"$f":"IFERROR(VLOOKUP($A80,Filtros!$A$5:$AY$22116,15,FALSE),0)","v":0},{"$f":"IFERROR(VLOOKUP($A80,Filtros!$A$5:$AY$22116,16,FALSE),0)","v":0},{"$f":"IFERROR(VLOOKUP($A80,Filtros!$A$5:$AY$22116,17,FALSE),0)","v":0},{"$f":"IFERROR(VLOOKUP($A80,Filtros!$A$5:$AY$22116,18,FALSE),0)","v":4},{"$f":"IFERROR(VLOOKUP($A80,Filtros!$A$5:$AY$22116,19,FALSE),0)","v":0},{"$f":"IFERROR(VLOOKUP($A80,Filtros!$A$5:$AY$22116,20,FALSE),0)","v":0},{"$f":"IFERROR(VLOOKUP($A80,Filtros!$A$5:$AY$22116,21,FALSE),0)","v":0},{"$f":"IFERROR(VLOOKUP($A80,Filtros!$A$5:$AY$22116,22,FALSE),0)","v":1},{"$f":"IFERROR(VLOOKUP($A80,Filtros!$A$5:$AY$22116,23,FALSE),0)","v":0},{"$f":"IFERROR(VLOOKUP($A80,Filtros!$A$5:$AY$22116,24,FALSE),0)","v":0},{"$f":"IFERROR(VLOOKUP($A80,Filtros!$A$5:$AY$22116,25,FALSE),0)","v":0},{"$f":"IFERROR(VLOOKUP($A80,Filtros!$A$5:$AY$22116,26,FALSE),0)","v":0},{"$f":"IFERROR(VLOOKUP($A80,Filtros!$A$5:$AY$22116,27,FALSE),0)","v":0},{"$f":"IFERROR(VLOOKUP($A80,Filtros!$A$5:$AY$22116,28,FALSE),0)","v":0},{"$f":"IFERROR(VLOOKUP($A80,Filtros!$A$5:$AY$22116,29,FALSE),0)","v":0},{"$f":"IFERROR(VLOOKUP($A80,Filtros!$A$5:$AY$22116,30,FALSE),0)","v":0},{"$f":"IFERROR(VLOOKUP($A80,Filtros!$A$5:$AY$22116,31,FALSE),0)","v":0},{"$f":"IFERROR(VLOOKUP($A80,Filtros!$A$5:$AY$22116,32,FALSE),0)","v":0},{"$f":"IFERROR(VLOOKUP($A80,Filtros!$A$5:$AY$22116,33,FALSE),0)","v":0},{"$f":"IFERROR(VLOOKUP($A80,Filtros!$A$5:$AY$22116,34,FALSE),0)","v":0},{"$f":"IFERROR(VLOOKUP($A80,Filtros!$A$5:$AY$22116,35,FALSE),0)","v":0},{"$f":"IFERROR(VLOOKUP($A80,Filtros!$A$5:$AY$22116,36,FALSE),0)","v":0},{"$f":"IFERROR(VLOOKUP($A80,Filtros!$A$5:$AY$22116,37,FALSE),0)","v":0},{"$f":"IFERROR(VLOOKUP($A80,Filtros!$A$5:$AY$22116,38,FALSE),0)","v":0},{"$f":"IFERROR(VLOOKUP($A80,Filtros!$A$5:$AY$22116,39,FALSE),0)","v":0},{"$f":"IFERROR(VLOOKUP($A80,Filtros!$A$5:$AY$22116,40,FALSE),0)","v":2},{"$f":"IFERROR(VLOOKUP($A80,Filtros!$A$5:$AY$22116,41,FALSE),0)","v":0},{"$f":"IFERROR(VLOOKUP($A80,Filtros!$A$5:$AY$22116,42,FALSE),0)","v":0},{"$f":"IFERROR(VLOOKUP($A80,Filtros!$A$5:$AY$22116,43,FALSE),0)","v":0},{"$f":"IFERROR(VLOOKUP($A80,Filtros!$A$5:$AY$22116,44,FALSE),0)","v":0},{"$f":"IFERROR(VLOOKUP($A80,Filtros!$A$5:$AY$22116,45,FALSE),0)","v":0},{"$f":"IFERROR(VLOOKUP($A80,Filtros!$A$5:$AY$22116,46,FALSE),0)","v":0},"",{"$nulls":36},"",null,"",null,"",{"$f":"IF($AU80>$F80,\"* La celda 'Población SENAME' debe ser menor o igual al Total de Mujeres en control. \",\"\")","v":""},null,"",null,{"$f":"IF(AND($F80<>0,$AR80=\"\"),\"* No olvide escribir en las celdas de 'Pueblos Originarios / Mujeres' (Digite CERO si no tiene). \",\"\")","v":""},{"$f":"IF(AND($F80<>0,$AT80=\"\"),\"* No olvide escribir en las celdas de ''Población Migrantes / Mujeres' (Digite CERO si no tiene). \",\"\")","v":""},{"$f":"IF(AND($F80<>0,$AU80=\"\"),\"* No olvide escribir en las celdas de 'Población SENAME' (Digite CERO si no tiene). \",\"\")","v":""},null,"","",{"$nulls":5},0,null,0,null,0,{"$f":"IF($AU80>$F80,1,0)","v":0},null,{"$f":"IF(AND($F80<>0,$AP80=\"\"),1,0)","v":0},null,{"$f":"IF(AND($F80<>0,$AR80=\"\"),1,0)","v":0},{"$f":"IF(AND($F80<>0,$AT80=\"\"),1,0)","v":0},0,null,0,0]
["P6223220",null,"TRASTORNO BIPOLAR",{"$f":"IFERROR(VLOOKUP($A81,Filtros!$A$5:$AY$22116,2,FALSE),0)","v":557},{"$f":"IFERROR(VLOOKUP($A81,Filtros!$A$5:$AY$22116,3,FALSE),0)","v":134},{"$f":"IFERROR(VLOOKUP($A81,Filtros!$A$5:$AY$22116,4,FALSE),0)","v":423},{"$f":"IFERROR(VLOOKUP($A81,Filtros!$A$5:$AY$22116,5,FALSE),0)","v":0},{"$f":"IFERROR(VLOOKUP($A81,Filtros!$A$5:$AY$22116,6,FALSE),0)","v":0},{"$f":"IFERROR(VLOOKUP($A81,Filtros!$A$5:$AY$22116,7,FALSE),0)","v":0},{"$f":"IFERROR(VLOOKUP($A81,Filtros!$A$5:$AY$22116,8,FALSE),0)","v":0},{"$f":"IFERROR(VLOOKUP($A81,Filtros!$A$5:$AY$22116,9,FALSE),0)","v":2},{"$f":"IFERROR(VLOOKUP($A81,Filtros!$A$5:$AY$22116,10,FALSE),0)","v":4},{"$f":"IFERROR(VLOOKUP($A81,Filtros!$A$5:$AY$22116,11,FALSE),0)","v":9},{"$f":"IFERROR(VLOOKUP($A81,Filtros!$A$5:$AY$22116,12,FALSE),0)","v":10},{"$f":"IFERROR(VLOOKUP($A81,Filtros!$A$5:$AY$22116,13,FALSE),0)","v":19},{"$f":"IFERROR(VLOOKUP($A81,Filtros!$A$5:$AY$22116,14,FALSE),0)","v":26},{"$f":"IFERROR(VLOOKUP($A81,Filtros!$A$5:$AY$22116,15,FALSE),0)","v":10},{"$f":"IFERROR(VLOOKUP($A81,Filtros!$A$5:$AY$22116,16,FALSE),0)","v":22},{"$f":"IFERROR(VLOOKUP($A81,Filtros!$A$5:$AY$22116,17,FALSE),0)","v":14},{"$f":"IFERROR(VLOOKUP($A81,Filtros!$A$5:$AY$22116,18,FALSE),0)","v":46},{"$f":"IFERROR(VLOOKUP($A81,Filtros!$A$5:$AY$22116,19,FALSE),0)","v":15},{"$f":"IFERROR(VLOOKUP($A81,Filtros!$A$5:$AY$22116,20,FALSE),0)","v":38},{"$f":"IFERROR(VLOOKUP($A81,Filtros!$A$5:$AY$22116,21,FALSE),0)","v":9},{"$f":"IFERROR(VLOOKUP($A81,Filtros!$A$5:$AY$22116,22,FALSE),0)","v":34},{"$f":"IFERROR(VLOOKUP($A81,Filtros!$A$5:$AY$22116,23,FALSE),0)","v":15},{"$f":"IFERROR(VLOOKUP($A81,Filtros!$A$5:$AY$22116,24,FALSE),0)","v":54},{"$f":"IFERROR(VLOOKUP($A81,Filtros!$A$5:$AY$22116,25,FALSE),0)","v":10},{"$f":"IFERROR(VLOOKUP($A81,Filtros!$A$5:$AY$22116,26,FALSE),0)","v":50},{"$f":"IFERROR(VLOOKUP($A81,Filtros!$A$5:$AY$22116,27,FALSE),0)","v":14},{"$f":"IFERROR(VLOOKUP($A81,Filtros!$A$5:$AY$22116,28,FALSE),0)","v":54},{"$f":"IFERROR(VLOOKUP($A81,Filtros!$A$5:$AY$22116,29,FALSE),0)","v":5},{"$f":"IFERROR(VLOOKUP($A81,Filtros!$A$5:$AY$22116,30,FALSE),0)","v":28},{"$f":"IFERROR(VLOOKUP($A81,Filtros!$A$5:$AY$22116,31,FALSE),0)","v":8},{"$f":"IFERROR(VLOOKUP($A81,Filtros!$A$5:$AY$22116,32,FALSE),0)","v":25},{"$f":"IFERROR(VLOOKUP($A81,Filtros!$A$5:$AY$22116,33,FALSE),0)","v":1},{"$f":"IFERROR(VLOOKUP($A81,Filtros!$A$5:$AY$22116,34,FALSE),0)","v":19},{"$f":"IFERROR(VLOOKUP($A81,Filtros!$A$5:$AY$22116,35,FALSE),0)","v":0},{"$f":"IFERROR(VLOOKUP($A81,Filtros!$A$5:$AY$22116,36,FALSE),0)","v":8},{"$f":"IFERROR(VLOOKUP($A81,Filtros!$A$5:$AY$22116,37,FALSE),0)","v":3},{"$f":"IFERROR(VLOOKUP($A81,Filtros!$A$5:$AY$22116,38,FALSE),0)","v":5},{"$f":"IFERROR(VLOOKUP($A81,Filtros!$A$5:$AY$22116,39,FALSE),0)","v":2},{"$f":"IFERROR(VLOOKUP($A81,Filtros!$A$5:$AY$22116,40,FALSE),0)","v":7},{"$f":"IFERROR(VLOOKUP($A81,Filtros!$A$5:$AY$22116,41,FALSE),0)","v":0},{"$f":"IFERROR(VLOOKUP($A81,Filtros!$A$5:$AY$22116,42,FALSE),0)","v":0},{"$f":"IFERROR(VLOOKUP($A81,Filtros!$A$5:$AY$22116,43,FALSE),0)","v":2},{"$f":"IFERROR(VLOOKUP($A81,Filtros!$A$5:$AY$22116,44,FALSE),0)","v":1},{"$f":"IFERROR(VLOOKUP($A81,Filtros!$A$5:$AY$22116,45,FALSE),0)","v":1},{"$f":"IFERROR(VLOOKUP($A81,Filtros!$A$5:$AY$22116,46,FALSE),0)","v":97},"",{"$nulls":35},{"$f":"IF($AO81>$F81,\"* La celda 'Gestantes' debe ser menor o igual al Total de Mujeres en control. \",\"\")","v":""},"",{"$f":"IF(($AQ81)>$E81,\"* La celda 'Pueblos Originarios / Hombres' debe ser menor o igual al Total de Hombres en control. \",\"\")","v":""},"",{"$f":"IF(($AS81)>$E81,\"* La celda 'Población Migrantes / Hombres' debe ser menor o igual al Total de Hombres en control. \",\"\")","v":""},"",{"$f":"IF($AU81>$D81,\"* La celda 'Población SENAME' debe ser menor o igual al Total de Personas en control. \",\"\")","v":""},{"$f":"IF(AND($D81<>0,$AO81=\"\"),\"* No olvide escribir en la celda de 'Gestantes' (Digite CERO si no tiene). \",\"\")","v":""},"",null,{"$f":"IF(AND($E81<>0,$AQ81=\"\"),\"* No olvide escribir en las celdas de 'Pueblos Originarios' (Digite CERO si no tiene). \",IF(AND($F81<>0,$AR81=\"\"),\"* No olvide escribir en las celdas de 'Pueblos Originarios' (Digite CERO si no tiene). \",\"\"))","v":""},{"$f":"IF(AND($E81<>0,$AS81=\"\"),\"* No olvide escribir en las celdas de 'Población Migrantes' (Digite CERO si no tiene). \",IF(AND($F81<>0,$AT81=\"\"),\"* No olvide escribir en las celdas de 'Población Migrantes' (Digite CERO si no tiene). \",\"\"))","v":""},{"$f":"IF(AND($D81<>0,$AU81=\"\"),\"* No olvide escribir en las celdas de 'Población SENAME' (Digite CERO si no tiene). \",\"\")","v":""},null,"","",{"$nulls":4},{"$f":"IF($AO81>$F81,1,0)","v":0},0,{"$f":"IF(($AQ81)>$E81,1,0)","v":0},0,{"$f":"IF(($AS81)>$E81,1,0)","v":0},0,{"$f":"IF($AU81>$D81,1,0)","v":0},{"$f":"IF(AND($D81<>0,$AO81=\"\"),1,0)","v":0},{"$f":"IF(AND($D81<>0,$AP81=\"\"),1,0)","v":0},null,{"$f":"IF(AND($E81<>0,$AQ81=\"\"),1,IF(AND($F81<>0,$AR81=\"\"),1,0))","v":0},{"$f":"IF(AND($E81<>0,$AS81=\"\"),1,IF(AND($F81<>0,$AT81=\"\"),1,0))","v":0},0,null,0,0]
["P6223230","TRASTORNOS MENTALES Y DEL COMPORTAMIENTO DEBIDO A CONSUMO SUSTANCIAS PSICOTROPICAS","CONSUMO PERJUDICIAL O DEPENDENCIA DE ALCOHOL \n",{"$f":"IFERROR(VLOOKUP($A82,Filtros!$A$5:$AY$22116,2,FALSE),0)","v":71},{"$f":"IFERROR(VLOOKUP($A82,Filtros!$A$5:$AY$22116,3,FALSE),0)","v":46},{"$f":"IFERROR(VLOOKUP($A82,Filtros!$A$5:$AY$22116,4,FALSE),0)","v":25},{"$f":"IFERROR(VLOOKUP($A82,Filtros!$A$5:$AY$22116,5,FALSE),0)","v":0},{"$f":"IFERROR(VLOOKUP($A82,Filtros!$A$5:$AY$22116,6,FALSE),0)","v":0},{"$f":"IFERROR(VLOOKUP($A82,Filtros!$A$5:$AY$22116,7,FALSE),0)","v":0},{"$f":"IFERROR(VLOOKUP($A82,Filtros!$A$5:$AY$22116,8,FALSE),0)","v":0},{"$f":"IFERROR(VLOOKUP($A82,Filtros!$A$5:$AY$22116,9,FALSE),0)","v":0},{"$f":"IFERROR(VLOOKUP($A82,Filtros!$A$5:$AY$22116,10,FALSE),0)","v":0},{"$f":"IFERROR(VLOOKUP($A82,Filtros!$A$5:$AY$22116,11,FALSE),0)","v":1},{"$f":"IFERROR(VLOOKUP($A82,Filtros!$A$5:$AY$22116,12,FALSE),0)","v":0},{"$f":"IFERROR(VLOOKUP($A82,Filtros!$A$5:$AY$22116,13,FALSE),0)","v":1},{"$f":"IFERROR(VLOOKUP($A82,Filtros!$A$5:$AY$22116,14,FALSE),0)","v":2},{"$f":"IFERROR(VLOOKUP($A82,Filtros!$A$5:$AY$22116,15,FALSE),0)","v":1},{"$f":"IFERROR(VLOOKUP($A82,Filtros!$A$5:$AY$22116,16,FALSE),0)","v":0},{"$f":"IFERROR(VLOOKUP($A82,Filtros!$A$5:$AY$22116,17,FALSE),0)","v":3},{"$f":"IFERROR(VLOOKUP($A82,Filtros!$A$5:$AY$22116,18,FALSE),0)","v":1},{"$f":"IFERROR(VLOOKUP($A82,Filtros!$A$5:$AY$22116,19,FALSE),0)","v":4},{"$f":"IFERROR(VLOOKUP($A82,Filtros!$A$5:$AY$22116,20,FALSE),0)","v":2},{"$f":"IFERROR(VLOOKUP($A82,Filtros!$A$5:$AY$22116,21,FALSE),0)","v":3},{"$f":"IFERROR(VLOOKUP($A82,Filtros!$A$5:$AY$22116,22,FALSE),0)","v":2},{"$f":"IFERROR(VLOOKUP($A82,Filtros!$A$5:$AY$22116,23,FALSE),0)","v":5},{"$f":"IFERROR(VLOOKUP($A82,Filtros!$A$5:$AY$22116,24,FALSE),0)","v":6},{"$f":"IFERROR(VLOOKUP($A82,Filtros!$A$5:$AY$22116,25,FALSE),0)","v":8},{"$f":"IFERROR(VLOOKUP($A82,Filtros!$A$5:$AY$22116,26,FALSE),0)","v":3},{"$f":"IFERROR(VLOOKUP($A82,Filtros!$A$5:$AY$22116,27,FALSE),0)","v":11},{"$f":"IFERROR(VLOOKUP($A82,Filtros!$A$5:$AY$22116,28,FALSE),0)","v":5},{"$f":"IFERROR(VLOOKUP($A82,Filtros!$A$5:$AY$22116,29,FALSE),0)","v":4},{"$f":"IFERROR(VLOOKUP($A82,Filtros!$A$5:$AY$22116,30,FALSE),0)","v":1},{"$f":"IFERROR(VLOOKUP($A82,Filtros!$A$5:$AY$22116,31,FALSE),0)","v":3},{"$f":"IFERROR(VLOOKUP($A82,Filtros!$A$5:$AY$22116,32,FALSE),0)","v":2},{"$f":"IFERROR(VLOOKUP($A82,Filtros!$A$5:$AY$22116,33,FALSE),0)","v":2},{"$f":"IFERROR(VLOOKUP($A82,Filtros!$A$5:$AY$22116,34,FALSE),0)","v":1},{"$f":"IFERROR(VLOOKUP($A82,Filtros!$A$5:$AY$22116,35,FALSE),0)","v":0},{"$f":"IFERROR(VLOOKUP($A82,Filtros!$A$5:$AY$22116,36,FALSE),0)","v":0},{"$f":"IFERROR(VLOOKUP($A82,Filtros!$A$5:$AY$22116,37,FALSE),0)","v":0},{"$f":"IFERROR(VLOOKUP($A82,Filtros!$A$5:$AY$22116,38,FALSE),0)","v":0},{"$f":"IFERROR(VLOOKUP($A82,Filtros!$A$5:$AY$22116,39,FALSE),0)","v":0},{"$f":"IFERROR(VLOOKUP($A82,Filtros!$A$5:$AY$22116,40,FALSE),0)","v":1},{"$f":"IFERROR(VLOOKUP($A82,Filtros!$A$5:$AY$22116,41,FALSE),0)","v":1},{"$f":"IFERROR(VLOOKUP($A82,Filtros!$A$5:$AY$22116,42,FALSE),0)","v":0},{"$f":"IFERROR(VLOOKUP($A82,Filtros!$A$5:$AY$22116,43,FALSE),0)","v":0},{"$f":"IFERROR(VLOOKUP($A82,Filtros!$A$5:$AY$22116,44,FALSE),0)","v":0},{"$f":"IFERROR(VLOOKUP($A82,Filtros!$A$5:$AY$22116,45,FALSE),0)","v":0},{"$f":"IFERROR(VLOOKUP($A82,Filtros!$A$5:$AY$22116,46,FALSE),0)","v":21},"",{"$nulls":35},{"$f":"IF($AO82>$F82,\"* La celda 'Gestantes' debe ser menor o igual al Total de Mujeres en control. \",\"\")","v":""},"","","","","","",{"$f":"IF(AND($D82<>0,$AO82=\"\"),\"* No olvide escribir en la celda de 'Gestantes' (Digite CERO si no tiene). \",\"\")","v":""},"",null,"","","",null,"","",{"$nulls":4},{"$f":"IF($AO82>$F82,1,0)","v":0},0,0,0,0,0,0,{"$f":"IF(AND($D82<>0,$AO82=\"\"),1,0)","v":0},{"$f":"IF(AND($D82<>0,$AP82=\"\"),1,0)","v":0},null,0,0,0,null,0,0]
["P6223240",null,"CONSUMO PERJUDICIAL O DEPENDENCIA COMO DROGA PRINCIPAL",{"$f":"IFERROR(VLOOKUP($A83,Filtros!$A$5:$AY$22116,2,FALSE),0)","v":103},{"$f":"IFERROR(VLOOKUP($A83,Filtros!$A$5:$AY$22116,3,FALSE),0)","v":67},{"$f":"IFERROR(VLOOKUP($A83,Filtros!$A$5:$AY$22116,4,FALSE),0)","v":36},{"$f":"IFERROR(VLOOKUP($A83,Filtros!$A$5:$AY$22116,5,FALSE),0)","v":0},{"$f":"IFERROR(VLOOKUP($A83,Filtros!$A$5:$AY$22116,6,FALSE),0)","v":0},{"$f":"IFERROR(VLOOKUP($A83,Filtros!$A$5:$AY$22116,7,FALSE),0)","v":0},{"$f":"IFERROR(VLOOKUP($A83,Filtros!$A$5:$AY$22116,8,FALSE),0)","v":0},{"$f":"IFERROR(VLOOKUP($A83,Filtros!$A$5:$AY$22116,9,FALSE),0)","v":0},{"$f":"IFERROR(VLOOKUP($A83,Filtros!$A$5:$AY$22116,10,FALSE),0)","v":0},{"$f":"IFERROR(VLOOKUP($A83,Filtros!$A$5:$AY$22116,11,FALSE),0)","v":4},{"$f":"IFERROR(VLOOKUP($A83,Filtros!$A$5:$AY$22116,12,FALSE),0)","v":1},{"$f":"IFERROR(VLOOKUP($A83,Filtros!$A$5:$AY$22116,13,FALSE),0)","v":18},{"$f":"IFERROR(VLOOKUP($A83,Filtros!$A$5:$AY$22116,14,FALSE),0)","v":8},{"$f":"IFERROR(VLOOKUP($A83,Filtros!$A$5:$AY$22116,15,FALSE),0)","v":12},{"$f":"IFERROR(VLOOKUP($A83,Filtros!$A$5:$AY$22116,16,FALSE),0)","v":3},{"$f":"IFERROR(VLOOKUP($A83,Filtros!$A$5:$AY$22116,17,FALSE),0)","v":9},{"$f":"IFERROR(VLOOKUP($A83,Filtros!$A$5:$AY$22116,18,FALSE),0)","v":7},{"$f":"IFERROR(VLOOKUP($A83,Filtros!$A$5:$AY$22116,19,FALSE),0)","v":8},{"$f":"IFERROR(VLOOKUP($A83,Filtros!$A$5:$AY$22116,20,FALSE),0)","v":8},{"$f":"IFERROR(VLOOKUP($A83,Filtros!$A$5:$AY$22116,21,FALSE),0)","v":6},{"$f":"IFERROR(VLOOKUP($A83,Filtros!$A$5:$AY$22116,22,FALSE),0)","v":2},{"$f":"IFERROR(VLOOKUP($A83,Filtros!$A$5:$AY$22116,23,FALSE),0)","v":3},{"$f":"IFERROR(VLOOKUP($A83,Filtros!$A$5:$AY$22116,24,FALSE),0)","v":1},{"$f":"IFERROR(VLOOKUP($A83,Filtros!$A$5:$AY$22116,25,FALSE),0)","v":5},{"$f":"IFERROR(VLOOKUP($A83,Filtros!$A$5:$AY$22116,26,FALSE),0)","v":2},{"$f":"IFERROR(VLOOKUP($A83,Filtros!$A$5:$AY$22116,27,FALSE),0)","v":1},{"$f":"IFERROR(VLOOKUP($A83,Filtros!$A$5:$AY$22116,28,FALSE),0)","v":2},{"$f":"IFERROR(VLOOKUP($A83,Filtros!$A$5:$AY$22116,29,FALSE),0)","v":1},{"$f":"IFERROR(VLOOKUP($A83,Filtros!$A$5:$AY$22116,30,FALSE),0)","v":1},{"$f":"IFERROR(VLOOKUP($A83,Filtros!$A$5:$AY$22116,31,FALSE),0)","v":0},{"$f":"IFERROR(VLOOKUP($A83,Filtros!$A$5:$AY$22116,32,FALSE),0)","v":1},{"$f":"IFERROR(VLOOKUP($A83,Filtros!$A$5:$AY$22116,33,FALSE),0)","v":0},{"$f":"IFERROR(VLOOKUP($A83,Filtros!$A$5:$AY$22116,34,FALSE),0)","v":0},{"$f":"IFERROR(VLOOKUP($A83,Filtros!$A$5:$AY$22116,35,FALSE),0)","v":0},{"$f":"IFERROR(VLOOKUP($A83,Filtros!$A$5:$AY$22116,36,FALSE),0)","v":0},{"$f":"IFERROR(VLOOKUP($A83,Filtros!$A$5:$AY$22116,37,FALSE),0)","v":0},{"$f":"IFERROR(VLOOKUP($A83,Filtros!$A$5:$AY$22116,38,FALSE),0)","v":0},{"$f":"IFERROR(VLOOKUP($A83,Filtros!$A$5:$AY$22116,39,FALSE),0)","v":1},{"$f":"IFERROR(VLOOKUP($A83,Filtros!$A$5:$AY$22116,40,FALSE),0)","v":1},{"$f":"IFERROR(VLOOKUP($A83,Filtros!$A$5:$AY$22116,41,FALSE),0)","v":0},{"$f":"IFERROR(VLOOKUP($A83,Filtros!$A$5:$AY$22116,42,FALSE),0)","v":0},{"$f":"IFERROR(VLOOKUP($A83,Filtros!$A$5:$AY$22116,43,FALSE),0)","v":0},{"$f":"IFERROR(VLOOKUP($A83,Filtros!$A$5:$AY$22116,44,FALSE),0)","v":0},{"$f":"IFERROR(VLOOKUP($A83,Filtros!$A$5:$AY$22116,45,FALSE),0)","v":0},{"$f":"IFERROR(VLOOKUP($A83,Filtros!$A$5:$AY$22116,46,FALSE),0)","v":23},"",{"$nulls":35},{"$f":"IF($AO83>$F83,\"* La celda 'Gestantes' debe ser menor o igual al Total de Mujeres en control. \",\"\")","v":""},"","","","","","",{"$f":"IF(AND($D83<>0,$AO83=\"\"),\"* No olvide escribir en la celda de 'Gestantes' (Digite CERO si no tiene). \",\"\")","v":""},"",null,"","","",null,"","",{"$nulls":4},{"$f":"IF($AO83>$F83,1,0)","v":0},0,0,0,0,0,0,{"$f":"IF(AND($D83<>0,$AO83=\"\"),1,0)","v":0},{"$f":"IF(AND($D83<>0,$AP83=\"\"),1,0)","v":0},null,0,0,0,null,0,0]
["P6223250",null,"POLICONSUMO",{"$f":"IFERROR(VLOOKUP($A84,Filtros!$A$5:$AY$22116,2,FALSE),0)","v":105},{"$f":"IFERROR(VLOOKUP($A84,Filtros!$A$5:$AY$22116,3,FALSE),0)","v":65},{"$f":"IFERROR(VLOOKUP($A84,Filtros!$A$5:$AY$22116,4,FALSE),0)","v":40},{"$f":"IFERROR(VLOOKUP($A84,Filtros!$A$5:$AY$22116,5,FALSE),0)","v":0},{"$f":"IFERROR(VLOOKUP($A84,Filtros!$A$5:$AY$22116,6,FALSE),0)","v":0},{"$f":"IFERROR(VLOOKUP($A84,Filtros!$A$5:$AY$22116,7,FALSE),0)","v":0},{"$f":"IFERROR(VLOOKUP($A84,Filtros!$A$5:$AY$22116,8,FALSE),0)","v":0},{"$f":"IFERROR(VLOOKUP($A84,Filtros!$A$5:$AY$22116,9,FALSE),0)","v":2},{"$f":"IFERROR(VLOOKUP($A84,Filtros!$A$5:$AY$22116,10,FALSE),0)","v":0},{"$f":"IFERROR(VLOOKUP($A84,Filtros!$A$5:$AY$22116,11,FALSE),0)","v":5},{"$f":"IFERROR(VLOOKUP($A84,Filtros!$A$5:$AY$22116,12,FALSE),0)","v":1},{"$f":"IFERROR(VLOOKUP($A84,Filtros!$A$5:$AY$22116,13,FALSE),0)","v":9},{"$f":"IFERROR(VLOOKUP($A84,Filtros!$A$5:$AY$22116,14,FALSE),0)","v":6},{"$f":"IFERROR(VLOOKUP($A84,Filtros!$A$5:$AY$22116,15,FALSE),0)","v":10},{"$f":"IFERROR(VLOOKUP($A84,Filtros!$A$5:$AY$22116,16,FALSE),0)","v":6},{"$f":"IFERROR(VLOOKUP($A84,Filtros!$A$5:$AY$22116,17,FALSE),0)","v":8},{"$f":"IFERROR(VLOOKUP($A84,Filtros!$A$5:$AY$22116,18,FALSE),0)","v":1},{"$f":"IFERROR(VLOOKUP($A84,Filtros!$A$5:$AY$22116,19,FALSE),0)","v":10},{"$f":"IFERROR(VLOOKUP($A84,Filtros!$A$5:$AY$22116,20,FALSE),0)","v":6},{"$f":"IFERROR(VLOOKUP($A84,Filtros!$A$5:$AY$22116,21,FALSE),0)","v":6},{"$f":"IFERROR(VLOOKUP($A84,Filtros!$A$5:$AY$22116,22,FALSE),0)","v":10},{"$f":"IFERROR(VLOOKUP($A84,Filtros!$A$5:$AY$22116,23,FALSE),0)","v":6},{"$f":"IFERROR(VLOOKUP($A84,Filtros!$A$5:$AY$22116,24,FALSE),0)","v":3},{"$f":"IFERROR(VLOOKUP($A84,Filtros!$A$5:$AY$22116,25,FALSE),0)","v":2},{"$f":"IFERROR(VLOOKUP($A84,Filtros!$A$5:$AY$22116,26,FALSE),0)","v":3},{"$f":"IFERROR(VLOOKUP($A84,Filtros!$A$5:$AY$22116,27,FALSE),0)","v":6},{"$f":"IFERROR(VLOOKUP($A84,Filtros!$A$5:$AY$22116,28,FALSE),0)","v":4},{"$f":"IFERROR(VLOOKUP($A84,Filtros!$A$5:$AY$22116,29,FALSE),0)","v":1},{"$f":"IFERROR(VLOOKUP($A84,Filtros!$A$5:$AY$22116,30,FALSE),0)","v":0},{"$f":"IFERROR(VLOOKUP($A84,Filtros!$A$5:$AY$22116,31,FALSE),0)","v":0},{"$f":"IFERROR(VLOOKUP($A84,Filtros!$A$5:$AY$22116,32,FALSE),0)","v":0},{"$f":"IFERROR(VLOOKUP($A84,Filtros!$A$5:$AY$22116,33,FALSE),0)","v":0},{"$f":"IFERROR(VLOOKUP($A84,Filtros!$A$5:$AY$22116,34,FALSE),0)","v":0},{"$f":"IFERROR(VLOOKUP($A84,Filtros!$A$5:$AY$22116,35,FALSE),0)","v":0},{"$f":"IFERROR(VLOOKUP($A84,Filtros!$A$5:$AY$22116,36,FALSE),0)","v":0},{"$f":"IFERROR(VLOOKUP($A84,Filtros!$A$5:$AY$22116,37,FALSE),0)","v":0},{"$f":"IFERROR(VLOOKUP($A84,Filtros!$A$5:$AY$22116,38,FALSE),0)","v":0},{"$f":"IFERROR(VLOOKUP($A84,Filtros!$A$5:$AY$22116,39,FALSE),0)","v":1},{"$f":"IFERROR(VLOOKUP($A84,Filtros!$A$5:$AY$22116,40,FALSE),0)","v":1},{"$f":"IFERROR(VLOOKUP($A84,Filtros!$A$5:$AY$22116,41,FALSE),0)","v":0},{"$f":"IFERROR(VLOOKUP($A84,Filtros!$A$5:$AY$22116,42,FALSE),0)","v":0},{"$f":"IFERROR(VLOOKUP($A84,Filtros!$A$5:$AY$22116,43,FALSE),0)","v":1},{"$f":"IFERROR(VLOOKUP($A84,Filtros!$A$5:$AY$22116,44,FALSE),0)","v":0},{"$f":"IFERROR(VLOOKUP($A84,Filtros!$A$5:$AY$22116,45,FALSE),0)","v":3},{"$f":"IFERROR(VLOOKUP($A84,Filtros!$A$5:$AY$22116,46,FALSE),0)","v":31},"",{"$nulls":35},{"$f":"IF($AO84>$F84,\"* La celda 'Gestantes' debe ser menor o igual al Total de Mujeres en control. \",\"\")","v":""},"","","","","","",{"$f":"IF(AND($D84<>0,$AO84=\"\"),\"* No olvide escribir en la celda de 'Gestantes' (Digite CERO si no tiene). \",\"\")","v":""},"",null,"","","",null,"","",{"$nulls":4},{"$f":"IF($AO84>$F84,1,0)","v":0},0,0,0,0,0,0,{"$f":"IF(AND($D84<>0,$AO84=\"\"),1,0)","v":0},{"$f":"IF(AND($D84<>0,$AP84=\"\"),1,0)","v":0},null,0,0,0,null,0,0]
["P6223260","TRASTORNOS DEL COMPORTAMIENTO Y DE LAS EMOCIONES DE COMIENZO HABITUAL EN LA INFANCIA Y ADOLESCENCIA","TRASTORNO HIPERCINÉTICO",{"$f":"IFERROR(VLOOKUP($A85,Filtros!$A$5:$AY$22116,2,FALSE),0)","v":148},{"$f":"IFERROR(VLOOKUP($A85,Filtros!$A$5:$AY$22116,3,FALSE),0)","v":123},{"$f":"IFERROR(VLOOKUP($A85,Filtros!$A$5:$AY$22116,4,FALSE),0)","v":25},{"$f":"IFERROR(VLOOKUP($A85,Filtros!$A$5:$AY$22116,5,FALSE),0)","v":0},{"$f":"IFERROR(VLOOKUP($A85,Filtros!$A$5:$AY$22116,6,FALSE),0)","v":1},{"$f":"IFERROR(VLOOKUP($A85,Filtros!$A$5:$AY$22116,7,FALSE),0)","v":47},{"$f":"IFERROR(VLOOKUP($A85,Filtros!$A$5:$AY$22116,8,FALSE),0)","v":12},{"$f":"IFERROR(VLOOKUP($A85,Filtros!$A$5:$AY$22116,9,FALSE),0)","v":65},{"$f":"IFERROR(VLOOKUP($A85,Filtros!$A$5:$AY$22116,10,FALSE),0)","v":9},{"$f":"IFERROR(VLOOKUP($A85,Filtros!$A$5:$AY$22116,11,FALSE),0)","v":11},{"$f":"IFERROR(VLOOKUP($A85,Filtros!$A$5:$AY$22116,12,FALSE),0)","v":3},{"$f":"IFERROR(VLOOKUP($A85,Filtros!$A$5:$AY$22116,13,FALSE),0)","v":0},{"$f":"IFERROR(VLOOKUP($A85,Filtros!$A$5:$AY$22116,14,FALSE),0)","v":0},{"$f":"IFERROR(VLOOKUP($A85,Filtros!$A$5:$AY$22116,15,FALSE),0)","v":0},{"$f":"IFERROR(VLOOKUP($A85,Filtros!$A$5:$AY$22116,16,FALSE),0)","v":0},{"$f":"IFERROR(VLOOKUP($A85,Filtros!$A$5:$AY$22116,17,FALSE),0)","v":0},{"$f":"IFERROR(VLOOKUP($A85,Filtros!$A$5:$AY$22116,18,FALSE),0)","v":0},{"$f":"IFERROR(VLOOKUP($A85,Filtros!$A$5:$AY$22116,19,FALSE),0)","v":0},{"$f":"IFERROR(VLOOKUP($A85,Filtros!$A$5:$AY$22116,20,FALSE),0)","v":0},{"$f":"IFERROR(VLOOKUP($A85,Filtros!$A$5:$AY$22116,21,FALSE),0)","v":0},{"$f":"IFERROR(VLOOKUP($A85,Filtros!$A$5:$AY$22116,22,FALSE),0)","v":0},{"$f":"IFERROR(VLOOKUP($A85,Filtros!$A$5:$AY$22116,23,FALSE),0)","v":0},{"$f":"IFERROR(VLOOKUP($A85,Filtros!$A$5:$AY$22116,24,FALSE),0)","v":0},{"$f":"IFERROR(VLOOKUP($A85,Filtros!$A$5:$AY$22116,25,FALSE),0)","v":0},{"$f":"IFERROR(VLOOKUP($A85,Filtros!$A$5:$AY$22116,26,FALSE),0)","v":0},{"$f":"IFERROR(VLOOKUP($A85,Filtros!$A$5:$AY$22116,27,FALSE),0)","v":0},{"$f":"IFERROR(VLOOKUP($A85,Filtros!$A$5:$AY$22116,28,FALSE),0)","v":0},{"$f":"IFERROR(VLOOKUP($A85,Filtros!$A$5:$AY$22116,29,FALSE),0)","v":0},{"$f":"IFERROR(VLOOKUP($A85,Filtros!$A$5:$AY$22116,30,FALSE),0)","v":0},{"$f":"IFERROR(VLOOKUP($A85,Filtros!$A$5:$AY$22116,31,FALSE),0)","v":0},{"$f":"IFERROR(VLOOKUP($A85,Filtros!$A$5:$AY$22116,32,FALSE),0)","v":0},{"$f":"IFERROR(VLOOKUP($A85,Filtros!$A$5:$AY$22116,33,FALSE),0)","v":0},{"$f":"IFERROR(VLOOKUP($A85,Filtros!$A$5:$AY$22116,34,FALSE),0)","v":0},{"$f":"IFERROR(VLOOKUP($A85,Filtros!$A$5:$AY$22116,35,FALSE),0)","v":0},{"$f":"IFERROR(VLOOKUP($A85,Filtros!$A$5:$AY$22116,36,FALSE),0)","v":0},{"$f":"IFERROR(VLOOKUP($A85,Filtros!$A$5:$AY$22116,37,FALSE),0)","v":0},{"$f":"IFERROR(VLOOKUP($A85,Filtros!$A$5:$AY$22116,38,FALSE),0)","v":0},{"$f":"IFERROR(VLOOKUP($A85,Filtros!$A$5:$AY$22116,39,FALSE),0)","v":0},{"$f":"IFERROR(VLOOKUP($A85,Filtros!$A$5:$AY$22116,40,FALSE),0)","v":0},{"$f":"IFERROR(VLOOKUP($A85,Filtros!$A$5:$AY$22116,41,FALSE),0)","v":1},{"$f":"IFERROR(VLOOKUP($A85,Filtros!$A$5:$AY$22116,42,FALSE),0)","v":0},{"$f":"IFERROR(VLOOKUP($A85,Filtros!$A$5:$AY$22116,43,FALSE),0)","v":0},{"$f":"IFERROR(VLOOKUP($A85,Filtros!$A$5:$AY$22116,44,FALSE),0)","v":0},{"$f":"IFERROR(VLOOKUP($A85,Filtros!$A$5:$AY$22116,45,FALSE),0)","v":15},{"$f":"IFERROR(VLOOKUP($A85,Filtros!$A$5:$AY$22116,46,FALSE),0)","v":32},"",{"$nulls":37},"","","","","",{"$nulls":3},"","","",null,"","",{"$nulls":6},0,0,0,0,0,{"$nulls":3},0,0,0,null,0,0]
["P6223270",null,"TRASTORNO DISOCIAL DESAFIANTE Y OPOSICIONISTA",{"$f":"IFERROR(VLOOKUP($A86,Filtros!$A$5:$AY$22116,2,FALSE),0)","v":14},{"$f":"IFERROR(VLOOKUP($A86,Filtros!$A$5:$AY$22116,3,FALSE),0)","v":11},{"$f":"IFERROR(VLOOKUP($A86,Filtros!$A$5:$AY$22116,4,FALSE),0)","v":3},{"$f":"IFERROR(VLOOKUP($A86,Filtros!$A$5:$AY$22116,5,FALSE),0)","v":0},{"$f":"IFERROR(VLOOKUP($A86,Filtros!$A$5:$AY$22116,6,FALSE),0)","v":0},{"$f":"IFERROR(VLOOKUP($A86,Filtros!$A$5:$AY$22116,7,FALSE),0)","v":2},{"$f":"IFERROR(VLOOKUP($A86,Filtros!$A$5:$AY$22116,8,FALSE),0)","v":0},{"$f":"IFERROR(VLOOKUP($A86,Filtros!$A$5:$AY$22116,9,FALSE),0)","v":7},{"$f":"IFERROR(VLOOKUP($A86,Filtros!$A$5:$AY$22116,10,FALSE),0)","v":3},{"$f":"IFERROR(VLOOKUP($A86,Filtros!$A$5:$AY$22116,11,FALSE),0)","v":2},{"$f":"IFERROR(VLOOKUP($A86,Filtros!$A$5:$AY$22116,12,FALSE),0)","v":0},{"$f":"IFERROR(VLOOKUP($A86,Filtros!$A$5:$AY$22116,13,FALSE),0)","v":0},{"$f":"IFERROR(VLOOKUP($A86,Filtros!$A$5:$AY$22116,14,FALSE),0)","v":0},{"$f":"IFERROR(VLOOKUP($A86,Filtros!$A$5:$AY$22116,15,FALSE),0)","v":0},{"$f":"IFERROR(VLOOKUP($A86,Filtros!$A$5:$AY$22116,16,FALSE),0)","v":0},{"$f":"IFERROR(VLOOKUP($A86,Filtros!$A$5:$AY$22116,17,FALSE),0)","v":0},{"$f":"IFERROR(VLOOKUP($A86,Filtros!$A$5:$AY$22116,18,FALSE),0)","v":0},{"$f":"IFERROR(VLOOKUP($A86,Filtros!$A$5:$AY$22116,19,FALSE),0)","v":0},{"$f":"IFERROR(VLOOKUP($A86,Filtros!$A$5:$AY$22116,20,FALSE),0)","v":0},{"$f":"IFERROR(VLOOKUP($A86,Filtros!$A$5:$AY$22116,21,FALSE),0)","v":0},{"$f":"IFERROR(VLOOKUP($A86,Filtros!$A$5:$AY$22116,22,FALSE),0)","v":0},{"$f":"IFERROR(VLOOKUP($A86,Filtros!$A$5:$AY$22116,23,FALSE),0)","v":0},{"$f":"IFERROR(VLOOKUP($A86,Filtros!$A$5:$AY$22116,24,FALSE),0)","v":0},{"$f":"IFERROR(VLOOKUP($A86,Filtros!$A$5:$AY$22116,25,FALSE),0)","v":0},{"$f":"IFERROR(VLOOKUP($A86,Filtros!$A$5:$AY$22116,26,FALSE),0)","v":0},{"$f":"IFERROR(VLOOKUP($A86,Filtros!$A$5:$AY$22116,27,FALSE),0)","v":0},{"$f":"IFERROR(VLOOKUP($A86,Filtros!$A$5:$AY$22116,28,FALSE),0)","v":0},{"$f":"IFERROR(VLOOKUP($A86,Filtros!$A$5:$AY$22116,29,FALSE),0)","v":0},{"$f":"IFERROR(VLOOKUP($A86,Filtros!$A$5:$AY$22116,30,FALSE),0)","v":0},{"$f":"IFERROR(VLOOKUP($A86,Filtros!$A$5:$AY$22116,31,FALSE),0)","v":0},{"$f":"IFERROR(VLOOKUP($A86,Filtros!$A$5:$AY$22116,32,FALSE),0)","v":0},{"$f":"IFERROR(VLOOKUP($A86,Filtros!$A$5:$AY$22116,33,FALSE),0)","v":0},{"$f":"IFERROR(VLOOKUP($A86,Filtros!$A$5:$AY$22116,34,FALSE),0)","v":0},{"$f":"IFERROR(VLOOKUP($A86,Filtros!$A$5:$AY$22116,35,FALSE),0)","v":0},{"$f":"IFERROR(VLOOKUP($A86,Filtros!$A$5:$AY$22116,36,FALSE),0)","v":0},{"$f":"IFERROR(VLOOKUP($A86,Filtros!$A$5:$AY$22116,37,FALSE),0)","v":0},{"$f":"IFERROR(VLOOKUP($A86,Filtros!$A$5:$AY$22116,38,FALSE),0)","v":0},{"$f":"IFERROR(VLOOKUP($A86,Filtros!$A$5:$AY$22116,39,FALSE),0)","v":0},{"$f":"IFERROR(VLOOKUP($A86,Filtros!$A$5:$AY$22116,40,FALSE),0)","v":0},{"$f":"IFERROR(VLOOKUP($A86,Filtros!$A$5:$AY$22116,41,FALSE),0)","v":0},{"$f":"IFERROR(VLOOKUP($A86,Filtros!$A$5:$AY$22116,42,FALSE),0)","v":0},{"$f":"IFERROR(VLOOKUP($A86,Filtros!$A$5:$AY$22116,43,FALSE),0)","v":0},{"$f":"IFERROR(VLOOKUP($A86,Filtros!$A$5:$AY$22116,44,FALSE),0)","v":0},{"$f":"IFERROR(VLOOKUP($A86,Filtros!$A$5:$AY$22116,45,FALSE),0)","v":6},{"$f":"IFERROR(VLOOKUP($A86,Filtros!$A$5:$AY$22116,46,FALSE),0)","v":0},"",{"$nulls":37},"","","","","",{"$nulls":3},"","","",null,"","",{"$nulls":6},0,0,0,0,0,{"$nulls":3},0,0,0,null,0,0]
["P6223280",null,"TRASTORNO DE ANSIEDAD DE SEPARACIÓN EN LA INFANCIA",{"$f":"IFERROR(VLOOKUP($A87,Filtros!$A$5:$AY$22116,2,FALSE),0)","v":3},{"$f":"IFERROR(VLOOKUP($A87,Filtros!$A$5:$AY$22116,3,FALSE),0)","v":1},{"$f":"IFERROR(VLOOKUP($A87,Filtros!$A$5:$AY$22116,4,FALSE),0)","v":2},{"$f":"IFERROR(VLOOKUP($A87,Filtros!$A$5:$AY$22116,5,FALSE),0)","v":0},{"$f":"IFERROR(VLOOKUP($A87,Filtros!$A$5:$AY$22116,6,FALSE),0)","v":1},{"$f":"IFERROR(VLOOKUP($A87,Filtros!$A$5:$AY$22116,7,FALSE),0)","v":1},{"$f":"IFERROR(VLOOKUP($A87,Filtros!$A$5:$AY$22116,8,FALSE),0)","v":1},{"$f":"IFERROR(VLOOKUP($A87,Filtros!$A$5:$AY$22116,9,FALSE),0)","v":0},{"$f":"IFERROR(VLOOKUP($A87,Filtros!$A$5:$AY$22116,10,FALSE),0)","v":0},{"$f":"IFERROR(VLOOKUP($A87,Filtros!$A$5:$AY$22116,11,FALSE),0)","v":0},{"$f":"IFERROR(VLOOKUP($A87,Filtros!$A$5:$AY$22116,12,FALSE),0)","v":0},{"$f":"IFERROR(VLOOKUP($A87,Filtros!$A$5:$AY$22116,13,FALSE),0)","v":0},{"$f":"IFERROR(VLOOKUP($A87,Filtros!$A$5:$AY$22116,14,FALSE),0)","v":0},{"$f":"IFERROR(VLOOKUP($A87,Filtros!$A$5:$AY$22116,15,FALSE),0)","v":0},{"$f":"IFERROR(VLOOKUP($A87,Filtros!$A$5:$AY$22116,16,FALSE),0)","v":0},{"$f":"IFERROR(VLOOKUP($A87,Filtros!$A$5:$AY$22116,17,FALSE),0)","v":0},{"$f":"IFERROR(VLOOKUP($A87,Filtros!$A$5:$AY$22116,18,FALSE),0)","v":0},{"$f":"IFERROR(VLOOKUP($A87,Filtros!$A$5:$AY$22116,19,FALSE),0)","v":0},{"$f":"IFERROR(VLOOKUP($A87,Filtros!$A$5:$AY$22116,20,FALSE),0)","v":0},{"$f":"IFERROR(VLOOKUP($A87,Filtros!$A$5:$AY$22116,21,FALSE),0)","v":0},{"$f":"IFERROR(VLOOKUP($A87,Filtros!$A$5:$AY$22116,22,FALSE),0)","v":0},{"$f":"IFERROR(VLOOKUP($A87,Filtros!$A$5:$AY$22116,23,FALSE),0)","v":0},{"$f":"IFERROR(VLOOKUP($A87,Filtros!$A$5:$AY$22116,24,FALSE),0)","v":0},{"$f":"IFERROR(VLOOKUP($A87,Filtros!$A$5:$AY$22116,25,FALSE),0)","v":0},{"$f":"IFERROR(VLOOKUP($A87,Filtros!$A$5:$AY$22116,26,FALSE),0)","v":0},{"$f":"IFERROR(VLOOKUP($A87,Filtros!$A$5:$AY$22116,27,FALSE),0)","v":0},{"$f":"IFERROR(VLOOKUP($A87,Filtros!$A$5:$AY$22116,28,FALSE),0)","v":0},{"$f":"IFERROR(VLOOKUP($A87,Filtros!$A$5:$AY$22116,29,FALSE),0)","v":0},{"$f":"IFERROR(VLOOKUP($A87,Filtros!$A$5:$AY$22116,30,FALSE),0)","v":0},{"$f":"IFERROR(VLOOKUP($A87,Filtros!$A$5:$AY$22116,31,FALSE),0)","v":0},{"$f":"IFERROR(VLOOKUP($A87,Filtros!$A$5:$AY$22116,32,FALSE),0)","v":0},{"$f":"IFERROR(VLOOKUP($A87,Filtros!$A$5:$AY$22116,33,FALSE),0)","v":0},{"$f":"IFERROR(VLOOKUP($A87,Filtros!$A$5:$AY$22116,34,FALSE),0)","v":0},{"$f":"IFERROR(VLOOKUP($A87,Filtros!$A$5:$AY$22116,35,FALSE),0)","v":0},{"$f":"IFERROR(VLOOKUP($A87,Filtros!$A$5:$AY$22116,36,FALSE),0)","v":0},{"$f":"IFERROR(VLOOKUP($A87,Filtros!$A$5:$AY$22116,37,FALSE),0)","v":0},{"$f":"IFERROR(VLOOKUP($A87,Filtros!$A$5:$AY$22116,38,FALSE),0)","v":0},{"$f":"IFERROR(VLOOKUP($A87,Filtros!$A$5:$AY$22116,39,FALSE),0)","v":0},{"$f":"IFERROR(VLOOKUP($A87,Filtros!$A$5:$AY$22116,40,FALSE),0)","v":0},{"$f":"IFERROR(VLOOKUP($A87,Filtros!$A$5:$AY$22116,41,FALSE),0)","v":0},{"$f":"IFERROR(VLOOKUP($A87,Filtros!$A$5:$AY$22116,42,FALSE),0)","v":0},{"$f":"IFERROR(VLOOKUP($A87,Filtros!$A$5:$AY$22116,43,FALSE),0)","v":0},{"$f":"IFERROR(VLOOKUP($A87,Filtros!$A$5:$AY$22116,44,FALSE),0)","v":0},{"$f":"IFERROR(VLOOKUP($A87,Filtros!$A$5:$AY$22116,45,FALSE),0)","v":0},{"$f":"IFERROR(VLOOKUP($A87,Filtros!$A$5:$AY$22116,46,FALSE),0)","v":1},"",{"$nulls":37},"","","","","",{"$nulls":3},"","","",null,"","",{"$nulls":6},0,0,0,0,0,{"$nulls":3},0,0,0,null,0,0]
["P6223290",null,"OTROS TRASTORNOS DEL COMPORTAMIENTO Y DE LAS EMOCIONES DE COMIENZO HABITUAL EN LA INFANCIA Y ADOLESCENCIA",{"$f":"IFERROR(VLOOKUP($A88,Filtros!$A$5:$AY$22116,2,FALSE),0)","v":246},{"$f":"IFERROR(VLOOKUP($A88,Filtros!$A$5:$AY$22116,3,FALSE),0)","v":113},{"$f":"IFERROR(VLOOKUP($A88,Filtros!$A$5:$AY$22116,4,FALSE),0)","v":133},{"$f":"IFERROR(VLOOKUP($A88,Filtros!$A$5:$AY$22116,5,FALSE),0)","v":1},{"$f":"IFERROR(VLOOKUP($A88,Filtros!$A$5:$AY$22116,6,FALSE),0)","v":1},{"$f":"IFERROR(VLOOKUP($A88,Filtros!$A$5:$AY$22116,7,FALSE),0)","v":39},{"$f":"IFERROR(VLOOKUP($A88,Filtros!$A$5:$AY$22116,8,FALSE),0)","v":21},{"$f":"IFERROR(VLOOKUP($A88,Filtros!$A$5:$AY$22116,9,FALSE),0)","v":40},{"$f":"IFERROR(VLOOKUP($A88,Filtros!$A$5:$AY$22116,10,FALSE),0)","v":62},{"$f":"IFERROR(VLOOKUP($A88,Filtros!$A$5:$AY$22116,11,FALSE),0)","v":32},{"$f":"IFERROR(VLOOKUP($A88,Filtros!$A$5:$AY$22116,12,FALSE),0)","v":48},{"$f":"IFERROR(VLOOKUP($A88,Filtros!$A$5:$AY$22116,13,FALSE),0)","v":1},{"$f":"IFERROR(VLOOKUP($A88,Filtros!$A$5:$AY$22116,14,FALSE),0)","v":1},{"$f":"IFERROR(VLOOKUP($A88,Filtros!$A$5:$AY$22116,15,FALSE),0)","v":0},{"$f":"IFERROR(VLOOKUP($A88,Filtros!$A$5:$AY$22116,16,FALSE),0)","v":0},{"$f":"IFERROR(VLOOKUP($A88,Filtros!$A$5:$AY$22116,17,FALSE),0)","v":0},{"$f":"IFERROR(VLOOKUP($A88,Filtros!$A$5:$AY$22116,18,FALSE),0)","v":0},{"$f":"IFERROR(VLOOKUP($A88,Filtros!$A$5:$AY$22116,19,FALSE),0)","v":0},{"$f":"IFERROR(VLOOKUP($A88,Filtros!$A$5:$AY$22116,20,FALSE),0)","v":0},{"$f":"IFERROR(VLOOKUP($A88,Filtros!$A$5:$AY$22116,21,FALSE),0)","v":0},{"$f":"IFERROR(VLOOKUP($A88,Filtros!$A$5:$AY$22116,22,FALSE),0)","v":0},{"$f":"IFERROR(VLOOKUP($A88,Filtros!$A$5:$AY$22116,23,FALSE),0)","v":0},{"$f":"IFERROR(VLOOKUP($A88,Filtros!$A$5:$AY$22116,24,FALSE),0)","v":0},{"$f":"IFERROR(VLOOKUP($A88,Filtros!$A$5:$AY$22116,25,FALSE),0)","v":0},{"$f":"IFERROR(VLOOKUP($A88,Filtros!$A$5:$AY$22116,26,FALSE),0)","v":0},{"$f":"IFERROR(VLOOKUP($A88,Filtros!$A$5:$AY$22116,27,FALSE),0)","v":0},{"$f":"IFERROR(VLOOKUP($A88,Filtros!$A$5:$AY$22116,28,FALSE),0)","v":0},{"$f":"IFERROR(VLOOKUP($A88,Filtros!$A$5:$AY$22116,29,FALSE),0)","v":0},{"$f":"IFERROR(VLOOKUP($A88,Filtros!$A$5:$AY$22116,30,FALSE),0)","v":0},{"$f":"IFERROR(VLOOKUP($A88,Filtros!$A$5:$AY$22116,31,FALSE),0)","v":0},{"$f":"IFERROR(VLOOKUP($A88,Filtros!$A$5:$AY$22116,32,FALSE),0)","v":0},{"$f":"IFERROR(VLOOKUP($A88,Filtros!$A$5:$AY$22116,33,FALSE),0)","v":0},{"$f":"IFERROR(VLOOKUP($A88,Filtros!$A$5:$AY$22116,34,FALSE),0)","v":0},{"$f":"IFERROR(VLOOKUP($A88,Filtros!$A$5:$AY$22116,35,FALSE),0)","v":0},{"$f":"IFERROR(VLOOKUP($A88,Filtros!$A$5:$AY$22116,36,FALSE),0)","v":0},{"$f":"IFERROR(VLOOKUP($A88,Filtros!$A$5:$AY$22116,37,FALSE),0)","v":0},{"$f":"IFERROR(VLOOKUP($A88,Filtros!$A$5:$AY$22116,38,FALSE),0)","v":0},{"$f":"IFERROR(VLOOKUP($A88,Filtros!$A$5:$AY$22116,39,FALSE),0)","v":0},{"$f":"IFERROR(VLOOKUP($A88,Filtros!$A$5:$AY$22116,40,FALSE),0)","v":0},{"$f":"IFERROR(VLOOKUP($A88,Filtros!$A$5:$AY$22116,41,FALSE),0)","v":0},{"$f":"IFERROR(VLOOKUP($A88,Filtros!$A$5:$AY$22116,42,FALSE),0)","v":0},{"$f":"IFERROR(VLOOKUP($A88,Filtros!$A$5:$AY$22116,43,FALSE),0)","v":0},{"$f":"IFERROR(VLOOKUP($A88,Filtros!$A$5:$AY$22116,44,FALSE),0)","v":0},{"$f":"IFERROR(VLOOKUP($A88,Filtros!$A$5:$AY$22116,45,FALSE),0)","v":24},{"$f":"IFERROR(VLOOKUP($A88,Filtros!$A$5:$AY$22116,46,FALSE),0)","v":36},"",{"$nulls":37},"","","","","",{"$nulls":3},"","","",null,"","",{"$nulls":6},0,0,0,0,0,{"$nulls":3},0,0,0,null,0,0]
["P6232100","TRASTORNOS DE ANSIEDAD","TRASTORNO DE ESTRÉS POST TRAUMATICO",{"$f":"IFERROR(VLOOKUP($A89,Filtros!$A$5:$AY$22116,2,FALSE),0)","v":92},{"$f":"IFERROR(VLOOKUP($A89,Filtros!$A$5:$AY$22116,3,FALSE),0)","v":20},{"$f":"IFERROR(VLOOKUP($A89,Filtros!$A$5:$AY$22116,4,FALSE),0)","v":72},{"$f":"IFERROR(VLOOKUP($A89,Filtros!$A$5:$AY$22116,5,FALSE),0)","v":0},{"$f":"IFERROR(VLOOKUP($A89,Filtros!$A$5:$AY$22116,6,FALSE),0)","v":0},{"$f":"IFERROR(VLOOKUP($A89,Filtros!$A$5:$AY$22116,7,FALSE),0)","v":0},{"$f":"IFERROR(VLOOKUP($A89,Filtros!$A$5:$AY$22116,8,FALSE),0)","v":1},{"$f":"IFERROR(VLOOKUP($A89,Filtros!$A$5:$AY$22116,9,FALSE),0)","v":1},{"$f":"IFERROR(VLOOKUP($A89,Filtros!$A$5:$AY$22116,10,FALSE),0)","v":8},{"$f":"IFERROR(VLOOKUP($A89,Filtros!$A$5:$AY$22116,11,FALSE),0)","v":3},{"$f":"IFERROR(VLOOKUP($A89,Filtros!$A$5:$AY$22116,12,FALSE),0)","v":9},{"$f":"IFERROR(VLOOKUP($A89,Filtros!$A$5:$AY$22116,13,FALSE),0)","v":2},{"$f":"IFERROR(VLOOKUP($A89,Filtros!$A$5:$AY$22116,14,FALSE),0)","v":6},{"$f":"IFERROR(VLOOKUP($A89,Filtros!$A$5:$AY$22116,15,FALSE),0)","v":2},{"$f":"IFERROR(VLOOKUP($A89,Filtros!$A$5:$AY$22116,16,FALSE),0)","v":6},{"$f":"IFERROR(VLOOKUP($A89,Filtros!$A$5:$AY$22116,17,FALSE),0)","v":3},{"$f":"IFERROR(VLOOKUP($A89,Filtros!$A$5:$AY$22116,18,FALSE),0)","v":2},{"$f":"IFERROR(VLOOKUP($A89,Filtros!$A$5:$AY$22116,19,FALSE),0)","v":1},{"$f":"IFERROR(VLOOKUP($A89,Filtros!$A$5:$AY$22116,20,FALSE),0)","v":3},{"$f":"IFERROR(VLOOKUP($A89,Filtros!$A$5:$AY$22116,21,FALSE),0)","v":1},{"$f":"IFERROR(VLOOKUP($A89,Filtros!$A$5:$AY$22116,22,FALSE),0)","v":7},{"$f":"IFERROR(VLOOKUP($A89,Filtros!$A$5:$AY$22116,23,FALSE),0)","v":1},{"$f":"IFERROR(VLOOKUP($A89,Filtros!$A$5:$AY$22116,24,FALSE),0)","v":9},{"$f":"IFERROR(VLOOKUP($A89,Filtros!$A$5:$AY$22116,25,FALSE),0)","v":0},{"$f":"IFERROR(VLOOKUP($A89,Filtros!$A$5:$AY$22116,26,FALSE),0)","v":4},{"$f":"IFERROR(VLOOKUP($A89,Filtros!$A$5:$AY$22116,27,FALSE),0)","v":4},{"$f":"IFERROR(VLOOKUP($A89,Filtros!$A$5:$AY$22116,28,FALSE),0)","v":7},{"$f":"IFERROR(VLOOKUP($A89,Filtros!$A$5:$AY$22116,29,FALSE),0)","v":0},{"$f":"IFERROR(VLOOKUP($A89,Filtros!$A$5:$AY$22116,30,FALSE),0)","v":3},{"$f":"IFERROR(VLOOKUP($A89,Filtros!$A$5:$AY$22116,31,FALSE),0)","v":2},{"$f":"IFERROR(VLOOKUP($A89,Filtros!$A$5:$AY$22116,32,FALSE),0)","v":3},{"$f":"IFERROR(VLOOKUP($A89,Filtros!$A$5:$AY$22116,33,FALSE),0)","v":0},{"$f":"IFERROR(VLOOKUP($A89,Filtros!$A$5:$AY$22116,34,FALSE),0)","v":4},{"$f":"IFERROR(VLOOKUP($A89,Filtros!$A$5:$AY$22116,35,FALSE),0)","v":0},{"$f":"IFERROR(VLOOKUP($A89,Filtros!$A$5:$AY$22116,36,FALSE),0)","v":0},{"$f":"IFERROR(VLOOKUP($A89,Filtros!$A$5:$AY$22116,37,FALSE),0)","v":0},{"$f":"IFERROR(VLOOKUP($A89,Filtros!$A$5:$AY$22116,38,FALSE),0)","v":0},{"$f":"IFERROR(VLOOKUP($A89,Filtros!$A$5:$AY$22116,39,FALSE),0)","v":0},{"$f":"IFERROR(VLOOKUP($A89,Filtros!$A$5:$AY$22116,40,FALSE),0)","v":4},{"$f":"IFERROR(VLOOKUP($A89,Filtros!$A$5:$AY$22116,41,FALSE),0)","v":0},{"$f":"IFERROR(VLOOKUP($A89,Filtros!$A$5:$AY$22116,42,FALSE),0)","v":0},{"$f":"IFERROR(VLOOKUP($A89,Filtros!$A$5:$AY$22116,43,FALSE),0)","v":0},{"$f":"IFERROR(VLOOKUP($A89,Filtros!$A$5:$AY$22116,44,FALSE),0)","v":1},{"$f":"IFERROR(VLOOKUP($A89,Filtros!$A$5:$AY$22116,45,FALSE),0)","v":4},{"$f":"IFERROR(VLOOKUP($A89,Filtros!$A$5:$AY$22116,46,FALSE),0)","v":11},"",{"$nulls":35},{"$f":"IF($AO89>$F89,\"* La celda 'Gestantes' debe ser menor o igual al Total de Mujeres en control. \",\"\")","v":""},{"$f":"IF($AP89>$F89,\"* La celda 'Madres de Hijos menor de 5 años' debe ser menor o igual al Total de Mujeres en control. \",\"\")","v":""},"","","","","",{"$f":"IF(AND($D89<>0,$AO89=\"\"),\"* No olvide escribir en la celda de 'Gestantes' (Digite CERO si no tiene). \",\"\")","v":""},{"$f":"IF(AND($D89<>0,$AP89=\"\"),\"* No olvide escribir en la celda de 'Madres de Hijos menor de 5 años' (Digite CERO si no tiene). \",\"\")","v":""},null,"","","",null,"","",{"$nulls":4},{"$f":"IF($AO89>$F89,1,0)","v":0},{"$f":"IF($AP89>$F89,1,0)","v":0},0,0,0,0,0,{"$f":"IF(AND($D89<>0,$AO89=\"\"),1,0)","v":0},{"$f":"IF(AND($D89<>0,$AP89=\"\"),1,0)","v":0},null,0,0,0,null,0,0]
["P6232200",null,"TRASTORNO DE PANICO CON AGOROFOBIA ",{"$f":"IFERROR(VLOOKUP($A90,Filtros!$A$5:$AY$22116,2,FALSE),0)","v":36},{"$f":"IFERROR(VLOOKUP($A90,Filtros!$A$5:$AY$22116,3,FALSE),0)","v":9},{"$f":"IFERROR(VLOOKUP($A90,Filtros!$A$5:$AY$22116,4,FALSE),0)","v":27},{"$f":"IFERROR(VLOOKUP($A90,Filtros!$A$5:$AY$22116,5,FALSE),0)","v":0},{"$f":"IFERROR(VLOOKUP($A90,Filtros!$A$5:$AY$22116,6,FALSE),0)","v":0},{"$f":"IFERROR(VLOOKUP($A90,Filtros!$A$5:$AY$22116,7,FALSE),0)","v":0},{"$f":"IFERROR(VLOOKUP($A90,Filtros!$A$5:$AY$22116,8,FALSE),0)","v":0},{"$f":"IFERROR(VLOOKUP($A90,Filtros!$A$5:$AY$22116,9,FALSE),0)","v":0},{"$f":"IFERROR(VLOOKUP($A90,Filtros!$A$5:$AY$22116,10,FALSE),0)","v":0},{"$f":"IFERROR(VLOOKUP($A90,Filtros!$A$5:$AY$22116,11,FALSE),0)","v":1},{"$f":"IFERROR(VLOOKUP($A90,Filtros!$A$5:$AY$22116,12,FALSE),0)","v":1},{"$f":"IFERROR(VLOOKUP($A90,Filtros!$A$5:$AY$22116,13,FALSE),0)","v":1},{"$f":"IFERROR(VLOOKUP($A90,Filtros!$A$5:$AY$22116,14,FALSE),0)","v":1},{"$f":"IFERROR(VLOOKUP($A90,Filtros!$A$5:$AY$22116,15,FALSE),0)","v":0},{"$f":"IFERROR(VLOOKUP($A90,Filtros!$A$5:$AY$22116,16,FALSE),0)","v":0},{"$f":"IFERROR(VLOOKUP($A90,Filtros!$A$5:$AY$22116,17,FALSE),0)","v":0},{"$f":"IFERROR(VLOOKUP($A90,Filtros!$A$5:$AY$22116,18,FALSE),0)","v":1},{"$f":"IFERROR(VLOOKUP($A90,Filtros!$A$5:$AY$22116,19,FALSE),0)","v":0},{"$f":"IFERROR(VLOOKUP($A90,Filtros!$A$5:$AY$22116,20,FALSE),0)","v":2},{"$f":"IFERROR(VLOOKUP($A90,Filtros!$A$5:$AY$22116,21,FALSE),0)","v":1},{"$f":"IFERROR(VLOOKUP($A90,Filtros!$A$5:$AY$22116,22,FALSE),0)","v":5},{"$f":"IFERROR(VLOOKUP($A90,Filtros!$A$5:$AY$22116,23,FALSE),0)","v":1},{"$f":"IFERROR(VLOOKUP($A90,Filtros!$A$5:$AY$22116,24,FALSE),0)","v":3},{"$f":"IFERROR(VLOOKUP($A90,Filtros!$A$5:$AY$22116,25,FALSE),0)","v":1},{"$f":"IFERROR(VLOOKUP($A90,Filtros!$A$5:$AY$22116,26,FALSE),0)","v":5},{"$f":"IFERROR(VLOOKUP($A90,Filtros!$A$5:$AY$22116,27,FALSE),0)","v":1},{"$f":"IFERROR(VLOOKUP($A90,Filtros!$A$5:$AY$22116,28,FALSE),0)","v":2},{"$f":"IFERROR(VLOOKUP($A90,Filtros!$A$5:$AY$22116,29,FALSE),0)","v":2},{"$f":"IFERROR(VLOOKUP($A90,Filtros!$A$5:$AY$22116,30,FALSE),0)","v":3},{"$f":"IFERROR(VLOOKUP($A90,Filtros!$A$5:$AY$22116,31,FALSE),0)","v":0},{"$f":"IFERROR(VLOOKUP($A90,Filtros!$A$5:$AY$22116,32,FALSE),0)","v":3},{"$f":"IFERROR(VLOOKUP($A90,Filtros!$A$5:$AY$22116,33,FALSE),0)","v":1},{"$f":"IFERROR(VLOOKUP($A90,Filtros!$A$5:$AY$22116,34,FALSE),0)","v":0},{"$f":"IFERROR(VLOOKUP($A90,Filtros!$A$5:$AY$22116,35,FALSE),0)","v":0},{"$f":"IFERROR(VLOOKUP($A90,Filtros!$A$5:$AY$22116,36,FALSE),0)","v":1},{"$f":"IFERROR(VLOOKUP($A90,Filtros!$A$5:$AY$22116,37,FALSE),0)","v":0},{"$f":"IFERROR(VLOOKUP($A90,Filtros!$A$5:$AY$22116,38,FALSE),0)","v":0},{"$f":"IFERROR(VLOOKUP($A90,Filtros!$A$5:$AY$22116,39,FALSE),0)","v":1},{"$f":"IFERROR(VLOOKUP($A90,Filtros!$A$5:$AY$22116,40,FALSE),0)","v":2},{"$f":"IFERROR(VLOOKUP($A90,Filtros!$A$5:$AY$22116,41,FALSE),0)","v":0},{"$f":"IFERROR(VLOOKUP($A90,Filtros!$A$5:$AY$22116,42,FALSE),0)","v":0},{"$f":"IFERROR(VLOOKUP($A90,Filtros!$A$5:$AY$22116,43,FALSE),0)","v":0},{"$f":"IFERROR(VLOOKUP($A90,Filtros!$A$5:$AY$22116,44,FALSE),0)","v":0},{"$f":"IFERROR(VLOOKUP($A90,Filtros!$A$5:$AY$22116,45,FALSE),0)","v":0},{"$f":"IFERROR(VLOOKUP($A90,Filtros!$A$5:$AY$22116,46,FALSE),0)","v":21},"",{"$nulls":35},"","","","","","","","","",null,"","","",null,"","",{"$nulls":4},0,0,0,0,0,0,0,0,0,null,0,0,0,null,0,0]
["P6232300",null,"TRASTORNO DE PANICO SIN AGOROFOBIA ",{"$f":"IFERROR(VLOOKUP($A91,Filtros!$A$5:$AY$22116,2,FALSE),0)","v":37},{"$f":"IFERROR(VLOOKUP($A91,Filtros!$A$5:$AY$22116,3,FALSE),0)","v":7},{"$f":"IFERROR(VLOOKUP($A91,Filtros!$A$5:$AY$22116,4,FALSE),0)","v":30},{"$f":"IFERROR(VLOOKUP($A91,Filtros!$A$5:$AY$22116,5,FALSE),0)","v":0},{"$f":"IFERROR(VLOOKUP($A91,Filtros!$A$5:$AY$22116,6,FALSE),0)","v":0},{"$f":"IFERROR(VLOOKUP($A91,Filtros!$A$5:$AY$22116,7,FALSE),0)","v":0},{"$f":"IFERROR(VLOOKUP($A91,Filtros!$A$5:$AY$22116,8,FALSE),0)","v":0},{"$f":"IFERROR(VLOOKUP($A91,Filtros!$A$5:$AY$22116,9,FALSE),0)","v":0},{"$f":"IFERROR(VLOOKUP($A91,Filtros!$A$5:$AY$22116,10,FALSE),0)","v":2},{"$f":"IFERROR(VLOOKUP($A91,Filtros!$A$5:$AY$22116,11,FALSE),0)","v":2},{"$f":"IFERROR(VLOOKUP($A91,Filtros!$A$5:$AY$22116,12,FALSE),0)","v":1},{"$f":"IFERROR(VLOOKUP($A91,Filtros!$A$5:$AY$22116,13,FALSE),0)","v":1},{"$f":"IFERROR(VLOOKUP($A91,Filtros!$A$5:$AY$22116,14,FALSE),0)","v":3},{"$f":"IFERROR(VLOOKUP($A91,Filtros!$A$5:$AY$22116,15,FALSE),0)","v":0},{"$f":"IFERROR(VLOOKUP($A91,Filtros!$A$5:$AY$22116,16,FALSE),0)","v":1},{"$f":"IFERROR(VLOOKUP($A91,Filtros!$A$5:$AY$22116,17,FALSE),0)","v":0},{"$f":"IFERROR(VLOOKUP($A91,Filtros!$A$5:$AY$22116,18,FALSE),0)","v":4},{"$f":"IFERROR(VLOOKUP($A91,Filtros!$A$5:$AY$22116,19,FALSE),0)","v":1},{"$f":"IFERROR(VLOOKUP($A91,Filtros!$A$5:$AY$22116,20,FALSE),0)","v":4},{"$f":"IFERROR(VLOOKUP($A91,Filtros!$A$5:$AY$22116,21,FALSE),0)","v":0},{"$f":"IFERROR(VLOOKUP($A91,Filtros!$A$5:$AY$22116,22,FALSE),0)","v":2},{"$f":"IFERROR(VLOOKUP($A91,Filtros!$A$5:$AY$22116,23,FALSE),0)","v":1},{"$f":"IFERROR(VLOOKUP($A91,Filtros!$A$5:$AY$22116,24,FALSE),0)","v":5},{"$f":"IFERROR(VLOOKUP($A91,Filtros!$A$5:$AY$22116,25,FALSE),0)","v":0},{"$f":"IFERROR(VLOOKUP($A91,Filtros!$A$5:$AY$22116,26,FALSE),0)","v":5},{"$f":"IFERROR(VLOOKUP($A91,Filtros!$A$5:$AY$22116,27,FALSE),0)","v":1},{"$f":"IFERROR(VLOOKUP($A91,Filtros!$A$5:$AY$22116,28,FALSE),0)","v":2},{"$f":"IFERROR(VLOOKUP($A91,Filtros!$A$5:$AY$22116,29,FALSE),0)","v":0},{"$f":"IFERROR(VLOOKUP($A91,Filtros!$A$5:$AY$22116,30,FALSE),0)","v":0},{"$f":"IFERROR(VLOOKUP($A91,Filtros!$A$5:$AY$22116,31,FALSE),0)","v":1},{"$f":"IFERROR(VLOOKUP($A91,Filtros!$A$5:$AY$22116,32,FALSE),0)","v":0},{"$f":"IFERROR(VLOOKUP($A91,Filtros!$A$5:$AY$22116,33,FALSE),0)","v":0},{"$f":"IFERROR(VLOOKUP($A91,Filtros!$A$5:$AY$22116,34,FALSE),0)","v":1},{"$f":"IFERROR(VLOOKUP($A91,Filtros!$A$5:$AY$22116,35,FALSE),0)","v":0},{"$f":"IFERROR(VLOOKUP($A91,Filtros!$A$5:$AY$22116,36,FALSE),0)","v":0},{"$f":"IFERROR(VLOOKUP($A91,Filtros!$A$5:$AY$22116,37,FALSE),0)","v":0},{"$f":"IFERROR(VLOOKUP($A91,Filtros!$A$5:$AY$22116,38,FALSE),0)","v":0},{"$f":"IFERROR(VLOOKUP($A91,Filtros!$A$5:$AY$22116,39,FALSE),0)","v":0},{"$f":"IFERROR(VLOOKUP($A91,Filtros!$A$5:$AY$22116,40,FALSE),0)","v":4},{"$f":"IFERROR(VLOOKUP($A91,Filtros!$A$5:$AY$22116,41,FALSE),0)","v":0},{"$f":"IFERROR(VLOOKUP($A91,Filtros!$A$5:$AY$22116,42,FALSE),0)","v":0},{"$f":"IFERROR(VLOOKUP($A91,Filtros!$A$5:$AY$22116,43,FALSE),0)","v":1},{"$f":"IFERROR(VLOOKUP($A91,Filtros!$A$5:$AY$22116,44,FALSE),0)","v":0},{"$f":"IFERROR(VLOOKUP($A91,Filtros!$A$5:$AY$22116,45,FALSE),0)","v":0},{"$f":"IFERROR(VLOOKUP($A91,Filtros!$A$5:$AY$22116,46,FALSE),0)","v":7},"",{"$nulls":35},"","","","","","","","","",null,"","","",null,"","",{"$nulls":4},0,0,0,0,0,0,0,0,0,null,0,0,0,null,0,0]
["P6232400",null,"FOBIAS SOCIALES",{"$f":"IFERROR(VLOOKUP($A92,Filtros!$A$5:$AY$22116,2,FALSE),0)","v":9},{"$f":"IFERROR(VLOOKUP($A92,Filtros!$A$5:$AY$22116,3,FALSE),0)","v":6},{"$f":"IFERROR(VLOOKUP($A92,Filtros!$A$5:$AY$22116,4,FALSE),0)","v":3},{"$f":"IFERROR(VLOOKUP($A92,Filtros!$A$5:$AY$22116,5,FALSE),0)","v":0},{"$f":"IFERROR(VLOOKUP($A92,Filtros!$A$5:$AY$22116,6,FALSE),0)","v":0},{"$f":"IFERROR(VLOOKUP($A92,Filtros!$A$5:$AY$22116,7,FALSE),0)","v":0},{"$f":"IFERROR(VLOOKUP($A92,Filtros!$A$5:$AY$22116,8,FALSE),0)","v":0},{"$f":"IFERROR(VLOOKUP($A92,Filtros!$A$5:$AY$22116,9,FALSE),0)","v":0},{"$f":"IFERROR(VLOOKUP($A92,Filtros!$A$5:$AY$22116,10,FALSE),0)","v":1},{"$f":"IFERROR(VLOOKUP($A92,Filtros!$A$5:$AY$22116,11,FALSE),0)","v":2},{"$f":"IFERROR(VLOOKUP($A92,Filtros!$A$5:$AY$22116,12,FALSE),0)","v":0},{"$f":"IFERROR(VLOOKUP($A92,Filtros!$A$5:$AY$22116,13,FALSE),0)","v":1},{"$f":"IFERROR(VLOOKUP($A92,Filtros!$A$5:$AY$22116,14,FALSE),0)","v":1},{"$f":"IFERROR(VLOOKUP($A92,Filtros!$A$5:$AY$22116,15,FALSE),0)","v":3},{"$f":"IFERROR(VLOOKUP($A92,Filtros!$A$5:$AY$22116,16,FALSE),0)","v":0},{"$f":"IFERROR(VLOOKUP($A92,Filtros!$A$5:$AY$22116,17,FALSE),0)","v":0},{"$f":"IFERROR(VLOOKUP($A92,Filtros!$A$5:$AY$22116,18,FALSE),0)","v":0},{"$f":"IFERROR(VLOOKUP($A92,Filtros!$A$5:$AY$22116,19,FALSE),0)","v":0},{"$f":"IFERROR(VLOOKUP($A92,Filtros!$A$5:$AY$22116,20,FALSE),0)","v":0},{"$f":"IFERROR(VLOOKUP($A92,Filtros!$A$5:$AY$22116,21,FALSE),0)","v":0},{"$f":"IFERROR(VLOOKUP($A92,Filtros!$A$5:$AY$22116,22,FALSE),0)","v":1},{"$f":"IFERROR(VLOOKUP($A92,Filtros!$A$5:$AY$22116,23,FALSE),0)","v":0},{"$f":"IFERROR(VLOOKUP($A92,Filtros!$A$5:$AY$22116,24,FALSE),0)","v":0},{"$f":"IFERROR(VLOOKUP($A92,Filtros!$A$5:$AY$22116,25,FALSE),0)","v":0},{"$f":"IFERROR(VLOOKUP($A92,Filtros!$A$5:$AY$22116,26,FALSE),0)","v":0},{"$f":"IFERROR(VLOOKUP($A92,Filtros!$A$5:$AY$22116,27,FALSE),0)","v":0},{"$f":"IFERROR(VLOOKUP($A92,Filtros!$A$5:$AY$22116,28,FALSE),0)","v":0},{"$f":"IFERROR(VLOOKUP($A92,Filtros!$A$5:$AY$22116,29,FALSE),0)","v":0},{"$f":"IFERROR(VLOOKUP($A92,Filtros!$A$5:$AY$22116,30,FALSE),0)","v":0},{"$f":"IFERROR(VLOOKUP($A92,Filtros!$A$5:$AY$22116,31,FALSE),0)","v":0},{"$f":"IFERROR(VLOOKUP($A92,Filtros!$A$5:$AY$22116,32,FALSE),0)","v":0},{"$f":"IFERROR(VLOOKUP($A92,Filtros!$A$5:$AY$22116,33,FALSE),0)","v":0},{"$f":"IFERROR(VLOOKUP($A92,Filtros!$A$5:$AY$22116,34,FALSE),0)","v":0},{"$f":"IFERROR(VLOOKUP($A92,Filtros!$A$5:$AY$22116,35,FALSE),0)","v":0},{"$f":"IFERROR(VLOOKUP($A92,Filtros!$A$5:$AY$22116,36,FALSE),0)","v":0},{"$f":"IFERROR(VLOOKUP($A92,Filtros!$A$5:$AY$22116,37,FALSE),0)","v":0},{"$f":"IFERROR(VLOOKUP($A92,Filtros!$A$5:$AY$22116,38,FALSE),0)","v":0},{"$f":"IFERROR(VLOOKUP($A92,Filtros!$A$5:$AY$22116,39,FALSE),0)","v":0},{"$f":"IFERROR(VLOOKUP($A92,Filtros!$A$5:$AY$22116,40,FALSE),0)","v":0},{"$f":"IFERROR(VLOOKUP($A92,Filtros!$A$5:$AY$22116,41,FALSE),0)","v":0},{"$f":"IFERROR(VLOOKUP($A92,Filtros!$A$5:$AY$22116,42,FALSE),0)","v":0},{"$f":"IFERROR(VLOOKUP($A92,Filtros!$A$5:$AY$22116,43,FALSE),0)","v":0},{"$f":"IFERROR(VLOOKUP($A92,Filtros!$A$5:$AY$22116,44,FALSE),0)","v":0},{"$f":"IFERROR(VLOOKUP($A92,Filtros!$A$5:$AY$22116,45,FALSE),0)","v":0},{"$f":"IFERROR(VLOOKUP($A92,Filtros!$A$5:$AY$22116,46,FALSE),0)","v":2},"",{"$nulls":35},"","","","","","","","","",null,"","","",null,"","",{"$nulls":4},0,0,0,0,0,0,0,0,0,null,0,0,0,null,0,0]
["P6232500",null,"TRASTORNOS DE ANSIEDAD GENERALIZADA",{"$f":"IFERROR(VLOOKUP($A93,Filtros!$A$5:$AY$22116,2,FALSE),0)","v":161},{"$f":"IFERROR(VLOOKUP($A93,Filtros!$A$5:$AY$22116,3,FALSE),0)","v":48},{"$f":"IFERROR(VLOOKUP($A93,Filtros!$A$5:$AY$22116,4,FALSE),0)","v":113},{"$f":"IFERROR(VLOOKUP($A93,Filtros!$A$5:$AY$22116,5,FALSE),0)","v":0},{"$f":"IFERROR(VLOOKUP($A93,Filtros!$A$5:$AY$22116,6,FALSE),0)","v":0},{"$f":"IFERROR(VLOOKUP($A93,Filtros!$A$5:$AY$22116,7,FALSE),0)","v":0},{"$f":"IFERROR(VLOOKUP($A93,Filtros!$A$5:$AY$22116,8,FALSE),0)","v":0},{"$f":"IFERROR(VLOOKUP($A93,Filtros!$A$5:$AY$22116,9,FALSE),0)","v":4},{"$f":"IFERROR(VLOOKUP($A93,Filtros!$A$5:$AY$22116,10,FALSE),0)","v":5},{"$f":"IFERROR(VLOOKUP($A93,Filtros!$A$5:$AY$22116,11,FALSE),0)","v":2},{"$f":"IFERROR(VLOOKUP($A93,Filtros!$A$5:$AY$22116,12,FALSE),0)","v":13},{"$f":"IFERROR(VLOOKUP($A93,Filtros!$A$5:$AY$22116,13,FALSE),0)","v":5},{"$f":"IFERROR(VLOOKUP($A93,Filtros!$A$5:$AY$22116,14,FALSE),0)","v":7},{"$f":"IFERROR(VLOOKUP($A93,Filtros!$A$5:$AY$22116,15,FALSE),0)","v":7},{"$f":"IFERROR(VLOOKUP($A93,Filtros!$A$5:$AY$22116,16,FALSE),0)","v":4},{"$f":"IFERROR(VLOOKUP($A93,Filtros!$A$5:$AY$22116,17,FALSE),0)","v":11},{"$f":"IFERROR(VLOOKUP($A93,Filtros!$A$5:$AY$22116,18,FALSE),0)","v":6},{"$f":"IFERROR(VLOOKUP($A93,Filtros!$A$5:$AY$22116,19,FALSE),0)","v":2},{"$f":"IFERROR(VLOOKUP($A93,Filtros!$A$5:$AY$22116,20,FALSE),0)","v":7},{"$f":"IFERROR(VLOOKUP($A93,Filtros!$A$5:$AY$22116,21,FALSE),0)","v":3},{"$f":"IFERROR(VLOOKUP($A93,Filtros!$A$5:$AY$22116,22,FALSE),0)","v":10},{"$f":"IFERROR(VLOOKUP($A93,Filtros!$A$5:$AY$22116,23,FALSE),0)","v":5},{"$f":"IFERROR(VLOOKUP($A93,Filtros!$A$5:$AY$22116,24,FALSE),0)","v":13},{"$f":"IFERROR(VLOOKUP($A93,Filtros!$A$5:$AY$22116,25,FALSE),0)","v":1},{"$f":"IFERROR(VLOOKUP($A93,Filtros!$A$5:$AY$22116,26,FALSE),0)","v":11},{"$f":"IFERROR(VLOOKUP($A93,Filtros!$A$5:$AY$22116,27,FALSE),0)","v":2},{"$f":"IFERROR(VLOOKUP($A93,Filtros!$A$5:$AY$22116,28,FALSE),0)","v":6},{"$f":"IFERROR(VLOOKUP($A93,Filtros!$A$5:$AY$22116,29,FALSE),0)","v":2},{"$f":"IFERROR(VLOOKUP($A93,Filtros!$A$5:$AY$22116,30,FALSE),0)","v":14},{"$f":"IFERROR(VLOOKUP($A93,Filtros!$A$5:$AY$22116,31,FALSE),0)","v":2},{"$f":"IFERROR(VLOOKUP($A93,Filtros!$A$5:$AY$22116,32,FALSE),0)","v":5},{"$f":"IFERROR(VLOOKUP($A93,Filtros!$A$5:$AY$22116,33,FALSE),0)","v":0},{"$f":"IFERROR(VLOOKUP($A93,Filtros!$A$5:$AY$22116,34,FALSE),0)","v":7},{"$f":"IFERROR(VLOOKUP($A93,Filtros!$A$5:$AY$22116,35,FALSE),0)","v":1},{"$f":"IFERROR(VLOOKUP($A93,Filtros!$A$5:$AY$22116,36,FALSE),0)","v":4},{"$f":"IFERROR(VLOOKUP($A93,Filtros!$A$5:$AY$22116,37,FALSE),0)","v":1},{"$f":"IFERROR(VLOOKUP($A93,Filtros!$A$5:$AY$22116,38,FALSE),0)","v":1},{"$f":"IFERROR(VLOOKUP($A93,Filtros!$A$5:$AY$22116,39,FALSE),0)","v":0},{"$f":"IFERROR(VLOOKUP($A93,Filtros!$A$5:$AY$22116,40,FALSE),0)","v":2},{"$f":"IFERROR(VLOOKUP($A93,Filtros!$A$5:$AY$22116,41,FALSE),0)","v":1},{"$f":"IFERROR(VLOOKUP($A93,Filtros!$A$5:$AY$22116,42,FALSE),0)","v":0},{"$f":"IFERROR(VLOOKUP($A93,Filtros!$A$5:$AY$22116,43,FALSE),0)","v":0},{"$f":"IFERROR(VLOOKUP($A93,Filtros!$A$5:$AY$22116,44,FALSE),0)","v":1},{"$f":"IFERROR(VLOOKUP($A93,Filtros!$A$5:$AY$22116,45,FALSE),0)","v":1},{"$f":"IFERROR(VLOOKUP($A93,Filtros!$A$5:$AY$22116,46,FALSE),0)","v":16},"",{"$nulls":35},"","","","","","","","","",null,"","","",null,"","",{"$nulls":4},0,0,0,0,0,0,0,0,0,null,0,0,0,null,0,0]
["P6232600",null,"OTROS TRASTORNOS DE ANSIEDAD",{"$f":"IFERROR(VLOOKUP($A94,Filtros!$A$5:$AY$22116,2,FALSE),0)","v":389},{"$f":"IFERROR(VLOOKUP($A94,Filtros!$A$5:$AY$22116,3,FALSE),0)","v":93},{"$f":"IFERROR(VLOOKUP($A94,Filtros!$A$5:$AY$22116,4,FALSE),0)","v":296},{"$f":"IFERROR(VLOOKUP($A94,Filtros!$A$5:$AY$22116,5,FALSE),0)","v":0},{"$f":"IFERROR(VLOOKUP($A94,Filtros!$A$5:$AY$22116,6,FALSE),0)","v":0},{"$f":"IFERROR(VLOOKUP($A94,Filtros!$A$5:$AY$22116,7,FALSE),0)","v":5},{"$f":"IFERROR(VLOOKUP($A94,Filtros!$A$5:$AY$22116,8,FALSE),0)","v":10},{"$f":"IFERROR(VLOOKUP($A94,Filtros!$A$5:$AY$22116,9,FALSE),0)","v":7},{"$f":"IFERROR(VLOOKUP($A94,Filtros!$A$5:$AY$22116,10,FALSE),0)","v":10},{"$f":"IFERROR(VLOOKUP($A94,Filtros!$A$5:$AY$22116,11,FALSE),0)","v":16},{"$f":"IFERROR(VLOOKUP($A94,Filtros!$A$5:$AY$22116,12,FALSE),0)","v":21},{"$f":"IFERROR(VLOOKUP($A94,Filtros!$A$5:$AY$22116,13,FALSE),0)","v":13},{"$f":"IFERROR(VLOOKUP($A94,Filtros!$A$5:$AY$22116,14,FALSE),0)","v":23},{"$f":"IFERROR(VLOOKUP($A94,Filtros!$A$5:$AY$22116,15,FALSE),0)","v":7},{"$f":"IFERROR(VLOOKUP($A94,Filtros!$A$5:$AY$22116,16,FALSE),0)","v":28},{"$f":"IFERROR(VLOOKUP($A94,Filtros!$A$5:$AY$22116,17,FALSE),0)","v":5},{"$f":"IFERROR(VLOOKUP($A94,Filtros!$A$5:$AY$22116,18,FALSE),0)","v":26},{"$f":"IFERROR(VLOOKUP($A94,Filtros!$A$5:$AY$22116,19,FALSE),0)","v":6},{"$f":"IFERROR(VLOOKUP($A94,Filtros!$A$5:$AY$22116,20,FALSE),0)","v":20},{"$f":"IFERROR(VLOOKUP($A94,Filtros!$A$5:$AY$22116,21,FALSE),0)","v":4},{"$f":"IFERROR(VLOOKUP($A94,Filtros!$A$5:$AY$22116,22,FALSE),0)","v":15},{"$f":"IFERROR(VLOOKUP($A94,Filtros!$A$5:$AY$22116,23,FALSE),0)","v":3},{"$f":"IFERROR(VLOOKUP($A94,Filtros!$A$5:$AY$22116,24,FALSE),0)","v":30},{"$f":"IFERROR(VLOOKUP($A94,Filtros!$A$5:$AY$22116,25,FALSE),0)","v":3},{"$f":"IFERROR(VLOOKUP($A94,Filtros!$A$5:$AY$22116,26,FALSE),0)","v":35},{"$f":"IFERROR(VLOOKUP($A94,Filtros!$A$5:$AY$22116,27,FALSE),0)","v":6},{"$f":"IFERROR(VLOOKUP($A94,Filtros!$A$5:$AY$22116,28,FALSE),0)","v":22},{"$f":"IFERROR(VLOOKUP($A94,Filtros!$A$5:$AY$22116,29,FALSE),0)","v":9},{"$f":"IFERROR(VLOOKUP($A94,Filtros!$A$5:$AY$22116,30,FALSE),0)","v":21},{"$f":"IFERROR(VLOOKUP($A94,Filtros!$A$5:$AY$22116,31,FALSE),0)","v":4},{"$f":"IFERROR(VLOOKUP($A94,Filtros!$A$5:$AY$22116,32,FALSE),0)","v":13},{"$f":"IFERROR(VLOOKUP($A94,Filtros!$A$5:$AY$22116,33,FALSE),0)","v":0},{"$f":"IFERROR(VLOOKUP($A94,Filtros!$A$5:$AY$22116,34,FALSE),0)","v":9},{"$f":"IFERROR(VLOOKUP($A94,Filtros!$A$5:$AY$22116,35,FALSE),0)","v":0},{"$f":"IFERROR(VLOOKUP($A94,Filtros!$A$5:$AY$22116,36,FALSE),0)","v":10},{"$f":"IFERROR(VLOOKUP($A94,Filtros!$A$5:$AY$22116,37,FALSE),0)","v":5},{"$f":"IFERROR(VLOOKUP($A94,Filtros!$A$5:$AY$22116,38,FALSE),0)","v":3},{"$f":"IFERROR(VLOOKUP($A94,Filtros!$A$5:$AY$22116,39,FALSE),0)","v":1},{"$f":"IFERROR(VLOOKUP($A94,Filtros!$A$5:$AY$22116,40,FALSE),0)","v":39},{"$f":"IFERROR(VLOOKUP($A94,Filtros!$A$5:$AY$22116,41,FALSE),0)","v":2},{"$f":"IFERROR(VLOOKUP($A94,Filtros!$A$5:$AY$22116,42,FALSE),0)","v":5},{"$f":"IFERROR(VLOOKUP($A94,Filtros!$A$5:$AY$22116,43,FALSE),0)","v":0},{"$f":"IFERROR(VLOOKUP($A94,Filtros!$A$5:$AY$22116,44,FALSE),0)","v":4},{"$f":"IFERROR(VLOOKUP($A94,Filtros!$A$5:$AY$22116,45,FALSE),0)","v":5},{"$f":"IFERROR(VLOOKUP($A94,Filtros!$A$5:$AY$22116,46,FALSE),0)","v":32},"",{"$nulls":35},"","","","","","","","","",null,"","","",null,"","",{"$nulls":4},0,0,0,0,0,0,0,0,0,null,0,0,0,null,0,0]
["P6223310","DEMENCIAS (INCLUYE ALZHEIMER)","LEVE",{"$f":"IFERROR(VLOOKUP($A95,Filtros!$A$5:$AY$22116,2,FALSE),0)","v":12},{"$f":"IFERROR(VLOOKUP($A95,Filtros!$A$5:$AY$22116,3,FALSE),0)","v":3},{"$f":"IFERROR(VLOOKUP($A95,Filtros!$A$5:$AY$22116,4,FALSE),0)","v":9},{"$f":"IFERROR(VLOOKUP($A95,Filtros!$A$5:$AY$22116,5,FALSE),0)","v":0},{"$f":"IFERROR(VLOOKUP($A95,Filtros!$A$5:$AY$22116,6,FALSE),0)","v":0},{"$f":"IFERROR(VLOOKUP($A95,Filtros!$A$5:$AY$22116,7,FALSE),0)","v":0},{"$f":"IFERROR(VLOOKUP($A95,Filtros!$A$5:$AY$22116,8,FALSE),0)","v":0},{"$f":"IFERROR(VLOOKUP($A95,Filtros!$A$5:$AY$22116,9,FALSE),0)","v":0},{"$f":"IFERROR(VLOOKUP($A95,Filtros!$A$5:$AY$22116,10,FALSE),0)","v":0},{"$f":"IFERROR(VLOOKUP($A95,Filtros!$A$5:$AY$22116,11,FALSE),0)","v":0},{"$f":"IFERROR(VLOOKUP($A95,Filtros!$A$5:$AY$22116,12,FALSE),0)","v":0},{"$f":"IFERROR(VLOOKUP($A95,Filtros!$A$5:$AY$22116,13,FALSE),0)","v":0},{"$f":"IFERROR(VLOOKUP($A95,Filtros!$A$5:$AY$22116,14,FALSE),0)","v":0},{"$f":"IFERROR(VLOOKUP($A95,Filtros!$A$5:$AY$22116,15,FALSE),0)","v":0},{"$f":"IFERROR(VLOOKUP($A95,Filtros!$A$5:$AY$22116,16,FALSE),0)","v":1},{"$f":"IFERROR(VLOOKUP($A95,Filtros!$A$5:$AY$22116,17,FALSE),0)","v":0},{"$f":"IFERROR(VLOOKUP($A95,Filtros!$A$5:$AY$22116,18,FALSE),0)","v":0},{"$f":"IFERROR(VLOOKUP($A95,Filtros!$A$5:$AY$22116,19,FALSE),0)","v":0},{"$f":"IFERROR(VLOOKUP($A95,Filtros!$A$5:$AY$22116,20,FALSE),0)","v":0},{"$f":"IFERROR(VLOOKUP($A95,Filtros!$A$5:$AY$22116,21,FALSE),0)","v":0},{"$f":"IFERROR(VLOOKUP($A95,Filtros!$A$5:$AY$22116,22,FALSE),0)","v":0},{"$f":"IFERROR(VLOOKUP($A95,Filtros!$A$5:$AY$22116,23,FALSE),0)","v":1},{"$f":"IFERROR(VLOOKUP($A95,Filtros!$A$5:$AY$22116,24,FALSE),0)","v":1},{"$f":"IFERROR(VLOOKUP($A95,Filtros!$A$5:$AY$22116,25,FALSE),0)","v":0},{"$f":"IFERROR(VLOOKUP($A95,Filtros!$A$5:$AY$22116,26,FALSE),0)","v":1},{"$f":"IFERROR(VLOOKUP($A95,Filtros!$A$5:$AY$22116,27,FALSE),0)","v":1},{"$f":"IFERROR(VLOOKUP($A95,Filtros!$A$5:$AY$22116,28,FALSE),0)","v":0},{"$f":"IFERROR(VLOOKUP($A95,Filtros!$A$5:$AY$22116,29,FALSE),0)","v":0},{"$f":"IFERROR(VLOOKUP($A95,Filtros!$A$5:$AY$22116,30,FALSE),0)","v":0},{"$f":"IFERROR(VLOOKUP($A95,Filtros!$A$5:$AY$22116,31,FALSE),0)","v":0},{"$f":"IFERROR(VLOOKUP($A95,Filtros!$A$5:$AY$22116,32,FALSE),0)","v":0},{"$f":"IFERROR(VLOOKUP($A95,Filtros!$A$5:$AY$22116,33,FALSE),0)","v":0},{"$f":"IFERROR(VLOOKUP($A95,Filtros!$A$5:$AY$22116,34,FALSE),0)","v":2},{"$f":"IFERROR(VLOOKUP($A95,Filtros!$A$5:$AY$22116,35,FALSE),0)","v":1},{"$f":"IFERROR(VLOOKUP($A95,Filtros!$A$5:$AY$22116,36,FALSE),0)","v":0},{"$f":"IFERROR(VLOOKUP($A95,Filtros!$A$5:$AY$22116,37,FALSE),0)","v":0},{"$f":"IFERROR(VLOOKUP($A95,Filtros!$A$5:$AY$22116,38,FALSE),0)","v":4},{"$f":"IFERROR(VLOOKUP($A95,Filtros!$A$5:$AY$22116,39,FALSE),0)","v":0},{"$f":"IFERROR(VLOOKUP($A95,Filtros!$A$5:$AY$22116,40,FALSE),0)","v":0},{"$f":"IFERROR(VLOOKUP($A95,Filtros!$A$5:$AY$22116,41,FALSE),0)","v":0},{"$f":"IFERROR(VLOOKUP($A95,Filtros!$A$5:$AY$22116,42,FALSE),0)","v":0},{"$f":"IFERROR(VLOOKUP($A95,Filtros!$A$5:$AY$22116,43,FALSE),0)","v":0},{"$f":"IFERROR(VLOOKUP($A95,Filtros!$A$5:$AY$22116,44,FALSE),0)","v":0},{"$f":"IFERROR(VLOOKUP($A95,Filtros!$A$5:$AY$22116,45,FALSE),0)","v":0},{"$f":"IFERROR(VLOOKUP($A95,Filtros!$A$5:$AY$22116,46,FALSE),0)","v":2},"",{"$nulls":35},"","","","","","","",{"$nulls":13},0,0,0,0,0,0,0,{"$nulls":3},0,0,0,null,0,0]
["P6230400",null,"MODERADO",{"$f":"IFERROR(VLOOKUP($A96,Filtros!$A$5:$AY$22116,2,FALSE),0)","v":60},{"$f":"IFERROR(VLOOKUP($A96,Filtros!$A$5:$AY$22116,3,FALSE),0)","v":19},{"$f":"IFERROR(VLOOKUP($A96,Filtros!$A$5:$AY$22116,4,FALSE),0)","v":41},{"$f":"IFERROR(VLOOKUP($A96,Filtros!$A$5:$AY$22116,5,FALSE),0)","v":0},{"$f":"IFERROR(VLOOKUP($A96,Filtros!$A$5:$AY$22116,6,FALSE),0)","v":0},{"$f":"IFERROR(VLOOKUP($A96,Filtros!$A$5:$AY$22116,7,FALSE),0)","v":0},{"$f":"IFERROR(VLOOKUP($A96,Filtros!$A$5:$AY$22116,8,FALSE),0)","v":0},{"$f":"IFERROR(VLOOKUP($A96,Filtros!$A$5:$AY$22116,9,FALSE),0)","v":0},{"$f":"IFERROR(VLOOKUP($A96,Filtros!$A$5:$AY$22116,10,FALSE),0)","v":0},{"$f":"IFERROR(VLOOKUP($A96,Filtros!$A$5:$AY$22116,11,FALSE),0)","v":0},{"$f":"IFERROR(VLOOKUP($A96,Filtros!$A$5:$AY$22116,12,FALSE),0)","v":0},{"$f":"IFERROR(VLOOKUP($A96,Filtros!$A$5:$AY$22116,13,FALSE),0)","v":0},{"$f":"IFERROR(VLOOKUP($A96,Filtros!$A$5:$AY$22116,14,FALSE),0)","v":0},{"$f":"IFERROR(VLOOKUP($A96,Filtros!$A$5:$AY$22116,15,FALSE),0)","v":1},{"$f":"IFERROR(VLOOKUP($A96,Filtros!$A$5:$AY$22116,16,FALSE),0)","v":0},{"$f":"IFERROR(VLOOKUP($A96,Filtros!$A$5:$AY$22116,17,FALSE),0)","v":0},{"$f":"IFERROR(VLOOKUP($A96,Filtros!$A$5:$AY$22116,18,FALSE),0)","v":0},{"$f":"IFERROR(VLOOKUP($A96,Filtros!$A$5:$AY$22116,19,FALSE),0)","v":0},{"$f":"IFERROR(VLOOKUP($A96,Filtros!$A$5:$AY$22116,20,FALSE),0)","v":0},{"$f":"IFERROR(VLOOKUP($A96,Filtros!$A$5:$AY$22116,21,FALSE),0)","v":0},{"$f":"IFERROR(VLOOKUP($A96,Filtros!$A$5:$AY$22116,22,FALSE),0)","v":1},{"$f":"IFERROR(VLOOKUP($A96,Filtros!$A$5:$AY$22116,23,FALSE),0)","v":0},{"$f":"IFERROR(VLOOKUP($A96,Filtros!$A$5:$AY$22116,24,FALSE),0)","v":0},{"$f":"IFERROR(VLOOKUP($A96,Filtros!$A$5:$AY$22116,25,FALSE),0)","v":2},{"$f":"IFERROR(VLOOKUP($A96,Filtros!$A$5:$AY$22116,26,FALSE),0)","v":0},{"$f":"IFERROR(VLOOKUP($A96,Filtros!$A$5:$AY$22116,27,FALSE),0)","v":2},{"$f":"IFERROR(VLOOKUP($A96,Filtros!$A$5:$AY$22116,28,FALSE),0)","v":2},{"$f":"IFERROR(VLOOKUP($A96,Filtros!$A$5:$AY$22116,29,FALSE),0)","v":0},{"$f":"IFERROR(VLOOKUP($A96,Filtros!$A$5:$AY$22116,30,FALSE),0)","v":2},{"$f":"IFERROR(VLOOKUP($A96,Filtros!$A$5:$AY$22116,31,FALSE),0)","v":2},{"$f":"IFERROR(VLOOKUP($A96,Filtros!$A$5:$AY$22116,32,FALSE),0)","v":5},{"$f":"IFERROR(VLOOKUP($A96,Filtros!$A$5:$AY$22116,33,FALSE),0)","v":4},{"$f":"IFERROR(VLOOKUP($A96,Filtros!$A$5:$AY$22116,34,FALSE),0)","v":8},{"$f":"IFERROR(VLOOKUP($A96,Filtros!$A$5:$AY$22116,35,FALSE),0)","v":4},{"$f":"IFERROR(VLOOKUP($A96,Filtros!$A$5:$AY$22116,36,FALSE),0)","v":5},{"$f":"IFERROR(VLOOKUP($A96,Filtros!$A$5:$AY$22116,37,FALSE),0)","v":4},{"$f":"IFERROR(VLOOKUP($A96,Filtros!$A$5:$AY$22116,38,FALSE),0)","v":18},{"$f":"IFERROR(VLOOKUP($A96,Filtros!$A$5:$AY$22116,39,FALSE),0)","v":0},{"$f":"IFERROR(VLOOKUP($A96,Filtros!$A$5:$AY$22116,40,FALSE),0)","v":0},{"$f":"IFERROR(VLOOKUP($A96,Filtros!$A$5:$AY$22116,41,FALSE),0)","v":0},{"$f":"IFERROR(VLOOKUP($A96,Filtros!$A$5:$AY$22116,42,FALSE),0)","v":1},{"$f":"IFERROR(VLOOKUP($A96,Filtros!$A$5:$AY$22116,43,FALSE),0)","v":0},{"$f":"IFERROR(VLOOKUP($A96,Filtros!$A$5:$AY$22116,44,FALSE),0)","v":0},{"$f":"IFERROR(VLOOKUP($A96,Filtros!$A$5:$AY$22116,45,FALSE),0)","v":0},{"$f":"IFERROR(VLOOKUP($A96,Filtros!$A$5:$AY$22116,46,FALSE),0)","v":6},"",{"$nulls":35},"","","","","","","",{"$nulls":7},"","",{"$nulls":4},0,0,0,0,0,0,0,{"$nulls":3},0,0,0,null,0,0]
["P6230500",null,"AVANZADO",{"$f":"IFERROR(VLOOKUP($A97,Filtros!$A$5:$AY$22116,2,FALSE),0)","v":7},{"$f":"IFERROR(VLOOKUP($A97,Filtros!$A$5:$AY$22116,3,FALSE),0)","v":2},{"$f":"IFERROR(VLOOKUP($A97,Filtros!$A$5:$AY$22116,4,FALSE),0)","v":5},{"$f":"IFERROR(VLOOKUP($A97,Filtros!$A$5:$AY$22116,5,FALSE),0)","v":0},{"$f":"IFERROR(VLOOKUP($A97,Filtros!$A$5:$AY$22116,6,FALSE),0)","v":0},{"$f":"IFERROR(VLOOKUP($A97,Filtros!$A$5:$AY$22116,7,FALSE),0)","v":0},{"$f":"IFERROR(VLOOKUP($A97,Filtros!$A$5:$AY$22116,8,FALSE),0)","v":0},{"$f":"IFERROR(VLOOKUP($A97,Filtros!$A$5:$AY$22116,9,FALSE),0)","v":0},{"$f":"IFERROR(VLOOKUP($A97,Filtros!$A$5:$AY$22116,10,FALSE),0)","v":0},{"$f":"IFERROR(VLOOKUP($A97,Filtros!$A$5:$AY$22116,11,FALSE),0)","v":0},{"$f":"IFERROR(VLOOKUP($A97,Filtros!$A$5:$AY$22116,12,FALSE),0)","v":0},{"$f":"IFERROR(VLOOKUP($A97,Filtros!$A$5:$AY$22116,13,FALSE),0)","v":0},{"$f":"IFERROR(VLOOKUP($A97,Filtros!$A$5:$AY$22116,14,FALSE),0)","v":0},{"$f":"IFERROR(VLOOKUP($A97,Filtros!$A$5:$AY$22116,15,FALSE),0)","v":0},{"$f":"IFERROR(VLOOKUP($A97,Filtros!$A$5:$AY$22116,16,FALSE),0)","v":0},{"$f":"IFERROR(VLOOKUP($A97,Filtros!$A$5:$AY$22116,17,FALSE),0)","v":0},{"$f":"IFERROR(VLOOKUP($A97,Filtros!$A$5:$AY$22116,18,FALSE),0)","v":0},{"$f":"IFERROR(VLOOKUP($A97,Filtros!$A$5:$AY$22116,19,FALSE),0)","v":0},{"$f":"IFERROR(VLOOKUP($A97,Filtros!$A$5:$AY$22116,20,FALSE),0)","v":0},{"$f":"IFERROR(VLOOKUP($A97,Filtros!$A$5:$AY$22116,21,FALSE),0)","v":0},{"$f":"IFERROR(VLOOKUP($A97,Filtros!$A$5:$AY$22116,22,FALSE),0)","v":0},{"$f":"IFERROR(VLOOKUP($A97,Filtros!$A$5:$AY$22116,23,FALSE),0)","v":0},{"$f":"IFERROR(VLOOKUP($A97,Filtros!$A$5:$AY$22116,24,FALSE),0)","v":0},{"$f":"IFERROR(VLOOKUP($A97,Filtros!$A$5:$AY$22116,25,FALSE),0)","v":0},{"$f":"IFERROR(VLOOKUP($A97,Filtros!$A$5:$AY$22116,26,FALSE),0)","v":0},{"$f":"IFERROR(VLOOKUP($A97,Filtros!$A$5:$AY$22116,27,FALSE),0)","v":1},{"$f":"IFERROR(VLOOKUP($A97,Filtros!$A$5:$AY$22116,28,FALSE),0)","v":0},{"$f":"IFERROR(VLOOKUP($A97,Filtros!$A$5:$AY$22116,29,FALSE),0)","v":0},{"$f":"IFERROR(VLOOKUP($A97,Filtros!$A$5:$AY$22116,30,FALSE),0)","v":0},{"$f":"IFERROR(VLOOKUP($A97,Filtros!$A$5:$AY$22116,31,FALSE),0)","v":1},{"$f":"IFERROR(VLOOKUP($A97,Filtros!$A$5:$AY$22116,32,FALSE),0)","v":3},{"$f":"IFERROR(VLOOKUP($A97,Filtros!$A$5:$AY$22116,33,FALSE),0)","v":0},{"$f":"IFERROR(VLOOKUP($A97,Filtros!$A$5:$AY$22116,34,FALSE),0)","v":2},{"$f":"IFERROR(VLOOKUP($A97,Filtros!$A$5:$AY$22116,35,FALSE),0)","v":0},{"$f":"IFERROR(VLOOKUP($A97,Filtros!$A$5:$AY$22116,36,FALSE),0)","v":0},{"$f":"IFERROR(VLOOKUP($A97,Filtros!$A$5:$AY$22116,37,FALSE),0)","v":0},{"$f":"IFERROR(VLOOKUP($A97,Filtros!$A$5:$AY$22116,38,FALSE),0)","v":0},{"$f":"IFERROR(VLOOKUP($A97,Filtros!$A$5:$AY$22116,39,FALSE),0)","v":0},{"$f":"IFERROR(VLOOKUP($A97,Filtros!$A$5:$AY$22116,40,FALSE),0)","v":0},{"$f":"IFERROR(VLOOKUP($A97,Filtros!$A$5:$AY$22116,41,FALSE),0)","v":0},{"$f":"IFERROR(VLOOKUP($A97,Filtros!$A$5:$AY$22116,42,FALSE),0)","v":0},{"$f":"IFERROR(VLOOKUP($A97,Filtros!$A$5:$AY$22116,43,FALSE),0)","v":0},{"$f":"IFERROR(VLOOKUP($A97,Filtros!$A$5:$AY$22116,44,FALSE),0)","v":0},{"$f":"IFERROR(VLOOKUP($A97,Filtros!$A$5:$AY$22116,45,FALSE),0)","v":0},{"$f":"IFERROR(VLOOKUP($A97,Filtros!$A$5:$AY$22116,46,FALSE),0)","v":0},"",{"$nulls":35},"","","","","","","",{"$nulls":7},"","",{"$nulls":4},0,0,0,0,0,0,0,{"$nulls":3},0,0,0,null,0,0]
["P6223330","ESQUIZOFRENIA",null,{"$f":"IFERROR(VLOOKUP($A98,Filtros!$A$5:$AY$22116,2,FALSE),0)","v":843},{"$f":"IFERROR(VLOOKUP($A98,Filtros!$A$5:$AY$22116,3,FALSE),0)","v":566},{"$f":"IFERROR(VLOOKUP($A98,Filtros!$A$5:$AY$22116,4,FALSE),0)","v":277},{"$f":"IFERROR(VLOOKUP($A98,Filtros!$A$5:$AY$22116,5,FALSE),0)","v":0},{"$f":"IFERROR(VLOOKUP($A98,Filtros!$A$5:$AY$22116,6,FALSE),0)","v":0},{"$f":"IFERROR(VLOOKUP($A98,Filtros!$A$5:$AY$22116,7,FALSE),0)","v":0},{"$f":"IFERROR(VLOOKUP($A98,Filtros!$A$5:$AY$22116,8,FALSE),0)","v":0},{"$f":"IFERROR(VLOOKUP($A98,Filtros!$A$5:$AY$22116,9,FALSE),0)","v":0},{"$f":"IFERROR(VLOOKUP($A98,Filtros!$A$5:$AY$22116,10,FALSE),0)","v":3},{"$f":"IFERROR(VLOOKUP($A98,Filtros!$A$5:$AY$22116,11,FALSE),0)","v":10},{"$f":"IFERROR(VLOOKUP($A98,Filtros!$A$5:$AY$22116,12,FALSE),0)","v":6},{"$f":"IFERROR(VLOOKUP($A98,Filtros!$A$5:$AY$22116,13,FALSE),0)","v":78},{"$f":"IFERROR(VLOOKUP($A98,Filtros!$A$5:$AY$22116,14,FALSE),0)","v":13},{"$f":"IFERROR(VLOOKUP($A98,Filtros!$A$5:$AY$22116,15,FALSE),0)","v":84},{"$f":"IFERROR(VLOOKUP($A98,Filtros!$A$5:$AY$22116,16,FALSE),0)","v":21},{"$f":"IFERROR(VLOOKUP($A98,Filtros!$A$5:$AY$22116,17,FALSE),0)","v":72},{"$f":"IFERROR(VLOOKUP($A98,Filtros!$A$5:$AY$22116,18,FALSE),0)","v":27},{"$f":"IFERROR(VLOOKUP($A98,Filtros!$A$5:$AY$22116,19,FALSE),0)","v":72},{"$f":"IFERROR(VLOOKUP($A98,Filtros!$A$5:$AY$22116,20,FALSE),0)","v":21},{"$f":"IFERROR(VLOOKUP($A98,Filtros!$A$5:$AY$22116,21,FALSE),0)","v":54},{"$f":"IFERROR(VLOOKUP($A98,Filtros!$A$5:$AY$22116,22,FALSE),0)","v":20},{"$f":"IFERROR(VLOOKUP($A98,Filtros!$A$5:$AY$22116,23,FALSE),0)","v":65},{"$f":"IFERROR(VLOOKUP($A98,Filtros!$A$5:$AY$22116,24,FALSE),0)","v":27},{"$f":"IFERROR(VLOOKUP($A98,Filtros!$A$5:$AY$22116,25,FALSE),0)","v":38},{"$f":"IFERROR(VLOOKUP($A98,Filtros!$A$5:$AY$22116,26,FALSE),0)","v":30},{"$f":"IFERROR(VLOOKUP($A98,Filtros!$A$5:$AY$22116,27,FALSE),0)","v":47},{"$f":"IFERROR(VLOOKUP($A98,Filtros!$A$5:$AY$22116,28,FALSE),0)","v":37},{"$f":"IFERROR(VLOOKUP($A98,Filtros!$A$5:$AY$22116,29,FALSE),0)","v":19},{"$f":"IFERROR(VLOOKUP($A98,Filtros!$A$5:$AY$22116,30,FALSE),0)","v":31},{"$f":"IFERROR(VLOOKUP($A98,Filtros!$A$5:$AY$22116,31,FALSE),0)","v":17},{"$f":"IFERROR(VLOOKUP($A98,Filtros!$A$5:$AY$22116,32,FALSE),0)","v":17},{"$f":"IFERROR(VLOOKUP($A98,Filtros!$A$5:$AY$22116,33,FALSE),0)","v":2},{"$f":"IFERROR(VLOOKUP($A98,Filtros!$A$5:$AY$22116,34,FALSE),0)","v":8},{"$f":"IFERROR(VLOOKUP($A98,Filtros!$A$5:$AY$22116,35,FALSE),0)","v":7},{"$f":"IFERROR(VLOOKUP($A98,Filtros!$A$5:$AY$22116,36,FALSE),0)","v":11},{"$f":"IFERROR(VLOOKUP($A98,Filtros!$A$5:$AY$22116,37,FALSE),0)","v":1},{"$f":"IFERROR(VLOOKUP($A98,Filtros!$A$5:$AY$22116,38,FALSE),0)","v":5},{"$f":"IFERROR(VLOOKUP($A98,Filtros!$A$5:$AY$22116,39,FALSE),0)","v":1},{"$f":"IFERROR(VLOOKUP($A98,Filtros!$A$5:$AY$22116,40,FALSE),0)","v":1},{"$f":"IFERROR(VLOOKUP($A98,Filtros!$A$5:$AY$22116,41,FALSE),0)","v":0},{"$f":"IFERROR(VLOOKUP($A98,Filtros!$A$5:$AY$22116,42,FALSE),0)","v":0},{"$f":"IFERROR(VLOOKUP($A98,Filtros!$A$5:$AY$22116,43,FALSE),0)","v":0},{"$f":"IFERROR(VLOOKUP($A98,Filtros!$A$5:$AY$22116,44,FALSE),0)","v":1},{"$f":"IFERROR(VLOOKUP($A98,Filtros!$A$5:$AY$22116,45,FALSE),0)","v":1},{"$f":"IFERROR(VLOOKUP($A98,Filtros!$A$5:$AY$22116,46,FALSE),0)","v":184},"",{"$nulls":35},"","","","","","","","","",null,"","","",null,"","",{"$nulls":4},0,0,0,0,0,0,0,0,0,null,0,0,0,null,0,0]
["P6223340","PRIMER EPISODIO ESQUIZOFRENIA CON OCUPACION REGULAR",null,{"$f":"IFERROR(VLOOKUP($A99,Filtros!$A$5:$AY$22116,2,FALSE),0)","v":12},{"$f":"IFERROR(VLOOKUP($A99,Filtros!$A$5:$AY$22116,3,FALSE),0)","v":10},{"$f":"IFERROR(VLOOKUP($A99,Filtros!$A$5:$AY$22116,4,FALSE),0)","v":2},{"$f":"IFERROR(VLOOKUP($A99,Filtros!$A$5:$AY$22116,5,FALSE),0)","v":0},{"$f":"IFERROR(VLOOKUP($A99,Filtros!$A$5:$AY$22116,6,FALSE),0)","v":0},{"$f":"IFERROR(VLOOKUP($A99,Filtros!$A$5:$AY$22116,7,FALSE),0)","v":0},{"$f":"IFERROR(VLOOKUP($A99,Filtros!$A$5:$AY$22116,8,FALSE),0)","v":0},{"$f":"IFERROR(VLOOKUP($A99,Filtros!$A$5:$AY$22116,9,FALSE),0)","v":0},{"$f":"IFERROR(VLOOKUP($A99,Filtros!$A$5:$AY$22116,10,FALSE),0)","v":0},{"$f":"IFERROR(VLOOKUP($A99,Filtros!$A$5:$AY$22116,11,FALSE),0)","v":2},{"$f":"IFERROR(VLOOKUP($A99,Filtros!$A$5:$AY$22116,12,FALSE),0)","v":0},{"$f":"IFERROR(VLOOKUP($A99,Filtros!$A$5:$AY$22116,13,FALSE),0)","v":1},{"$f":"IFERROR(VLOOKUP($A99,Filtros!$A$5:$AY$22116,14,FALSE),0)","v":0},{"$f":"IFERROR(VLOOKUP($A99,Filtros!$A$5:$AY$22116,15,FALSE),0)","v":7},{"$f":"IFERROR(VLOOKUP($A99,Filtros!$A$5:$AY$22116,16,FALSE),0)","v":0},{"$f":"IFERROR(VLOOKUP($A99,Filtros!$A$5:$AY$22116,17,FALSE),0)","v":0},{"$f":"IFERROR(VLOOKUP($A99,Filtros!$A$5:$AY$22116,18,FALSE),0)","v":0},{"$f":"IFERROR(VLOOKUP($A99,Filtros!$A$5:$AY$22116,19,FALSE),0)","v":0},{"$f":"IFERROR(VLOOKUP($A99,Filtros!$A$5:$AY$22116,20,FALSE),0)","v":1},{"$f":"IFERROR(VLOOKUP($A99,Filtros!$A$5:$AY$22116,21,FALSE),0)","v":0},{"$f":"IFERROR(VLOOKUP($A99,Filtros!$A$5:$AY$22116,22,FALSE),0)","v":0},{"$f":"IFERROR(VLOOKUP($A99,Filtros!$A$5:$AY$22116,23,FALSE),0)","v":0},{"$f":"IFERROR(VLOOKUP($A99,Filtros!$A$5:$AY$22116,24,FALSE),0)","v":0},{"$f":"IFERROR(VLOOKUP($A99,Filtros!$A$5:$AY$22116,25,FALSE),0)","v":0},{"$f":"IFERROR(VLOOKUP($A99,Filtros!$A$5:$AY$22116,26,FALSE),0)","v":0},{"$f":"IFERROR(VLOOKUP($A99,Filtros!$A$5:$AY$22116,27,FALSE),0)","v":0},{"$f":"IFERROR(VLOOKUP($A99,Filtros!$A$5:$AY$22116,28,FALSE),0)","v":1},{"$f":"IFERROR(VLOOKUP($A99,Filtros!$A$5:$AY$22116,29,FALSE),0)","v":0},{"$f":"IFERROR(VLOOKUP($A99,Filtros!$A$5:$AY$22116,30,FALSE),0)","v":0},{"$f":"IFERROR(VLOOKUP($A99,Filtros!$A$5:$AY$22116,31,FALSE),0)","v":0},{"$f":"IFERROR(VLOOKUP($A99,Filtros!$A$5:$AY$22116,32,FALSE),0)","v":0},{"$f":"IFERROR(VLOOKUP($A99,Filtros!$A$5:$AY$22116,33,FALSE),0)","v":0},{"$f":"IFERROR(VLOOKUP($A99,Filtros!$A$5:$AY$22116,34,FALSE),0)","v":0},{"$f":"IFERROR(VLOOKUP($A99,Filtros!$A$5:$AY$22116,35,FALSE),0)","v":0},{"$f":"IFERROR(VLOOKUP($A99,Filtros!$A$5:$AY$22116,36,FALSE),0)","v":0},{"$f":"IFERROR(VLOOKUP($A99,Filtros!$A$5:$AY$22116,37,FALSE),0)","v":0},{"$f":"IFERROR(VLOOKUP($A99,Filtros!$A$5:$AY$22116,38,FALSE),0)","v":0},{"$f":"IFERROR(VLOOKUP($A99,Filtros!$A$5:$AY$22116,39,FALSE),0)","v":0},{"$f":"IFERROR(VLOOKUP($A99,Filtros!$A$5:$AY$22116,40,FALSE),0)","v":0},{"$f":"IFERROR(VLOOKUP($A99,Filtros!$A$5:$AY$22116,41,FALSE),0)","v":0},{"$f":"IFERROR(VLOOKUP($A99,Filtros!$A$5:$AY$22116,42,FALSE),0)","v":0},{"$f":"IFERROR(VLOOKUP($A99,Filtros!$A$5:$AY$22116,43,FALSE),0)","v":0},{"$f":"IFERROR(VLOOKUP($A99,Filtros!$A$5:$AY$22116,44,FALSE),0)","v":0},{"$f":"IFERROR(VLOOKUP($A99,Filtros!$A$5:$AY$22116,45,FALSE),0)","v":0},{"$f":"IFERROR(VLOOKUP($A99,Filtros!$A$5:$AY$22116,46,FALSE),0)","v":7},"",{"$nulls":35},"","","","","","","","","",null,"","","",null,"","",{"$nulls":4},0,0,0,0,0,0,0,0,0,null,0,0,0,null,0,0]
["P6223350","TRASTORNOS DE LA CONDUCTA ALIMENTARIA",null,{"$f":"IFERROR(VLOOKUP($A100,Filtros!$A$5:$AY$22116,2,FALSE),0)","v":52},{"$f":"IFERROR(VLOOKUP($A100,Filtros!$A$5:$AY$22116,3,FALSE),0)","v":7},{"$f":"IFERROR(VLOOKUP($A100,Filtros!$A$5:$AY$22116,4,FALSE),0)","v":45},{"$f":"IFERROR(VLOOKUP($A100,Filtros!$A$5:$AY$22116,5,FALSE),0)","v":0},{"$f":"IFERROR(VLOOKUP($A100,Filtros!$A$5:$AY$22116,6,FALSE),0)","v":0},{"$f":"IFERROR(VLOOKUP($A100,Filtros!$A$5:$AY$22116,7,FALSE),0)","v":1},{"$f":"IFERROR(VLOOKUP($A100,Filtros!$A$5:$AY$22116,8,FALSE),0)","v":4},{"$f":"IFERROR(VLOOKUP($A100,Filtros!$A$5:$AY$22116,9,FALSE),0)","v":1},{"$f":"IFERROR(VLOOKUP($A100,Filtros!$A$5:$AY$22116,10,FALSE),0)","v":8},{"$f":"IFERROR(VLOOKUP($A100,Filtros!$A$5:$AY$22116,11,FALSE),0)","v":4},{"$f":"IFERROR(VLOOKUP($A100,Filtros!$A$5:$AY$22116,12,FALSE),0)","v":14},{"$f":"IFERROR(VLOOKUP($A100,Filtros!$A$5:$AY$22116,13,FALSE),0)","v":0},{"$f":"IFERROR(VLOOKUP($A100,Filtros!$A$5:$AY$22116,14,FALSE),0)","v":8},{"$f":"IFERROR(VLOOKUP($A100,Filtros!$A$5:$AY$22116,15,FALSE),0)","v":0},{"$f":"IFERROR(VLOOKUP($A100,Filtros!$A$5:$AY$22116,16,FALSE),0)","v":3},{"$f":"IFERROR(VLOOKUP($A100,Filtros!$A$5:$AY$22116,17,FALSE),0)","v":0},{"$f":"IFERROR(VLOOKUP($A100,Filtros!$A$5:$AY$22116,18,FALSE),0)","v":2},{"$f":"IFERROR(VLOOKUP($A100,Filtros!$A$5:$AY$22116,19,FALSE),0)","v":0},{"$f":"IFERROR(VLOOKUP($A100,Filtros!$A$5:$AY$22116,20,FALSE),0)","v":3},{"$f":"IFERROR(VLOOKUP($A100,Filtros!$A$5:$AY$22116,21,FALSE),0)","v":0},{"$f":"IFERROR(VLOOKUP($A100,Filtros!$A$5:$AY$22116,22,FALSE),0)","v":1},{"$f":"IFERROR(VLOOKUP($A100,Filtros!$A$5:$AY$22116,23,FALSE),0)","v":0},{"$f":"IFERROR(VLOOKUP($A100,Filtros!$A$5:$AY$22116,24,FALSE),0)","v":0},{"$f":"IFERROR(VLOOKUP($A100,Filtros!$A$5:$AY$22116,25,FALSE),0)","v":1},{"$f":"IFERROR(VLOOKUP($A100,Filtros!$A$5:$AY$22116,26,FALSE),0)","v":1},{"$f":"IFERROR(VLOOKUP($A100,Filtros!$A$5:$AY$22116,27,FALSE),0)","v":0},{"$f":"IFERROR(VLOOKUP($A100,Filtros!$A$5:$AY$22116,28,FALSE),0)","v":0},{"$f":"IFERROR(VLOOKUP($A100,Filtros!$A$5:$AY$22116,29,FALSE),0)","v":0},{"$f":"IFERROR(VLOOKUP($A100,Filtros!$A$5:$AY$22116,30,FALSE),0)","v":0},{"$f":"IFERROR(VLOOKUP($A100,Filtros!$A$5:$AY$22116,31,FALSE),0)","v":0},{"$f":"IFERROR(VLOOKUP($A100,Filtros!$A$5:$AY$22116,32,FALSE),0)","v":0},{"$f":"IFERROR(VLOOKUP($A100,Filtros!$A$5:$AY$22116,33,FALSE),0)","v":0},{"$f":"IFERROR(VLOOKUP($A100,Filtros!$A$5:$AY$22116,34,FALSE),0)","v":0},{"$f":"IFERROR(VLOOKUP($A100,Filtros!$A$5:$AY$22116,35,FALSE),0)","v":0},{"$f":"IFERROR(VLOOKUP($A100,Filtros!$A$5:$AY$22116,36,FALSE),0)","v":1},{"$f":"IFERROR(VLOOKUP($A100,Filtros!$A$5:$AY$22116,37,FALSE),0)","v":0},{"$f":"IFERROR(VLOOKUP($A100,Filtros!$A$5:$AY$22116,38,FALSE),0)","v":0},{"$f":"IFERROR(VLOOKUP($A100,Filtros!$A$5:$AY$22116,39,FALSE),0)","v":1},{"$f":"IFERROR(VLOOKUP($A100,Filtros!$A$5:$AY$22116,40,FALSE),0)","v":1},{"$f":"IFERROR(VLOOKUP($A100,Filtros!$A$5:$AY$22116,41,FALSE),0)","v":0},{"$f":"IFERROR(VLOOKUP($A100,Filtros!$A$5:$AY$22116,42,FALSE),0)","v":0},{"$f":"IFERROR(VLOOKUP($A100,Filtros!$A$5:$AY$22116,43,FALSE),0)","v":0},{"$f":"IFERROR(VLOOKUP($A100,Filtros!$A$5:$AY$22116,44,FALSE),0)","v":0},{"$f":"IFERROR(VLOOKUP($A100,Filtros!$A$5:$AY$22116,45,FALSE),0)","v":0},{"$f":"IFERROR(VLOOKUP($A100,Filtros!$A$5:$AY$22116,46,FALSE),0)","v":6},"",{"$nulls":35},"","","","","","","","","",null,"","","",null,"","",{"$nulls":4},0,0,0,0,0,0,0,0,0,null,0,0,0,null,0,0]
["P6223360","RETRASO MENTAL",null,{"$f":"IFERROR(VLOOKUP($A101,Filtros!$A$5:$AY$22116,2,FALSE),0)","v":176},{"$f":"IFERROR(VLOOKUP($A101,Filtros!$A$5:$AY$22116,3,FALSE),0)","v":104},{"$f":"IFERROR(VLOOKUP($A101,Filtros!$A$5:$AY$22116,4,FALSE),0)","v":72},{"$f":"IFERROR(VLOOKUP($A101,Filtros!$A$5:$AY$22116,5,FALSE),0)","v":0},{"$f":"IFERROR(VLOOKUP($A101,Filtros!$A$5:$AY$22116,6,FALSE),0)","v":0},{"$f":"IFERROR(VLOOKUP($A101,Filtros!$A$5:$AY$22116,7,FALSE),0)","v":4},{"$f":"IFERROR(VLOOKUP($A101,Filtros!$A$5:$AY$22116,8,FALSE),0)","v":1},{"$f":"IFERROR(VLOOKUP($A101,Filtros!$A$5:$AY$22116,9,FALSE),0)","v":7},{"$f":"IFERROR(VLOOKUP($A101,Filtros!$A$5:$AY$22116,10,FALSE),0)","v":7},{"$f":"IFERROR(VLOOKUP($A101,Filtros!$A$5:$AY$22116,11,FALSE),0)","v":10},{"$f":"IFERROR(VLOOKUP($A101,Filtros!$A$5:$AY$22116,12,FALSE),0)","v":6},{"$f":"IFERROR(VLOOKUP($A101,Filtros!$A$5:$AY$22116,13,FALSE),0)","v":18},{"$f":"IFERROR(VLOOKUP($A101,Filtros!$A$5:$AY$22116,14,FALSE),0)","v":7},{"$f":"IFERROR(VLOOKUP($A101,Filtros!$A$5:$AY$22116,15,FALSE),0)","v":8},{"$f":"IFERROR(VLOOKUP($A101,Filtros!$A$5:$AY$22116,16,FALSE),0)","v":4},{"$f":"IFERROR(VLOOKUP($A101,Filtros!$A$5:$AY$22116,17,FALSE),0)","v":13},{"$f":"IFERROR(VLOOKUP($A101,Filtros!$A$5:$AY$22116,18,FALSE),0)","v":6},{"$f":"IFERROR(VLOOKUP($A101,Filtros!$A$5:$AY$22116,19,FALSE),0)","v":10},{"$f":"IFERROR(VLOOKUP($A101,Filtros!$A$5:$AY$22116,20,FALSE),0)","v":3},{"$f":"IFERROR(VLOOKUP($A101,Filtros!$A$5:$AY$22116,21,FALSE),0)","v":5},{"$f":"IFERROR(VLOOKUP($A101,Filtros!$A$5:$AY$22116,22,FALSE),0)","v":7},{"$f":"IFERROR(VLOOKUP($A101,Filtros!$A$5:$AY$22116,23,FALSE),0)","v":7},{"$f":"IFERROR(VLOOKUP($A101,Filtros!$A$5:$AY$22116,24,FALSE),0)","v":6},{"$f":"IFERROR(VLOOKUP($A101,Filtros!$A$5:$AY$22116,25,FALSE),0)","v":10},{"$f":"IFERROR(VLOOKUP($A101,Filtros!$A$5:$AY$22116,26,FALSE),0)","v":6},{"$f":"IFERROR(VLOOKUP($A101,Filtros!$A$5:$AY$22116,27,FALSE),0)","v":2},{"$f":"IFERROR(VLOOKUP($A101,Filtros!$A$5:$AY$22116,28,FALSE),0)","v":5},{"$f":"IFERROR(VLOOKUP($A101,Filtros!$A$5:$AY$22116,29,FALSE),0)","v":5},{"$f":"IFERROR(VLOOKUP($A101,Filtros!$A$5:$AY$22116,30,FALSE),0)","v":4},{"$f":"IFERROR(VLOOKUP($A101,Filtros!$A$5:$AY$22116,31,FALSE),0)","v":3},{"$f":"IFERROR(VLOOKUP($A101,Filtros!$A$5:$AY$22116,32,FALSE),0)","v":7},{"$f":"IFERROR(VLOOKUP($A101,Filtros!$A$5:$AY$22116,33,FALSE),0)","v":2},{"$f":"IFERROR(VLOOKUP($A101,Filtros!$A$5:$AY$22116,34,FALSE),0)","v":1},{"$f":"IFERROR(VLOOKUP($A101,Filtros!$A$5:$AY$22116,35,FALSE),0)","v":0},{"$f":"IFERROR(VLOOKUP($A101,Filtros!$A$5:$AY$22116,36,FALSE),0)","v":2},{"$f":"IFERROR(VLOOKUP($A101,Filtros!$A$5:$AY$22116,37,FALSE),0)","v":0},{"$f":"IFERROR(VLOOKUP($A101,Filtros!$A$5:$AY$22116,38,FALSE),0)","v":0},{"$f":"IFERROR(VLOOKUP($A101,Filtros!$A$5:$AY$22116,39,FALSE),0)","v":0},{"$f":"IFERROR(VLOOKUP($A101,Filtros!$A$5:$AY$22116,40,FALSE),0)","v":0},{"$f":"IFERROR(VLOOKUP($A101,Filtros!$A$5:$AY$22116,41,FALSE),0)","v":1},{"$f":"IFERROR(VLOOKUP($A101,Filtros!$A$5:$AY$22116,42,FALSE),0)","v":0},{"$f":"IFERROR(VLOOKUP($A101,Filtros!$A$5:$AY$22116,43,FALSE),0)","v":0},{"$f":"IFERROR(VLOOKUP($A101,Filtros!$A$5:$AY$22116,44,FALSE),0)","v":0},{"$f":"IFERROR(VLOOKUP($A101,Filtros!$A$5:$AY$22116,45,FALSE),0)","v":3},{"$f":"IFERROR(VLOOKUP($A101,Filtros!$A$5:$AY$22116,46,FALSE),0)","v":19},"",{"$nulls":35},"","","","","","","","","",null,"","","",null,"","",{"$nulls":4},0,0,0,0,0,0,0,0,0,null,0,0,0,null,0,0]
["P6223370","TRASTORNO DE PERSONALIDAD",null,{"$f":"IFERROR(VLOOKUP($A102,Filtros!$A$5:$AY$22116,2,FALSE),0)","v":701},{"$f":"IFERROR(VLOOKUP($A102,Filtros!$A$5:$AY$22116,3,FALSE),0)","v":144},{"$f":"IFERROR(VLOOKUP($A102,Filtros!$A$5:$AY$22116,4,FALSE),0)","v":557},{"$f":"IFERROR(VLOOKUP($A102,Filtros!$A$5:$AY$22116,5,FALSE),0)","v":0},{"$f":"IFERROR(VLOOKUP($A102,Filtros!$A$5:$AY$22116,6,FALSE),0)","v":0},{"$f":"IFERROR(VLOOKUP($A102,Filtros!$A$5:$AY$22116,7,FALSE),0)","v":1},{"$f":"IFERROR(VLOOKUP($A102,Filtros!$A$5:$AY$22116,8,FALSE),0)","v":4},{"$f":"IFERROR(VLOOKUP($A102,Filtros!$A$5:$AY$22116,9,FALSE),0)","v":4},{"$f":"IFERROR(VLOOKUP($A102,Filtros!$A$5:$AY$22116,10,FALSE),0)","v":11},{"$f":"IFERROR(VLOOKUP($A102,Filtros!$A$5:$AY$22116,11,FALSE),0)","v":10},{"$f":"IFERROR(VLOOKUP($A102,Filtros!$A$5:$AY$22116,12,FALSE),0)","v":47},{"$f":"IFERROR(VLOOKUP($A102,Filtros!$A$5:$AY$22116,13,FALSE),0)","v":14},{"$f":"IFERROR(VLOOKUP($A102,Filtros!$A$5:$AY$22116,14,FALSE),0)","v":49},{"$f":"IFERROR(VLOOKUP($A102,Filtros!$A$5:$AY$22116,15,FALSE),0)","v":16},{"$f":"IFERROR(VLOOKUP($A102,Filtros!$A$5:$AY$22116,16,FALSE),0)","v":41},{"$f":"IFERROR(VLOOKUP($A102,Filtros!$A$5:$AY$22116,17,FALSE),0)","v":15},{"$f":"IFERROR(VLOOKUP($A102,Filtros!$A$5:$AY$22116,18,FALSE),0)","v":44},{"$f":"IFERROR(VLOOKUP($A102,Filtros!$A$5:$AY$22116,19,FALSE),0)","v":20},{"$f":"IFERROR(VLOOKUP($A102,Filtros!$A$5:$AY$22116,20,FALSE),0)","v":40},{"$f":"IFERROR(VLOOKUP($A102,Filtros!$A$5:$AY$22116,21,FALSE),0)","v":11},{"$f":"IFERROR(VLOOKUP($A102,Filtros!$A$5:$AY$22116,22,FALSE),0)","v":35},{"$f":"IFERROR(VLOOKUP($A102,Filtros!$A$5:$AY$22116,23,FALSE),0)","v":15},{"$f":"IFERROR(VLOOKUP($A102,Filtros!$A$5:$AY$22116,24,FALSE),0)","v":65},{"$f":"IFERROR(VLOOKUP($A102,Filtros!$A$5:$AY$22116,25,FALSE),0)","v":11},{"$f":"IFERROR(VLOOKUP($A102,Filtros!$A$5:$AY$22116,26,FALSE),0)","v":58},{"$f":"IFERROR(VLOOKUP($A102,Filtros!$A$5:$AY$22116,27,FALSE),0)","v":16},{"$f":"IFERROR(VLOOKUP($A102,Filtros!$A$5:$AY$22116,28,FALSE),0)","v":64},{"$f":"IFERROR(VLOOKUP($A102,Filtros!$A$5:$AY$22116,29,FALSE),0)","v":6},{"$f":"IFERROR(VLOOKUP($A102,Filtros!$A$5:$AY$22116,30,FALSE),0)","v":35},{"$f":"IFERROR(VLOOKUP($A102,Filtros!$A$5:$AY$22116,31,FALSE),0)","v":3},{"$f":"IFERROR(VLOOKUP($A102,Filtros!$A$5:$AY$22116,32,FALSE),0)","v":31},{"$f":"IFERROR(VLOOKUP($A102,Filtros!$A$5:$AY$22116,33,FALSE),0)","v":2},{"$f":"IFERROR(VLOOKUP($A102,Filtros!$A$5:$AY$22116,34,FALSE),0)","v":19},{"$f":"IFERROR(VLOOKUP($A102,Filtros!$A$5:$AY$22116,35,FALSE),0)","v":0},{"$f":"IFERROR(VLOOKUP($A102,Filtros!$A$5:$AY$22116,36,FALSE),0)","v":10},{"$f":"IFERROR(VLOOKUP($A102,Filtros!$A$5:$AY$22116,37,FALSE),0)","v":0},{"$f":"IFERROR(VLOOKUP($A102,Filtros!$A$5:$AY$22116,38,FALSE),0)","v":4},{"$f":"IFERROR(VLOOKUP($A102,Filtros!$A$5:$AY$22116,39,FALSE),0)","v":5},{"$f":"IFERROR(VLOOKUP($A102,Filtros!$A$5:$AY$22116,40,FALSE),0)","v":6},{"$f":"IFERROR(VLOOKUP($A102,Filtros!$A$5:$AY$22116,41,FALSE),0)","v":0},{"$f":"IFERROR(VLOOKUP($A102,Filtros!$A$5:$AY$22116,42,FALSE),0)","v":1},{"$f":"IFERROR(VLOOKUP($A102,Filtros!$A$5:$AY$22116,43,FALSE),0)","v":0},{"$f":"IFERROR(VLOOKUP($A102,Filtros!$A$5:$AY$22116,44,FALSE),0)","v":2},{"$f":"IFERROR(VLOOKUP($A102,Filtros!$A$5:$AY$22116,45,FALSE),0)","v":11},{"$f":"IFERROR(VLOOKUP($A102,Filtros!$A$5:$AY$22116,46,FALSE),0)","v":134},"",{"$nulls":35},"","","","","","","","","",null,"","","",null,"","",{"$nulls":4},0,0,0,0,0,0,0,0,0,null,0,0,0,null,0,0]
["P6241060","TRASTORNO GENERALIZADOS DEL DESARROLLO","AUTISMO",{"$f":"IFERROR(VLOOKUP($A103,Filtros!$A$5:$AY$22116,2,FALSE),0)","v":111},{"$f":"IFERROR(VLOOKUP($A103,Filtros!$A$5:$AY$22116,3,FALSE),0)","v":97},{"$f":"IFERROR(VLOOKUP($A103,Filtros!$A$5:$AY$22116,4,FALSE),0)","v":14},{"$f":"IFERROR(VLOOKUP($A103,Filtros!$A$5:$AY$22116,5,FALSE),0)","v":8},{"$f":"IFERROR(VLOOKUP($A103,Filtros!$A$5:$AY$22116,6,FALSE),0)","v":0},{"$f":"IFERROR(VLOOKUP($A103,Filtros!$A$5:$AY$22116,7,FALSE),0)","v":32},{"$f":"IFERROR(VLOOKUP($A103,Filtros!$A$5:$AY$22116,8,FALSE),0)","v":6},{"$f":"IFERROR(VLOOKUP($A103,Filtros!$A$5:$AY$22116,9,FALSE),0)","v":23},{"$f":"IFERROR(VLOOKUP($A103,Filtros!$A$5:$AY$22116,10,FALSE),0)","v":5},{"$f":"IFERROR(VLOOKUP($A103,Filtros!$A$5:$AY$22116,11,FALSE),0)","v":13},{"$f":"IFERROR(VLOOKUP($A103,Filtros!$A$5:$AY$22116,12,FALSE),0)","v":2},{"$f":"IFERROR(VLOOKUP($A103,Filtros!$A$5:$AY$22116,13,FALSE),0)","v":12},{"$f":"IFERROR(VLOOKUP($A103,Filtros!$A$5:$AY$22116,14,FALSE),0)","v":1},{"$f":"IFERROR(VLOOKUP($A103,Filtros!$A$5:$AY$22116,15,FALSE),0)","v":5},{"$f":"IFERROR(VLOOKUP($A103,Filtros!$A$5:$AY$22116,16,FALSE),0)","v":0},{"$f":"IFERROR(VLOOKUP($A103,Filtros!$A$5:$AY$22116,17,FALSE),0)","v":3},{"$f":"IFERROR(VLOOKUP($A103,Filtros!$A$5:$AY$22116,18,FALSE),0)","v":0},{"$f":"IFERROR(VLOOKUP($A103,Filtros!$A$5:$AY$22116,19,FALSE),0)","v":1},{"$f":"IFERROR(VLOOKUP($A103,Filtros!$A$5:$AY$22116,20,FALSE),0)","v":0},{"$f":"IFERROR(VLOOKUP($A103,Filtros!$A$5:$AY$22116,21,FALSE),0)","v":0},{"$f":"IFERROR(VLOOKUP($A103,Filtros!$A$5:$AY$22116,22,FALSE),0)","v":0},{"$f":"IFERROR(VLOOKUP($A103,Filtros!$A$5:$AY$22116,23,FALSE),0)","v":0},{"$f":"IFERROR(VLOOKUP($A103,Filtros!$A$5:$AY$22116,24,FALSE),0)","v":0},{"$f":"IFERROR(VLOOKUP($A103,Filtros!$A$5:$AY$22116,25,FALSE),0)","v":0},{"$f":"IFERROR(VLOOKUP($A103,Filtros!$A$5:$AY$22116,26,FALSE),0)","v":0},{"$f":"IFERROR(VLOOKUP($A103,Filtros!$A$5:$AY$22116,27,FALSE),0)","v":0},{"$f":"IFERROR(VLOOKUP($A103,Filtros!$A$5:$AY$22116,28,FALSE),0)","v":0},{"$f":"IFERROR(VLOOKUP($A103,Filtros!$A$5:$AY$22116,29,FALSE),0)","v":0},{"$f":"IFERROR(VLOOKUP($A103,Filtros!$A$5:$AY$22116,30,FALSE),0)","v":0},{"$f":"IFERROR(VLOOKUP($A103,Filtros!$A$5:$AY$22116,31,FALSE),0)","v":0},{"$f":"IFERROR(VLOOKUP($A103,Filtros!$A$5:$AY$22116,32,FALSE),0)","v":0},{"$f":"IFERROR(VLOOKUP($A103,Filtros!$A$5:$AY$22116,33,FALSE),0)","v":0},{"$f":"IFERROR(VLOOKUP($A103,Filtros!$A$5:$AY$22116,34,FALSE),0)","v":0},{"$f":"IFERROR(VLOOKUP($A103,Filtros!$A$5:$AY$22116,35,FALSE),0)","v":0},{"$f":"IFERROR(VLOOKUP($A103,Filtros!$A$5:$AY$22116,36,FALSE),0)","v":0},{"$f":"IFERROR(VLOOKUP($A103,Filtros!$A$5:$AY$22116,37,FALSE),0)","v":0},{"$f":"IFERROR(VLOOKUP($A103,Filtros!$A$5:$AY$22116,38,FALSE),0)","v":0},{"$f":"IFERROR(VLOOKUP($A103,Filtros!$A$5:$AY$22116,39,FALSE),0)","v":0},{"$f":"IFERROR(VLOOKUP($A103,Filtros!$A$5:$AY$22116,40,FALSE),0)","v":0},{"$f":"IFERROR(VLOOKUP($A103,Filtros!$A$5:$AY$22116,41,FALSE),0)","v":0},{"$f":"IFERROR(VLOOKUP($A103,Filtros!$A$5:$AY$22116,42,FALSE),0)","v":0},{"$f":"IFERROR(VLOOKUP($A103,Filtros!$A$5:$AY$22116,43,FALSE),0)","v":0},{"$f":"IFERROR(VLOOKUP($A103,Filtros!$A$5:$AY$22116,44,FALSE),0)","v":0},{"$f":"IFERROR(VLOOKUP($A103,Filtros!$A$5:$AY$22116,45,FALSE),0)","v":3},{"$f":"IFERROR(VLOOKUP($A103,Filtros!$A$5:$AY$22116,46,FALSE),0)","v":15}]
["P6241070",null,"ASPERGER",{"$f":"IFERROR(VLOOKUP($A104,Filtros!$A$5:$AY$22116,2,FALSE),0)","v":15},{"$f":"IFERROR(VLOOKUP($A104,Filtros!$A$5:$AY$22116,3,FALSE),0)","v":14},{"$f":"IFERROR(VLOOKUP($A104,Filtros!$A$5:$AY$22116,4,FALSE),0)","v":1},{"$f":"IFERROR(VLOOKUP($A104,Filtros!$A$5:$AY$22116,5,FALSE),0)","v":0},{"$f":"IFERROR(VLOOKUP($A104,Filtros!$A$5:$AY$22116,6,FALSE),0)","v":0},{"$f":"IFERROR(VLOOKUP($A104,Filtros!$A$5:$AY$22116,7,FALSE),0)","v":3},{"$f":"IFERROR(VLOOKUP($A104,Filtros!$A$5:$AY$22116,8,FALSE),0)","v":0},{"$f":"IFERROR(VLOOKUP($A104,Filtros!$A$5:$AY$22116,9,FALSE),0)","v":5},{"$f":"IFERROR(VLOOKUP($A104,Filtros!$A$5:$AY$22116,10,FALSE),0)","v":0},{"$f":"IFERROR(VLOOKUP($A104,Filtros!$A$5:$AY$22116,11,FALSE),0)","v":3},{"$f":"IFERROR(VLOOKUP($A104,Filtros!$A$5:$AY$22116,12,FALSE),0)","v":1},{"$f":"IFERROR(VLOOKUP($A104,Filtros!$A$5:$AY$22116,13,FALSE),0)","v":2},{"$f":"IFERROR(VLOOKUP($A104,Filtros!$A$5:$AY$22116,14,FALSE),0)","v":0},{"$f":"IFERROR(VLOOKUP($A104,Filtros!$A$5:$AY$22116,15,FALSE),0)","v":1},{"$f":"IFERROR(VLOOKUP($A104,Filtros!$A$5:$AY$22116,16,FALSE),0)","v":0},{"$f":"IFERROR(VLOOKUP($A104,Filtros!$A$5:$AY$22116,17,FALSE),0)","v":0},{"$f":"IFERROR(VLOOKUP($A104,Filtros!$A$5:$AY$22116,18,FALSE),0)","v":0},{"$f":"IFERROR(VLOOKUP($A104,Filtros!$A$5:$AY$22116,19,FALSE),0)","v":0},{"$f":"IFERROR(VLOOKUP($A104,Filtros!$A$5:$AY$22116,20,FALSE),0)","v":0},{"$f":"IFERROR(VLOOKUP($A104,Filtros!$A$5:$AY$22116,21,FALSE),0)","v":0},{"$f":"IFERROR(VLOOKUP($A104,Filtros!$A$5:$AY$22116,22,FALSE),0)","v":0},{"$f":"IFERROR(VLOOKUP($A104,Filtros!$A$5:$AY$22116,23,FALSE),0)","v":0},{"$f":"IFERROR(VLOOKUP($A104,Filtros!$A$5:$AY$22116,24,FALSE),0)","v":0},{"$f":"IFERROR(VLOOKUP($A104,Filtros!$A$5:$AY$22116,25,FALSE),0)","v":0},{"$f":"IFERROR(VLOOKUP($A104,Filtros!$A$5:$AY$22116,26,FALSE),0)","v":0},{"$f":"IFERROR(VLOOKUP($A104,Filtros!$A$5:$AY$22116,27,FALSE),0)","v":0},{"$f":"IFERROR(VLOOKUP($A104,Filtros!$A$5:$AY$22116,28,FALSE),0)","v":0},{"$f":"IFERROR(VLOOKUP($A104,Filtros!$A$5:$AY$22116,29,FALSE),0)","v":0},{"$f":"IFERROR(VLOOKUP($A104,Filtros!$A$5:$AY$22116,30,FALSE),0)","v":0},{"$f":"IFERROR(VLOOKUP($A104,Filtros!$A$5:$AY$22116,31,FALSE),0)","v":0},{"$f":"IFERROR(VLOOKUP($A104,Filtros!$A$5:$AY$22116,32,FALSE),0)","v":0},{"$f":"IFERROR(VLOOKUP($A104,Filtros!$A$5:$AY$22116,33,FALSE),0)","v":0},{"$f":"IFERROR(VLOOKUP($A104,Filtros!$A$5:$AY$22116,34,FALSE),0)","v":0},{"$f":"IFERROR(VLOOKUP($A104,Filtros!$A$5:$AY$22116,35,FALSE),0)","v":0},{"$f":"IFERROR(VLOOKUP($A104,Filtros!$A$5:$AY$22116,36,FALSE),0)","v":0},{"$f":"IFERROR(VLOOKUP($A104,Filtros!$A$5:$AY$22116,37,FALSE),0)","v":0},{"$f":"IFERROR(VLOOKUP($A104,Filtros!$A$5:$AY$22116,38,FALSE),0)","v":0},{"$f":"IFERROR(VLOOKUP($A104,Filtros!$A$5:$AY$22116,39,FALSE),0)","v":0},{"$f":"IFERROR(VLOOKUP($A104,Filtros!$A$5:$AY$22116,40,FALSE),0)","v":0},{"$f":"IFERROR(VLOOKUP($A104,Filtros!$A$5:$AY$22116,41,FALSE),0)","v":1},{"$f":"IFERROR(VLOOKUP($A104,Filtros!$A$5:$AY$22116,42,FALSE),0)","v":0},{"$f":"IFERROR(VLOOKUP($A104,Filtros!$A$5:$AY$22116,43,FALSE),0)","v":0},{"$f":"IFERROR(VLOOKUP($A104,Filtros!$A$5:$AY$22116,44,FALSE),0)","v":0},{"$f":"IFERROR(VLOOKUP($A104,Filtros!$A$5:$AY$22116,45,FALSE),0)","v":0},{"$f":"IFERROR(VLOOKUP($A104,Filtros!$A$5:$AY$22116,46,FALSE),0)","v":5}]
["P6241080",null,"SÍNDROME DE RETT",{"$f":"IFERROR(VLOOKUP($A105,Filtros!$A$5:$AY$22116,2,FALSE),0)","v":0},{"$f":"IFERROR(VLOOKUP($A105,Filtros!$A$5:$AY$22116,3,FALSE),0)","v":0},{"$f":"IFERROR(VLOOKUP($A105,Filtros!$A$5:$AY$22116,4,FALSE),0)","v":0},{"$f":"IFERROR(VLOOKUP($A105,Filtros!$A$5:$AY$22116,5,FALSE),0)","v":0},{"$f":"IFERROR(VLOOKUP($A105,Filtros!$A$5:$AY$22116,6,FALSE),0)","v":0},{"$f":"IFERROR(VLOOKUP($A105,Filtros!$A$5:$AY$22116,7,FALSE),0)","v":0},{"$f":"IFERROR(VLOOKUP($A105,Filtros!$A$5:$AY$22116,8,FALSE),0)","v":0},{"$f":"IFERROR(VLOOKUP($A105,Filtros!$A$5:$AY$22116,9,FALSE),0)","v":0},{"$f":"IFERROR(VLOOKUP($A105,Filtros!$A$5:$AY$22116,10,FALSE),0)","v":0},{"$f":"IFERROR(VLOOKUP($A105,Filtros!$A$5:$AY$22116,11,FALSE),0)","v":0},{"$f":"IFERROR(VLOOKUP($A105,Filtros!$A$5:$AY$22116,12,FALSE),0)","v":0},{"$f":"IFERROR(VLOOKUP($A105,Filtros!$A$5:$AY$22116,13,FALSE),0)","v":0},{"$f":"IFERROR(VLOOKUP($A105,Filtros!$A$5:$AY$22116,14,FALSE),0)","v":0},{"$f":"IFERROR(VLOOKUP($A105,Filtros!$A$5:$AY$22116,15,FALSE),0)","v":0},{"$f":"IFERROR(VLOOKUP($A105,Filtros!$A$5:$AY$22116,16,FALSE),0)","v":0},{"$f":"IFERROR(VLOOKUP($A105,Filtros!$A$5:$AY$22116,17,FALSE),0)","v":0},{"$f":"IFERROR(VLOOKUP($A105,Filtros!$A$5:$AY$22116,18,FALSE),0)","v":0},{"$f":"IFERROR(VLOOKUP($A105,Filtros!$A$5:$AY$22116,19,FALSE),0)","v":0},{"$f":"IFERROR(VLOOKUP($A105,Filtros!$A$5:$AY$22116,20,FALSE),0)","v":0},{"$f":"IFERROR(VLOOKUP($A105,Filtros!$A$5:$AY$22116,21,FALSE),0)","v":0},{"$f":"IFERROR(VLOOKUP($A105,Filtros!$A$5:$AY$22116,22,FALSE),0)","v":0},{"$f":"IFERROR(VLOOKUP($A105,Filtros!$A$5:$AY$22116,23,FALSE),0)","v":0},{"$f":"IFERROR(VLOOKUP($A105,Filtros!$A$5:$AY$22116,24,FALSE),0)","v":0},{"$f":"IFERROR(VLOOKUP($A105,Filtros!$A$5:$AY$22116,25,FALSE),0)","v":0},{"$f":"IFERROR(VLOOKUP($A105,Filtros!$A$5:$AY$22116,26,FALSE),0)","v":0},{"$f":"IFERROR(VLOOKUP($A105,Filtros!$A$5:$AY$22116,27,FALSE),0)","v":0},{"$f":"IFERROR(VLOOKUP($A105,Filtros!$A$5:$AY$22116,28,FALSE),0)","v":0},{"$f":"IFERROR(VLOOKUP($A105,Filtros!$A$5:$AY$22116,29,FALSE),0)","v":0},{"$f":"IFERROR(VLOOKUP($A105,Filtros!$A$5:$AY$22116,30,FALSE),0)","v":0},{"$f":"IFERROR(VLOOKUP($A105,Filtros!$A$5:$AY$22116,31,FALSE),0)","v":0},{"$f":"IFERROR(VLOOKUP($A105,Filtros!$A$5:$AY$22116,32,FALSE),0)","v":0},{"$f":"IFERROR(VLOOKUP($A105,Filtros!$A$5:$AY$22116,33,FALSE),0)","v":0},{"$f":"IFERROR(VLOOKUP($A105,Filtros!$A$5:$AY$22116,34,FALSE),0)","v":0},{"$f":"IFERROR(VLOOKUP($A105,Filtros!$A$5:$AY$22116,35,FALSE),0)","v":0},{"$f":"IFERROR(VLOOKUP($A105,Filtros!$A$5:$AY$22116,36,FALSE),0)","v":0},{"$f":"IFERROR(VLOOKUP($A105,Filtros!$A$5:$AY$22116,37,FALSE),0)","v":0},{"$f":"IFERROR(VLOOKUP($A105,Filtros!$A$5:$AY$22116,38,FALSE),0)","v":0},{"$f":"IFERROR(VLOOKUP($A105,Filtros!$A$5:$AY$22116,39,FALSE),0)","v":0},{"$f":"IFERROR(VLOOKUP($A105,Filtros!$A$5:$AY$22116,40,FALSE),0)","v":0},{"$f":"IFERROR(VLOOKUP($A105,Filtros!$A$5:$AY$22116,41,FALSE),0)","v":0},{"$f":"IFERROR(VLOOKUP($A105,Filtros!$A$5:$AY$22116,42,FALSE),0)","v":0},{"$f":"IFERROR(VLOOKUP($A105,Filtros!$A$5:$AY$22116,43,FALSE),0)","v":0},{"$f":"IFERROR(VLOOKUP($A105,Filtros!$A$5:$AY$22116,44,FALSE),0)","v":0},{"$f":"IFERROR(VLOOKUP($A105,Filtros!$A$5:$AY$22116,45,FALSE),0)","v":0},{"$f":"IFERROR(VLOOKUP($A105,Filtros!$A$5:$AY$22116,46,FALSE),0)","v":0}]
["P6241090",null,"TRASTORNO DESINTEGRATIVO DE LA INFANCIA",{"$f":"IFERROR(VLOOKUP($A106,Filtros!$A$5:$AY$22116,2,FALSE),0)","v":0},{"$f":"IFERROR(VLOOKUP($A106,Filtros!$A$5:$AY$22116,3,FALSE),0)","v":0},{"$f":"IFERROR(VLOOKUP($A106,Filtros!$A$5:$AY$22116,4,FALSE),0)","v":0},{"$f":"IFERROR(VLOOKUP($A106,Filtros!$A$5:$AY$22116,5,FALSE),0)","v":0},{"$f":"IFERROR(VLOOKUP($A106,Filtros!$A$5:$AY$22116,6,FALSE),0)","v":0},{"$f":"IFERROR(VLOOKUP($A106,Filtros!$A$5:$AY$22116,7,FALSE),0)","v":0},{"$f":"IFERROR(VLOOKUP($A106,Filtros!$A$5:$AY$22116,8,FALSE),0)","v":0},{"$f":"IFERROR(VLOOKUP($A106,Filtros!$A$5:$AY$22116,9,FALSE),0)","v":0},{"$f":"IFERROR(VLOOKUP($A106,Filtros!$A$5:$AY$22116,10,FALSE),0)","v":0},{"$f":"IFERROR(VLOOKUP($A106,Filtros!$A$5:$AY$22116,11,FALSE),0)","v":0},{"$f":"IFERROR(VLOOKUP($A106,Filtros!$A$5:$AY$22116,12,FALSE),0)","v":0},{"$f":"IFERROR(VLOOKUP($A106,Filtros!$A$5:$AY$22116,13,FALSE),0)","v":0},{"$f":"IFERROR(VLOOKUP($A106,Filtros!$A$5:$AY$22116,14,FALSE),0)","v":0},{"$f":"IFERROR(VLOOKUP($A106,Filtros!$A$5:$AY$22116,15,FALSE),0)","v":0},{"$f":"IFERROR(VLOOKUP($A106,Filtros!$A$5:$AY$22116,16,FALSE),0)","v":0},{"$f":"IFERROR(VLOOKUP($A106,Filtros!$A$5:$AY$22116,17,FALSE),0)","v":0},{"$f":"IFERROR(VLOOKUP($A106,Filtros!$A$5:$AY$22116,18,FALSE),0)","v":0},{"$f":"IFERROR(VLOOKUP($A106,Filtros!$A$5:$AY$22116,19,FALSE),0)","v":0},{"$f":"IFERROR(VLOOKUP($A106,Filtros!$A$5:$AY$22116,20,FALSE),0)","v":0},{"$f":"IFERROR(VLOOKUP($A106,Filtros!$A$5:$AY$22116,21,FALSE),0)","v":0},{"$f":"IFERROR(VLOOKUP($A106,Filtros!$A$5:$AY$22116,22,FALSE),0)","v":0},{"$f":"IFERROR(VLOOKUP($A106,Filtros!$A$5:$AY$22116,23,FALSE),0)","v":0},{"$f":"IFERROR(VLOOKUP($A106,Filtros!$A$5:$AY$22116,24,FALSE),0)","v":0},{"$f":"IFERROR(VLOOKUP($A106,Filtros!$A$5:$AY$22116,25,FALSE),0)","v":0},{"$f":"IFERROR(VLOOKUP($A106,Filtros!$A$5:$AY$22116,26,FALSE),0)","v":0},{"$f":"IFERROR(VLOOKUP($A106,Filtros!$A$5:$AY$22116,27,FALSE),0)","v":0},{"$f":"IFERROR(VLOOKUP($A106,Filtros!$A$5:$AY$22116,28,FALSE),0)","v":0},{"$f":"IFERROR(VLOOKUP($A106,Filtros!$A$5:$AY$22116,29,FALSE),0)","v":0},{"$f":"IFERROR(VLOOKUP($A106,Filtros!$A$5:$AY$22116,30,FALSE),0)","v":0},{"$f":"IFERROR(VLOOKUP($A106,Filtros!$A$5:$AY$22116,31,FALSE),0)","v":0},{"$f":"IFERROR(VLOOKUP($A106,Filtros!$A$5:$AY$22116,32,FALSE),0)","v":0},{"$f":"IFERROR(VLOOKUP($A106,Filtros!$A$5:$AY$22116,33,FALSE),0)","v":0},{"$f":"IFERROR(VLOOKUP($A106,Filtros!$A$5:$AY$22116,34,FALSE),0)","v":0},{"$f":"IFERROR(VLOOKUP($A106,Filtros!$A$5:$AY$22116,35,FALSE),0)","v":0},{"$f":"IFERROR(VLOOKUP($A106,Filtros!$A$5:$AY$22116,36,FALSE),0)","v":0},{"$f":"IFERROR(VLOOKUP($A106,Filtros!$A$5:$AY$22116,37,FALSE),0)","v":0},{"$f":"IFERROR(VLOOKUP($A106,Filtros!$A$5:$AY$22116,38,FALSE),0)","v":0},{"$f":"IFERROR(VLOOKUP($A106,Filtros!$A$5:$AY$22116,39,FALSE),0)","v":0},{"$f":"IFERROR(VLOOKUP($A106,Filtros!$A$5:$AY$22116,40,FALSE),0)","v":0},{"$f":"IFERROR(VLOOKUP($A106,Filtros!$A$5:$AY$22116,41,FALSE),0)","v":0},{"$f":"IFERROR(VLOOKUP($A106,Filtros!$A$5:$AY$22116,42,FALSE),0)","v":0},{"$f":"IFERROR(VLOOKUP($A106,Filtros!$A$5:$AY$22116,43,FALSE),0)","v":0},{"$f":"IFERROR(VLOOKUP($A106,Filtros!$A$5:$AY$22116,44,FALSE),0)","v":0},{"$f":"IFERROR(VLOOKUP($A106,Filtros!$A$5:$AY$22116,45,FALSE),0)","v":0},{"$f":"IFERROR(VLOOKUP($A106,Filtros!$A$5:$AY$22116,46,FALSE),0)","v":0}]
["P6241100",null,"TRASTONO GENERALIZADO DEL DESARROLLO NO ESPECÍFICO",{"$f":"IFERROR(VLOOKUP($A107,Filtros!$A$5:$AY$22116,2,FALSE),0)","v":58},{"$f":"IFERROR(VLOOKUP($A107,Filtros!$A$5:$AY$22116,3,FALSE),0)","v":51},{"$f":"IFERROR(VLOOKUP($A107,Filtros!$A$5:$AY$22116,4,FALSE),0)","v":7},{"$f":"IFERROR(VLOOKUP($A107,Filtros!$A$5:$AY$22116,5,FALSE),0)","v":3},{"$f":"IFERROR(VLOOKUP($A107,Filtros!$A$5:$AY$22116,6,FALSE),0)","v":0},{"$f":"IFERROR(VLOOKUP($A107,Filtros!$A$5:$AY$22116,7,FALSE),0)","v":22},{"$f":"IFERROR(VLOOKUP($A107,Filtros!$A$5:$AY$22116,8,FALSE),0)","v":6},{"$f":"IFERROR(VLOOKUP($A107,Filtros!$A$5:$AY$22116,9,FALSE),0)","v":15},{"$f":"IFERROR(VLOOKUP($A107,Filtros!$A$5:$AY$22116,10,FALSE),0)","v":0},{"$f":"IFERROR(VLOOKUP($A107,Filtros!$A$5:$AY$22116,11,FALSE),0)","v":10},{"$f":"IFERROR(VLOOKUP($A107,Filtros!$A$5:$AY$22116,12,FALSE),0)","v":0},{"$f":"IFERROR(VLOOKUP($A107,Filtros!$A$5:$AY$22116,13,FALSE),0)","v":0},{"$f":"IFERROR(VLOOKUP($A107,Filtros!$A$5:$AY$22116,14,FALSE),0)","v":1},{"$f":"IFERROR(VLOOKUP($A107,Filtros!$A$5:$AY$22116,15,FALSE),0)","v":1},{"$f":"IFERROR(VLOOKUP($A107,Filtros!$A$5:$AY$22116,16,FALSE),0)","v":0},{"$f":"IFERROR(VLOOKUP($A107,Filtros!$A$5:$AY$22116,17,FALSE),0)","v":0},{"$f":"IFERROR(VLOOKUP($A107,Filtros!$A$5:$AY$22116,18,FALSE),0)","v":0},{"$f":"IFERROR(VLOOKUP($A107,Filtros!$A$5:$AY$22116,19,FALSE),0)","v":0},{"$f":"IFERROR(VLOOKUP($A107,Filtros!$A$5:$AY$22116,20,FALSE),0)","v":0},{"$f":"IFERROR(VLOOKUP($A107,Filtros!$A$5:$AY$22116,21,FALSE),0)","v":0},{"$f":"IFERROR(VLOOKUP($A107,Filtros!$A$5:$AY$22116,22,FALSE),0)","v":0},{"$f":"IFERROR(VLOOKUP($A107,Filtros!$A$5:$AY$22116,23,FALSE),0)","v":0},{"$f":"IFERROR(VLOOKUP($A107,Filtros!$A$5:$AY$22116,24,FALSE),0)","v":0},{"$f":"IFERROR(VLOOKUP($A107,Filtros!$A$5:$AY$22116,25,FALSE),0)","v":0},{"$f":"IFERROR(VLOOKUP($A107,Filtros!$A$5:$AY$22116,26,FALSE),0)","v":0},{"$f":"IFERROR(VLOOKUP($A107,Filtros!$A$5:$AY$22116,27,FALSE),0)","v":0},{"$f":"IFERROR(VLOOKUP($A107,Filtros!$A$5:$AY$22116,28,FALSE),0)","v":0},{"$f":"IFERROR(VLOOKUP($A107,Filtros!$A$5:$AY$22116,29,FALSE),0)","v":0},{"$f":"IFERROR(VLOOKUP($A107,Filtros!$A$5:$AY$22116,30,FALSE),0)","v":0},{"$f":"IFERROR(VLOOKUP($A107,Filtros!$A$5:$AY$22116,31,FALSE),0)","v":0},{"$f":"IFERROR(VLOOKUP($A107,Filtros!$A$5:$AY$22116,32,FALSE),0)","v":0},{"$f":"IFERROR(VLOOKUP($A107,Filtros!$A$5:$AY$22116,33,FALSE),0)","v":0},{"$f":"IFERROR(VLOOKUP($A107,Filtros!$A$5:$AY$22116,34,FALSE),0)","v":0},{"$f":"IFERROR(VLOOKUP($A107,Filtros!$A$5:$AY$22116,35,FALSE),0)","v":0},{"$f":"IFERROR(VLOOKUP($A107,Filtros!$A$5:$AY$22116,36,FALSE),0)","v":0},{"$f":"IFERROR(VLOOKUP($A107,Filtros!$A$5:$AY$22116,37,FALSE),0)","v":0},{"$f":"IFERROR(VLOOKUP($A107,Filtros!$A$5:$AY$22116,38,FALSE),0)","v":0},{"$f":"IFERROR(VLOOKUP($A107,Filtros!$A$5:$AY$22116,39,FALSE),0)","v":0},{"$f":"IFERROR(VLOOKUP($A107,Filtros!$A$5:$AY$22116,40,FALSE),0)","v":0},{"$f":"IFERROR(VLOOKUP($A107,Filtros!$A$5:$AY$22116,41,FALSE),0)","v":0},{"$f":"IFERROR(VLOOKUP($A107,Filtros!$A$5:$AY$22116,42,FALSE),0)","v":0},{"$f":"IFERROR(VLOOKUP($A107,Filtros!$A$5:$AY$22116,43,FALSE),0)","v":0},{"$f":"IFERROR(VLOOKUP($A107,Filtros!$A$5:$AY$22116,44,FALSE),0)","v":0},{"$f":"IFERROR(VLOOKUP($A107,Filtros!$A$5:$AY$22116,45,FALSE),0)","v":0},{"$f":"IFERROR(VLOOKUP($A107,Filtros!$A$5:$AY$22116,46,FALSE),0)","v":9},"",{"$nulls":35},"","","","","","","","","",null,"","","",null,"","",{"$nulls":4},0,0,0,0,0,0,0,0,0,null,0,0,0,null,0,0]
["P6232700","EPILEPSIA",null,{"$f":"IFERROR(VLOOKUP($A108,Filtros!$A$5:$AY$22116,2,FALSE),0)","v":28},{"$f":"IFERROR(VLOOKUP($A108,Filtros!$A$5:$AY$22116,3,FALSE),0)","v":14},{"$f":"IFERROR(VLOOKUP($A108,Filtros!$A$5:$AY$22116,4,FALSE),0)","v":14},{"$f":"IFERROR(VLOOKUP($A108,Filtros!$A$5:$AY$22116,5,FALSE),0)","v":0},{"$f":"IFERROR(VLOOKUP($A108,Filtros!$A$5:$AY$22116,6,FALSE),0)","v":0},{"$f":"IFERROR(VLOOKUP($A108,Filtros!$A$5:$AY$22116,7,FALSE),0)","v":0},{"$f":"IFERROR(VLOOKUP($A108,Filtros!$A$5:$AY$22116,8,FALSE),0)","v":1},{"$f":"IFERROR(VLOOKUP($A108,Filtros!$A$5:$AY$22116,9,FALSE),0)","v":1},{"$f":"IFERROR(VLOOKUP($A108,Filtros!$A$5:$AY$22116,10,FALSE),0)","v":0},{"$f":"IFERROR(VLOOKUP($A108,Filtros!$A$5:$AY$22116,11,FALSE),0)","v":0},{"$f":"IFERROR(VLOOKUP($A108,Filtros!$A$5:$AY$22116,12,FALSE),0)","v":1},{"$f":"IFERROR(VLOOKUP($A108,Filtros!$A$5:$AY$22116,13,FALSE),0)","v":2},{"$f":"IFERROR(VLOOKUP($A108,Filtros!$A$5:$AY$22116,14,FALSE),0)","v":0},{"$f":"IFERROR(VLOOKUP($A108,Filtros!$A$5:$AY$22116,15,FALSE),0)","v":1},{"$f":"IFERROR(VLOOKUP($A108,Filtros!$A$5:$AY$22116,16,FALSE),0)","v":1},{"$f":"IFERROR(VLOOKUP($A108,Filtros!$A$5:$AY$22116,17,FALSE),0)","v":2},{"$f":"IFERROR(VLOOKUP($A108,Filtros!$A$5:$AY$22116,18,FALSE),0)","v":1},{"$f":"IFERROR(VLOOKUP($A108,Filtros!$A$5:$AY$22116,19,FALSE),0)","v":0},{"$f":"IFERROR(VLOOKUP($A108,Filtros!$A$5:$AY$22116,20,FALSE),0)","v":0},{"$f":"IFERROR(VLOOKUP($A108,Filtros!$A$5:$AY$22116,21,FALSE),0)","v":3},{"$f":"IFERROR(VLOOKUP($A108,Filtros!$A$5:$AY$22116,22,FALSE),0)","v":2},{"$f":"IFERROR(VLOOKUP($A108,Filtros!$A$5:$AY$22116,23,FALSE),0)","v":2},{"$f":"IFERROR(VLOOKUP($A108,Filtros!$A$5:$AY$22116,24,FALSE),0)","v":0},{"$f":"IFERROR(VLOOKUP($A108,Filtros!$A$5:$AY$22116,25,FALSE),0)","v":1},{"$f":"IFERROR(VLOOKUP($A108,Filtros!$A$5:$AY$22116,26,FALSE),0)","v":3},{"$f":"IFERROR(VLOOKUP($A108,Filtros!$A$5:$AY$22116,27,FALSE),0)","v":1},{"$f":"IFERROR(VLOOKUP($A108,Filtros!$A$5:$AY$22116,28,FALSE),0)","v":4},{"$f":"IFERROR(VLOOKUP($A108,Filtros!$A$5:$AY$22116,29,FALSE),0)","v":0},{"$f":"IFERROR(VLOOKUP($A108,Filtros!$A$5:$AY$22116,30,FALSE),0)","v":0},{"$f":"IFERROR(VLOOKUP($A108,Filtros!$A$5:$AY$22116,31,FALSE),0)","v":0},{"$f":"IFERROR(VLOOKUP($A108,Filtros!$A$5:$AY$22116,32,FALSE),0)","v":1},{"$f":"IFERROR(VLOOKUP($A108,Filtros!$A$5:$AY$22116,33,FALSE),0)","v":0},{"$f":"IFERROR(VLOOKUP($A108,Filtros!$A$5:$AY$22116,34,FALSE),0)","v":0},{"$f":"IFERROR(VLOOKUP($A108,Filtros!$A$5:$AY$22116,35,FALSE),0)","v":0},{"$f":"IFERROR(VLOOKUP($A108,Filtros!$A$5:$AY$22116,36,FALSE),0)","v":0},{"$f":"IFERROR(VLOOKUP($A108,Filtros!$A$5:$AY$22116,37,FALSE),0)","v":1},{"$f":"IFERROR(VLOOKUP($A108,Filtros!$A$5:$AY$22116,38,FALSE),0)","v":0},{"$f":"IFERROR(VLOOKUP($A108,Filtros!$A$5:$AY$22116,39,FALSE),0)","v":0},{"$f":"IFERROR(VLOOKUP($A108,Filtros!$A$5:$AY$22116,40,FALSE),0)","v":0},{"$f":"IFERROR(VLOOKUP($A108,Filtros!$A$5:$AY$22116,41,FALSE),0)","v":0},{"$f":"IFERROR(VLOOKUP($A108,Filtros!$A$5:$AY$22116,42,FALSE),0)","v":0},{"$f":"IFERROR(VLOOKUP($A108,Filtros!$A$5:$AY$22116,43,FALSE),0)","v":0},{"$f":"IFERROR(VLOOKUP($A108,Filtros!$A$5:$AY$22116,44,FALSE),0)","v":0},{"$f":"IFERROR(VLOOKUP($A108,Filtros!$A$5:$AY$22116,45,FALSE),0)","v":0},{"$f":"IFERROR(VLOOKUP($A108,Filtros!$A$5:$AY$22116,46,FALSE),0)","v":0},"",{"$nulls":35},"","","","","","","","","",null,"","","",null,"","",{"$nulls":4},0,0,0,0,0,0,0,0,0,null,0,0,0,null,0,0]
["P6227603","OTRAS",null,{"$f":"IFERROR(VLOOKUP($A109,Filtros!$A$5:$AY$22116,2,FALSE),0)","v":716},{"$f":"IFERROR(VLOOKUP($A109,Filtros!$A$5:$AY$22116,3,FALSE),0)","v":288},{"$f":"IFERROR(VLOOKUP($A109,Filtros!$A$5:$AY$22116,4,FALSE),0)","v":428},{"$f":"IFERROR(VLOOKUP($A109,Filtros!$A$5:$AY$22116,5,FALSE),0)","v":2},{"$f":"IFERROR(VLOOKUP($A109,Filtros!$A$5:$AY$22116,6,FALSE),0)","v":1},{"$f":"IFERROR(VLOOKUP($A109,Filtros!$A$5:$AY$22116,7,FALSE),0)","v":8},{"$f":"IFERROR(VLOOKUP($A109,Filtros!$A$5:$AY$22116,8,FALSE),0)","v":7},{"$f":"IFERROR(VLOOKUP($A109,Filtros!$A$5:$AY$22116,9,FALSE),0)","v":15},{"$f":"IFERROR(VLOOKUP($A109,Filtros!$A$5:$AY$22116,10,FALSE),0)","v":23},{"$f":"IFERROR(VLOOKUP($A109,Filtros!$A$5:$AY$22116,11,FALSE),0)","v":19},{"$f":"IFERROR(VLOOKUP($A109,Filtros!$A$5:$AY$22116,12,FALSE),0)","v":35},{"$f":"IFERROR(VLOOKUP($A109,Filtros!$A$5:$AY$22116,13,FALSE),0)","v":38},{"$f":"IFERROR(VLOOKUP($A109,Filtros!$A$5:$AY$22116,14,FALSE),0)","v":36},{"$f":"IFERROR(VLOOKUP($A109,Filtros!$A$5:$AY$22116,15,FALSE),0)","v":25},{"$f":"IFERROR(VLOOKUP($A109,Filtros!$A$5:$AY$22116,16,FALSE),0)","v":20},{"$f":"IFERROR(VLOOKUP($A109,Filtros!$A$5:$AY$22116,17,FALSE),0)","v":32},{"$f":"IFERROR(VLOOKUP($A109,Filtros!$A$5:$AY$22116,18,FALSE),0)","v":29},{"$f":"IFERROR(VLOOKUP($A109,Filtros!$A$5:$AY$22116,19,FALSE),0)","v":24},{"$f":"IFERROR(VLOOKUP($A109,Filtros!$A$5:$AY$22116,20,FALSE),0)","v":31},{"$f":"IFERROR(VLOOKUP($A109,Filtros!$A$5:$AY$22116,21,FALSE),0)","v":14},{"$f":"IFERROR(VLOOKUP($A109,Filtros!$A$5:$AY$22116,22,FALSE),0)","v":34},{"$f":"IFERROR(VLOOKUP($A109,Filtros!$A$5:$AY$22116,23,FALSE),0)","v":22},{"$f":"IFERROR(VLOOKUP($A109,Filtros!$A$5:$AY$22116,24,FALSE),0)","v":35},{"$f":"IFERROR(VLOOKUP($A109,Filtros!$A$5:$AY$22116,25,FALSE),0)","v":14},{"$f":"IFERROR(VLOOKUP($A109,Filtros!$A$5:$AY$22116,26,FALSE),0)","v":48},{"$f":"IFERROR(VLOOKUP($A109,Filtros!$A$5:$AY$22116,27,FALSE),0)","v":27},{"$f":"IFERROR(VLOOKUP($A109,Filtros!$A$5:$AY$22116,28,FALSE),0)","v":28},{"$f":"IFERROR(VLOOKUP($A109,Filtros!$A$5:$AY$22116,29,FALSE),0)","v":17},{"$f":"IFERROR(VLOOKUP($A109,Filtros!$A$5:$AY$22116,30,FALSE),0)","v":42},{"$f":"IFERROR(VLOOKUP($A109,Filtros!$A$5:$AY$22116,31,FALSE),0)","v":12},{"$f":"IFERROR(VLOOKUP($A109,Filtros!$A$5:$AY$22116,32,FALSE),0)","v":26},{"$f":"IFERROR(VLOOKUP($A109,Filtros!$A$5:$AY$22116,33,FALSE),0)","v":6},{"$f":"IFERROR(VLOOKUP($A109,Filtros!$A$5:$AY$22116,34,FALSE),0)","v":13},{"$f":"IFERROR(VLOOKUP($A109,Filtros!$A$5:$AY$22116,35,FALSE),0)","v":5},{"$f":"IFERROR(VLOOKUP($A109,Filtros!$A$5:$AY$22116,36,FALSE),0)","v":9},{"$f":"IFERROR(VLOOKUP($A109,Filtros!$A$5:$AY$22116,37,FALSE),0)","v":8},{"$f":"IFERROR(VLOOKUP($A109,Filtros!$A$5:$AY$22116,38,FALSE),0)","v":11},{"$f":"IFERROR(VLOOKUP($A109,Filtros!$A$5:$AY$22116,39,FALSE),0)","v":1},{"$f":"IFERROR(VLOOKUP($A109,Filtros!$A$5:$AY$22116,40,FALSE),0)","v":19},{"$f":"IFERROR(VLOOKUP($A109,Filtros!$A$5:$AY$22116,41,FALSE),0)","v":0},{"$f":"IFERROR(VLOOKUP($A109,Filtros!$A$5:$AY$22116,42,FALSE),0)","v":2},{"$f":"IFERROR(VLOOKUP($A109,Filtros!$A$5:$AY$22116,43,FALSE),0)","v":0},{"$f":"IFERROR(VLOOKUP($A109,Filtros!$A$5:$AY$22116,44,FALSE),0)","v":1},{"$f":"IFERROR(VLOOKUP($A109,Filtros!$A$5:$AY$22116,45,FALSE),0)","v":9},{"$f":"IFERROR(VLOOKUP($A109,Filtros!$A$5:$AY$22116,46,FALSE),0)","v":101},"",{"$nulls":37},"","","","","",{"$nulls":3},"","","",null,"","",{"$nulls":6},0,0,0,0,0,{"$nulls":3},0,0,0,null,0,0]
[null,"SECCION B.2: PROGRAMA DE REHABILITACIÓN EN ESPECIALIDAD (PERSONAS CON TRANSTORNOS PSIQUIÁTRICO)"]
[null,"TIPO","RUBRO","T O T A L",null,null,"GRUPO DE EDAD (en años)"]
[{"$nulls":6},"0 a 4 años",null,"5 a 9 años",null,"10 a 14 años",null,"15 a 19 años",null,"20 a 24 años",null,"25 a 29 años",null,"30 a 34 años",null,"35 a 39 años",null,"40 a 44 años",null,"45 a 49 años",null,"50 a 54 años",null,"55 a 59 años",null,"60 a 64 años",null,"65 a 69 años",null,"70 a 74 años",null,"75 a 79 años",null,"80 y más años"]
[{"$nulls":3},"Ambos\nsexos","Hombres","Mujeres","Hombres","Mujeres","Hombres","Mujeres","Hombres","Mujeres","Hombres","Mujeres","Hombres","Mujeres","Hombres","Mujeres","Hombres","Mujeres","Hombres","Mujeres","Hombres","Mujeres","Hombres","Mujeres","Hombres","Mujeres","Hombres","Mujeres","Hombres","Mujeres","Hombres","Mujeres","Hombres","Mujeres","Hombres","Mujeres","Hombres","Mujeres"]
["P6223390","PROGRAMA DE REHABILITACIÓN TIPO I","NÚMERO DE PERSONAS EN CONTROL EN EL PROGRAMA",{"$f":"IFERROR(VLOOKUP($A114,Filtros!$A$5:$AY$22116,2,FALSE),0)","v":0},{"$f":"IFERROR(VLOOKUP($A114,Filtros!$A$5:$AY$22116,3,FALSE),0)","v":0},{"$f":"IFERROR(VLOOKUP($A114,Filtros!$A$5:$AY$22116,4,FALSE),0)","v":0},{"$f":"IFERROR(VLOOKUP($A114,Filtros!$A$5:$AY$22116,5,FALSE),0)","v":0},{"$f":"IFERROR(VLOOKUP($A114,Filtros!$A$5:$AY$22116,6,FALSE),0)","v":0},{"$f":"IFERROR(VLOOKUP($A114,Filtros!$A$5:$AY$22116,7,FALSE),0)","v":0},{"$f":"IFERROR(VLOOKUP($A114,Filtros!$A$5:$AY$22116,8,FALSE),0)","v":0},{"$f":"IFERROR(VLOOKUP($A114,Filtros!$A$5:$AY$22116,9,FALSE),0)","v":0},{"$f":"IFERROR(VLOOKUP($A114,Filtros!$A$5:$AY$22116,10,FALSE),0)","v":0},{"$f":"IFERROR(VLOOKUP($A114,Filtros!$A$5:$AY$22116,11,FALSE),0)","v":0},{"$f":"IFERROR(VLOOKUP($A114,Filtros!$A$5:$AY$22116,12,FALSE),0)","v":0},{"$f":"IFERROR(VLOOKUP($A114,Filtros!$A$5:$AY$22116,13,FALSE),0)","v":0},{"$f":"IFERROR(VLOOKUP($A114,Filtros!$A$5:$AY$22116,14,FALSE),0)","v":0},{"$f":"IFERROR(VLOOKUP($A114,Filtros!$A$5:$AY$22116,15,FALSE),0)","v":0},{"$f":"IFERROR(VLOOKUP($A114,Filtros!$A$5:$AY$22116,16,FALSE),0)","v":0},{"$f":"IFERROR(VLOOKUP($A114,Filtros!$A$5:$AY$22116,17,FALSE),0)","v":0},{"$f":"IFERROR(VLOOKUP($A114,Filtros!$A$5:$AY$22116,18,FALSE),0)","v":0},{"$f":"IFERROR(VLOOKUP($A114,Filtros!$A$5:$AY$22116,19,FALSE),0)","v":0},{"$f":"IFERROR(VLOOKUP($A114,Filtros!$A$5:$AY$22116,20,FALSE),0)","v":0},{"$f":"IFERROR(VLOOKUP($A114,Filtros!$A$5:$AY$22116,21,FALSE),0)","v":0},{"$f":"IFERROR(VLOOKUP($A114,Filtros!$A$5:$AY$22116,22,FALSE),0)","v":0},{"$f":"IFERROR(VLOOKUP($A114,Filtros!$A$5:$AY$22116,23,FALSE),0)","v":0},{"$f":"IFERROR(VLOOKUP($A114,Filtros!$A$5:$AY$22116,24,FALSE),0)","v":0},{"$f":"IFERROR(VLOOKUP($A114,Filtros!$A$5:$AY$22116,25,FALSE),0)","v":0},{"$f":"IFERROR(VLOOKUP($A114,Filtros!$A$5:$AY$22116,26,FALSE),0)","v":0},{"$f":"IFERROR(VLOOKUP($A114,Filtros!$A$5:$AY$22116,27,FALSE),0)","v":0},{"$f":"IFERROR(VLOOKUP($A114,Filtros!$A$5:$AY$22116,28,FALSE),0)","v":0},{"$f":"IFERROR(VLOOKUP($A114,Filtros!$A$5:$AY$22116,29,FALSE),0)","v":0},{"$f":"IFERROR(VLOOKUP($A114,Filtros!$A$5:$AY$22116,30,FALSE),0)","v":0},{"$f":"IFERROR(VLOOKUP($A114,Filtros!$A$5:$AY$22116,31,FALSE),0)","v":0},{"$f":"IFERROR(VLOOKUP($A114,Filtros!$A$5:$AY$22116,32,FALSE),0)","v":0},{"$f":"IFERROR(VLOOKUP($A114,Filtros!$A$5:$AY$22116,33,FALSE),0)","v":0},{"$f":"IFERROR(VLOOKUP($A114,Filtros!$A$5:$AY$22116,34,FALSE),0)","v":0},{"$f":"IFERROR(VLOOKUP($A114,Filtros!$A$5:$AY$22116,35,FALSE),0)","v":0},{"$f":"IFERROR(VLOOKUP($A114,Filtros!$A$5:$AY$22116,36,FALSE),0)","v":0},{"$f":"IFERROR(VLOOKUP($A114,Filtros!$A$5:$AY$22116,37,FALSE),0)","v":0},{"$f":"IFERROR(VLOOKUP($A114,Filtros!$A$5:$AY$22116,38,FALSE),0)","v":0}]
["P6223400","PROGRAMA DE REHABILITACIÓN TIPO II","NÚMERO DE PERSONAS EN CONTROL EN EL PROGRAMA",{"$f":"IFERROR(VLOOKUP($A115,Filtros!$A$5:$AY$22116,2,FALSE),0)","v":0},{"$f":"IFERROR(VLOOKUP($A115,Filtros!$A$5:$AY$22116,3,FALSE),0)","v":0},{"$f":"IFERROR(VLOOKUP($A115,Filtros!$A$5:$AY$22116,4,FALSE),0)","v":0},{"$f":"IFERROR(VLOOKUP($A115,Filtros!$A$5:$AY$22116,5,FALSE),0)","v":0},{"$f":"IFERROR(VLOOKUP($A115,Filtros!$A$5:$AY$22116,6,FALSE),0)","v":0},{"$f":"IFERROR(VLOOKUP($A115,Filtros!$A$5:$AY$22116,7,FALSE),0)","v":0},{"$f":"IFERROR(VLOOKUP($A115,Filtros!$A$5:$AY$22116,8,FALSE),0)","v":0},{"$f":"IFERROR(VLOOKUP($A115,Filtros!$A$5:$AY$22116,9,FALSE),0)","v":0},{"$f":"IFERROR(VLOOKUP($A115,Filtros!$A$5:$AY$22116,10,FALSE),0)","v":0},{"$f":"IFERROR(VLOOKUP($A115,Filtros!$A$5:$AY$22116,11,FALSE),0)","v":0},{"$f":"IFERROR(VLOOKUP($A115,Filtros!$A$5:$AY$22116,12,FALSE),0)","v":0},{"$f":"IFERROR(VLOOKUP($A115,Filtros!$A$5:$AY$22116,13,FALSE),0)","v":0},{"$f":"IFERROR(VLOOKUP($A115,Filtros!$A$5:$AY$22116,14,FALSE),0)","v":0},{"$f":"IFERROR(VLOOKUP($A115,Filtros!$A$5:$AY$22116,15,FALSE),0)","v":0},{"$f":"IFERROR(VLOOKUP($A115,Filtros!$A$5:$AY$22116,16,FALSE),0)","v":0},{"$f":"IFERROR(VLOOKUP($A115,Filtros!$A$5:$AY$22116,17,FALSE),0)","v":0},{"$f":"IFERROR(VLOOKUP($A115,Filtros!$A$5:$AY$22116,18,FALSE),0)","v":0},{"$f":"IFERROR(VLOOKUP($A115,Filtros!$A$5:$AY$22116,19,FALSE),0)","v":0},{"$f":"IFERROR(VLOOKUP($A115,Filtros!$A$5:$AY$22116,20,FALSE),0)","v":0},{"$f":"IFERROR(VLOOKUP($A115,Filtros!$A$5:$AY$22116,21,FALSE),0)","v":0},{"$f":"IFERROR(VLOOKUP($A115,Filtros!$A$5:$AY$22116,22,FALSE),0)","v":0},{"$f":"IFERROR(VLOOKUP($A115,Filtros!$A$5:$AY$22116,23,FALSE),0)","v":0},{"$f":"IFERROR(VLOOKUP($A115,Filtros!$A$5:$AY$22116,24,FALSE),0)","v":0},{"$f":"IFERROR(VLOOKUP($A115,Filtros!$A$5:$AY$22116,25,FALSE),0)","v":0},{"$f":"IFERROR(VLOOKUP($A115,Filtros!$A$5:$AY$22116,26,FALSE),0)","v":0},{"$f":"IFERROR(VLOOKUP($A115,Filtros!$A$5:$AY$22116,27,FALSE),0)","v":0},{"$f":"IFERROR(VLOOKUP($A115,Filtros!$A$5:$AY$22116,28,FALSE),0)","v":0},{"$f":"IFERROR(VLOOKUP($A115,Filtros!$A$5:$AY$22116,29,FALSE),0)","v":0},{"$f":"IFERROR(VLOOKUP($A115,Filtros!$A$5:$AY$22116,30,FALSE),0)","v":0},{"$f":"IFERROR(VLOOKUP($A115,Filtros!$A$5:$AY$22116,31,FALSE),0)","v":0},{"$f":"IFERROR(VLOOKUP($A115,Filtros!$A$5:$AY$22116,32,FALSE),0)","v":0},{"$f":"IFERROR(VLOOKUP($A115,Filtros!$A$5:$AY$22116,33,FALSE),0)","v":0},{"$f":"IFERROR(VLOOKUP($A115,Filtros!$A$5:$AY$22116,34,FALSE),0)","v":0},{"$f":"IFERROR(VLOOKUP($A115,Filtros!$A$5:$AY$22116,35,FALSE),0)","v":0},{"$f":"IFERROR(VLOOKUP($A115,Filtros!$A$5:$AY$22116,36,FALSE),0)","v":0},{"$f":"IFERROR(VLOOKUP($A115,Filtros!$A$5:$AY$22116,37,FALSE),0)","v":0},{"$f":"IFERROR(VLOOKUP($A115,Filtros!$A$5:$AY$22116,38,FALSE),0)","v":0}]
[]
[]
[]
["CODIGOS ELIMINADOS"]
["P6223000"]
["P6223380"]
[]
["CODIGOS NUEVOS"]
["P6241010"]
["P6241020"]
["P6241030"]
["P6241040"]
["P6241050"]
["P6241060"]
["P6241070"]
["P6241080"]
["P6241090"]
["P6241100"]
[]
[null,{"$f":"SUM(B13:AV115)","v":344938},"datos"]
[null,{"$f":"SUM(CY10:DP115)","v":0},"errores"]

{"sheet":"P7","index":7,"n_rows":57,"n_cols":13,"rows_kept":57,"merged":[[6,1,6,10],[23,1,23,3],[24,1,24,3],[25,1,27,1],[25,2,25,3],[26,2,26,3],[27,2,27,3],[28,1,32,1],[28,2,28,3],[29,2,29,3],[30,2,30,3],[31,2,31,3],[32,2,32,3]]}
[]
[]
[]
[]
[]
[]
[null,"REM-P7. FAMILIAS EN CONTROL DE SALUD FAMILIAR"]
[null,"SECCIÓN A. CLASIFICACIÓN DE LAS FAMILIAS SECTOR URBANO"]
[null,"CLASIFICACIÓN DE LAS FAMILIAS POR SECTOR","TOTAL","SECTOR 1","SECTOR 2","SECTOR 3","SECTOR 4","SECTOR 5","SECTOR 6","SECTOR 7","SECTOR 8"]
["P7010100","N° FAMILIAS INSCRITAS ",{"$f":"IFERROR(VLOOKUP($A10,Filtros!$A$5:$AY$22116,2,FALSE),0)","v":104992},{"$f":"IFERROR(VLOOKUP($A10,Filtros!$A$5:$AY$22116,3,FALSE),0)","v":49096},{"$f":"IFERROR(VLOOKUP($A10,Filtros!$A$5:$AY$22116,4,FALSE),0)","v":40407},{"$f":"IFERROR(VLOOKUP($A10,Filtros!$A$5:$AY$22116,5,FALSE),0)","v":15489},{"$f":"IFERROR(VLOOKUP($A10,Filtros!$A$5:$AY$22116,6,FALSE),0)","v":0},{"$f":"IFERROR(VLOOKUP($A10,Filtros!$A$5:$AY$22116,7,FALSE),0)","v":0},{"$f":"IFERROR(VLOOKUP($A10,Filtros!$A$5:$AY$22116,8,FALSE),0)","v":0},{"$f":"IFERROR(VLOOKUP($A10,Filtros!$A$5:$AY$22116,9,FALSE),0)","v":0},{"$f":"IFERROR(VLOOKUP($A10,Filtros!$A$5:$AY$22116,10,FALSE),0)","v":0}]
["P7010200","N° FAMILIAS EVALUADAS CON CARTOLA/ENCUESTA FAMILIAR",{"$f":"IFERROR(VLOOKUP($A11,Filtros!$A$5:$AY$22116,2,FALSE),0)","v":15372},{"$f":"IFERROR(VLOOKUP($A11,Filtros!$A$5:$AY$22116,3,FALSE),0)","v":8699},{"$f":"IFERROR(VLOOKUP($A11,Filtros!$A$5:$AY$22116,4,FALSE),0)","v":4922},{"$f":"IFERROR(VLOOKUP($A11,Filtros!$A$5:$AY$22116,5,FALSE),0)","v":1751},{"$f":"IFERROR(VLOOKUP($A11,Filtros!$A$5:$AY$22116,6,FALSE),0)","v":0},{"$f":"IFERROR(VLOOKUP($A11,Filtros!$A$5:$AY$22116,7,FALSE),0)","v":0},{"$f":"IFERROR(VLOOKUP($A11,Filtros!$A$5:$AY$22116,8,FALSE),0)","v":0},{"$f":"IFERROR(VLOOKUP($A11,Filtros!$A$5:$AY$22116,9,FALSE),0)","v":0},{"$f":"IFERROR(VLOOKUP($A11,Filtros!$A$5:$AY$22116,10,FALSE),0)","v":0}]
["P7010300","N° DE FAMILIAS EN RIESGO BAJO",{"$f":"IFERROR(VLOOKUP($A12,Filtros!$A$5:$AY$22116,2,FALSE),0)","v":9672},{"$f":"IFERROR(VLOOKUP($A12,Filtros!$A$5:$AY$22116,3,FALSE),0)","v":6310},{"$f":"IFERROR(VLOOKUP($A12,Filtros!$A$5:$AY$22116,4,FALSE),0)","v":2353},{"$f":"IFERROR(VLOOKUP($A12,Filtros!$A$5:$AY$22116,5,FALSE),0)","v":1009},{"$f":"IFERROR(VLOOKUP($A12,Filtros!$A$5:$AY$22116,6,FALSE),0)","v":0},{"$f":"IFERROR(VLOOKUP($A12,Filtros!$A$5:$AY$22116,7,FALSE),0)","v":0},{"$f":"IFERROR(VLOOKUP($A12,Filtros!$A$5:$AY$22116,8,FALSE),0)","v":0},{"$f":"IFERROR(VLOOKUP($A12,Filtros!$A$5:$AY$22116,9,FALSE),0)","v":0},{"$f":"IFERROR(VLOOKUP($A12,Filtros!$A$5:$AY$22116,10,FALSE),0)","v":0}]
["P7200100","N° DE FAMILIAS EN RIESGO MEDIO",{"$f":"IFERROR(VLOOKUP($A13,Filtros!$A$5:$AY$22116,2,FALSE),0)","v":3423},{"$f":"IFERROR(VLOOKUP($A13,Filtros!$A$5:$AY$22116,3,FALSE),0)","v":1675},{"$f":"IFERROR(VLOOKUP($A13,Filtros!$A$5:$AY$22116,4,FALSE),0)","v":1207},{"$f":"IFERROR(VLOOKUP($A13,Filtros!$A$5:$AY$22116,5,FALSE),0)","v":541},{"$f":"IFERROR(VLOOKUP($A13,Filtros!$A$5:$AY$22116,6,FALSE),0)","v":0},{"$f":"IFERROR(VLOOKUP($A13,Filtros!$A$5:$AY$22116,7,FALSE),0)","v":0},{"$f":"IFERROR(VLOOKUP($A13,Filtros!$A$5:$AY$22116,8,FALSE),0)","v":0},{"$f":"IFERROR(VLOOKUP($A13,Filtros!$A$5:$AY$22116,9,FALSE),0)","v":0},{"$f":"IFERROR(VLOOKUP($A13,Filtros!$A$5:$AY$22116,10,FALSE),0)","v":0}]
["P7200200","N° DE FAMILIAS EN RIESGO ALTO",{"$f":"IFERROR(VLOOKUP($A14,Filtros!$A$5:$AY$22116,2,FALSE),0)","v":1278},{"$f":"IFERROR(VLOOKUP($A14,Filtros!$A$5:$AY$22116,3,FALSE),0)","v":632},{"$f":"IFERROR(VLOOKUP($A14,Filtros!$A$5:$AY$22116,4,FALSE),0)","v":461},{"$f":"IFERROR(VLOOKUP($A14,Filtros!$A$5:$AY$22116,5,FALSE),0)","v":185},{"$f":"IFERROR(VLOOKUP($A14,Filtros!$A$5:$AY$22116,6,FALSE),0)","v":0},{"$f":"IFERROR(VLOOKUP($A14,Filtros!$A$5:$AY$22116,7,FALSE),0)","v":0},{"$f":"IFERROR(VLOOKUP($A14,Filtros!$A$5:$AY$22116,8,FALSE),0)","v":0},{"$f":"IFERROR(VLOOKUP($A14,Filtros!$A$5:$AY$22116,9,FALSE),0)","v":0},{"$f":"IFERROR(VLOOKUP($A14,Filtros!$A$5:$AY$22116,10,FALSE),0)","v":0}]
[]
[null,"SECCIÓN A.1 CLASIFICACIÓN DE LAS FAMILIAS SECTOR RURAL"]
[null,"CLASIFICACIÓN DE LAS FAMILIAS POR SECTOR","TOTAL","SECTOR 1","SECTOR 2","SECTOR 3","SECTOR 4","SECTOR 5","SECTOR 6","SECTOR 7","SECTOR 8"]
["P7010400","N° FAMILIAS INSCRITAS ",{"$f":"IFERROR(VLOOKUP($A18,Filtros!$A$5:$AY$22116,2,FALSE),0)","v":63064},{"$f":"IFERROR(VLOOKUP($A18,Filtros!$A$5:$AY$22116,3,FALSE),0)","v":52315},{"$f":"IFERROR(VLOOKUP($A18,Filtros!$A$5:$AY$22116,4,FALSE),0)","v":10665},{"$f":"IFERROR(VLOOKUP($A18,Filtros!$A$5:$AY$22116,5,FALSE),0)","v":70},{"$f":"IFERROR(VLOOKUP($A18,Filtros!$A$5:$AY$22116,6,FALSE),0)","v":8},{"$f":"IFERROR(VLOOKUP($A18,Filtros!$A$5:$AY$22116,7,FALSE),0)","v":6},{"$f":"IFERROR(VLOOKUP($A18,Filtros!$A$5:$AY$22116,8,FALSE),0)","v":0},{"$f":"IFERROR(VLOOKUP($A18,Filtros!$A$5:$AY$22116,9,FALSE),0)","v":0},{"$f":"IFERROR(VLOOKUP($A18,Filtros!$A$5:$AY$22116,10,FALSE),0)","v":0}]
["P7010500","N° FAMILIAS EVALUADAS CON CARTOLA/ENCUESTA FAMILIAR",{"$f":"IFERROR(VLOOKUP($A19,Filtros!$A$5:$AY$22116,2,FALSE),0)","v":13303},{"$f":"IFERROR(VLOOKUP($A19,Filtros!$A$5:$AY$22116,3,FALSE),0)","v":12020},{"$f":"IFERROR(VLOOKUP($A19,Filtros!$A$5:$AY$22116,4,FALSE),0)","v":1256},{"$f":"IFERROR(VLOOKUP($A19,Filtros!$A$5:$AY$22116,5,FALSE),0)","v":27},{"$f":"IFERROR(VLOOKUP($A19,Filtros!$A$5:$AY$22116,6,FALSE),0)","v":0},{"$f":"IFERROR(VLOOKUP($A19,Filtros!$A$5:$AY$22116,7,FALSE),0)","v":0},{"$f":"IFERROR(VLOOKUP($A19,Filtros!$A$5:$AY$22116,8,FALSE),0)","v":0},{"$f":"IFERROR(VLOOKUP($A19,Filtros!$A$5:$AY$22116,9,FALSE),0)","v":0},{"$f":"IFERROR(VLOOKUP($A19,Filtros!$A$5:$AY$22116,10,FALSE),0)","v":0}]
["P7010600","N° DE FAMILIAS EN RIESGO BAJO",{"$f":"IFERROR(VLOOKUP($A20,Filtros!$A$5:$AY$22116,2,FALSE),0)","v":9591},{"$f":"IFERROR(VLOOKUP($A20,Filtros!$A$5:$AY$22116,3,FALSE),0)","v":8741},{"$f":"IFERROR(VLOOKUP($A20,Filtros!$A$5:$AY$22116,4,FALSE),0)","v":831},{"$f":"IFERROR(VLOOKUP($A20,Filtros!$A$5:$AY$22116,5,FALSE),0)","v":19},{"$f":"IFERROR(VLOOKUP($A20,Filtros!$A$5:$AY$22116,6,FALSE),0)","v":0},{"$f":"IFERROR(VLOOKUP($A20,Filtros!$A$5:$AY$22116,7,FALSE),0)","v":0},{"$f":"IFERROR(VLOOKUP($A20,Filtros!$A$5:$AY$22116,8,FALSE),0)","v":0},{"$f":"IFERROR(VLOOKUP($A20,Filtros!$A$5:$AY$22116,9,FALSE),0)","v":0},{"$f":"IFERROR(VLOOKUP($A20,Filtros!$A$5:$AY$22116,10,FALSE),0)","v":0}]
["P7200300","N° DE FAMILIAS EN RIESGO MEDIO",{"$f":"IFERROR(VLOOKUP($A21,Filtros!$A$5:$AY$22116,2,FALSE),0)","v":2160},{"$f":"IFERROR(VLOOKUP($A21,Filtros!$A$5:$AY$22116,3,FALSE),0)","v":1847},{"$f":"IFERROR(VLOOKUP($A21,Filtros!$A$5:$AY$22116,4,FALSE),0)","v":308},{"$f":"IFERROR(VLOOKUP($A21,Filtros!$A$5:$AY$22116,5,FALSE),0)","v":5},{"$f":"IFERROR(VLOOKUP($A21,Filtros!$A$5:$AY$22116,6,FALSE),0)","v":0},{"$f":"IFERROR(VLOOKUP($A21,Filtros!$A$5:$AY$22116,7,FALSE),0)","v":0},{"$f":"IFERROR(VLOOKUP($A21,Filtros!$A$5:$AY$22116,8,FALSE),0)","v":0},{"$f":"IFERROR(VLOOKUP($A21,Filtros!$A$5:$AY$22116,9,FALSE),0)","v":0},{"$f":"IFERROR(VLOOKUP($A21,Filtros!$A$5:$AY$22116,10,FALSE),0)","v":0}]
["P7200400","N° DE FAMILIAS EN RIESGO ALTO",{"$f":"IFERROR(VLOOKUP($A22,Filtros!$A$5:$AY$22116,2,FALSE),0)","v":999},{"$f":"IFERROR(VLOOKUP($A22,Filtros!$A$5:$AY$22116,3,FALSE),0)","v":916},{"$f":"IFERROR(VLOOKUP($A22,Filtros!$A$5:$AY$22116,4,FALSE),0)","v":80},{"$f":"IFERROR(VLOOKUP($A22,Filtros!$A$5:$AY$22116,5,FALSE),0)","v":3},{"$f":"IFERROR(VLOOKUP($A22,Filtros!$A$5:$AY$22116,6,FALSE),0)","v":0},{"$f":"IFERROR(VLOOKUP($A22,Filtros!$A$5:$AY$22116,7,FALSE),0)","v":0},{"$f":"IFERROR(VLOOKUP($A22,Filtros!$A$5:$AY$22116,8,FALSE),0)","v":0},{"$f":"IFERROR(VLOOKUP($A22,Filtros!$A$5:$AY$22116,9,FALSE),0)","v":0},{"$f":"IFERROR(VLOOKUP($A22,Filtros!$A$5:$AY$22116,10,FALSE),0)","v":0}]
[null,"SECCIÓN B. INTERVENCIÓN EN FAMILIAS SECTOR URBANO Y RURAL"]
[null,"INTERVENCIÓN EN FAMILIAS",null,null,"TOTAL","SECTOR 1","SECTOR 2","SECTOR 3","SECTOR 4","SECTOR 5","SECTOR 6","SECTOR 7","SECTOR 8"]
["P7200500","N° FAMILIAS CON PLAN DE INTERVENCIÓN",null,null,{"$f":"IFERROR(VLOOKUP($A25,Filtros!$A$5:$AY$22116,2,FALSE),0)","v":9512},{"$f":"IFERROR(VLOOKUP($A25,Filtros!$A$5:$AY$22116,3,FALSE),0)","v":5564},{"$f":"IFERROR(VLOOKUP($A25,Filtros!$A$5:$AY$22116,4,FALSE),0)","v":2521},{"$f":"IFERROR(VLOOKUP($A25,Filtros!$A$5:$AY$22116,5,FALSE),0)","v":1427},{"$f":"IFERROR(VLOOKUP($A25,Filtros!$A$5:$AY$22116,6,FALSE),0)","v":0},{"$f":"IFERROR(VLOOKUP($A25,Filtros!$A$5:$AY$22116,7,FALSE),0)","v":0},{"$f":"IFERROR(VLOOKUP($A25,Filtros!$A$5:$AY$22116,8,FALSE),0)","v":0},{"$f":"IFERROR(VLOOKUP($A25,Filtros!$A$5:$AY$22116,9,FALSE),0)","v":0},{"$f":"IFERROR(VLOOKUP($A25,Filtros!$A$5:$AY$22116,10,FALSE),0)","v":0}]
["P7201300","N° FAMILIAS SIN PLAN DE INTERVENCIÓN","RIESGO BAJO",null,{"$f":"IFERROR(VLOOKUP($A26,Filtros!$A$5:$AY$22116,2,FALSE),0)","v":8985},{"$f":"IFERROR(VLOOKUP($A26,Filtros!$A$5:$AY$22116,3,FALSE),0)","v":7921},{"$f":"IFERROR(VLOOKUP($A26,Filtros!$A$5:$AY$22116,4,FALSE),0)","v":750},{"$f":"IFERROR(VLOOKUP($A26,Filtros!$A$5:$AY$22116,5,FALSE),0)","v":314},{"$f":"IFERROR(VLOOKUP($A26,Filtros!$A$5:$AY$22116,6,FALSE),0)","v":0},{"$f":"IFERROR(VLOOKUP($A26,Filtros!$A$5:$AY$22116,7,FALSE),0)","v":0},{"$f":"IFERROR(VLOOKUP($A26,Filtros!$A$5:$AY$22116,8,FALSE),0)","v":0},{"$f":"IFERROR(VLOOKUP($A26,Filtros!$A$5:$AY$22116,9,FALSE),0)","v":0},{"$f":"IFERROR(VLOOKUP($A26,Filtros!$A$5:$AY$22116,10,FALSE),0)","v":0}]
["P7201400",null,"RIESGO MEDIO",null,{"$f":"IFERROR(VLOOKUP($A27,Filtros!$A$5:$AY$22116,2,FALSE),0)","v":1700},{"$f":"IFERROR(VLOOKUP($A27,Filtros!$A$5:$AY$22116,3,FALSE),0)","v":1249},{"$f":"IFERROR(VLOOKUP($A27,Filtros!$A$5:$AY$22116,4,FALSE),0)","v":326},{"$f":"IFERROR(VLOOKUP($A27,Filtros!$A$5:$AY$22116,5,FALSE),0)","v":125},{"$f":"IFERROR(VLOOKUP($A27,Filtros!$A$5:$AY$22116,6,FALSE),0)","v":0},{"$f":"IFERROR(VLOOKUP($A27,Filtros!$A$5:$AY$22116,7,FALSE),0)","v":0},{"$f":"IFERROR(VLOOKUP($A27,Filtros!$A$5:$AY$22116,8,FALSE),0)","v":0},{"$f":"IFERROR(VLOOKUP($A27,Filtros!$A$5:$AY$22116,9,FALSE),0)","v":0},{"$f":"IFERROR(VLOOKUP($A27,Filtros!$A$5:$AY$22116,10,FALSE),0)","v":0}]
["P7201500",null,"RIESGO ALTO",null,{"$f":"IFERROR(VLOOKUP($A28,Filtros!$A$5:$AY$22116,2,FALSE),0)","v":655},{"$f":"IFERROR(VLOOKUP($A28,Filtros!$A$5:$AY$22116,3,FALSE),0)","v":514},{"$f":"IFERROR(VLOOKUP($A28,Filtros!$A$5:$AY$22116,4,FALSE),0)","v":130},{"$f":"IFERROR(VLOOKUP($A28,Filtros!$A$5:$AY$22116,5,FALSE),0)","v":11},{"$f":"IFERROR(VLOOKUP($A28,Filtros!$A$5:$AY$22116,6,FALSE),0)","v":0},{"$f":"IFERROR(VLOOKUP($A28,Filtros!$A$5:$AY$22116,7,FALSE),0)","v":0},{"$f":"IFERROR(VLOOKUP($A28,Filtros!$A$5:$AY$22116,8,FALSE),0)","v":0},{"$f":"IFERROR(VLOOKUP($A28,Filtros!$A$5:$AY$22116,9,FALSE),0)","v":0},{"$f":"IFERROR(VLOOKUP($A28,Filtros!$A$5:$AY$22116,10,FALSE),0)","v":0}]
["P7200700","N° FAMILIAS EGRESADAS DE PLANES DE INTERVENCIÓN","TOTAL DE EGRESOS",null,{"$f":"IFERROR(VLOOKUP($A29,Filtros!$A$5:$AY$22116,2,FALSE),0)","v":1834},{"$f":"IFERROR(VLOOKUP($A29,Filtros!$A$5:$AY$22116,3,FALSE),0)","v":835},{"$f":"IFERROR(VLOOKUP($A29,Filtros!$A$5:$AY$22116,4,FALSE),0)","v":703},{"$f":"IFERROR(VLOOKUP($A29,Filtros!$A$5:$AY$22116,5,FALSE),0)","v":296},{"$f":"IFERROR(VLOOKUP($A29,Filtros!$A$5:$AY$22116,6,FALSE),0)","v":0},{"$f":"IFERROR(VLOOKUP($A29,Filtros!$A$5:$AY$22116,7,FALSE),0)","v":0},{"$f":"IFERROR(VLOOKUP($A29,Filtros!$A$5:$AY$22116,8,FALSE),0)","v":0},{"$f":"IFERROR(VLOOKUP($A29,Filtros!$A$5:$AY$22116,9,FALSE),0)","v":0},{"$f":"IFERROR(VLOOKUP($A29,Filtros!$A$5:$AY$22116,10,FALSE),0)","v":0}]
["P7200800",null,"ALTA POR CUMPLIR PLAN DE INTERVENCIÓN",null,{"$f":"IFERROR(VLOOKUP($A30,Filtros!$A$5:$AY$22116,2,FALSE),0)","v":1086},{"$f":"IFERROR(VLOOKUP($A30,Filtros!$A$5:$AY$22116,3,FALSE),0)","v":478},{"$f":"IFERROR(VLOOKUP($A30,Filtros!$A$5:$AY$22116,4,FALSE),0)","v":453},{"$f":"IFERROR(VLOOKUP($A30,Filtros!$A$5:$AY$22116,5,FALSE),0)","v":155},{"$f":"IFERROR(VLOOKUP($A30,Filtros!$A$5:$AY$22116,6,FALSE),0)","v":0},{"$f":"IFERROR(VLOOKUP($A30,Filtros!$A$5:$AY$22116,7,FALSE),0)","v":0},{"$f":"IFERROR(VLOOKUP($A30,Filtros!$A$5:$AY$22116,8,FALSE),0)","v":0},{"$f":"IFERROR(VLOOKUP($A30,Filtros!$A$5:$AY$22116,9,FALSE),0)","v":0},{"$f":"IFERROR(VLOOKUP($A30,Filtros!$A$5:$AY$22116,10,FALSE),0)","v":0}]
["P7200900",null,"TRASLADO DE ESTABLECIMIENTO",null,{"$f":"IFERROR(VLOOKUP($A31,Filtros!$A$5:$AY$22116,2,FALSE),0)","v":399},{"$f":"IFERROR(VLOOKUP($A31,Filtros!$A$5:$AY$22116,3,FALSE),0)","v":204},{"$f":"IFERROR(VLOOKUP($A31,Filtros!$A$5:$AY$22116,4,FALSE),0)","v":108},{"$f":"IFERROR(VLOOKUP($A31,Filtros!$A$5:$AY$22116,5,FALSE),0)","v":87},{"$f":"IFERROR(VLOOKUP($A31,Filtros!$A$5:$AY$22116,6,FALSE),0)","v":0},{"$f":"IFERROR(VLOOKUP($A31,Filtros!$A$5:$AY$22116,7,FALSE),0)","v":0},{"$f":"IFERROR(VLOOKUP($A31,Filtros!$A$5:$AY$22116,8,FALSE),0)","v":0},{"$f":"IFERROR(VLOOKUP($A31,Filtros!$A$5:$AY$22116,9,FALSE),0)","v":0},{"$f":"IFERROR(VLOOKUP($A31,Filtros!$A$5:$AY$22116,10,FALSE),0)","v":0}]
["P7201000",null,"DERIVACIÓN POR COMPLEJIDAD DEL CASO",null,{"$f":"IFERROR(VLOOKUP($A32,Filtros!$A$5:$AY$22116,2,FALSE),0)","v":180},{"$f":"IFERROR(VLOOKUP($A32,Filtros!$A$5:$AY$22116,3,FALSE),0)","v":85},{"$f":"IFERROR(VLOOKUP($A32,Filtros!$A$5:$AY$22116,4,FALSE),0)","v":75},{"$f":"IFERROR(VLOOKUP($A32,Filtros!$A$5:$AY$22116,5,FALSE),0)","v":20},{"$f":"IFERROR(VLOOKUP($A32,Filtros!$A$5:$AY$22116,6,FALSE),0)","v":0},{"$f":"IFERROR(VLOOKUP($A32,Filtros!$A$5:$AY$22116,7,FALSE),0)","v":0},{"$f":"IFERROR(VLOOKUP($A32,Filtros!$A$5:$AY$22116,8,FALSE),0)","v":0},{"$f":"IFERROR(VLOOKUP($A32,Filtros!$A$5:$AY$22116,9,FALSE),0)","v":0},{"$f":"IFERROR(VLOOKUP($A32,Filtros!$A$5:$AY$22116,10,FALSE),0)","v":0}]
["P7201100",null,"POR ABANDONO",null,{"$f":"IFERROR(VLOOKUP($A33,Filtros!$A$5:$AY$22116,2,FALSE),0)","v":102},{"$f":"IFERROR(VLOOKUP($A33,Filtros!$A$5:$AY$22116,3,FALSE),0)","v":64},{"$f":"IFERROR(VLOOKUP($A33,Filtros!$A$5:$AY$22116,4,FALSE),0)","v":32},{"$f":"IFERROR(VLOOKUP($A33,Filtros!$A$5:$AY$22116,5,FALSE),0)","v":6},{"$f":"IFERROR(VLOOKUP($A33,Filtros!$A$5:$AY$22116,6,FALSE),0)","v":0},{"$f":"IFERROR(VLOOKUP($A33,Filtros!$A$5:$AY$22116,7,FALSE),0)","v":0},{"$f":"IFERROR(VLOOKUP($A33,Filtros!$A$5:$AY$22116,8,FALSE),0)","v":0},{"$f":"IFERROR(VLOOKUP($A33,Filtros!$A$5:$AY$22116,9,FALSE),0)","v":0},{"$f":"IFERROR(VLOOKUP($A33,Filtros!$A$5:$AY$22116,10,FALSE),0)","v":0}]
[]
[]
[]
[]
[]
[]
["CODIGOS ELIMINADOS"]
["P7201200"]
{"$rows_empty":8}
[null,{"$f":"SUM(C10:K14,C18:K22,E25:M33)","v":496614},"datos"]
[null,{"$f":"SUM(0)","v":0},"errores"]
[]
[]
[]
[]
[]
[null,{"$f":"SUM(B8:K30)","v":495252}]

{"sheet":"P9","index":8,"n_rows":102,"n_cols":52,"rows_kept":102,"merged":[[6,3,6,17],[9,1,10,2],[9,3,9,5],[9,6,9,8],[9,9,9,11],[9,12,9,14],[9,15,9,17],[11,1,11,2],[12,1,19,1],[20,1,26,1],[27,1,30,1],[31,1,39,1],[41,1,44,2],[41,3,43,5],[41,6,43,8],[41,9,43,11],[41,12,43,14],[41,15,43,17],[45,1,45,2],[46,1,46,2],[47,1,47,2],[48,1,48,2],[49,1,49,2],[50,1,50,2],[52,1,55,2],[52,3,54,5],[52,6,54,8],[52,9,54,11],[52,12,54,14],[52,15,54,17],[56,1,56,2],[57,1,57,2],[58,1,58,2],[59,1,59,2],[60,1,60,2],[61,1,61,2],[63,1,66,2],[63,3,65,5],[63,6,65,8],[63,9,65,11],[63,12,65,14],[63,15,65,17],[67,1,67,2],[68,1,68,2],[69,1,69,2],[70,1,70,2],[71,1,71,2],[72,1,72,2],[73,1,73,2],[74,1,74,2],[75,1,75,2],[76,1,76,2],[78,1,80,1],[78,2,80,2],[78,3,79,5],[78,6,79,8],[78,9,79,11],[78,12,79,14],[81,1,82,1],[83,1,84,1],[85,1,86,1],[87,1,88,1],[89,1,90,1],[91,1,92,1],[93,1,94,1]]}
[]
[]
[]
[]
[]
[]
[{"$nulls":3},"REM-P9. POBLACIÓN EN CONTROL DEL ADOLESCENTE",{"$nulls":14},{"$f":"AL7 & AM7 & AN7 & AO7 & AL6 & AM6 & AN6 & AO6","v":""}]
[]
[null,"SECCION A: POBLACIÓN EN CONTROL DE SALUD INTEGRAL DE ADOLESCENTES, SEGÚN ESTADO NUTRICIONAL"]
[null,"INDICADOR NUTRICIONAL\nY\nPARÁMETROS DE MEDICIÓN",null,"TOTAL",null,null,"Adolescentes 10 a 14 años",null,null,"Adolescentes 15 a 19 años",null,null,"Adolescentes de Pueblos Originarios",null,null,"Adolescentes Migrantes"]
[{"$nulls":3},"Ambos\nsexos","Hombres","Mujeres","Ambos\nsexos","Hombres","Mujeres","Ambos\nsexos","Hombres","Mujeres","Ambos\nsexos","Hombres","Mujeres","Ambos\nsexos","Hombres","Mujeres",{"$f":"AL11 & AM11 & AN11 & AO11","v":"* El Total de 'Adolescentes de 10 a 14 años' en control debe ser igual al Total del 'Diagnóstico Nutricional Integrado' (F40). * El Total de 'Adolescentes de 15 a 19 años' en control debe ser igual al Total del 'Diagnóstico Nutricional Integrado' (I40). * El Total de 'Adolescentes de Pueblos Originarios' en control debe ser igual al Total del 'Diagnóstico Nutricional Integrado' (L40). "},{"$nulls":18},{"$f":"IF(G12=G40,\"\",\"* El Total de 'Adolescentes de 10 a 14 años' en control debe ser igual al Total del 'Diagnóstico Nutricional Integrado' (F40). \")","v":"* El Total de 'Adolescentes de 10 a 14 años' en control debe ser igual al Total del 'Diagnóstico Nutricional Integrado' (F40). "},{"$f":"IF(J12=J40,\"\",\"* El Total de 'Adolescentes de 15 a 19 años' en control debe ser igual al Total del 'Diagnóstico Nutricional Integrado' (I40). \")","v":"* El Total de 'Adolescentes de 15 a 19 años' en control debe ser igual al Total del 'Diagnóstico Nutricional Integrado' (I40). "},{"$f":"IF(M12=M40,\"\",\"* El Total de 'Adolescentes de Pueblos Originarios' en control debe ser igual al Total del 'Diagnóstico Nutricional Integrado' (L40). \")","v":"* El Total de 'Adolescentes de Pueblos Originarios' en control debe ser igual al Total del 'Diagnóstico Nutricional Integrado' (L40). "},{"$f":"IF(P12<=P40,\"\",\"* El Total de 'Adolescentes Migrantes' en control (O12) debe ser menor o igual al Total del 'Diagnóstico Nutricional Integrado' (040). \")","v":""},{"$nulls":7},{"$f":"IF(G12=G40,0,1)","v":1},{"$f":"IF(J12=J40,0,1)","v":1},{"$f":"IF(M12=M40,0,1)","v":1},{"$f":"IF(P12=P40,0,1)","v":1}]
["P9100100","TOTAL ADOLESCENTES EN CONTROL",null,{"$f":"IFERROR(VLOOKUP($A12,Filtros!$A$5:$AY$22116,2,FALSE),0)","v":7300},{"$f":"IFERROR(VLOOKUP($A12,Filtros!$A$5:$AY$22116,3,FALSE),0)","v":2865},{"$f":"IFERROR(VLOOKUP($A12,Filtros!$A$5:$AY$22116,4,FALSE),0)","v":4435},{"$f":"IFERROR(VLOOKUP($A12,Filtros!$A$5:$AY$22116,5,FALSE),0)","v":3939},{"$f":"IFERROR(VLOOKUP($A12,Filtros!$A$5:$AY$22116,6,FALSE),0)","v":1780},{"$f":"IFERROR(VLOOKUP($A12,Filtros!$A$5:$AY$22116,7,FALSE),0)","v":2159},{"$f":"IFERROR(VLOOKUP($A12,Filtros!$A$5:$AY$22116,8,FALSE),0)","v":3361},{"$f":"IFERROR(VLOOKUP($A12,Filtros!$A$5:$AY$22116,9,FALSE),0)","v":1085},{"$f":"IFERROR(VLOOKUP($A12,Filtros!$A$5:$AY$22116,10,FALSE),0)","v":2276},{"$f":"IFERROR(VLOOKUP($A12,Filtros!$A$5:$AY$22116,11,FALSE),0)","v":354},{"$f":"IFERROR(VLOOKUP($A12,Filtros!$A$5:$AY$22116,12,FALSE),0)","v":147},{"$f":"IFERROR(VLOOKUP($A12,Filtros!$A$5:$AY$22116,13,FALSE),0)","v":207},{"$f":"IFERROR(VLOOKUP($A12,Filtros!$A$5:$AY$22116,14,FALSE),0)","v":109},{"$f":"IFERROR(VLOOKUP($A12,Filtros!$A$5:$AY$22116,15,FALSE),0)","v":42},{"$f":"IFERROR(VLOOKUP($A12,Filtros!$A$5:$AY$22116,16,FALSE),0)","v":67},{"$f":"AL12 & AM12 & AN12 & AO12","v":""},{"$nulls":18},{"$f":"IF($D12<$M12, \"* El Total de 'Adolescentes de Pueblos Originarios' debe ser menor o igual al Total Adolecentes 'Ambos sexos'. \", \"\")","v":""},{"$f":"IF($D12<$P12, \"* El total de 'Adolescentes de Migrantes' debe ser menor o igual al Total Adolecentes 'Ambos sexos'. \", \"\")","v":""},{"$f":"IF(AND(E12<>0,N12=\"\"),\"* No olvide escribir en la celda de 'Pueblos Originarios' (Digite CERO si no tiene). \",IF(AND(F12<>0,O12=\"\"),\"* No olvide escribir en la celda de 'Pueblos Originarios' (Digite CERO si no tiene). \",\"\"))","v":""},{"$f":"IF(AND(E12<>0,Q12=\"\"),\"* No olvide escribir en la celda de 'Población Migrantes' (Digite CERO si no tiene). \",IF(AND(F12<>0,R12=\"\"),\"* No olvide escribir en la celda de 'Población Migrantes' (Digite CERO si no tiene). \",\"\"))","v":""},{"$nulls":7},{"$f":"IF($D12<$M12, 1,0)","v":0},{"$f":"IF($D12<$P12, 1,0)","v":0},{"$f":"IF(AND(E12<>0,N12=\"\"),1,IF(AND(F12<>0,O12=\"\"),1,0))","v":0},{"$f":"IF(AND(E12<>0,Q12=\"\"),1,IF(AND(F12<>0,R12=\"\"),1,0))","v":0}]
["P9100110","INDICADOR IMC / EDAD",">+ 3 D.E. (Obesidad Severa)",{"$f":"IFERROR(VLOOKUP($A13,Filtros!$A$5:$AY$22116,2,FALSE),0)","v":376},{"$f":"IFERROR(VLOOKUP($A13,Filtros!$A$5:$AY$22116,3,FALSE),0)","v":193},{"$f":"IFERROR(VLOOKUP($A13,Filtros!$A$5:$AY$22116,4,FALSE),0)","v":183},{"$f":"IFERROR(VLOOKUP($A13,Filtros!$A$5:$AY$22116,5,FALSE),0)","v":245},{"$f":"IFERROR(VLOOKUP($A13,Filtros!$A$5:$AY$22116,6,FALSE),0)","v":141},{"$f":"IFERROR(VLOOKUP($A13,Filtros!$A$5:$AY$22116,7,FALSE),0)","v":104},{"$f":"IFERROR(VLOOKUP($A13,Filtros!$A$5:$AY$22116,8,FALSE),0)","v":131},{"$f":"IFERROR(VLOOKUP($A13,Filtros!$A$5:$AY$22116,9,FALSE),0)","v":52},{"$f":"IFERROR(VLOOKUP($A13,Filtros!$A$5:$AY$22116,10,FALSE),0)","v":79},{"$f":"IFERROR(VLOOKUP($A13,Filtros!$A$5:$AY$22116,11,FALSE),0)","v":11},{"$f":"IFERROR(VLOOKUP($A13,Filtros!$A$5:$AY$22116,12,FALSE),0)","v":7},{"$f":"IFERROR(VLOOKUP($A13,Filtros!$A$5:$AY$22116,13,FALSE),0)","v":4},{"$f":"IFERROR(VLOOKUP($A13,Filtros!$A$5:$AY$22116,14,FALSE),0)","v":1},{"$f":"IFERROR(VLOOKUP($A13,Filtros!$A$5:$AY$22116,15,FALSE),0)","v":1},{"$f":"IFERROR(VLOOKUP($A13,Filtros!$A$5:$AY$22116,16,FALSE),0)","v":0},{"$f":"AL13 & AM13 & AN13 & AO13","v":""},{"$nulls":18},{"$f":"IF($D13<$M13, \"* El Total de 'Adolescentes de Pueblos Originarios' debe ser menor o igual al Total Adolecentes 'Ambos sexos'. \", \"\")","v":""},{"$f":"IF($D13<$P13, \"* El total de 'Adolescentes de Migrantes' debe ser menor o igual al Total Adolecentes 'Ambos sexos'. \", \"\")","v":""},{"$f":"IF(AND(E13<>0,N13=\"\"),\"* No olvide escribir en la celda de 'Pueblos Originarios' (Digite CERO si no tiene). \",IF(AND(F13<>0,O13=\"\"),\"* No olvide escribir en la celda de 'Pueblos Originarios' (Digite CERO si no tiene). \",\"\"))","v":""},{"$f":"IF(AND(E13<>0,Q13=\"\"),\"* No olvide escribir en la celda de 'Población Migrantes' (Digite CERO si no tiene). \",IF(AND(F13<>0,R13=\"\"),\"* No olvide escribir en la celda de 'Población Migrantes' (Digite CERO si no tiene). \",\"\"))","v":""},{"$nulls":7},{"$f":"IF($D13<$M13, 1,0)","v":0},{"$f":"IF($D13<$P13, 1,0)","v":0},{"$f":"IF(AND(E13<>0,N13=\"\"),1,IF(AND(F13<>0,O13=\"\"),1,0))","v":0},{"$f":"IF(AND(E13<>0,Q13=\"\"),1,IF(AND(F13<>0,R13=\"\"),1,0))","v":0}]
["P9100120",null,"≥ +2.0 a+2,9 D.E. (Obesidad)",{"$f":"IFERROR(VLOOKUP($A14,Filtros!$A$5:$AY$22116,2,FALSE),0)","v":1403},{"$f":"IFERROR(VLOOKUP($A14,Filtros!$A$5:$AY$22116,3,FALSE),0)","v":630},{"$f":"IFERROR(VLOOKUP($A14,Filtros!$A$5:$AY$22116,4,FALSE),0)","v":773},{"$f":"IFERROR(VLOOKUP($A14,Filtros!$A$5:$AY$22116,5,FALSE),0)","v":920},{"$f":"IFERROR(VLOOKUP($A14,Filtros!$A$5:$AY$22116,6,FALSE),0)","v":480},{"$f":"IFERROR(VLOOKUP($A14,Filtros!$A$5:$AY$22116,7,FALSE),0)","v":440},{"$f":"IFERROR(VLOOKUP($A14,Filtros!$A$5:$AY$22116,8,FALSE),0)","v":483},{"$f":"IFERROR(VLOOKUP($A14,Filtros!$A$5:$AY$22116,9,FALSE),0)","v":150},{"$f":"IFERROR(VLOOKUP($A14,Filtros!$A$5:$AY$22116,10,FALSE),0)","v":333},{"$f":"IFERROR(VLOOKUP($A14,Filtros!$A$5:$AY$22116,11,FALSE),0)","v":88},{"$f":"IFERROR(VLOOKUP($A14,Filtros!$A$5:$AY$22116,12,FALSE),0)","v":33},{"$f":"IFERROR(VLOOKUP($A14,Filtros!$A$5:$AY$22116,13,FALSE),0)","v":55},{"$f":"IFERROR(VLOOKUP($A14,Filtros!$A$5:$AY$22116,14,FALSE),0)","v":28},{"$f":"IFERROR(VLOOKUP($A14,Filtros!$A$5:$AY$22116,15,FALSE),0)","v":6},{"$f":"IFERROR(VLOOKUP($A14,Filtros!$A$5:$AY$22116,16,FALSE),0)","v":22},{"$f":"AL14 & AM14 & AN14 & AO14","v":""},{"$nulls":18},{"$f":"IF($D14<$M14, \"* El Total de 'Adolescentes de Pueblos Originarios' debe ser menor o igual al Total Adolecentes 'Ambos sexos'. \", \"\")","v":""},{"$f":"IF($D14<$P14, \"* El total de 'Adolescentes de Migrantes' debe ser menor o igual al Total Adolecentes 'Ambos sexos'. \", \"\")","v":""},{"$f":"IF(AND(E14<>0,N14=\"\"),\"* No olvide escribir en la celda de 'Pueblos Originarios' (Digite CERO si no tiene). \",IF(AND(F14<>0,O14=\"\"),\"* No olvide escribir en la celda de 'Pueblos Originarios' (Digite CERO si no tiene). \",\"\"))","v":""},{"$f":"IF(AND(E14<>0,Q14=\"\"),\"* No olvide escribir en la celda de 'Población Migrantes' (Digite CERO si no tiene). \",IF(AND(F14<>0,R14=\"\"),\"* No olvide escribir en la celda de 'Población Migrantes' (Digite CERO si no tiene). \",\"\"))","v":""},{"$nulls":7},0,0,{"$f":"IF(AND(E14<>0,N14=\"\"),1,IF(AND(F14<>0,O14=\"\"),1,0))","v":0},{"$f":"IF(AND(E14<>0,Q14=\"\"),1,IF(AND(F14<>0,R14=\"\"),1,0))","v":0}]
["P9100130",null,"≥ +1.0 a+1,9 D.E.(Sobrepeso) ",{"$f":"IFERROR(VLOOKUP($A15,Filtros!$A$5:$AY$22116,2,FALSE),0)","v":1959},{"$f":"IFERROR(VLOOKUP($A15,Filtros!$A$5:$AY$22116,3,FALSE),0)","v":758},{"$f":"IFERROR(VLOOKUP($A15,Filtros!$A$5:$AY$22116,4,FALSE),0)","v":1201},{"$f":"IFERROR(VLOOKUP($A15,Filtros!$A$5:$AY$22116,5,FALSE),0)","v":1123},{"$f":"IFERROR(VLOOKUP($A15,Filtros!$A$5:$AY$22116,6,FALSE),0)","v":513},{"$f":"IFERROR(VLOOKUP($A15,Filtros!$A$5:$AY$22116,7,FALSE),0)","v":610},{"$f":"IFERROR(VLOOKUP($A15,Filtros!$A$5:$AY$22116,8,FALSE),0)","v":836},{"$f":"IFERROR(VLOOKUP($A15,Filtros!$A$5:$AY$22116,9,FALSE),0)","v":245},{"$f":"IFERROR(VLOOKUP($A15,Filtros!$A$5:$AY$22116,10,FALSE),0)","v":591},{"$f":"IFERROR(VLOOKUP($A15,Filtros!$A$5:$AY$22116,11,FALSE),0)","v":108},{"$f":"IFERROR(VLOOKUP($A15,Filtros!$A$5:$AY$22116,12,FALSE),0)","v":47},{"$f":"IFERROR(VLOOKUP($A15,Filtros!$A$5:$AY$22116,13,FALSE),0)","v":61},{"$f":"IFERROR(VLOOKUP($A15,Filtros!$A$5:$AY$22116,14,FALSE),0)","v":35},{"$f":"IFERROR(VLOOKUP($A15,Filtros!$A$5:$AY$22116,15,FALSE),0)","v":14},{"$f":"IFERROR(VLOOKUP($A15,Filtros!$A$5:$AY$22116,16,FALSE),0)","v":21},{"$f":"AL15 & AM15 & AN15 & AO15","v":""},{"$nulls":18},{"$f":"IF($D15<$M15, \"* El Total de 'Adolescentes de Pueblos Originarios' debe ser menor o igual al Total Adolecentes 'Ambos sexos'. \", \"\")","v":""},{"$f":"IF($D15<$P15, \"* El total de 'Adolescentes de Migrantes' debe ser menor o igual al Total Adolecentes 'Ambos sexos'. \", \"\")","v":""},{"$f":"IF(AND(E15<>0,N15=\"\"),\"* No olvide escribir en la celda de 'Pueblos Originarios' (Digite CERO si no tiene). \",IF(AND(F15<>0,O15=\"\"),\"* No olvide escribir en la celda de 'Pueblos Originarios' (Digite CERO si no tiene). \",\"\"))","v":""},{"$f":"IF(AND(E15<>0,Q15=\"\"),\"* No olvide escribir en la celda de 'Población Migrantes' (Digite CERO si no tiene). \",IF(AND(F15<>0,R15=\"\"),\"* No olvide escribir en la celda de 'Población Migrantes' (Digite CERO si no tiene). \",\"\"))","v":""},{"$nulls":7},0,0,{"$f":"IF(AND(E15<>0,N15=\"\"),1,IF(AND(F15<>0,O15=\"\"),1,0))","v":0},{"$f":"IF(AND(E15<>0,Q15=\"\"),1,IF(AND(F15<>0,R15=\"\"),1,0))","v":0}]
[null,null,"SUBTOTAL",{"$f":"SUM(E16:F16)","v":3738},{"$f":"+H16+K16","v":1581},{"$f":"+I16+L16","v":2157},{"$f":"SUM(G13:G15)","v":2288},{"$f":"SUM(H13:H15)","v":1134},{"$f":"SUM(I13:I15)","v":1154},1450,447,1003,{"$f":"SUM(M13:M15)","v":207},87,120,64,21,43]
["P9100140",null,"≤ -1.0 a-1,9 D.E.(Bajo peso)",{"$f":"IFERROR(VLOOKUP($A17,Filtros!$A$5:$AY$22116,2,FALSE),0)","v":242},{"$f":"IFERROR(VLOOKUP($A17,Filtros!$A$5:$AY$22116,3,FALSE),0)","v":129},{"$f":"IFERROR(VLOOKUP($A17,Filtros!$A$5:$AY$22116,4,FALSE),0)","v":113},{"$f":"IFERROR(VLOOKUP($A17,Filtros!$A$5:$AY$22116,5,FALSE),0)","v":127},{"$f":"IFERROR(VLOOKUP($A17,Filtros!$A$5:$AY$22116,6,FALSE),0)","v":63},{"$f":"IFERROR(VLOOKUP($A17,Filtros!$A$5:$AY$22116,7,FALSE),0)","v":64},{"$f":"IFERROR(VLOOKUP($A17,Filtros!$A$5:$AY$22116,8,FALSE),0)","v":115},{"$f":"IFERROR(VLOOKUP($A17,Filtros!$A$5:$AY$22116,9,FALSE),0)","v":66},{"$f":"IFERROR(VLOOKUP($A17,Filtros!$A$5:$AY$22116,10,FALSE),0)","v":49},{"$f":"IFERROR(VLOOKUP($A17,Filtros!$A$5:$AY$22116,11,FALSE),0)","v":13},{"$f":"IFERROR(VLOOKUP($A17,Filtros!$A$5:$AY$22116,12,FALSE),0)","v":9},{"$f":"IFERROR(VLOOKUP($A17,Filtros!$A$5:$AY$22116,13,FALSE),0)","v":4},{"$f":"IFERROR(VLOOKUP($A17,Filtros!$A$5:$AY$22116,14,FALSE),0)","v":6},{"$f":"IFERROR(VLOOKUP($A17,Filtros!$A$5:$AY$22116,15,FALSE),0)","v":5},{"$f":"IFERROR(VLOOKUP($A17,Filtros!$A$5:$AY$22116,16,FALSE),0)","v":1},{"$f":"AL17 & AM17 & AN17 & AO17","v":""},{"$nulls":18},{"$f":"IF($D17<$M17, \"* El Total de 'Adolescentes de Pueblos Originarios' debe ser menor o igual al Total Adolecentes 'Ambos sexos'. \", \"\")","v":""},{"$f":"IF($D17<$P17, \"* El total de 'Adolescentes de Migrantes' debe ser menor o igual al Total Adolecentes 'Ambos sexos'. \", \"\")","v":""},{"$f":"IF(AND(E17<>0,N17=\"\"),\"* No olvide escribir en la celda de 'Pueblos Originarios' (Digite CERO si no tiene). \",IF(AND(F17<>0,O17=\"\"),\"* No olvide escribir en la celda de 'Pueblos Originarios' (Digite CERO si no tiene). \",\"\"))","v":""},{"$f":"IF(AND(E17<>0,Q17=\"\"),\"* No olvide escribir en la celda de 'Población Migrantes' (Digite CERO si no tiene). \",IF(AND(F17<>0,R17=\"\"),\"* No olvide escribir en la celda de 'Población Migrantes' (Digite CERO si no tiene). \",\"\"))","v":""},{"$nulls":7},0,0,{"$f":"IF(AND(E17<>0,N17=\"\"),1,IF(AND(F17<>0,O17=\"\"),1,0))","v":0},{"$f":"IF(AND(E17<>0,Q17=\"\"),1,IF(AND(F17<>0,R17=\"\"),1,0))","v":0}]
["P9100150",null,"≤ -2.0 D.E. (Desnutrición)",{"$f":"IFERROR(VLOOKUP($A18,Filtros!$A$5:$AY$22116,2,FALSE),0)","v":30},{"$f":"IFERROR(VLOOKUP($A18,Filtros!$A$5:$AY$22116,3,FALSE),0)","v":17},{"$f":"IFERROR(VLOOKUP($A18,Filtros!$A$5:$AY$22116,4,FALSE),0)","v":13},{"$f":"IFERROR(VLOOKUP($A18,Filtros!$A$5:$AY$22116,5,FALSE),0)","v":21},{"$f":"IFERROR(VLOOKUP($A18,Filtros!$A$5:$AY$22116,6,FALSE),0)","v":11},{"$f":"IFERROR(VLOOKUP($A18,Filtros!$A$5:$AY$22116,7,FALSE),0)","v":10},{"$f":"IFERROR(VLOOKUP($A18,Filtros!$A$5:$AY$22116,8,FALSE),0)","v":9},{"$f":"IFERROR(VLOOKUP($A18,Filtros!$A$5:$AY$22116,9,FALSE),0)","v":6},{"$f":"IFERROR(VLOOKUP($A18,Filtros!$A$5:$AY$22116,10,FALSE),0)","v":3},{"$f":"IFERROR(VLOOKUP($A18,Filtros!$A$5:$AY$22116,11,FALSE),0)","v":1},{"$f":"IFERROR(VLOOKUP($A18,Filtros!$A$5:$AY$22116,12,FALSE),0)","v":1},{"$f":"IFERROR(VLOOKUP($A18,Filtros!$A$5:$AY$22116,13,FALSE),0)","v":0},{"$f":"IFERROR(VLOOKUP($A18,Filtros!$A$5:$AY$22116,14,FALSE),0)","v":1},{"$f":"IFERROR(VLOOKUP($A18,Filtros!$A$5:$AY$22116,15,FALSE),0)","v":0},{"$f":"IFERROR(VLOOKUP($A18,Filtros!$A$5:$AY$22116,16,FALSE),0)","v":1},{"$f":"AL18 & AM18 & AN18 & AO18","v":""},{"$nulls":18},{"$f":"IF($D18<$M18, \"* El Total de 'Adolescentes de Pueblos Originarios' debe ser menor o igual al Total Adolecentes 'Ambos sexos'. \", \"\")","v":""},{"$f":"IF($D18<$P18, \"* El total de 'Adolescentes de Migrantes' debe ser menor o igual al Total Adolecentes 'Ambos sexos'. \", \"\")","v":""},{"$f":"IF(AND(E18<>0,N18=\"\"),\"* No olvide escribir en la celda de 'Pueblos Originarios' (Digite CERO si no tiene). \",IF(AND(F18<>0,O18=\"\"),\"* No olvide escribir en la celda de 'Pueblos Originarios' (Digite CERO si no tiene). \",\"\"))","v":""},{"$f":"IF(AND(E18<>0,Q18=\"\"),\"* No olvide escribir en la celda de 'Población Migrantes' (Digite CERO si no tiene). \",IF(AND(F18<>0,R18=\"\"),\"* No olvide escribir en la celda de 'Población Migrantes' (Digite CERO si no tiene). \",\"\"))","v":""},{"$nulls":7},0,0,{"$f":"IF(AND(E18<>0,N18=\"\"),1,IF(AND(F18<>0,O18=\"\"),1,0))","v":0},{"$f":"IF(AND(E18<>0,Q18=\"\"),1,IF(AND(F18<>0,R18=\"\"),1,0))","v":0}]
[null,null,"SUBTOTAL",272,{"$f":"+H19+K19","v":146},126,{"$f":"SUM(G17:G18)","v":148},{"$f":"SUM(H17:H18)","v":74},{"$f":"SUM(I17:I18)","v":74},124,72,52,{"$f":"SUM(M17:M18)","v":14},10,4,7,5,2]
["P9100160",null," -0.9 a+ 0.9 D.E. (Peso Normal)",{"$f":"IFERROR(VLOOKUP($A20,Filtros!$A$5:$AY$22116,2,FALSE),0)","v":2979},{"$f":"IFERROR(VLOOKUP($A20,Filtros!$A$5:$AY$22116,3,FALSE),0)","v":1088},{"$f":"IFERROR(VLOOKUP($A20,Filtros!$A$5:$AY$22116,4,FALSE),0)","v":1891},{"$f":"IFERROR(VLOOKUP($A20,Filtros!$A$5:$AY$22116,5,FALSE),0)","v":1425},{"$f":"IFERROR(VLOOKUP($A20,Filtros!$A$5:$AY$22116,6,FALSE),0)","v":555},{"$f":"IFERROR(VLOOKUP($A20,Filtros!$A$5:$AY$22116,7,FALSE),0)","v":870},{"$f":"IFERROR(VLOOKUP($A20,Filtros!$A$5:$AY$22116,8,FALSE),0)","v":1554},{"$f":"IFERROR(VLOOKUP($A20,Filtros!$A$5:$AY$22116,9,FALSE),0)","v":533},{"$f":"IFERROR(VLOOKUP($A20,Filtros!$A$5:$AY$22116,10,FALSE),0)","v":1021},{"$f":"IFERROR(VLOOKUP($A20,Filtros!$A$5:$AY$22116,11,FALSE),0)","v":118},{"$f":"IFERROR(VLOOKUP($A20,Filtros!$A$5:$AY$22116,12,FALSE),0)","v":46},{"$f":"IFERROR(VLOOKUP($A20,Filtros!$A$5:$AY$22116,13,FALSE),0)","v":72},{"$f":"IFERROR(VLOOKUP($A20,Filtros!$A$5:$AY$22116,14,FALSE),0)","v":42},{"$f":"IFERROR(VLOOKUP($A20,Filtros!$A$5:$AY$22116,15,FALSE),0)","v":17},{"$f":"IFERROR(VLOOKUP($A20,Filtros!$A$5:$AY$22116,16,FALSE),0)","v":25},{"$f":"AL20 & AM20 & AN20 & AO20","v":""},{"$nulls":18},{"$f":"IF($D20<$M20, \"* El Total de 'Adolescentes de Pueblos Originarios' debe ser menor o igual al Total Adolecentes 'Ambos sexos'. \", \"\")","v":""},{"$f":"IF($D20<$P20, \"* El total de 'Adolescentes de Migrantes' debe ser menor o igual al Total Adolecentes 'Ambos sexos'. \", \"\")","v":""},{"$f":"IF(AND(E20<>0,N20=\"\"),\"* No olvide escribir en la celda de 'Pueblos Originarios' (Digite CERO si no tiene). \",IF(AND(F20<>0,O20=\"\"),\"* No olvide escribir en la celda de 'Pueblos Originarios' (Digite CERO si no tiene). \",\"\"))","v":""},{"$f":"IF(AND(E20<>0,Q20=\"\"),\"* No olvide escribir en la celda de 'Población Migrantes' (Digite CERO si no tiene). \",IF(AND(F20<>0,R20=\"\"),\"* No olvide escribir en la celda de 'Población Migrantes' (Digite CERO si no tiene). \",\"\"))","v":""},{"$nulls":7},0,0,{"$f":"IF(AND(E20<>0,N20=\"\"),1,IF(AND(F20<>0,O20=\"\"),1,0))","v":0},{"$f":"IF(AND(E20<>0,Q20=\"\"),1,IF(AND(F20<>0,R20=\"\"),1,0))","v":0}]
["P9100170","INDICADOR TALLA/EDAD","≥+ 2.0 D.E.(Talla Alta)",{"$f":"IFERROR(VLOOKUP($A21,Filtros!$A$5:$AY$22116,2,FALSE),0)","v":138},{"$f":"IFERROR(VLOOKUP($A21,Filtros!$A$5:$AY$22116,3,FALSE),0)","v":84},{"$f":"IFERROR(VLOOKUP($A21,Filtros!$A$5:$AY$22116,4,FALSE),0)","v":54},{"$f":"IFERROR(VLOOKUP($A21,Filtros!$A$5:$AY$22116,5,FALSE),0)","v":115},{"$f":"IFERROR(VLOOKUP($A21,Filtros!$A$5:$AY$22116,6,FALSE),0)","v":73},{"$f":"IFERROR(VLOOKUP($A21,Filtros!$A$5:$AY$22116,7,FALSE),0)","v":42},{"$f":"IFERROR(VLOOKUP($A21,Filtros!$A$5:$AY$22116,8,FALSE),0)","v":23},{"$f":"IFERROR(VLOOKUP($A21,Filtros!$A$5:$AY$22116,9,FALSE),0)","v":11},{"$f":"IFERROR(VLOOKUP($A21,Filtros!$A$5:$AY$22116,10,FALSE),0)","v":12},{"$f":"IFERROR(VLOOKUP($A21,Filtros!$A$5:$AY$22116,11,FALSE),0)","v":7},{"$f":"IFERROR(VLOOKUP($A21,Filtros!$A$5:$AY$22116,12,FALSE),0)","v":6},{"$f":"IFERROR(VLOOKUP($A21,Filtros!$A$5:$AY$22116,13,FALSE),0)","v":1},{"$f":"IFERROR(VLOOKUP($A21,Filtros!$A$5:$AY$22116,14,FALSE),0)","v":4},{"$f":"IFERROR(VLOOKUP($A21,Filtros!$A$5:$AY$22116,15,FALSE),0)","v":1},{"$f":"IFERROR(VLOOKUP($A21,Filtros!$A$5:$AY$22116,16,FALSE),0)","v":3},{"$f":"AL21 & AM21 & AN21 & AO21","v":""},{"$nulls":18},{"$f":"IF($D21<$M21, \"* El Total de 'Adolescentes de Pueblos Originarios' debe ser menor o igual al Total Adolecentes 'Ambos sexos'. \", \"\")","v":""},{"$f":"IF($D21<$P21, \"* El total de 'Adolescentes de Migrantes' debe ser menor o igual al Total Adolecentes 'Ambos sexos'. \", \"\")","v":""},{"$f":"IF(AND(E21<>0,N21=\"\"),\"* No olvide escribir en la celda de 'Pueblos Originarios' (Digite CERO si no tiene). \",IF(AND(F21<>0,O21=\"\"),\"* No olvide escribir en la celda de 'Pueblos Originarios' (Digite CERO si no tiene). \",\"\"))","v":""},{"$f":"IF(AND(E21<>0,Q21=\"\"),\"* No olvide escribir en la celda de 'Población Migrantes' (Digite CERO si no tiene). \",IF(AND(F21<>0,R21=\"\"),\"* No olvide escribir en la celda de 'Población Migrantes' (Digite CERO si no tiene). \",\"\"))","v":""},{"$nulls":7},0,0,{"$f":"IF(AND(E21<>0,N21=\"\"),1,IF(AND(F21<>0,O21=\"\"),1,0))","v":0},{"$f":"IF(AND(E21<>0,Q21=\"\"),1,IF(AND(F21<>0,R21=\"\"),1,0))","v":0}]
["P9100180",null,"+ 1.0 a+ 1.9 D.E. (Talla Normal Alta)",{"$f":"IFERROR(VLOOKUP($A22,Filtros!$A$5:$AY$22116,2,FALSE),0)","v":602},{"$f":"IFERROR(VLOOKUP($A22,Filtros!$A$5:$AY$22116,3,FALSE),0)","v":319},{"$f":"IFERROR(VLOOKUP($A22,Filtros!$A$5:$AY$22116,4,FALSE),0)","v":283},{"$f":"IFERROR(VLOOKUP($A22,Filtros!$A$5:$AY$22116,5,FALSE),0)","v":462},{"$f":"IFERROR(VLOOKUP($A22,Filtros!$A$5:$AY$22116,6,FALSE),0)","v":259},{"$f":"IFERROR(VLOOKUP($A22,Filtros!$A$5:$AY$22116,7,FALSE),0)","v":203},{"$f":"IFERROR(VLOOKUP($A22,Filtros!$A$5:$AY$22116,8,FALSE),0)","v":140},{"$f":"IFERROR(VLOOKUP($A22,Filtros!$A$5:$AY$22116,9,FALSE),0)","v":60},{"$f":"IFERROR(VLOOKUP($A22,Filtros!$A$5:$AY$22116,10,FALSE),0)","v":80},{"$f":"IFERROR(VLOOKUP($A22,Filtros!$A$5:$AY$22116,11,FALSE),0)","v":36},{"$f":"IFERROR(VLOOKUP($A22,Filtros!$A$5:$AY$22116,12,FALSE),0)","v":21},{"$f":"IFERROR(VLOOKUP($A22,Filtros!$A$5:$AY$22116,13,FALSE),0)","v":15},{"$f":"IFERROR(VLOOKUP($A22,Filtros!$A$5:$AY$22116,14,FALSE),0)","v":9},{"$f":"IFERROR(VLOOKUP($A22,Filtros!$A$5:$AY$22116,15,FALSE),0)","v":4},{"$f":"IFERROR(VLOOKUP($A22,Filtros!$A$5:$AY$22116,16,FALSE),0)","v":5},{"$f":"AL22 & AM22 & AN22 & AO22","v":""},{"$nulls":18},{"$f":"IF($D22<$M22, \"* El Total de 'Adolescentes de Pueblos Originarios' debe ser menor o igual al Total Adolecentes 'Ambos sexos'. \", \"\")","v":""},{"$f":"IF($D22<$P22, \"* El total de 'Adolescentes de Migrantes' debe ser menor o igual al Total Adolecentes 'Ambos sexos'. \", \"\")","v":""},{"$f":"IF(AND(E22<>0,N22=\"\"),\"* No olvide escribir en la celda de 'Pueblos Originarios' (Digite CERO si no tiene). \",IF(AND(F22<>0,O22=\"\"),\"* No olvide escribir en la celda de 'Pueblos Originarios' (Digite CERO si no tiene). \",\"\"))","v":""},{"$f":"IF(AND(E22<>0,Q22=\"\"),\"* No olvide escribir en la celda de 'Población Migrantes' (Digite CERO si no tiene). \",IF(AND(F22<>0,R22=\"\"),\"* No olvide escribir en la celda de 'Población Migrantes' (Digite CERO si no tiene). \",\"\"))","v":""},{"$nulls":7},0,0,{"$f":"IF(AND(E22<>0,N22=\"\"),1,IF(AND(F22<>0,O22=\"\"),1,0))","v":0},{"$f":"IF(AND(E22<>0,Q22=\"\"),1,IF(AND(F22<>0,R22=\"\"),1,0))","v":0}]
[null,null,"SUBTOTAL",740,{"$f":"+H23+K23","v":403},337,{"$f":"SUM(G21:G22)","v":577},{"$f":"SUM(H21:H22)","v":332},{"$f":"SUM(I21:I22)","v":245},{"$f":"SUM(J21:J22)","v":163},71,92,{"$f":"SUM(M21:M22)","v":43},27,16,{"$f":"SUM(P21:P22)","v":13},5,8]
["P9100190",null,"- 1.0 a -1.9 D.E. (Talla Normal Baja)",{"$f":"IFERROR(VLOOKUP($A24,Filtros!$A$5:$AY$22116,2,FALSE),0)","v":868},{"$f":"IFERROR(VLOOKUP($A24,Filtros!$A$5:$AY$22116,3,FALSE),0)","v":268},{"$f":"IFERROR(VLOOKUP($A24,Filtros!$A$5:$AY$22116,4,FALSE),0)","v":600},{"$f":"IFERROR(VLOOKUP($A24,Filtros!$A$5:$AY$22116,5,FALSE),0)","v":376},{"$f":"IFERROR(VLOOKUP($A24,Filtros!$A$5:$AY$22116,6,FALSE),0)","v":136},{"$f":"IFERROR(VLOOKUP($A24,Filtros!$A$5:$AY$22116,7,FALSE),0)","v":240},{"$f":"IFERROR(VLOOKUP($A24,Filtros!$A$5:$AY$22116,8,FALSE),0)","v":492},{"$f":"IFERROR(VLOOKUP($A24,Filtros!$A$5:$AY$22116,9,FALSE),0)","v":132},{"$f":"IFERROR(VLOOKUP($A24,Filtros!$A$5:$AY$22116,10,FALSE),0)","v":360},{"$f":"IFERROR(VLOOKUP($A24,Filtros!$A$5:$AY$22116,11,FALSE),0)","v":46},{"$f":"IFERROR(VLOOKUP($A24,Filtros!$A$5:$AY$22116,12,FALSE),0)","v":13},{"$f":"IFERROR(VLOOKUP($A24,Filtros!$A$5:$AY$22116,13,FALSE),0)","v":33},{"$f":"IFERROR(VLOOKUP($A24,Filtros!$A$5:$AY$22116,14,FALSE),0)","v":21},{"$f":"IFERROR(VLOOKUP($A24,Filtros!$A$5:$AY$22116,15,FALSE),0)","v":6},{"$f":"IFERROR(VLOOKUP($A24,Filtros!$A$5:$AY$22116,16,FALSE),0)","v":15},{"$f":"AL24 & AM24 & AN24 & AO24","v":""},{"$nulls":18},{"$f":"IF($D24<$M24, \"* El Total de 'Adolescentes de Pueblos Originarios' debe ser menor o igual al Total Adolecentes 'Ambos sexos'. \", \"\")","v":""},{"$f":"IF($D24<$P24, \"* El total de 'Adolescentes de Migrantes' debe ser menor o igual al Total Adolecentes 'Ambos sexos'. \", \"\")","v":""},{"$f":"IF(AND(E24<>0,N24=\"\"),\"* No olvide escribir en la celda de 'Pueblos Originarios' (Digite CERO si no tiene). \",IF(AND(F24<>0,O24=\"\"),\"* No olvide escribir en la celda de 'Pueblos Originarios' (Digite CERO si no tiene). \",\"\"))","v":""},{"$f":"IF(AND(E24<>0,Q24=\"\"),\"* No olvide escribir en la celda de 'Población Migrantes' (Digite CERO si no tiene). \",IF(AND(F24<>0,R24=\"\"),\"* No olvide escribir en la celda de 'Población Migrantes' (Digite CERO si no tiene). \",\"\"))","v":""},{"$nulls":7},0,0,{"$f":"IF(AND(E24<>0,N24=\"\"),1,IF(AND(F24<>0,O24=\"\"),1,0))","v":0},{"$f":"IF(AND(E24<>0,Q24=\"\"),1,IF(AND(F24<>0,R24=\"\"),1,0))","v":0}]
["P9100200",null,"< 2 D.E. (Talla Baja)",{"$f":"IFERROR(VLOOKUP($A25,Filtros!$A$5:$AY$22116,2,FALSE),0)","v":157},{"$f":"IFERROR(VLOOKUP($A25,Filtros!$A$5:$AY$22116,3,FALSE),0)","v":51},{"$f":"IFERROR(VLOOKUP($A25,Filtros!$A$5:$AY$22116,4,FALSE),0)","v":106},{"$f":"IFERROR(VLOOKUP($A25,Filtros!$A$5:$AY$22116,5,FALSE),0)","v":61},{"$f":"IFERROR(VLOOKUP($A25,Filtros!$A$5:$AY$22116,6,FALSE),0)","v":22},{"$f":"IFERROR(VLOOKUP($A25,Filtros!$A$5:$AY$22116,7,FALSE),0)","v":39},{"$f":"IFERROR(VLOOKUP($A25,Filtros!$A$5:$AY$22116,8,FALSE),0)","v":96},{"$f":"IFERROR(VLOOKUP($A25,Filtros!$A$5:$AY$22116,9,FALSE),0)","v":29},{"$f":"IFERROR(VLOOKUP($A25,Filtros!$A$5:$AY$22116,10,FALSE),0)","v":67},{"$f":"IFERROR(VLOOKUP($A25,Filtros!$A$5:$AY$22116,11,FALSE),0)","v":8},{"$f":"IFERROR(VLOOKUP($A25,Filtros!$A$5:$AY$22116,12,FALSE),0)","v":3},{"$f":"IFERROR(VLOOKUP($A25,Filtros!$A$5:$AY$22116,13,FALSE),0)","v":5},{"$f":"IFERROR(VLOOKUP($A25,Filtros!$A$5:$AY$22116,14,FALSE),0)","v":0},{"$f":"IFERROR(VLOOKUP($A25,Filtros!$A$5:$AY$22116,15,FALSE),0)","v":0},{"$f":"IFERROR(VLOOKUP($A25,Filtros!$A$5:$AY$22116,16,FALSE),0)","v":0},{"$f":"AL25 & AM25 & AN25 & AO25","v":""},{"$nulls":18},{"$f":"IF($D25<$M25, \"* El Total de 'Adolescentes de Pueblos Originarios' debe ser menor o igual al Total Adolecentes 'Ambos sexos'. \", \"\")","v":""},{"$f":"IF($D25<$P25, \"* El total de 'Adolescentes de Migrantes' debe ser menor o igual al Total Adolecentes 'Ambos sexos'. \", \"\")","v":""},{"$f":"IF(AND(E25<>0,N25=\"\"),\"* No olvide escribir en la celda de 'Pueblos Originarios' (Digite CERO si no tiene). \",IF(AND(F25<>0,O25=\"\"),\"* No olvide escribir en la celda de 'Pueblos Originarios' (Digite CERO si no tiene). \",\"\"))","v":""},{"$f":"IF(AND(E25<>0,Q25=\"\"),\"* No olvide escribir en la celda de 'Población Migrantes' (Digite CERO si no tiene). \",IF(AND(F25<>0,R25=\"\"),\"* No olvide escribir en la celda de 'Población Migrantes' (Digite CERO si no tiene). \",\"\"))","v":""},{"$nulls":7},0,0,{"$f":"IF(AND(E25<>0,N25=\"\"),1,IF(AND(F25<>0,O25=\"\"),1,0))","v":0},{"$f":"IF(AND(E25<>0,Q25=\"\"),1,IF(AND(F25<>0,R25=\"\"),1,0))","v":0}]
[null,null,"SUBTOTAL",1025,319,706,{"$f":"SUM(G24:G25)","v":437},{"$f":"SUM(H24:H25)","v":158},279,{"$f":"SUM(J24:J25)","v":588},161,427,54,16,38,{"$f":"SUM(P24:P25)","v":21},6,15]
["P9100210",null,"-0.9 a+ 0.9 D.E. (Talla Normal)",{"$f":"IFERROR(VLOOKUP($A27,Filtros!$A$5:$AY$22116,2,FALSE),0)","v":3828},{"$f":"IFERROR(VLOOKUP($A27,Filtros!$A$5:$AY$22116,3,FALSE),0)","v":1498},{"$f":"IFERROR(VLOOKUP($A27,Filtros!$A$5:$AY$22116,4,FALSE),0)","v":2330},{"$f":"IFERROR(VLOOKUP($A27,Filtros!$A$5:$AY$22116,5,FALSE),0)","v":2112},{"$f":"IFERROR(VLOOKUP($A27,Filtros!$A$5:$AY$22116,6,FALSE),0)","v":968},{"$f":"IFERROR(VLOOKUP($A27,Filtros!$A$5:$AY$22116,7,FALSE),0)","v":1144},{"$f":"IFERROR(VLOOKUP($A27,Filtros!$A$5:$AY$22116,8,FALSE),0)","v":1716},{"$f":"IFERROR(VLOOKUP($A27,Filtros!$A$5:$AY$22116,9,FALSE),0)","v":530},{"$f":"IFERROR(VLOOKUP($A27,Filtros!$A$5:$AY$22116,10,FALSE),0)","v":1186},{"$f":"IFERROR(VLOOKUP($A27,Filtros!$A$5:$AY$22116,11,FALSE),0)","v":181},{"$f":"IFERROR(VLOOKUP($A27,Filtros!$A$5:$AY$22116,12,FALSE),0)","v":74},{"$f":"IFERROR(VLOOKUP($A27,Filtros!$A$5:$AY$22116,13,FALSE),0)","v":107},{"$f":"IFERROR(VLOOKUP($A27,Filtros!$A$5:$AY$22116,14,FALSE),0)","v":45},{"$f":"IFERROR(VLOOKUP($A27,Filtros!$A$5:$AY$22116,15,FALSE),0)","v":20},{"$f":"IFERROR(VLOOKUP($A27,Filtros!$A$5:$AY$22116,16,FALSE),0)","v":25},{"$f":"AL27 & AM27 & AN27 & AO27","v":""},{"$nulls":18},{"$f":"IF($D27<$M27, \"* El Total de 'Adolescentes de Pueblos Originarios' debe ser menor o igual al Total Adolecentes 'Ambos sexos'. \", \"\")","v":""},{"$f":"IF($D27<$P27, \"* El total de 'Adolescentes de Migrantes' debe ser menor o igual al Total Adolecentes 'Ambos sexos'. \", \"\")","v":""},{"$f":"IF(AND(E27<>0,N27=\"\"),\"* No olvide escribir en la celda de 'Pueblos Originarios' (Digite CERO si no tiene). \",IF(AND(F27<>0,O27=\"\"),\"* No olvide escribir en la celda de 'Pueblos Originarios' (Digite CERO si no tiene). \",\"\"))","v":""},{"$f":"IF(AND(E27<>0,Q27=\"\"),\"* No olvide escribir en la celda de 'Población Migrantes' (Digite CERO si no tiene). \",IF(AND(F27<>0,R27=\"\"),\"* No olvide escribir en la celda de 'Población Migrantes' (Digite CERO si no tiene). \",\"\"))","v":""},{"$nulls":7},0,0,{"$f":"IF(AND(E27<>0,N27=\"\"),1,IF(AND(F27<>0,O27=\"\"),1,0))","v":0},{"$f":"IF(AND(E27<>0,Q27=\"\"),1,IF(AND(F27<>0,R27=\"\"),1,0))","v":0}]
["P9100220","RANGOS PERCENTILARES PARA CIRCUNFERENCIA DE CINTURA","NORMAL (p<75)",{"$f":"IFERROR(VLOOKUP($A28,Filtros!$A$5:$AY$22116,2,FALSE),0)","v":2773},{"$f":"IFERROR(VLOOKUP($A28,Filtros!$A$5:$AY$22116,3,FALSE),0)","v":960},{"$f":"IFERROR(VLOOKUP($A28,Filtros!$A$5:$AY$22116,4,FALSE),0)","v":1813},{"$f":"IFERROR(VLOOKUP($A28,Filtros!$A$5:$AY$22116,5,FALSE),0)","v":1352},{"$f":"IFERROR(VLOOKUP($A28,Filtros!$A$5:$AY$22116,6,FALSE),0)","v":528},{"$f":"IFERROR(VLOOKUP($A28,Filtros!$A$5:$AY$22116,7,FALSE),0)","v":824},{"$f":"IFERROR(VLOOKUP($A28,Filtros!$A$5:$AY$22116,8,FALSE),0)","v":1421},{"$f":"IFERROR(VLOOKUP($A28,Filtros!$A$5:$AY$22116,9,FALSE),0)","v":432},{"$f":"IFERROR(VLOOKUP($A28,Filtros!$A$5:$AY$22116,10,FALSE),0)","v":989},{"$f":"IFERROR(VLOOKUP($A28,Filtros!$A$5:$AY$22116,11,FALSE),0)","v":146},{"$f":"IFERROR(VLOOKUP($A28,Filtros!$A$5:$AY$22116,12,FALSE),0)","v":56},{"$f":"IFERROR(VLOOKUP($A28,Filtros!$A$5:$AY$22116,13,FALSE),0)","v":90},{"$f":"IFERROR(VLOOKUP($A28,Filtros!$A$5:$AY$22116,14,FALSE),0)","v":50},{"$f":"IFERROR(VLOOKUP($A28,Filtros!$A$5:$AY$22116,15,FALSE),0)","v":21},{"$f":"IFERROR(VLOOKUP($A28,Filtros!$A$5:$AY$22116,16,FALSE),0)","v":29},{"$f":"AL28 & AM28 & AN28 & AO28","v":""},{"$nulls":18},{"$f":"IF($D28<$M28, \"* El Total de 'Adolescentes de Pueblos Originarios' debe ser menor o igual al Total Adolecentes 'Ambos sexos'. \", \"\")","v":""},{"$f":"IF($D28<$P28, \"* El total de 'Adolescentes de Migrantes' debe ser menor o igual al Total Adolecentes 'Ambos sexos'. \", \"\")","v":""},{"$f":"IF(AND(E28<>0,N28=\"\"),\"* No olvide escribir en la celda de 'Pueblos Originarios' (Digite CERO si no tiene). \",IF(AND(F28<>0,O28=\"\"),\"* No olvide escribir en la celda de 'Pueblos Originarios' (Digite CERO si no tiene). \",\"\"))","v":""},{"$f":"IF(AND(E28<>0,Q28=\"\"),\"* No olvide escribir en la celda de 'Población Migrantes' (Digite CERO si no tiene). \",IF(AND(F28<>0,R28=\"\"),\"* No olvide escribir en la celda de 'Población Migrantes' (Digite CERO si no tiene). \",\"\"))","v":""},{"$nulls":7},0,0,{"$f":"IF(AND(E28<>0,N28=\"\"),1,IF(AND(F28<>0,O28=\"\"),1,0))","v":0},{"$f":"IF(AND(E28<>0,Q28=\"\"),1,IF(AND(F28<>0,R28=\"\"),1,0))","v":0}]
["P9100230",null,"RIESGO DE OBESIDAD (p75<p<90)",{"$f":"IFERROR(VLOOKUP($A29,Filtros!$A$5:$AY$22116,2,FALSE),0)","v":1299},{"$f":"IFERROR(VLOOKUP($A29,Filtros!$A$5:$AY$22116,3,FALSE),0)","v":512},{"$f":"IFERROR(VLOOKUP($A29,Filtros!$A$5:$AY$22116,4,FALSE),0)","v":787},{"$f":"IFERROR(VLOOKUP($A29,Filtros!$A$5:$AY$22116,5,FALSE),0)","v":756},{"$f":"IFERROR(VLOOKUP($A29,Filtros!$A$5:$AY$22116,6,FALSE),0)","v":361},{"$f":"IFERROR(VLOOKUP($A29,Filtros!$A$5:$AY$22116,7,FALSE),0)","v":395},{"$f":"IFERROR(VLOOKUP($A29,Filtros!$A$5:$AY$22116,8,FALSE),0)","v":543},{"$f":"IFERROR(VLOOKUP($A29,Filtros!$A$5:$AY$22116,9,FALSE),0)","v":151},{"$f":"IFERROR(VLOOKUP($A29,Filtros!$A$5:$AY$22116,10,FALSE),0)","v":392},{"$f":"IFERROR(VLOOKUP($A29,Filtros!$A$5:$AY$22116,11,FALSE),0)","v":75},{"$f":"IFERROR(VLOOKUP($A29,Filtros!$A$5:$AY$22116,12,FALSE),0)","v":34},{"$f":"IFERROR(VLOOKUP($A29,Filtros!$A$5:$AY$22116,13,FALSE),0)","v":41},{"$f":"IFERROR(VLOOKUP($A29,Filtros!$A$5:$AY$22116,14,FALSE),0)","v":17},{"$f":"IFERROR(VLOOKUP($A29,Filtros!$A$5:$AY$22116,15,FALSE),0)","v":6},{"$f":"IFERROR(VLOOKUP($A29,Filtros!$A$5:$AY$22116,16,FALSE),0)","v":11},{"$f":"AL29 & AM29 & AN29 & AO29","v":""},{"$nulls":18},{"$f":"IF($D29<$M29, \"* El Total de 'Adolescentes de Pueblos Originarios' debe ser menor o igual al Total Adolecentes 'Ambos sexos'. \", \"\")","v":""},{"$f":"IF($D29<$P29, \"* El total de 'Adolescentes de Migrantes' debe ser menor o igual al Total Adolecentes 'Ambos sexos'. \", \"\")","v":""},{"$f":"IF(AND(E29<>0,N29=\"\"),\"* No olvide escribir en la celda de 'Pueblos Originarios' (Digite CERO si no tiene). \",IF(AND(F29<>0,O29=\"\"),\"* No olvide escribir en la celda de 'Pueblos Originarios' (Digite CERO si no tiene). \",\"\"))","v":""},{"$f":"IF(AND(E29<>0,Q29=\"\"),\"* No olvide escribir en la celda de 'Población Migrantes' (Digite CERO si no tiene). \",IF(AND(F29<>0,R29=\"\"),\"* No olvide escribir en la celda de 'Población Migrantes' (Digite CERO si no tiene). \",\"\"))","v":""},{"$nulls":7},0,0,{"$f":"IF(AND(E29<>0,N29=\"\"),1,IF(AND(F29<>0,O29=\"\"),1,0))","v":0},{"$f":"IF(AND(E29<>0,Q29=\"\"),1,IF(AND(F29<>0,R29=\"\"),1,0))","v":0}]
["P9100240",null,"OBESIDAD ABDOMINAL p>90)",{"$f":"IFERROR(VLOOKUP($A30,Filtros!$A$5:$AY$22116,2,FALSE),0)","v":1306},{"$f":"IFERROR(VLOOKUP($A30,Filtros!$A$5:$AY$22116,3,FALSE),0)","v":626},{"$f":"IFERROR(VLOOKUP($A30,Filtros!$A$5:$AY$22116,4,FALSE),0)","v":680},{"$f":"IFERROR(VLOOKUP($A30,Filtros!$A$5:$AY$22116,5,FALSE),0)","v":960},{"$f":"IFERROR(VLOOKUP($A30,Filtros!$A$5:$AY$22116,6,FALSE),0)","v":501},{"$f":"IFERROR(VLOOKUP($A30,Filtros!$A$5:$AY$22116,7,FALSE),0)","v":459},{"$f":"IFERROR(VLOOKUP($A30,Filtros!$A$5:$AY$22116,8,FALSE),0)","v":346},{"$f":"IFERROR(VLOOKUP($A30,Filtros!$A$5:$AY$22116,9,FALSE),0)","v":125},{"$f":"IFERROR(VLOOKUP($A30,Filtros!$A$5:$AY$22116,10,FALSE),0)","v":221},{"$f":"IFERROR(VLOOKUP($A30,Filtros!$A$5:$AY$22116,11,FALSE),0)","v":61},{"$f":"IFERROR(VLOOKUP($A30,Filtros!$A$5:$AY$22116,12,FALSE),0)","v":27},{"$f":"IFERROR(VLOOKUP($A30,Filtros!$A$5:$AY$22116,13,FALSE),0)","v":34},{"$f":"IFERROR(VLOOKUP($A30,Filtros!$A$5:$AY$22116,14,FALSE),0)","v":9},{"$f":"IFERROR(VLOOKUP($A30,Filtros!$A$5:$AY$22116,15,FALSE),0)","v":3},{"$f":"IFERROR(VLOOKUP($A30,Filtros!$A$5:$AY$22116,16,FALSE),0)","v":6},{"$f":"AL30 & AM30 & AN30 & AO30","v":""},{"$nulls":18},{"$f":"IF($D30<$M30, \"* El Total de 'Adolescentes de Pueblos Originarios' debe ser menor o igual al Total Adolecentes 'Ambos sexos'. \", \"\")","v":""},{"$f":"IF($D30<$P30, \"* El total de 'Adolescentes de Migrantes' debe ser menor o igual al Total Adolecentes 'Ambos sexos'. \", \"\")","v":""},{"$f":"IF(AND(E30<>0,N30=\"\"),\"* No olvide escribir en la celda de 'Pueblos Originarios' (Digite CERO si no tiene). \",IF(AND(F30<>0,O30=\"\"),\"* No olvide escribir en la celda de 'Pueblos Originarios' (Digite CERO si no tiene). \",\"\"))","v":""},{"$f":"IF(AND(E30<>0,Q30=\"\"),\"* No olvide escribir en la celda de 'Población Migrantes' (Digite CERO si no tiene). \",IF(AND(F30<>0,R30=\"\"),\"* No olvide escribir en la celda de 'Población Migrantes' (Digite CERO si no tiene). \",\"\"))","v":""},{"$nulls":7},0,0,{"$f":"IF(AND(E30<>0,N30=\"\"),1,IF(AND(F30<>0,O30=\"\"),1,0))","v":0},{"$f":"IF(AND(E30<>0,Q30=\"\"),1,IF(AND(F30<>0,R30=\"\"),1,0))","v":0}]
[null,null,"TOTAL",5378,2098,3280,{"$f":"SUM(G28:G30)","v":3068},{"$f":"SUM(H28:H30)","v":1390},1678,{"$f":"SUM(J28:J30)","v":2310},708,1602,282,117,165,{"$f":"SUM(P28:P30)","v":76},30,46]
["P9100250","DIAGNOSTICO NUTRICIONAL INTEGRADO","DEFICIT PONDERALO BAJO PESO",{"$f":"IFERROR(VLOOKUP($A32,Filtros!$A$5:$AY$22116,2,FALSE),0)","v":238},{"$f":"IFERROR(VLOOKUP($A32,Filtros!$A$5:$AY$22116,3,FALSE),0)","v":131},{"$f":"IFERROR(VLOOKUP($A32,Filtros!$A$5:$AY$22116,4,FALSE),0)","v":107},{"$f":"IFERROR(VLOOKUP($A32,Filtros!$A$5:$AY$22116,5,FALSE),0)","v":127},{"$f":"IFERROR(VLOOKUP($A32,Filtros!$A$5:$AY$22116,6,FALSE),0)","v":67},{"$f":"IFERROR(VLOOKUP($A32,Filtros!$A$5:$AY$22116,7,FALSE),0)","v":60},{"$f":"IFERROR(VLOOKUP($A32,Filtros!$A$5:$AY$22116,8,FALSE),0)","v":111},{"$f":"IFERROR(VLOOKUP($A32,Filtros!$A$5:$AY$22116,9,FALSE),0)","v":64},{"$f":"IFERROR(VLOOKUP($A32,Filtros!$A$5:$AY$22116,10,FALSE),0)","v":47},{"$f":"IFERROR(VLOOKUP($A32,Filtros!$A$5:$AY$22116,11,FALSE),0)","v":12},{"$f":"IFERROR(VLOOKUP($A32,Filtros!$A$5:$AY$22116,12,FALSE),0)","v":9},{"$f":"IFERROR(VLOOKUP($A32,Filtros!$A$5:$AY$22116,13,FALSE),0)","v":3},{"$f":"IFERROR(VLOOKUP($A32,Filtros!$A$5:$AY$22116,14,FALSE),0)","v":5},{"$f":"IFERROR(VLOOKUP($A32,Filtros!$A$5:$AY$22116,15,FALSE),0)","v":4},{"$f":"IFERROR(VLOOKUP($A32,Filtros!$A$5:$AY$22116,16,FALSE),0)","v":1},{"$f":"AL32 & AM32 & AN32 & AO32","v":""},{"$nulls":18},{"$f":"IF($D32<$M32, \"* El Total de 'Adolescentes de Pueblos Originarios' debe ser menor o igual al Total Adolecentes 'Ambos sexos'. \", \"\")","v":""},{"$f":"IF($D32<$P32, \"* El total de 'Adolescentes de Migrantes' debe ser menor o igual al Total Adolecentes 'Ambos sexos'. \", \"\")","v":""},{"$f":"IF(AND(E32<>0,N32=\"\"),\"* No olvide escribir en la celda de 'Pueblos Originarios' (Digite CERO si no tiene). \",IF(AND(F32<>0,O32=\"\"),\"* No olvide escribir en la celda de 'Pueblos Originarios' (Digite CERO si no tiene). \",\"\"))","v":""},{"$f":"IF(AND(E32<>0,Q32=\"\"),\"* No olvide escribir en la celda de 'Población Migrantes' (Digite CERO si no tiene). \",IF(AND(F32<>0,R32=\"\"),\"* No olvide escribir en la celda de 'Población Migrantes' (Digite CERO si no tiene). \",\"\"))","v":""},{"$nulls":7},0,0,{"$f":"IF(AND(E32<>0,N32=\"\"),1,IF(AND(F32<>0,O32=\"\"),1,0))","v":0},{"$f":"IF(AND(E32<>0,Q32=\"\"),1,IF(AND(F32<>0,R32=\"\"),1,0))","v":0}]
["P9100260",null,"DESNUTRIDO",{"$f":"IFERROR(VLOOKUP($A33,Filtros!$A$5:$AY$22116,2,FALSE),0)","v":28},{"$f":"IFERROR(VLOOKUP($A33,Filtros!$A$5:$AY$22116,3,FALSE),0)","v":15},{"$f":"IFERROR(VLOOKUP($A33,Filtros!$A$5:$AY$22116,4,FALSE),0)","v":13},{"$f":"IFERROR(VLOOKUP($A33,Filtros!$A$5:$AY$22116,5,FALSE),0)","v":19},{"$f":"IFERROR(VLOOKUP($A33,Filtros!$A$5:$AY$22116,6,FALSE),0)","v":9},{"$f":"IFERROR(VLOOKUP($A33,Filtros!$A$5:$AY$22116,7,FALSE),0)","v":10},{"$f":"IFERROR(VLOOKUP($A33,Filtros!$A$5:$AY$22116,8,FALSE),0)","v":9},{"$f":"IFERROR(VLOOKUP($A33,Filtros!$A$5:$AY$22116,9,FALSE),0)","v":6},{"$f":"IFERROR(VLOOKUP($A33,Filtros!$A$5:$AY$22116,10,FALSE),0)","v":3},{"$f":"IFERROR(VLOOKUP($A33,Filtros!$A$5:$AY$22116,11,FALSE),0)","v":0},{"$f":"IFERROR(VLOOKUP($A33,Filtros!$A$5:$AY$22116,12,FALSE),0)","v":0},{"$f":"IFERROR(VLOOKUP($A33,Filtros!$A$5:$AY$22116,13,FALSE),0)","v":0},{"$f":"IFERROR(VLOOKUP($A33,Filtros!$A$5:$AY$22116,14,FALSE),0)","v":0},{"$f":"IFERROR(VLOOKUP($A33,Filtros!$A$5:$AY$22116,15,FALSE),0)","v":0},{"$f":"IFERROR(VLOOKUP($A33,Filtros!$A$5:$AY$22116,16,FALSE),0)","v":0},"",{"$nulls":18},"","","","",{"$nulls":7},0,0,0,0]
["P9100270",null,"SOBREPESO / RIESGO OBESIDAD",{"$f":"IFERROR(VLOOKUP($A34,Filtros!$A$5:$AY$22116,2,FALSE),0)","v":1966},{"$f":"IFERROR(VLOOKUP($A34,Filtros!$A$5:$AY$22116,3,FALSE),0)","v":749},{"$f":"IFERROR(VLOOKUP($A34,Filtros!$A$5:$AY$22116,4,FALSE),0)","v":1217},{"$f":"IFERROR(VLOOKUP($A34,Filtros!$A$5:$AY$22116,5,FALSE),0)","v":1128},{"$f":"IFERROR(VLOOKUP($A34,Filtros!$A$5:$AY$22116,6,FALSE),0)","v":505},{"$f":"IFERROR(VLOOKUP($A34,Filtros!$A$5:$AY$22116,7,FALSE),0)","v":623},{"$f":"IFERROR(VLOOKUP($A34,Filtros!$A$5:$AY$22116,8,FALSE),0)","v":838},{"$f":"IFERROR(VLOOKUP($A34,Filtros!$A$5:$AY$22116,9,FALSE),0)","v":244},{"$f":"IFERROR(VLOOKUP($A34,Filtros!$A$5:$AY$22116,10,FALSE),0)","v":594},{"$f":"IFERROR(VLOOKUP($A34,Filtros!$A$5:$AY$22116,11,FALSE),0)","v":109},{"$f":"IFERROR(VLOOKUP($A34,Filtros!$A$5:$AY$22116,12,FALSE),0)","v":48},{"$f":"IFERROR(VLOOKUP($A34,Filtros!$A$5:$AY$22116,13,FALSE),0)","v":61},{"$f":"IFERROR(VLOOKUP($A34,Filtros!$A$5:$AY$22116,14,FALSE),0)","v":33},{"$f":"IFERROR(VLOOKUP($A34,Filtros!$A$5:$AY$22116,15,FALSE),0)","v":13},{"$f":"IFERROR(VLOOKUP($A34,Filtros!$A$5:$AY$22116,16,FALSE),0)","v":20},"",{"$nulls":18},"","","","",{"$nulls":7},0,0,0,0]
["P9100280",null,"OBESO",{"$f":"IFERROR(VLOOKUP($A35,Filtros!$A$5:$AY$22116,2,FALSE),0)","v":1438},{"$f":"IFERROR(VLOOKUP($A35,Filtros!$A$5:$AY$22116,3,FALSE),0)","v":643},{"$f":"IFERROR(VLOOKUP($A35,Filtros!$A$5:$AY$22116,4,FALSE),0)","v":795},{"$f":"IFERROR(VLOOKUP($A35,Filtros!$A$5:$AY$22116,5,FALSE),0)","v":953},{"$f":"IFERROR(VLOOKUP($A35,Filtros!$A$5:$AY$22116,6,FALSE),0)","v":491},{"$f":"IFERROR(VLOOKUP($A35,Filtros!$A$5:$AY$22116,7,FALSE),0)","v":462},{"$f":"IFERROR(VLOOKUP($A35,Filtros!$A$5:$AY$22116,8,FALSE),0)","v":485},{"$f":"IFERROR(VLOOKUP($A35,Filtros!$A$5:$AY$22116,9,FALSE),0)","v":152},{"$f":"IFERROR(VLOOKUP($A35,Filtros!$A$5:$AY$22116,10,FALSE),0)","v":333},{"$f":"IFERROR(VLOOKUP($A35,Filtros!$A$5:$AY$22116,11,FALSE),0)","v":86},{"$f":"IFERROR(VLOOKUP($A35,Filtros!$A$5:$AY$22116,12,FALSE),0)","v":34},{"$f":"IFERROR(VLOOKUP($A35,Filtros!$A$5:$AY$22116,13,FALSE),0)","v":52},{"$f":"IFERROR(VLOOKUP($A35,Filtros!$A$5:$AY$22116,14,FALSE),0)","v":28},{"$f":"IFERROR(VLOOKUP($A35,Filtros!$A$5:$AY$22116,15,FALSE),0)","v":6},{"$f":"IFERROR(VLOOKUP($A35,Filtros!$A$5:$AY$22116,16,FALSE),0)","v":22},"",{"$nulls":18},"","","","",{"$nulls":7},0,0,0,0]
["P9100290",null,"OBESO SEVERO",{"$f":"IFERROR(VLOOKUP($A36,Filtros!$A$5:$AY$22116,2,FALSE),0)","v":346},{"$f":"IFERROR(VLOOKUP($A36,Filtros!$A$5:$AY$22116,3,FALSE),0)","v":171},{"$f":"IFERROR(VLOOKUP($A36,Filtros!$A$5:$AY$22116,4,FALSE),0)","v":175},{"$f":"IFERROR(VLOOKUP($A36,Filtros!$A$5:$AY$22116,5,FALSE),0)","v":225},{"$f":"IFERROR(VLOOKUP($A36,Filtros!$A$5:$AY$22116,6,FALSE),0)","v":126},{"$f":"IFERROR(VLOOKUP($A36,Filtros!$A$5:$AY$22116,7,FALSE),0)","v":99},{"$f":"IFERROR(VLOOKUP($A36,Filtros!$A$5:$AY$22116,8,FALSE),0)","v":121},{"$f":"IFERROR(VLOOKUP($A36,Filtros!$A$5:$AY$22116,9,FALSE),0)","v":45},{"$f":"IFERROR(VLOOKUP($A36,Filtros!$A$5:$AY$22116,10,FALSE),0)","v":76},{"$f":"IFERROR(VLOOKUP($A36,Filtros!$A$5:$AY$22116,11,FALSE),0)","v":12},{"$f":"IFERROR(VLOOKUP($A36,Filtros!$A$5:$AY$22116,12,FALSE),0)","v":7},{"$f":"IFERROR(VLOOKUP($A36,Filtros!$A$5:$AY$22116,13,FALSE),0)","v":5},{"$f":"IFERROR(VLOOKUP($A36,Filtros!$A$5:$AY$22116,14,FALSE),0)","v":1},{"$f":"IFERROR(VLOOKUP($A36,Filtros!$A$5:$AY$22116,15,FALSE),0)","v":1},{"$f":"IFERROR(VLOOKUP($A36,Filtros!$A$5:$AY$22116,16,FALSE),0)","v":0},"",{"$nulls":18},"","","","",{"$nulls":7},0,0,0,0]
["P9100300",null,"NORMAL O EUTROFIA",{"$f":"IFERROR(VLOOKUP($A37,Filtros!$A$5:$AY$22116,2,FALSE),0)","v":2943},{"$f":"IFERROR(VLOOKUP($A37,Filtros!$A$5:$AY$22116,3,FALSE),0)","v":1068},{"$f":"IFERROR(VLOOKUP($A37,Filtros!$A$5:$AY$22116,4,FALSE),0)","v":1875},{"$f":"IFERROR(VLOOKUP($A37,Filtros!$A$5:$AY$22116,5,FALSE),0)","v":1411},{"$f":"IFERROR(VLOOKUP($A37,Filtros!$A$5:$AY$22116,6,FALSE),0)","v":550},{"$f":"IFERROR(VLOOKUP($A37,Filtros!$A$5:$AY$22116,7,FALSE),0)","v":861},{"$f":"IFERROR(VLOOKUP($A37,Filtros!$A$5:$AY$22116,8,FALSE),0)","v":1532},{"$f":"IFERROR(VLOOKUP($A37,Filtros!$A$5:$AY$22116,9,FALSE),0)","v":518},{"$f":"IFERROR(VLOOKUP($A37,Filtros!$A$5:$AY$22116,10,FALSE),0)","v":1014},{"$f":"IFERROR(VLOOKUP($A37,Filtros!$A$5:$AY$22116,11,FALSE),0)","v":124},{"$f":"IFERROR(VLOOKUP($A37,Filtros!$A$5:$AY$22116,12,FALSE),0)","v":45},{"$f":"IFERROR(VLOOKUP($A37,Filtros!$A$5:$AY$22116,13,FALSE),0)","v":79},{"$f":"IFERROR(VLOOKUP($A37,Filtros!$A$5:$AY$22116,14,FALSE),0)","v":44},{"$f":"IFERROR(VLOOKUP($A37,Filtros!$A$5:$AY$22116,15,FALSE),0)","v":17},{"$f":"IFERROR(VLOOKUP($A37,Filtros!$A$5:$AY$22116,16,FALSE),0)","v":27},"",{"$nulls":18},"","","","",{"$nulls":7},0,0,0,0]
[null,null,"SUBTOTAL",6959,{"$f":"+H38+K38","v":2777},4182,{"$f":"SUM(G32:G37)","v":3863},{"$f":"SUM(H32:H37)","v":1748},2115,{"$f":"SUM(J32:J37)","v":3096},{"$f":"SUM(K32:K37)","v":1029},2067,343,{"$f":"SUM(N32:N37)","v":143},{"$f":"SUM(O32:O37)","v":200},{"$f":"SUM(P32:P37)","v":111},41,70]
["P9100310",null,"DESNUTRICIÓN \nSECUNDARIA",{"$f":"IFERROR(VLOOKUP($A39,Filtros!$A$5:$AY$22116,2,FALSE),0)","v":1},{"$f":"IFERROR(VLOOKUP($A39,Filtros!$A$5:$AY$22116,3,FALSE),0)","v":1},{"$f":"IFERROR(VLOOKUP($A39,Filtros!$A$5:$AY$22116,4,FALSE),0)","v":0},{"$f":"IFERROR(VLOOKUP($A39,Filtros!$A$5:$AY$22116,5,FALSE),0)","v":1},{"$f":"IFERROR(VLOOKUP($A39,Filtros!$A$5:$AY$22116,6,FALSE),0)","v":1},{"$f":"IFERROR(VLOOKUP($A39,Filtros!$A$5:$AY$22116,7,FALSE),0)","v":0},{"$f":"IFERROR(VLOOKUP($A39,Filtros!$A$5:$AY$22116,8,FALSE),0)","v":0},{"$f":"IFERROR(VLOOKUP($A39,Filtros!$A$5:$AY$22116,9,FALSE),0)","v":0},{"$f":"IFERROR(VLOOKUP($A39,Filtros!$A$5:$AY$22116,10,FALSE),0)","v":0},{"$f":"IFERROR(VLOOKUP($A39,Filtros!$A$5:$AY$22116,11,FALSE),0)","v":1},{"$f":"IFERROR(VLOOKUP($A39,Filtros!$A$5:$AY$22116,12,FALSE),0)","v":1},{"$f":"IFERROR(VLOOKUP($A39,Filtros!$A$5:$AY$22116,13,FALSE),0)","v":0},{"$f":"IFERROR(VLOOKUP($A39,Filtros!$A$5:$AY$22116,14,FALSE),0)","v":0},{"$f":"IFERROR(VLOOKUP($A39,Filtros!$A$5:$AY$22116,15,FALSE),0)","v":0},{"$f":"IFERROR(VLOOKUP($A39,Filtros!$A$5:$AY$22116,16,FALSE),0)","v":0},{"$f":"AL39 & AM39 & AN39 & AO39","v":""},{"$nulls":18},{"$f":"IF($D39<$M39, \"* El Total de 'Adolescentes de Pueblos Originarios' debe ser menor o igual al Total Adolecentes 'Ambos sexos'. \", \"\")","v":""},{"$f":"IF($D39<$P39, \"* El total de 'Adolescentes de Migrantes' debe ser menor o igual al Total Adolecentes 'Ambos sexos'. \", \"\")","v":""},{"$f":"IF(AND(E39<>0,N39=\"\"),\"* No olvide escribir en la celda de 'Pueblos Originarios' (Digite CERO si no tiene). \",IF(AND(F39<>0,O39=\"\"),\"* No olvide escribir en la celda de 'Pueblos Originarios' (Digite CERO si no tiene). \",\"\"))","v":""},{"$f":"IF(AND(E39<>0,Q39=\"\"),\"* No olvide escribir en la celda de 'Población Migrantes' (Digite CERO si no tiene). \",IF(AND(F39<>0,R39=\"\"),\"* No olvide escribir en la celda de 'Población Migrantes' (Digite CERO si no tiene). \",\"\"))","v":""},{"$nulls":7},0,0,{"$f":"IF(AND(E39<>0,N39=\"\"),1,IF(AND(F39<>0,O39=\"\"),1,0))","v":0},{"$f":"IF(AND(E39<>0,Q39=\"\"),1,IF(AND(F39<>0,R39=\"\"),1,0))","v":0}]
[null,null,"T O T A L",{"$f":"SUM(D32:D37)+D39","v":6960},2778,4182,3864,1749,2115,3096,{"$f":"SUM(K32:K37)+K39","v":1029},2067,{"$f":"SUM(M32:M37)+M39","v":344},144,200,{"$f":"SUM(P32:P37)+P39","v":111},41,70]
[null,"SECCION B: POBLACIÓN EN CONTROL SALUD INTEGRAL DE ADOLESCENTES, SEGÚN EDUCACIÓN Y TRABAJO"]
[null,"Estudio/trabajo",null,"TOTAL",null,null,"Adolescentes 10-14 años",null,null,"Adolescentes 15 - 19 años",null,null,"Adolescentes de Pueblos Originarios",null,null,"Adolescentes Migrantes"]
[]
[]
[{"$nulls":3},"Ambos sexos","Hombre","Mujer","Ambos sexos","Hombre","Mujer","Ambos sexos","Hombre","Mujer","Ambos sexos","Hombre","Mujer","Ambos sexos","Hombre","Mujer"]
["P9100320","ESTUDIA",null,{"$f":"IFERROR(VLOOKUP($A46,Filtros!$A$5:$AY$22116,2,FALSE),0)","v":6865},{"$f":"IFERROR(VLOOKUP($A46,Filtros!$A$5:$AY$22116,3,FALSE),0)","v":2612},{"$f":"IFERROR(VLOOKUP($A46,Filtros!$A$5:$AY$22116,4,FALSE),0)","v":4253},{"$f":"IFERROR(VLOOKUP($A46,Filtros!$A$5:$AY$22116,5,FALSE),0)","v":3538},{"$f":"IFERROR(VLOOKUP($A46,Filtros!$A$5:$AY$22116,6,FALSE),0)","v":1526},{"$f":"IFERROR(VLOOKUP($A46,Filtros!$A$5:$AY$22116,7,FALSE),0)","v":2012},{"$f":"IFERROR(VLOOKUP($A46,Filtros!$A$5:$AY$22116,8,FALSE),0)","v":3327},{"$f":"IFERROR(VLOOKUP($A46,Filtros!$A$5:$AY$22116,9,FALSE),0)","v":1086},{"$f":"IFERROR(VLOOKUP($A46,Filtros!$A$5:$AY$22116,10,FALSE),0)","v":2241},{"$f":"IFERROR(VLOOKUP($A46,Filtros!$A$5:$AY$22116,11,FALSE),0)","v":321},{"$f":"IFERROR(VLOOKUP($A46,Filtros!$A$5:$AY$22116,12,FALSE),0)","v":131},{"$f":"IFERROR(VLOOKUP($A46,Filtros!$A$5:$AY$22116,13,FALSE),0)","v":190},{"$f":"IFERROR(VLOOKUP($A46,Filtros!$A$5:$AY$22116,14,FALSE),0)","v":105},{"$f":"IFERROR(VLOOKUP($A46,Filtros!$A$5:$AY$22116,15,FALSE),0)","v":40},{"$f":"IFERROR(VLOOKUP($A46,Filtros!$A$5:$AY$22116,16,FALSE),0)","v":65},{"$f":"AK46 & \" \" & AL46 & AM46 & AN46 & AO46","v":" "},{"$nulls":17},{"$f":"IF($D$12<$D46, \"* El total de Adolescentes según educacion y trabajono puede ser mayor al total de Adolescentes en control. \", \"\")","v":""},{"$f":"IF($D46<$M46, \"* El total de Adolescentes de Pueblos Originarios no puede ser mayor al total de Adolescentes. \", \"\")","v":""},{"$f":"IF($D46<$P46, \"* El total de Adolescentes de Migrantes no puede ser mayor al total de Adolescentes. \", \"\")","v":""},{"$f":"IF(AND(E46<>0,N46=\"\"),\"* No olvide escribir en la celda de Pueblos Originarios (Digite CERO si no tiene). \",IF(AND(F46<>0,O46=\"\"),\"* No olvide escribir en la celda de Pueblos Originarios (Digite CERO si no tiene). \",\"\"))","v":""},{"$f":"IF(AND(E46<>0,Q46=\"\"),\"* No olvide escribir en la celda de Población Migrantes (Digite CERO si no tiene). \",IF(AND(F46<>0,R46=\"\"),\"* No olvide escribir en la celda de Población Migrantes (Digite CERO si no tiene). \",\"\"))","v":""},{"$nulls":6},{"$f":"IF($D$12<$D46, 1,0)","v":0},{"$f":"IF($D46<$M46, 1,0)","v":0},{"$f":"IF($D46<$P46, 1,0)","v":0},{"$f":"IF(AND(E46<>0,N46=\"\"),1,IF(AND(F46<>0,O46=\"\"),1,0))","v":0},{"$f":"IF(AND(E46<>0,Q46=\"\"),1,IF(AND(F46<>0,R46=\"\"),1,0))","v":0}]
["P9100330","DESERCIÓN ESCOLAR",null,{"$f":"IFERROR(VLOOKUP($A47,Filtros!$A$5:$AY$22116,2,FALSE),0)","v":79},{"$f":"IFERROR(VLOOKUP($A47,Filtros!$A$5:$AY$22116,3,FALSE),0)","v":29},{"$f":"IFERROR(VLOOKUP($A47,Filtros!$A$5:$AY$22116,4,FALSE),0)","v":50},{"$f":"IFERROR(VLOOKUP($A47,Filtros!$A$5:$AY$22116,5,FALSE),0)","v":46},{"$f":"IFERROR(VLOOKUP($A47,Filtros!$A$5:$AY$22116,6,FALSE),0)","v":12},{"$f":"IFERROR(VLOOKUP($A47,Filtros!$A$5:$AY$22116,7,FALSE),0)","v":34},{"$f":"IFERROR(VLOOKUP($A47,Filtros!$A$5:$AY$22116,8,FALSE),0)","v":33},{"$f":"IFERROR(VLOOKUP($A47,Filtros!$A$5:$AY$22116,9,FALSE),0)","v":17},{"$f":"IFERROR(VLOOKUP($A47,Filtros!$A$5:$AY$22116,10,FALSE),0)","v":16},{"$f":"IFERROR(VLOOKUP($A47,Filtros!$A$5:$AY$22116,11,FALSE),0)","v":0},{"$f":"IFERROR(VLOOKUP($A47,Filtros!$A$5:$AY$22116,12,FALSE),0)","v":0},{"$f":"IFERROR(VLOOKUP($A47,Filtros!$A$5:$AY$22116,13,FALSE),0)","v":0},{"$f":"IFERROR(VLOOKUP($A47,Filtros!$A$5:$AY$22116,14,FALSE),0)","v":1},{"$f":"IFERROR(VLOOKUP($A47,Filtros!$A$5:$AY$22116,15,FALSE),0)","v":1},{"$f":"IFERROR(VLOOKUP($A47,Filtros!$A$5:$AY$22116,16,FALSE),0)","v":0}," ",{"$nulls":17},{"$f":"IF($D$12<$D47, \"* El total de Adolescentes según educacion y trabajo no puede ser mayor al total de Adolescentes en control. \", \"\")","v":""},"","","","",{"$nulls":6},{"$f":"IF($D$12<$D47, 1,0)","v":0},0,0,0,0]
["P9100340","TRABAJO INFANTIL",null,{"$f":"IFERROR(VLOOKUP($A48,Filtros!$A$5:$AY$22116,2,FALSE),0)","v":20},{"$f":"IFERROR(VLOOKUP($A48,Filtros!$A$5:$AY$22116,3,FALSE),0)","v":14},{"$f":"IFERROR(VLOOKUP($A48,Filtros!$A$5:$AY$22116,4,FALSE),0)","v":6},{"$f":"IFERROR(VLOOKUP($A48,Filtros!$A$5:$AY$22116,5,FALSE),0)","v":20},{"$f":"IFERROR(VLOOKUP($A48,Filtros!$A$5:$AY$22116,6,FALSE),0)","v":14},{"$f":"IFERROR(VLOOKUP($A48,Filtros!$A$5:$AY$22116,7,FALSE),0)","v":6},{"$f":"IFERROR(VLOOKUP($A48,Filtros!$A$5:$AY$22116,8,FALSE),0)","v":0},{"$f":"IFERROR(VLOOKUP($A48,Filtros!$A$5:$AY$22116,9,FALSE),0)","v":0},{"$f":"IFERROR(VLOOKUP($A48,Filtros!$A$5:$AY$22116,10,FALSE),0)","v":0},{"$f":"IFERROR(VLOOKUP($A48,Filtros!$A$5:$AY$22116,11,FALSE),0)","v":2},{"$f":"IFERROR(VLOOKUP($A48,Filtros!$A$5:$AY$22116,12,FALSE),0)","v":0},{"$f":"IFERROR(VLOOKUP($A48,Filtros!$A$5:$AY$22116,13,FALSE),0)","v":2},{"$f":"IFERROR(VLOOKUP($A48,Filtros!$A$5:$AY$22116,14,FALSE),0)","v":2},{"$f":"IFERROR(VLOOKUP($A48,Filtros!$A$5:$AY$22116,15,FALSE),0)","v":1},{"$f":"IFERROR(VLOOKUP($A48,Filtros!$A$5:$AY$22116,16,FALSE),0)","v":1}," ",{"$nulls":17},{"$f":"IF($D$12<$D48, \"* El total de Adolescentes según educacion y trabajo no puede ser mayor al total de Adolescentes en control. \", \"\")","v":""},"","","","",{"$nulls":6},0,0,0,0,0]
["P9100350","TRABAJO JUVENIL",null,{"$f":"IFERROR(VLOOKUP($A49,Filtros!$A$5:$AY$22116,2,FALSE),0)","v":213},{"$f":"IFERROR(VLOOKUP($A49,Filtros!$A$5:$AY$22116,3,FALSE),0)","v":91},{"$f":"IFERROR(VLOOKUP($A49,Filtros!$A$5:$AY$22116,4,FALSE),0)","v":122},{"$f":"IFERROR(VLOOKUP($A49,Filtros!$A$5:$AY$22116,5,FALSE),0)","v":0},{"$f":"IFERROR(VLOOKUP($A49,Filtros!$A$5:$AY$22116,6,FALSE),0)","v":0},{"$f":"IFERROR(VLOOKUP($A49,Filtros!$A$5:$AY$22116,7,FALSE),0)","v":0},{"$f":"IFERROR(VLOOKUP($A49,Filtros!$A$5:$AY$22116,8,FALSE),0)","v":213},{"$f":"IFERROR(VLOOKUP($A49,Filtros!$A$5:$AY$22116,9,FALSE),0)","v":91},{"$f":"IFERROR(VLOOKUP($A49,Filtros!$A$5:$AY$22116,10,FALSE),0)","v":122},{"$f":"IFERROR(VLOOKUP($A49,Filtros!$A$5:$AY$22116,11,FALSE),0)","v":11},{"$f":"IFERROR(VLOOKUP($A49,Filtros!$A$5:$AY$22116,12,FALSE),0)","v":3},{"$f":"IFERROR(VLOOKUP($A49,Filtros!$A$5:$AY$22116,13,FALSE),0)","v":8},{"$f":"IFERROR(VLOOKUP($A49,Filtros!$A$5:$AY$22116,14,FALSE),0)","v":6},{"$f":"IFERROR(VLOOKUP($A49,Filtros!$A$5:$AY$22116,15,FALSE),0)","v":2},{"$f":"IFERROR(VLOOKUP($A49,Filtros!$A$5:$AY$22116,16,FALSE),0)","v":4}," ",{"$nulls":17},{"$f":"IF($D$12<$D49, \"* El total de Adolescentes según educacion y trabajo no puede ser mayor al total de Adolescentes en control. \", \"\")","v":""},"","","","",{"$nulls":6},0,0,0,0,0]
["P9100360","PEORES FORMAS DE TRABAJO INFANTIL",null,{"$f":"IFERROR(VLOOKUP($A50,Filtros!$A$5:$AY$22116,2,FALSE),0)","v":0},{"$f":"IFERROR(VLOOKUP($A50,Filtros!$A$5:$AY$22116,3,FALSE),0)","v":0},{"$f":"IFERROR(VLOOKUP($A50,Filtros!$A$5:$AY$22116,4,FALSE),0)","v":0},{"$f":"IFERROR(VLOOKUP($A50,Filtros!$A$5:$AY$22116,5,FALSE),0)","v":0},{"$f":"IFERROR(VLOOKUP($A50,Filtros!$A$5:$AY$22116,6,FALSE),0)","v":0},{"$f":"IFERROR(VLOOKUP($A50,Filtros!$A$5:$AY$22116,7,FALSE),0)","v":0},{"$f":"IFERROR(VLOOKUP($A50,Filtros!$A$5:$AY$22116,8,FALSE),0)","v":0},{"$f":"IFERROR(VLOOKUP($A50,Filtros!$A$5:$AY$22116,9,FALSE),0)","v":0},{"$f":"IFERROR(VLOOKUP($A50,Filtros!$A$5:$AY$22116,10,FALSE),0)","v":0},{"$f":"IFERROR(VLOOKUP($A50,Filtros!$A$5:$AY$22116,11,FALSE),0)","v":0},{"$f":"IFERROR(VLOOKUP($A50,Filtros!$A$5:$AY$22116,12,FALSE),0)","v":0},{"$f":"IFERROR(VLOOKUP($A50,Filtros!$A$5:$AY$22116,13,FALSE),0)","v":0},{"$f":"IFERROR(VLOOKUP($A50,Filtros!$A$5:$AY$22116,14,FALSE),0)","v":0},{"$f":"IFERROR(VLOOKUP($A50,Filtros!$A$5:$AY$22116,15,FALSE),0)","v":0},{"$f":"IFERROR(VLOOKUP($A50,Filtros!$A$5:$AY$22116,16,FALSE),0)","v":0}," ",{"$nulls":17},{"$f":"IF($D$12<$D50, \"* El total de Adolescentes según educacion y trabajo no puede ser mayor al total de Adolescentes en control. \", \"\")","v":""},"","","","",{"$nulls":6},0,0,0,0,0]
["P9100370","SERVICIO DOMESTICO NO REMUNERADO PELIGROSO",null,{"$f":"IFERROR(VLOOKUP($A51,Filtros!$A$5:$AY$22116,2,FALSE),0)","v":3},{"$f":"IFERROR(VLOOKUP($A51,Filtros!$A$5:$AY$22116,3,FALSE),0)","v":1},{"$f":"IFERROR(VLOOKUP($A51,Filtros!$A$5:$AY$22116,4,FALSE),0)","v":2},{"$f":"IFERROR(VLOOKUP($A51,Filtros!$A$5:$AY$22116,5,FALSE),0)","v":0},{"$f":"IFERROR(VLOOKUP($A51,Filtros!$A$5:$AY$22116,6,FALSE),0)","v":0},{"$f":"IFERROR(VLOOKUP($A51,Filtros!$A$5:$AY$22116,7,FALSE),0)","v":0},{"$f":"IFERROR(VLOOKUP($A51,Filtros!$A$5:$AY$22116,8,FALSE),0)","v":3},{"$f":"IFERROR(VLOOKUP($A51,Filtros!$A$5:$AY$22116,9,FALSE),0)","v":1},{"$f":"IFERROR(VLOOKUP($A51,Filtros!$A$5:$AY$22116,10,FALSE),0)","v":2},{"$f":"IFERROR(VLOOKUP($A51,Filtros!$A$5:$AY$22116,11,FALSE),0)","v":0},{"$f":"IFERROR(VLOOKUP($A51,Filtros!$A$5:$AY$22116,12,FALSE),0)","v":0},{"$f":"IFERROR(VLOOKUP($A51,Filtros!$A$5:$AY$22116,13,FALSE),0)","v":0},{"$f":"IFERROR(VLOOKUP($A51,Filtros!$A$5:$AY$22116,14,FALSE),0)","v":0},{"$f":"IFERROR(VLOOKUP($A51,Filtros!$A$5:$AY$22116,15,FALSE),0)","v":0},{"$f":"IFERROR(VLOOKUP($A51,Filtros!$A$5:$AY$22116,16,FALSE),0)","v":0}," ",{"$nulls":17},{"$f":"IF($D$12<$D51, \"* El total de Adolescentes según educacion y trabajo no puede ser mayor al total de Adolescentes en control. \", \"\")","v":""},"","","","",{"$nulls":6},0,0,0,0,0]
[null,"SECCION C: POBLACIÓN EN CONTROL SALUD INTEGRAL DE ADOLESCENTES, SEGÚN ÁREAS DE RIESGO"]
[null,"Áreas de Riesgo",null,"TOTAL",null,null,"Adolescentes 10-14 años",null,null,"Adolescentes 15 - 19 años",null,null,"Adolescentes de Pueblos Originarios",null,null,"Adolescentes Migrantes"]
[]
[]
[{"$nulls":3},"Ambos sexos","Hombre","Mujer","Ambos sexos","Hombre","Mujer","Ambos sexos","Hombre","Mujer","Ambos sexos","Hombre","Mujer","Ambos sexos","Hombre","Mujer"]
["P9100380","SALUD SEXUAL Y REPRODUCTIVA",null,{"$f":"IFERROR(VLOOKUP($A57,Filtros!$A$5:$AY$22116,2,FALSE),0)","v":1645},{"$f":"IFERROR(VLOOKUP($A57,Filtros!$A$5:$AY$22116,3,FALSE),0)","v":396},{"$f":"IFERROR(VLOOKUP($A57,Filtros!$A$5:$AY$22116,4,FALSE),0)","v":1249},{"$f":"IFERROR(VLOOKUP($A57,Filtros!$A$5:$AY$22116,5,FALSE),0)","v":360},{"$f":"IFERROR(VLOOKUP($A57,Filtros!$A$5:$AY$22116,6,FALSE),0)","v":69},{"$f":"IFERROR(VLOOKUP($A57,Filtros!$A$5:$AY$22116,7,FALSE),0)","v":291},{"$f":"IFERROR(VLOOKUP($A57,Filtros!$A$5:$AY$22116,8,FALSE),0)","v":1285},{"$f":"IFERROR(VLOOKUP($A57,Filtros!$A$5:$AY$22116,9,FALSE),0)","v":327},{"$f":"IFERROR(VLOOKUP($A57,Filtros!$A$5:$AY$22116,10,FALSE),0)","v":958},{"$f":"IFERROR(VLOOKUP($A57,Filtros!$A$5:$AY$22116,11,FALSE),0)","v":26},{"$f":"IFERROR(VLOOKUP($A57,Filtros!$A$5:$AY$22116,12,FALSE),0)","v":11},{"$f":"IFERROR(VLOOKUP($A57,Filtros!$A$5:$AY$22116,13,FALSE),0)","v":15},{"$f":"IFERROR(VLOOKUP($A57,Filtros!$A$5:$AY$22116,14,FALSE),0)","v":17},{"$f":"IFERROR(VLOOKUP($A57,Filtros!$A$5:$AY$22116,15,FALSE),0)","v":5},{"$f":"IFERROR(VLOOKUP($A57,Filtros!$A$5:$AY$22116,16,FALSE),0)","v":12},{"$f":"AK57 & \" \" & AL57 & AM57 & AN57 & AO57","v":" "},{"$nulls":17},{"$f":"IF($D$12<$D57, \"* El total de Adolescentes según areas de riesgo no puede ser mayor al total de Adolescentes en control. \", \"\")","v":""},{"$f":"IF($D57<$M57, \"* El total de Adolescentes de Pueblos Originarios no puede ser mayor al total de Adolescentes. \", \"\")","v":""},{"$f":"IF($D57<$P57, \"* El total de Adolescentes de Migrantes no puede ser mayor al total de Adolescentes. \", \"\")","v":""},{"$f":"IF(AND(E57<>0,N57=\"\"),\"* No olvide escribir en la celda de Pueblos Originarios (Digite CERO si no tiene). \",IF(AND(F57<>0,O57=\"\"),\"* No olvide escribir en la celda de Pueblos Originarios (Digite CERO si no tiene). \",\"\"))","v":""},{"$f":"IF(AND(E57<>0,Q57=\"\"),\"* No olvide escribir en la celda de Población Migrantes (Digite CERO si no tiene). \",IF(AND(F57<>0,R57=\"\"),\"* No olvide escribir en la celda de Población Migrantes (Digite CERO si no tiene). \",\"\"))","v":""},{"$nulls":6},0,{"$f":"IF($D57<$M57, 1,0)","v":0},{"$f":"IF($D57<$P57, 1,0)","v":0},{"$f":"IF(AND(E57<>0,N57=\"\"),1,IF(AND(F57<>0,O57=\"\"),1,0))","v":0},{"$f":"IF(AND(E57<>0,Q57=\"\"),1,IF(AND(F57<>0,R57=\"\"),1,0))","v":0}]
["P9100390","IDEACIÓN SUICIDA",null,{"$f":"IFERROR(VLOOKUP($A58,Filtros!$A$5:$AY$22116,2,FALSE),0)","v":267},{"$f":"IFERROR(VLOOKUP($A58,Filtros!$A$5:$AY$22116,3,FALSE),0)","v":61},{"$f":"IFERROR(VLOOKUP($A58,Filtros!$A$5:$AY$22116,4,FALSE),0)","v":206},{"$f":"IFERROR(VLOOKUP($A58,Filtros!$A$5:$AY$22116,5,FALSE),0)","v":154},{"$f":"IFERROR(VLOOKUP($A58,Filtros!$A$5:$AY$22116,6,FALSE),0)","v":31},{"$f":"IFERROR(VLOOKUP($A58,Filtros!$A$5:$AY$22116,7,FALSE),0)","v":123},{"$f":"IFERROR(VLOOKUP($A58,Filtros!$A$5:$AY$22116,8,FALSE),0)","v":113},{"$f":"IFERROR(VLOOKUP($A58,Filtros!$A$5:$AY$22116,9,FALSE),0)","v":30},{"$f":"IFERROR(VLOOKUP($A58,Filtros!$A$5:$AY$22116,10,FALSE),0)","v":83},{"$f":"IFERROR(VLOOKUP($A58,Filtros!$A$5:$AY$22116,11,FALSE),0)","v":10},{"$f":"IFERROR(VLOOKUP($A58,Filtros!$A$5:$AY$22116,12,FALSE),0)","v":1},{"$f":"IFERROR(VLOOKUP($A58,Filtros!$A$5:$AY$22116,13,FALSE),0)","v":9},{"$f":"IFERROR(VLOOKUP($A58,Filtros!$A$5:$AY$22116,14,FALSE),0)","v":5},{"$f":"IFERROR(VLOOKUP($A58,Filtros!$A$5:$AY$22116,15,FALSE),0)","v":0},{"$f":"IFERROR(VLOOKUP($A58,Filtros!$A$5:$AY$22116,16,FALSE),0)","v":5}," ",{"$nulls":17},{"$f":"IF($D$12<$D58, \"* El total de Adolescentes según areas de riesgo no puede ser mayor al total de Adolescentes en control. \", \"\")","v":""},"","","","",{"$nulls":6},0,0,0,0,0]
["P9100400","INTENTO SUICIDA",null,{"$f":"IFERROR(VLOOKUP($A59,Filtros!$A$5:$AY$22116,2,FALSE),0)","v":104},{"$f":"IFERROR(VLOOKUP($A59,Filtros!$A$5:$AY$22116,3,FALSE),0)","v":20},{"$f":"IFERROR(VLOOKUP($A59,Filtros!$A$5:$AY$22116,4,FALSE),0)","v":84},{"$f":"IFERROR(VLOOKUP($A59,Filtros!$A$5:$AY$22116,5,FALSE),0)","v":68},{"$f":"IFERROR(VLOOKUP($A59,Filtros!$A$5:$AY$22116,6,FALSE),0)","v":14},{"$f":"IFERROR(VLOOKUP($A59,Filtros!$A$5:$AY$22116,7,FALSE),0)","v":54},{"$f":"IFERROR(VLOOKUP($A59,Filtros!$A$5:$AY$22116,8,FALSE),0)","v":36},{"$f":"IFERROR(VLOOKUP($A59,Filtros!$A$5:$AY$22116,9,FALSE),0)","v":6},{"$f":"IFERROR(VLOOKUP($A59,Filtros!$A$5:$AY$22116,10,FALSE),0)","v":30},{"$f":"IFERROR(VLOOKUP($A59,Filtros!$A$5:$AY$22116,11,FALSE),0)","v":11},{"$f":"IFERROR(VLOOKUP($A59,Filtros!$A$5:$AY$22116,12,FALSE),0)","v":0},{"$f":"IFERROR(VLOOKUP($A59,Filtros!$A$5:$AY$22116,13,FALSE),0)","v":11},{"$f":"IFERROR(VLOOKUP($A59,Filtros!$A$5:$AY$22116,14,FALSE),0)","v":5},{"$f":"IFERROR(VLOOKUP($A59,Filtros!$A$5:$AY$22116,15,FALSE),0)","v":1},{"$f":"IFERROR(VLOOKUP($A59,Filtros!$A$5:$AY$22116,16,FALSE),0)","v":4}," ",{"$nulls":17},{"$f":"IF($D$12<$D59, \"* El total de Adolescentes según areas de riesgo no puede ser mayor al total de Adolescentes en control. \", \"\")","v":""},"","","","",{"$nulls":6},0,0,0,0,0]
["P9100410","CONSUMO ALCOHOL Y DROGAS ",null,{"$f":"IFERROR(VLOOKUP($A60,Filtros!$A$5:$AY$22116,2,FALSE),0)","v":484},{"$f":"IFERROR(VLOOKUP($A60,Filtros!$A$5:$AY$22116,3,FALSE),0)","v":198},{"$f":"IFERROR(VLOOKUP($A60,Filtros!$A$5:$AY$22116,4,FALSE),0)","v":286},{"$f":"IFERROR(VLOOKUP($A60,Filtros!$A$5:$AY$22116,5,FALSE),0)","v":96},{"$f":"IFERROR(VLOOKUP($A60,Filtros!$A$5:$AY$22116,6,FALSE),0)","v":49},{"$f":"IFERROR(VLOOKUP($A60,Filtros!$A$5:$AY$22116,7,FALSE),0)","v":47},{"$f":"IFERROR(VLOOKUP($A60,Filtros!$A$5:$AY$22116,8,FALSE),0)","v":388},{"$f":"IFERROR(VLOOKUP($A60,Filtros!$A$5:$AY$22116,9,FALSE),0)","v":149},{"$f":"IFERROR(VLOOKUP($A60,Filtros!$A$5:$AY$22116,10,FALSE),0)","v":239},{"$f":"IFERROR(VLOOKUP($A60,Filtros!$A$5:$AY$22116,11,FALSE),0)","v":21},{"$f":"IFERROR(VLOOKUP($A60,Filtros!$A$5:$AY$22116,12,FALSE),0)","v":7},{"$f":"IFERROR(VLOOKUP($A60,Filtros!$A$5:$AY$22116,13,FALSE),0)","v":14},{"$f":"IFERROR(VLOOKUP($A60,Filtros!$A$5:$AY$22116,14,FALSE),0)","v":8},{"$f":"IFERROR(VLOOKUP($A60,Filtros!$A$5:$AY$22116,15,FALSE),0)","v":3},{"$f":"IFERROR(VLOOKUP($A60,Filtros!$A$5:$AY$22116,16,FALSE),0)","v":5}," ",{"$nulls":17},{"$f":"IF($D$12<$D60, \"* El total de Adolescentes según areras de riesgo no puede ser mayor al total de Adolescentes en control. \", \"\")","v":""},"","","","",{"$nulls":6},0,0,0,0,0]
["P9100420","NUTRICIONAL",null,{"$f":"IFERROR(VLOOKUP($A61,Filtros!$A$5:$AY$22116,2,FALSE),0)","v":3584},{"$f":"IFERROR(VLOOKUP($A61,Filtros!$A$5:$AY$22116,3,FALSE),0)","v":1530},{"$f":"IFERROR(VLOOKUP($A61,Filtros!$A$5:$AY$22116,4,FALSE),0)","v":2054},{"$f":"IFERROR(VLOOKUP($A61,Filtros!$A$5:$AY$22116,5,FALSE),0)","v":2095},{"$f":"IFERROR(VLOOKUP($A61,Filtros!$A$5:$AY$22116,6,FALSE),0)","v":1011},{"$f":"IFERROR(VLOOKUP($A61,Filtros!$A$5:$AY$22116,7,FALSE),0)","v":1084},{"$f":"IFERROR(VLOOKUP($A61,Filtros!$A$5:$AY$22116,8,FALSE),0)","v":1489},{"$f":"IFERROR(VLOOKUP($A61,Filtros!$A$5:$AY$22116,9,FALSE),0)","v":519},{"$f":"IFERROR(VLOOKUP($A61,Filtros!$A$5:$AY$22116,10,FALSE),0)","v":970},{"$f":"IFERROR(VLOOKUP($A61,Filtros!$A$5:$AY$22116,11,FALSE),0)","v":175},{"$f":"IFERROR(VLOOKUP($A61,Filtros!$A$5:$AY$22116,12,FALSE),0)","v":84},{"$f":"IFERROR(VLOOKUP($A61,Filtros!$A$5:$AY$22116,13,FALSE),0)","v":91},{"$f":"IFERROR(VLOOKUP($A61,Filtros!$A$5:$AY$22116,14,FALSE),0)","v":63},{"$f":"IFERROR(VLOOKUP($A61,Filtros!$A$5:$AY$22116,15,FALSE),0)","v":21},{"$f":"IFERROR(VLOOKUP($A61,Filtros!$A$5:$AY$22116,16,FALSE),0)","v":42}," ",{"$nulls":17},{"$f":"IF($D$12<$D61, \"* El total de Adolescentes según areas de riesgo no puede ser mayor al total de Adolescentes en control. \", \"\")","v":""},"","","","",{"$nulls":6},0,0,0,0,0]
["P9100430","OTRO RIESGO",null,{"$f":"IFERROR(VLOOKUP($A62,Filtros!$A$5:$AY$22116,2,FALSE),0)","v":1717},{"$f":"IFERROR(VLOOKUP($A62,Filtros!$A$5:$AY$22116,3,FALSE),0)","v":683},{"$f":"IFERROR(VLOOKUP($A62,Filtros!$A$5:$AY$22116,4,FALSE),0)","v":1034},{"$f":"IFERROR(VLOOKUP($A62,Filtros!$A$5:$AY$22116,5,FALSE),0)","v":1145},{"$f":"IFERROR(VLOOKUP($A62,Filtros!$A$5:$AY$22116,6,FALSE),0)","v":499},{"$f":"IFERROR(VLOOKUP($A62,Filtros!$A$5:$AY$22116,7,FALSE),0)","v":646},{"$f":"IFERROR(VLOOKUP($A62,Filtros!$A$5:$AY$22116,8,FALSE),0)","v":572},{"$f":"IFERROR(VLOOKUP($A62,Filtros!$A$5:$AY$22116,9,FALSE),0)","v":184},{"$f":"IFERROR(VLOOKUP($A62,Filtros!$A$5:$AY$22116,10,FALSE),0)","v":388},{"$f":"IFERROR(VLOOKUP($A62,Filtros!$A$5:$AY$22116,11,FALSE),0)","v":80},{"$f":"IFERROR(VLOOKUP($A62,Filtros!$A$5:$AY$22116,12,FALSE),0)","v":36},{"$f":"IFERROR(VLOOKUP($A62,Filtros!$A$5:$AY$22116,13,FALSE),0)","v":44},{"$f":"IFERROR(VLOOKUP($A62,Filtros!$A$5:$AY$22116,14,FALSE),0)","v":33},{"$f":"IFERROR(VLOOKUP($A62,Filtros!$A$5:$AY$22116,15,FALSE),0)","v":10},{"$f":"IFERROR(VLOOKUP($A62,Filtros!$A$5:$AY$22116,16,FALSE),0)","v":23}," ",{"$nulls":17},{"$f":"IF($D$12<$D62, \"* El total de Adolescentes según areas de riesgo no puede ser mayor al total de Adolescentes en control. \", \"\")","v":""},"","","","",{"$nulls":6},0,0,0,0,0]
[null,"SECCION D:POBLACIÓN EN CONTROL SALUD INTEGRAL DE ADOLESCENTES, SEGÚN AMBITOS GINECO-UROLOGICO/SEXUALIDAD"]
[null,"Gineco/urologico/sexualidad",null,"TOTAL",null,null,"Adolescentes 10-14 años",null,null,"Adolescentes 15 - 19 años",null,null,"Adolescentes de Pueblos Originarios",null,null,"Adolescentes Migrantes"]
[]
[]
[{"$nulls":3},"Ambos sexos","Hombre","Mujer","Ambos sexos","Hombre","Mujer","Ambos sexos","Hombre","Mujer","Ambos sexos","Hombre","Mujer","Ambos sexos","Hombre","Mujer"]
["P9100440","ADOLESCENTES CON CONDUCTA POSTERGADORA",null,{"$f":"IFERROR(VLOOKUP($A68,Filtros!$A$5:$AY$22116,2,FALSE),0)","v":4970},{"$f":"IFERROR(VLOOKUP($A68,Filtros!$A$5:$AY$22116,3,FALSE),0)","v":2215},{"$f":"IFERROR(VLOOKUP($A68,Filtros!$A$5:$AY$22116,4,FALSE),0)","v":2755},{"$f":"IFERROR(VLOOKUP($A68,Filtros!$A$5:$AY$22116,5,FALSE),0)","v":3476},{"$f":"IFERROR(VLOOKUP($A68,Filtros!$A$5:$AY$22116,6,FALSE),0)","v":1606},{"$f":"IFERROR(VLOOKUP($A68,Filtros!$A$5:$AY$22116,7,FALSE),0)","v":1870},{"$f":"IFERROR(VLOOKUP($A68,Filtros!$A$5:$AY$22116,8,FALSE),0)","v":1494},{"$f":"IFERROR(VLOOKUP($A68,Filtros!$A$5:$AY$22116,9,FALSE),0)","v":609},{"$f":"IFERROR(VLOOKUP($A68,Filtros!$A$5:$AY$22116,10,FALSE),0)","v":885},{"$f":"IFERROR(VLOOKUP($A68,Filtros!$A$5:$AY$22116,11,FALSE),0)","v":258},{"$f":"IFERROR(VLOOKUP($A68,Filtros!$A$5:$AY$22116,12,FALSE),0)","v":120},{"$f":"IFERROR(VLOOKUP($A68,Filtros!$A$5:$AY$22116,13,FALSE),0)","v":138},{"$f":"IFERROR(VLOOKUP($A68,Filtros!$A$5:$AY$22116,14,FALSE),0)","v":75},{"$f":"IFERROR(VLOOKUP($A68,Filtros!$A$5:$AY$22116,15,FALSE),0)","v":30},{"$f":"IFERROR(VLOOKUP($A68,Filtros!$A$5:$AY$22116,16,FALSE),0)","v":45},{"$f":"AK68 & \" \" & AL68 & AM68 & AN68 & AO68","v":" "},{"$nulls":17},{"$f":"IF($D$12<$D68, \"* El total de Adolescentes según ambitos no puede ser mayor al total de Adolescentes en control. \", \"\")","v":""},{"$f":"IF($D68<$M68, \"* El total de Adolescentes de Pueblos Originarios no puede ser mayor al total de Adolescentes. \", \"\")","v":""},{"$f":"IF($D68<$P68, \"* El total de Adolescentes de Migrantes no puede ser mayor al total de Adolescentes. \", \"\")","v":""},{"$f":"IF(AND(E68<>0,N68=\"\"),\"* No olvide escribir en la celda de Pueblos Originarios (Digite CERO si no tiene). \",IF(AND(F68<>0,O68=\"\"),\"* No olvide escribir en la celda de Pueblos Originarios (Digite CERO si no tiene). \",\"\"))","v":""},{"$f":"IF(AND(E68<>0,Q68=\"\"),\"* No olvide escribir en la celda de Población Migrantes (Digite CERO si no tiene). \",IF(AND(F68<>0,R68=\"\"),\"* No olvide escribir en la celda de Población Migrantes (Digite CERO si no tiene). \",\"\"))","v":""},{"$nulls":6},0,{"$f":"IF($D68<$M68, 1,0)","v":0},{"$f":"IF($D68<$P68, 1,0)","v":0},{"$f":"IF(AND(E68<>0,N68=\"\"),1,IF(AND(F68<>0,O68=\"\"),1,0))","v":0},{"$f":"IF(AND(E68<>0,Q68=\"\"),1,IF(AND(F68<>0,R68=\"\"),1,0))","v":0}]
["P9100450","ADOLESCENTES CON CONDUCTA ANTICIPADORA",null,{"$f":"IFERROR(VLOOKUP($A69,Filtros!$A$5:$AY$22116,2,FALSE),0)","v":545},{"$f":"IFERROR(VLOOKUP($A69,Filtros!$A$5:$AY$22116,3,FALSE),0)","v":224},{"$f":"IFERROR(VLOOKUP($A69,Filtros!$A$5:$AY$22116,4,FALSE),0)","v":321},{"$f":"IFERROR(VLOOKUP($A69,Filtros!$A$5:$AY$22116,5,FALSE),0)","v":74},{"$f":"IFERROR(VLOOKUP($A69,Filtros!$A$5:$AY$22116,6,FALSE),0)","v":32},{"$f":"IFERROR(VLOOKUP($A69,Filtros!$A$5:$AY$22116,7,FALSE),0)","v":42},{"$f":"IFERROR(VLOOKUP($A69,Filtros!$A$5:$AY$22116,8,FALSE),0)","v":471},{"$f":"IFERROR(VLOOKUP($A69,Filtros!$A$5:$AY$22116,9,FALSE),0)","v":192},{"$f":"IFERROR(VLOOKUP($A69,Filtros!$A$5:$AY$22116,10,FALSE),0)","v":279},{"$f":"IFERROR(VLOOKUP($A69,Filtros!$A$5:$AY$22116,11,FALSE),0)","v":14},{"$f":"IFERROR(VLOOKUP($A69,Filtros!$A$5:$AY$22116,12,FALSE),0)","v":6},{"$f":"IFERROR(VLOOKUP($A69,Filtros!$A$5:$AY$22116,13,FALSE),0)","v":8},{"$f":"IFERROR(VLOOKUP($A69,Filtros!$A$5:$AY$22116,14,FALSE),0)","v":7},{"$f":"IFERROR(VLOOKUP($A69,Filtros!$A$5:$AY$22116,15,FALSE),0)","v":4},{"$f":"IFERROR(VLOOKUP($A69,Filtros!$A$5:$AY$22116,16,FALSE),0)","v":3}," ",{"$nulls":17},"","","","","",{"$nulls":6},0,0,0,0,0]
["P9100460","ADOLESCENTES CON CONDUCTA ACTIVA",null,{"$f":"IFERROR(VLOOKUP($A70,Filtros!$A$5:$AY$22116,2,FALSE),0)","v":1435},{"$f":"IFERROR(VLOOKUP($A70,Filtros!$A$5:$AY$22116,3,FALSE),0)","v":379},{"$f":"IFERROR(VLOOKUP($A70,Filtros!$A$5:$AY$22116,4,FALSE),0)","v":1056},{"$f":"IFERROR(VLOOKUP($A70,Filtros!$A$5:$AY$22116,5,FALSE),0)","v":94},{"$f":"IFERROR(VLOOKUP($A70,Filtros!$A$5:$AY$22116,6,FALSE),0)","v":25},{"$f":"IFERROR(VLOOKUP($A70,Filtros!$A$5:$AY$22116,7,FALSE),0)","v":69},{"$f":"IFERROR(VLOOKUP($A70,Filtros!$A$5:$AY$22116,8,FALSE),0)","v":1341},{"$f":"IFERROR(VLOOKUP($A70,Filtros!$A$5:$AY$22116,9,FALSE),0)","v":354},{"$f":"IFERROR(VLOOKUP($A70,Filtros!$A$5:$AY$22116,10,FALSE),0)","v":987},{"$f":"IFERROR(VLOOKUP($A70,Filtros!$A$5:$AY$22116,11,FALSE),0)","v":59},{"$f":"IFERROR(VLOOKUP($A70,Filtros!$A$5:$AY$22116,12,FALSE),0)","v":14},{"$f":"IFERROR(VLOOKUP($A70,Filtros!$A$5:$AY$22116,13,FALSE),0)","v":45},{"$f":"IFERROR(VLOOKUP($A70,Filtros!$A$5:$AY$22116,14,FALSE),0)","v":16},{"$f":"IFERROR(VLOOKUP($A70,Filtros!$A$5:$AY$22116,15,FALSE),0)","v":4},{"$f":"IFERROR(VLOOKUP($A70,Filtros!$A$5:$AY$22116,16,FALSE),0)","v":12}," ",{"$nulls":17},"","","","","",{"$nulls":6},0,0,0,0,0]
["P9100470","USO ACTUAL DE METODO ANTICONCEPTIVO",null,{"$f":"IFERROR(VLOOKUP($A71,Filtros!$A$5:$AY$22116,2,FALSE),0)","v":1236},{"$f":"IFERROR(VLOOKUP($A71,Filtros!$A$5:$AY$22116,3,FALSE),0)","v":131},{"$f":"IFERROR(VLOOKUP($A71,Filtros!$A$5:$AY$22116,4,FALSE),0)","v":1105},{"$f":"IFERROR(VLOOKUP($A71,Filtros!$A$5:$AY$22116,5,FALSE),0)","v":98},{"$f":"IFERROR(VLOOKUP($A71,Filtros!$A$5:$AY$22116,6,FALSE),0)","v":9},{"$f":"IFERROR(VLOOKUP($A71,Filtros!$A$5:$AY$22116,7,FALSE),0)","v":89},{"$f":"IFERROR(VLOOKUP($A71,Filtros!$A$5:$AY$22116,8,FALSE),0)","v":1138},{"$f":"IFERROR(VLOOKUP($A71,Filtros!$A$5:$AY$22116,9,FALSE),0)","v":122},{"$f":"IFERROR(VLOOKUP($A71,Filtros!$A$5:$AY$22116,10,FALSE),0)","v":1016},{"$f":"IFERROR(VLOOKUP($A71,Filtros!$A$5:$AY$22116,11,FALSE),0)","v":38},{"$f":"IFERROR(VLOOKUP($A71,Filtros!$A$5:$AY$22116,12,FALSE),0)","v":3},{"$f":"IFERROR(VLOOKUP($A71,Filtros!$A$5:$AY$22116,13,FALSE),0)","v":35},{"$f":"IFERROR(VLOOKUP($A71,Filtros!$A$5:$AY$22116,14,FALSE),0)","v":10},{"$f":"IFERROR(VLOOKUP($A71,Filtros!$A$5:$AY$22116,15,FALSE),0)","v":2},{"$f":"IFERROR(VLOOKUP($A71,Filtros!$A$5:$AY$22116,16,FALSE),0)","v":8}," ",{"$nulls":17},"","","","","",{"$nulls":6},0,0,0,0,0]
["P9100480","USO ACTUAL DE DOBLE PROTECCIÓN",null,{"$f":"IFERROR(VLOOKUP($A72,Filtros!$A$5:$AY$22116,2,FALSE),0)","v":551},{"$f":"IFERROR(VLOOKUP($A72,Filtros!$A$5:$AY$22116,3,FALSE),0)","v":105},{"$f":"IFERROR(VLOOKUP($A72,Filtros!$A$5:$AY$22116,4,FALSE),0)","v":446},{"$f":"IFERROR(VLOOKUP($A72,Filtros!$A$5:$AY$22116,5,FALSE),0)","v":29},{"$f":"IFERROR(VLOOKUP($A72,Filtros!$A$5:$AY$22116,6,FALSE),0)","v":8},{"$f":"IFERROR(VLOOKUP($A72,Filtros!$A$5:$AY$22116,7,FALSE),0)","v":21},{"$f":"IFERROR(VLOOKUP($A72,Filtros!$A$5:$AY$22116,8,FALSE),0)","v":522},{"$f":"IFERROR(VLOOKUP($A72,Filtros!$A$5:$AY$22116,9,FALSE),0)","v":97},{"$f":"IFERROR(VLOOKUP($A72,Filtros!$A$5:$AY$22116,10,FALSE),0)","v":425},{"$f":"IFERROR(VLOOKUP($A72,Filtros!$A$5:$AY$22116,11,FALSE),0)","v":18},{"$f":"IFERROR(VLOOKUP($A72,Filtros!$A$5:$AY$22116,12,FALSE),0)","v":3},{"$f":"IFERROR(VLOOKUP($A72,Filtros!$A$5:$AY$22116,13,FALSE),0)","v":15},{"$f":"IFERROR(VLOOKUP($A72,Filtros!$A$5:$AY$22116,14,FALSE),0)","v":1},{"$f":"IFERROR(VLOOKUP($A72,Filtros!$A$5:$AY$22116,15,FALSE),0)","v":0},{"$f":"IFERROR(VLOOKUP($A72,Filtros!$A$5:$AY$22116,16,FALSE),0)","v":1}," ",{"$nulls":17},"","","","","",{"$nulls":6},0,0,0,0,0]
["P9100490","ADOLESCENTE CON ANTECEDENTE DE UN PRIMER EMBARAZO",null,{"$f":"IFERROR(VLOOKUP($A73,Filtros!$A$5:$AY$22116,2,FALSE),0)","v":50},{"$f":"IFERROR(VLOOKUP($A73,Filtros!$A$5:$AY$22116,3,FALSE),0)","v":0},{"$f":"IFERROR(VLOOKUP($A73,Filtros!$A$5:$AY$22116,4,FALSE),0)","v":50},{"$f":"IFERROR(VLOOKUP($A73,Filtros!$A$5:$AY$22116,5,FALSE),0)","v":4},{"$f":"IFERROR(VLOOKUP($A73,Filtros!$A$5:$AY$22116,6,FALSE),0)","v":0},{"$f":"IFERROR(VLOOKUP($A73,Filtros!$A$5:$AY$22116,7,FALSE),0)","v":4},{"$f":"IFERROR(VLOOKUP($A73,Filtros!$A$5:$AY$22116,8,FALSE),0)","v":46},{"$f":"IFERROR(VLOOKUP($A73,Filtros!$A$5:$AY$22116,9,FALSE),0)","v":0},{"$f":"IFERROR(VLOOKUP($A73,Filtros!$A$5:$AY$22116,10,FALSE),0)","v":46},{"$f":"IFERROR(VLOOKUP($A73,Filtros!$A$5:$AY$22116,11,FALSE),0)","v":1},{"$f":"IFERROR(VLOOKUP($A73,Filtros!$A$5:$AY$22116,12,FALSE),0)","v":0},{"$f":"IFERROR(VLOOKUP($A73,Filtros!$A$5:$AY$22116,13,FALSE),0)","v":1},{"$f":"IFERROR(VLOOKUP($A73,Filtros!$A$5:$AY$22116,14,FALSE),0)","v":1},{"$f":"IFERROR(VLOOKUP($A73,Filtros!$A$5:$AY$22116,15,FALSE),0)","v":0},{"$f":"IFERROR(VLOOKUP($A73,Filtros!$A$5:$AY$22116,16,FALSE),0)","v":1}," ",{"$nulls":17},"","","","","",{"$nulls":6},0,0,0,0,0]
["P9100500","ADOLESCENTE CON ANTECEDENTE DE MAS DE UN EMBARAZO",null,{"$f":"IFERROR(VLOOKUP($A74,Filtros!$A$5:$AY$22116,2,FALSE),0)","v":6},{"$f":"IFERROR(VLOOKUP($A74,Filtros!$A$5:$AY$22116,3,FALSE),0)","v":0},{"$f":"IFERROR(VLOOKUP($A74,Filtros!$A$5:$AY$22116,4,FALSE),0)","v":6},{"$f":"IFERROR(VLOOKUP($A74,Filtros!$A$5:$AY$22116,5,FALSE),0)","v":0},{"$f":"IFERROR(VLOOKUP($A74,Filtros!$A$5:$AY$22116,6,FALSE),0)","v":0},{"$f":"IFERROR(VLOOKUP($A74,Filtros!$A$5:$AY$22116,7,FALSE),0)","v":0},{"$f":"IFERROR(VLOOKUP($A74,Filtros!$A$5:$AY$22116,8,FALSE),0)","v":6},{"$f":"IFERROR(VLOOKUP($A74,Filtros!$A$5:$AY$22116,9,FALSE),0)","v":0},{"$f":"IFERROR(VLOOKUP($A74,Filtros!$A$5:$AY$22116,10,FALSE),0)","v":6},{"$f":"IFERROR(VLOOKUP($A74,Filtros!$A$5:$AY$22116,11,FALSE),0)","v":0},{"$f":"IFERROR(VLOOKUP($A74,Filtros!$A$5:$AY$22116,12,FALSE),0)","v":0},{"$f":"IFERROR(VLOOKUP($A74,Filtros!$A$5:$AY$22116,13,FALSE),0)","v":0},{"$f":"IFERROR(VLOOKUP($A74,Filtros!$A$5:$AY$22116,14,FALSE),0)","v":0},{"$f":"IFERROR(VLOOKUP($A74,Filtros!$A$5:$AY$22116,15,FALSE),0)","v":0},{"$f":"IFERROR(VLOOKUP($A74,Filtros!$A$5:$AY$22116,16,FALSE),0)","v":0}," ",{"$nulls":17},"","","","","",{"$nulls":6},0,0,0,0,0]
["P9100510","ADOLESCENTE CON ANTECEDENTE DE ABORTO",null,{"$f":"IFERROR(VLOOKUP($A75,Filtros!$A$5:$AY$22116,2,FALSE),0)","v":13},{"$f":"IFERROR(VLOOKUP($A75,Filtros!$A$5:$AY$22116,3,FALSE),0)","v":0},{"$f":"IFERROR(VLOOKUP($A75,Filtros!$A$5:$AY$22116,4,FALSE),0)","v":13},{"$f":"IFERROR(VLOOKUP($A75,Filtros!$A$5:$AY$22116,5,FALSE),0)","v":2},{"$f":"IFERROR(VLOOKUP($A75,Filtros!$A$5:$AY$22116,6,FALSE),0)","v":0},{"$f":"IFERROR(VLOOKUP($A75,Filtros!$A$5:$AY$22116,7,FALSE),0)","v":2},{"$f":"IFERROR(VLOOKUP($A75,Filtros!$A$5:$AY$22116,8,FALSE),0)","v":11},{"$f":"IFERROR(VLOOKUP($A75,Filtros!$A$5:$AY$22116,9,FALSE),0)","v":0},{"$f":"IFERROR(VLOOKUP($A75,Filtros!$A$5:$AY$22116,10,FALSE),0)","v":11},{"$f":"IFERROR(VLOOKUP($A75,Filtros!$A$5:$AY$22116,11,FALSE),0)","v":0},{"$f":"IFERROR(VLOOKUP($A75,Filtros!$A$5:$AY$22116,12,FALSE),0)","v":0},{"$f":"IFERROR(VLOOKUP($A75,Filtros!$A$5:$AY$22116,13,FALSE),0)","v":0},{"$f":"IFERROR(VLOOKUP($A75,Filtros!$A$5:$AY$22116,14,FALSE),0)","v":0},{"$f":"IFERROR(VLOOKUP($A75,Filtros!$A$5:$AY$22116,15,FALSE),0)","v":0},{"$f":"IFERROR(VLOOKUP($A75,Filtros!$A$5:$AY$22116,16,FALSE),0)","v":0}," ",{"$nulls":17},"","","","","",{"$nulls":6},0,0,0,0,0]
["P9100520","ADOLESCENTE QUE PRESENTA VIOLENCIA DE PAREJA/POLOLO",null,{"$f":"IFERROR(VLOOKUP($A76,Filtros!$A$5:$AY$22116,2,FALSE),0)","v":35},{"$f":"IFERROR(VLOOKUP($A76,Filtros!$A$5:$AY$22116,3,FALSE),0)","v":4},{"$f":"IFERROR(VLOOKUP($A76,Filtros!$A$5:$AY$22116,4,FALSE),0)","v":31},{"$f":"IFERROR(VLOOKUP($A76,Filtros!$A$5:$AY$22116,5,FALSE),0)","v":6},{"$f":"IFERROR(VLOOKUP($A76,Filtros!$A$5:$AY$22116,6,FALSE),0)","v":3},{"$f":"IFERROR(VLOOKUP($A76,Filtros!$A$5:$AY$22116,7,FALSE),0)","v":3},{"$f":"IFERROR(VLOOKUP($A76,Filtros!$A$5:$AY$22116,8,FALSE),0)","v":29},{"$f":"IFERROR(VLOOKUP($A76,Filtros!$A$5:$AY$22116,9,FALSE),0)","v":1},{"$f":"IFERROR(VLOOKUP($A76,Filtros!$A$5:$AY$22116,10,FALSE),0)","v":28},{"$f":"IFERROR(VLOOKUP($A76,Filtros!$A$5:$AY$22116,11,FALSE),0)","v":1},{"$f":"IFERROR(VLOOKUP($A76,Filtros!$A$5:$AY$22116,12,FALSE),0)","v":0},{"$f":"IFERROR(VLOOKUP($A76,Filtros!$A$5:$AY$22116,13,FALSE),0)","v":1},{"$f":"IFERROR(VLOOKUP($A76,Filtros!$A$5:$AY$22116,14,FALSE),0)","v":0},{"$f":"IFERROR(VLOOKUP($A76,Filtros!$A$5:$AY$22116,15,FALSE),0)","v":0},{"$f":"IFERROR(VLOOKUP($A76,Filtros!$A$5:$AY$22116,16,FALSE),0)","v":0}," ",{"$nulls":17},"","","","","",{"$nulls":6},0,0,0,0,0]
["P9100530","ADOLESCENTE QUE PRESENTA O HA SIDO VICTIMA DE VIOLENCIA SEXUAL",null,{"$f":"IFERROR(VLOOKUP($A77,Filtros!$A$5:$AY$22116,2,FALSE),0)","v":88},{"$f":"IFERROR(VLOOKUP($A77,Filtros!$A$5:$AY$22116,3,FALSE),0)","v":6},{"$f":"IFERROR(VLOOKUP($A77,Filtros!$A$5:$AY$22116,4,FALSE),0)","v":82},{"$f":"IFERROR(VLOOKUP($A77,Filtros!$A$5:$AY$22116,5,FALSE),0)","v":23},{"$f":"IFERROR(VLOOKUP($A77,Filtros!$A$5:$AY$22116,6,FALSE),0)","v":2},{"$f":"IFERROR(VLOOKUP($A77,Filtros!$A$5:$AY$22116,7,FALSE),0)","v":21},{"$f":"IFERROR(VLOOKUP($A77,Filtros!$A$5:$AY$22116,8,FALSE),0)","v":65},{"$f":"IFERROR(VLOOKUP($A77,Filtros!$A$5:$AY$22116,9,FALSE),0)","v":4},{"$f":"IFERROR(VLOOKUP($A77,Filtros!$A$5:$AY$22116,10,FALSE),0)","v":61},{"$f":"IFERROR(VLOOKUP($A77,Filtros!$A$5:$AY$22116,11,FALSE),0)","v":2},{"$f":"IFERROR(VLOOKUP($A77,Filtros!$A$5:$AY$22116,12,FALSE),0)","v":0},{"$f":"IFERROR(VLOOKUP($A77,Filtros!$A$5:$AY$22116,13,FALSE),0)","v":2},{"$f":"IFERROR(VLOOKUP($A77,Filtros!$A$5:$AY$22116,14,FALSE),0)","v":1},{"$f":"IFERROR(VLOOKUP($A77,Filtros!$A$5:$AY$22116,15,FALSE),0)","v":0},{"$f":"IFERROR(VLOOKUP($A77,Filtros!$A$5:$AY$22116,16,FALSE),0)","v":1}," ",{"$nulls":17},"","","","","",{"$nulls":6},0,0,0,0,0]
[null,"SECCION E:POBLACIÓN ADOLESCENTE QUE RECIBE CONSEJERÍA"]
[null,"ACTIVIDAD Y AREA TEMATICA","Grupos de Edad","Total de Adolescentes que reciben Consejería",null,null,"Adolescentes de Pueblos Originarios",null,null,"Adolescentes Migrantes",null,null,"Espacios Amigables"]
[]
[{"$nulls":3},"Ambos sexos","Hombre","Mujer","Ambos sexos","Hombre","Mujer","Ambos sexos","Hombre","Mujer","Ambos sexos","Hombre","Mujer"]
["P9100570","ACTIVIDAD FÍSICA","10-14 años",{"$f":"IFERROR(VLOOKUP($A82,Filtros!$A$5:$AY$22116,2,FALSE),0)","v":2271},{"$f":"IFERROR(VLOOKUP($A82,Filtros!$A$5:$AY$22116,3,FALSE),0)","v":1016},{"$f":"IFERROR(VLOOKUP($A82,Filtros!$A$5:$AY$22116,4,FALSE),0)","v":1255},{"$f":"IFERROR(VLOOKUP($A82,Filtros!$A$5:$AY$22116,5,FALSE),0)","v":111},{"$f":"IFERROR(VLOOKUP($A82,Filtros!$A$5:$AY$22116,6,FALSE),0)","v":51},{"$f":"IFERROR(VLOOKUP($A82,Filtros!$A$5:$AY$22116,7,FALSE),0)","v":60},{"$f":"IFERROR(VLOOKUP($A82,Filtros!$A$5:$AY$22116,8,FALSE),0)","v":53},{"$f":"IFERROR(VLOOKUP($A82,Filtros!$A$5:$AY$22116,9,FALSE),0)","v":23},{"$f":"IFERROR(VLOOKUP($A82,Filtros!$A$5:$AY$22116,10,FALSE),0)","v":30},{"$f":"IFERROR(VLOOKUP($A82,Filtros!$A$5:$AY$22116,11,FALSE),0)","v":278},{"$f":"IFERROR(VLOOKUP($A82,Filtros!$A$5:$AY$22116,12,FALSE),0)","v":99},{"$f":"IFERROR(VLOOKUP($A82,Filtros!$A$5:$AY$22116,13,FALSE),0)","v":179},{"$nulls":20},{"$f":"IF($D82<$G82, \"* El total de Adolescentes de Pueblos Originarios no puede ser mayor al total de Adolescentes. \", \"\")","v":""},{"$f":"IF($D82<$J82, \"* El total de Adolescentes de Migrantes no puede ser mayor al total de Adolescentes. \", \"\")","v":""},{"$f":"IF($D82<$M82, \"* El total de Adolescentes de Espacios Amigables no puede ser mayor al total de Adolescentes. \", \"\")","v":""},{"$f":"IF(AND(E82<>0,H82=\"\"),\"* No olvide escribir en la celda de Pueblos Originarios (Digite CERO si no tiene). \",IF(AND(F82<>0,I82=\"\"),\"* No olvide escribir en la celda de Pueblos Originarios (Digite CERO si no tiene). \",\"\"))","v":""},{"$f":"IF(AND(E82<>0,K82=\"\"),\"* No olvide escribir en la celda de Población Migrantes (Digite CERO si no tiene). \",IF(AND(F82<>0,L82=\"\"),\"* No olvide escribir en la celda de Población Migrantes (Digite CERO si no tiene). \",\"\"))","v":""},{"$f":"IF(AND(E82<>0,N82=\"\"),\"* No olvide escribir en la celda de Espacios Amigables (Digite CERO si no tiene). \",IF(AND(F82<>0,O82=\"\"),\"* No olvide escribir en la celda de Espacios Amigables (Digite CERO si no tiene). \",\"\"))","v":""},{"$nulls":5},{"$f":"IF($D82<$G82, 1,0)","v":0},{"$f":"IF($D82<$J82, 1,0)","v":0},{"$f":"IF($D82<$M82, 1,0)","v":0},{"$f":"IF(AND(E82<>0,H82=\"\"),1,IF(AND(F82<>0,I82=\"\"),1,0))","v":0},{"$f":"IF(AND(E82<>0,K82=\"\"),1,IF(AND(F82<>0,L82=\"\"),1,0))","v":0},{"$f":"IF(AND(E82<>0,N82=\"\"),1,IF(AND(F82<>0,O82=\"\"),1,0))","v":0}]
["P9100580",null,"15 - 19 años",{"$f":"IFERROR(VLOOKUP($A83,Filtros!$A$5:$AY$22116,2,FALSE),0)","v":2834},{"$f":"IFERROR(VLOOKUP($A83,Filtros!$A$5:$AY$22116,3,FALSE),0)","v":901},{"$f":"IFERROR(VLOOKUP($A83,Filtros!$A$5:$AY$22116,4,FALSE),0)","v":1933},{"$f":"IFERROR(VLOOKUP($A83,Filtros!$A$5:$AY$22116,5,FALSE),0)","v":161},{"$f":"IFERROR(VLOOKUP($A83,Filtros!$A$5:$AY$22116,6,FALSE),0)","v":25},{"$f":"IFERROR(VLOOKUP($A83,Filtros!$A$5:$AY$22116,7,FALSE),0)","v":136},{"$f":"IFERROR(VLOOKUP($A83,Filtros!$A$5:$AY$22116,8,FALSE),0)","v":33},{"$f":"IFERROR(VLOOKUP($A83,Filtros!$A$5:$AY$22116,9,FALSE),0)","v":12},{"$f":"IFERROR(VLOOKUP($A83,Filtros!$A$5:$AY$22116,10,FALSE),0)","v":21},{"$f":"IFERROR(VLOOKUP($A83,Filtros!$A$5:$AY$22116,11,FALSE),0)","v":1883},{"$f":"IFERROR(VLOOKUP($A83,Filtros!$A$5:$AY$22116,12,FALSE),0)","v":646},{"$f":"IFERROR(VLOOKUP($A83,Filtros!$A$5:$AY$22116,13,FALSE),0)","v":1237},{"$nulls":20},"","",{"$f":"IF($D83<$M83, \"* El total de Adolescentes de Espacios Amigables no puede ser mayor al total de Adolescentes. \", \"\")","v":""},"","",{"$f":"IF(AND(E83<>0,N83=\"\"),\"* No olvide escribir en la celda de Espacios Amigables (Digite CERO si no tiene). \",IF(AND(F83<>0,O83=\"\"),\"* No olvide escribir en la celda de Espacios Amigables (Digite CERO si no tiene). \",\"\"))","v":""},{"$nulls":5},{"$f":"IF($D83<$G83, 1,0)","v":0},{"$f":"IF($D83<$J83, 1,0)","v":0},{"$f":"IF($D83<$M83, 1,0)","v":0},0,0,{"$f":"IF(AND(E83<>0,N83=\"\"),1,IF(AND(F83<>0,O83=\"\"),1,0))","v":0}]
["P9100590","ALIMENTACION SALUDABLE","10-14 años",{"$f":"IFERROR(VLOOKUP($A84,Filtros!$A$5:$AY$22116,2,FALSE),0)","v":2509},{"$f":"IFERROR(VLOOKUP($A84,Filtros!$A$5:$AY$22116,3,FALSE),0)","v":1105},{"$f":"IFERROR(VLOOKUP($A84,Filtros!$A$5:$AY$22116,4,FALSE),0)","v":1404},{"$f":"IFERROR(VLOOKUP($A84,Filtros!$A$5:$AY$22116,5,FALSE),0)","v":117},{"$f":"IFERROR(VLOOKUP($A84,Filtros!$A$5:$AY$22116,6,FALSE),0)","v":59},{"$f":"IFERROR(VLOOKUP($A84,Filtros!$A$5:$AY$22116,7,FALSE),0)","v":58},{"$f":"IFERROR(VLOOKUP($A84,Filtros!$A$5:$AY$22116,8,FALSE),0)","v":69},{"$f":"IFERROR(VLOOKUP($A84,Filtros!$A$5:$AY$22116,9,FALSE),0)","v":33},{"$f":"IFERROR(VLOOKUP($A84,Filtros!$A$5:$AY$22116,10,FALSE),0)","v":36},{"$f":"IFERROR(VLOOKUP($A84,Filtros!$A$5:$AY$22116,11,FALSE),0)","v":293},{"$f":"IFERROR(VLOOKUP($A84,Filtros!$A$5:$AY$22116,12,FALSE),0)","v":108},{"$f":"IFERROR(VLOOKUP($A84,Filtros!$A$5:$AY$22116,13,FALSE),0)","v":185},{"$nulls":20},"","","","","","",{"$nulls":5},0,0,0,0,0,0]
["P9100600",null,"15 - 19 años",{"$f":"IFERROR(VLOOKUP($A85,Filtros!$A$5:$AY$22116,2,FALSE),0)","v":3352},{"$f":"IFERROR(VLOOKUP($A85,Filtros!$A$5:$AY$22116,3,FALSE),0)","v":1008},{"$f":"IFERROR(VLOOKUP($A85,Filtros!$A$5:$AY$22116,4,FALSE),0)","v":2344},{"$f":"IFERROR(VLOOKUP($A85,Filtros!$A$5:$AY$22116,5,FALSE),0)","v":164},{"$f":"IFERROR(VLOOKUP($A85,Filtros!$A$5:$AY$22116,6,FALSE),0)","v":30},{"$f":"IFERROR(VLOOKUP($A85,Filtros!$A$5:$AY$22116,7,FALSE),0)","v":134},{"$f":"IFERROR(VLOOKUP($A85,Filtros!$A$5:$AY$22116,8,FALSE),0)","v":46},{"$f":"IFERROR(VLOOKUP($A85,Filtros!$A$5:$AY$22116,9,FALSE),0)","v":11},{"$f":"IFERROR(VLOOKUP($A85,Filtros!$A$5:$AY$22116,10,FALSE),0)","v":35},{"$f":"IFERROR(VLOOKUP($A85,Filtros!$A$5:$AY$22116,11,FALSE),0)","v":1935},{"$f":"IFERROR(VLOOKUP($A85,Filtros!$A$5:$AY$22116,12,FALSE),0)","v":660},{"$f":"IFERROR(VLOOKUP($A85,Filtros!$A$5:$AY$22116,13,FALSE),0)","v":1275},{"$nulls":20},"","","","","","",{"$nulls":5},0,0,0,0,0,0]
["P9100610","TABAQUISMO","10-14 años",{"$f":"IFERROR(VLOOKUP($A86,Filtros!$A$5:$AY$22116,2,FALSE),0)","v":964},{"$f":"IFERROR(VLOOKUP($A86,Filtros!$A$5:$AY$22116,3,FALSE),0)","v":436},{"$f":"IFERROR(VLOOKUP($A86,Filtros!$A$5:$AY$22116,4,FALSE),0)","v":528},{"$f":"IFERROR(VLOOKUP($A86,Filtros!$A$5:$AY$22116,5,FALSE),0)","v":20},{"$f":"IFERROR(VLOOKUP($A86,Filtros!$A$5:$AY$22116,6,FALSE),0)","v":8},{"$f":"IFERROR(VLOOKUP($A86,Filtros!$A$5:$AY$22116,7,FALSE),0)","v":12},{"$f":"IFERROR(VLOOKUP($A86,Filtros!$A$5:$AY$22116,8,FALSE),0)","v":16},{"$f":"IFERROR(VLOOKUP($A86,Filtros!$A$5:$AY$22116,9,FALSE),0)","v":10},{"$f":"IFERROR(VLOOKUP($A86,Filtros!$A$5:$AY$22116,10,FALSE),0)","v":6},{"$f":"IFERROR(VLOOKUP($A86,Filtros!$A$5:$AY$22116,11,FALSE),0)","v":136},{"$f":"IFERROR(VLOOKUP($A86,Filtros!$A$5:$AY$22116,12,FALSE),0)","v":38},{"$f":"IFERROR(VLOOKUP($A86,Filtros!$A$5:$AY$22116,13,FALSE),0)","v":98},{"$nulls":20},"","","","","","",{"$nulls":5},0,0,0,0,0,0]
["P9100620",null,"15 - 19 años",{"$f":"IFERROR(VLOOKUP($A87,Filtros!$A$5:$AY$22116,2,FALSE),0)","v":1144},{"$f":"IFERROR(VLOOKUP($A87,Filtros!$A$5:$AY$22116,3,FALSE),0)","v":378},{"$f":"IFERROR(VLOOKUP($A87,Filtros!$A$5:$AY$22116,4,FALSE),0)","v":766},{"$f":"IFERROR(VLOOKUP($A87,Filtros!$A$5:$AY$22116,5,FALSE),0)","v":27},{"$f":"IFERROR(VLOOKUP($A87,Filtros!$A$5:$AY$22116,6,FALSE),0)","v":6},{"$f":"IFERROR(VLOOKUP($A87,Filtros!$A$5:$AY$22116,7,FALSE),0)","v":21},{"$f":"IFERROR(VLOOKUP($A87,Filtros!$A$5:$AY$22116,8,FALSE),0)","v":12},{"$f":"IFERROR(VLOOKUP($A87,Filtros!$A$5:$AY$22116,9,FALSE),0)","v":2},{"$f":"IFERROR(VLOOKUP($A87,Filtros!$A$5:$AY$22116,10,FALSE),0)","v":10},{"$f":"IFERROR(VLOOKUP($A87,Filtros!$A$5:$AY$22116,11,FALSE),0)","v":848},{"$f":"IFERROR(VLOOKUP($A87,Filtros!$A$5:$AY$22116,12,FALSE),0)","v":260},{"$f":"IFERROR(VLOOKUP($A87,Filtros!$A$5:$AY$22116,13,FALSE),0)","v":588},{"$nulls":20},"","","","","","",{"$nulls":5},0,0,0,0,0,0]
["P9100630","CONSUMO DE DROGAS","10-14 años",{"$f":"IFERROR(VLOOKUP($A88,Filtros!$A$5:$AY$22116,2,FALSE),0)","v":953},{"$f":"IFERROR(VLOOKUP($A88,Filtros!$A$5:$AY$22116,3,FALSE),0)","v":422},{"$f":"IFERROR(VLOOKUP($A88,Filtros!$A$5:$AY$22116,4,FALSE),0)","v":531},{"$f":"IFERROR(VLOOKUP($A88,Filtros!$A$5:$AY$22116,5,FALSE),0)","v":17},{"$f":"IFERROR(VLOOKUP($A88,Filtros!$A$5:$AY$22116,6,FALSE),0)","v":8},{"$f":"IFERROR(VLOOKUP($A88,Filtros!$A$5:$AY$22116,7,FALSE),0)","v":9},{"$f":"IFERROR(VLOOKUP($A88,Filtros!$A$5:$AY$22116,8,FALSE),0)","v":16},{"$f":"IFERROR(VLOOKUP($A88,Filtros!$A$5:$AY$22116,9,FALSE),0)","v":10},{"$f":"IFERROR(VLOOKUP($A88,Filtros!$A$5:$AY$22116,10,FALSE),0)","v":6},{"$f":"IFERROR(VLOOKUP($A88,Filtros!$A$5:$AY$22116,11,FALSE),0)","v":182},{"$f":"IFERROR(VLOOKUP($A88,Filtros!$A$5:$AY$22116,12,FALSE),0)","v":69},{"$f":"IFERROR(VLOOKUP($A88,Filtros!$A$5:$AY$22116,13,FALSE),0)","v":113},{"$nulls":20},"","","","","","",{"$nulls":5},0,0,0,0,0,0]
["P9100640",null,"15 - 19 años",{"$f":"IFERROR(VLOOKUP($A89,Filtros!$A$5:$AY$22116,2,FALSE),0)","v":1610},{"$f":"IFERROR(VLOOKUP($A89,Filtros!$A$5:$AY$22116,3,FALSE),0)","v":512},{"$f":"IFERROR(VLOOKUP($A89,Filtros!$A$5:$AY$22116,4,FALSE),0)","v":1098},{"$f":"IFERROR(VLOOKUP($A89,Filtros!$A$5:$AY$22116,5,FALSE),0)","v":22},{"$f":"IFERROR(VLOOKUP($A89,Filtros!$A$5:$AY$22116,6,FALSE),0)","v":8},{"$f":"IFERROR(VLOOKUP($A89,Filtros!$A$5:$AY$22116,7,FALSE),0)","v":14},{"$f":"IFERROR(VLOOKUP($A89,Filtros!$A$5:$AY$22116,8,FALSE),0)","v":9},{"$f":"IFERROR(VLOOKUP($A89,Filtros!$A$5:$AY$22116,9,FALSE),0)","v":2},{"$f":"IFERROR(VLOOKUP($A89,Filtros!$A$5:$AY$22116,10,FALSE),0)","v":7},{"$f":"IFERROR(VLOOKUP($A89,Filtros!$A$5:$AY$22116,11,FALSE),0)","v":1229},{"$f":"IFERROR(VLOOKUP($A89,Filtros!$A$5:$AY$22116,12,FALSE),0)","v":344},{"$f":"IFERROR(VLOOKUP($A89,Filtros!$A$5:$AY$22116,13,FALSE),0)","v":885},{"$nulls":20},"","","","","","",{"$nulls":5},0,0,0,0,0,0]
["P9100650","SALUD SEXUAL REPRODUCTIVA","10-14 años",{"$f":"IFERROR(VLOOKUP($A90,Filtros!$A$5:$AY$22116,2,FALSE),0)","v":1309},{"$f":"IFERROR(VLOOKUP($A90,Filtros!$A$5:$AY$22116,3,FALSE),0)","v":502},{"$f":"IFERROR(VLOOKUP($A90,Filtros!$A$5:$AY$22116,4,FALSE),0)","v":807},{"$f":"IFERROR(VLOOKUP($A90,Filtros!$A$5:$AY$22116,5,FALSE),0)","v":73},{"$f":"IFERROR(VLOOKUP($A90,Filtros!$A$5:$AY$22116,6,FALSE),0)","v":27},{"$f":"IFERROR(VLOOKUP($A90,Filtros!$A$5:$AY$22116,7,FALSE),0)","v":46},{"$f":"IFERROR(VLOOKUP($A90,Filtros!$A$5:$AY$22116,8,FALSE),0)","v":29},{"$f":"IFERROR(VLOOKUP($A90,Filtros!$A$5:$AY$22116,9,FALSE),0)","v":14},{"$f":"IFERROR(VLOOKUP($A90,Filtros!$A$5:$AY$22116,10,FALSE),0)","v":15},{"$f":"IFERROR(VLOOKUP($A90,Filtros!$A$5:$AY$22116,11,FALSE),0)","v":245},{"$f":"IFERROR(VLOOKUP($A90,Filtros!$A$5:$AY$22116,12,FALSE),0)","v":93},{"$f":"IFERROR(VLOOKUP($A90,Filtros!$A$5:$AY$22116,13,FALSE),0)","v":152},{"$nulls":20},"","","","","","",{"$nulls":5},0,0,0,0,0,0]
["P9100660",null,"15 - 19 años",{"$f":"IFERROR(VLOOKUP($A91,Filtros!$A$5:$AY$22116,2,FALSE),0)","v":2494},{"$f":"IFERROR(VLOOKUP($A91,Filtros!$A$5:$AY$22116,3,FALSE),0)","v":498},{"$f":"IFERROR(VLOOKUP($A91,Filtros!$A$5:$AY$22116,4,FALSE),0)","v":1996},{"$f":"IFERROR(VLOOKUP($A91,Filtros!$A$5:$AY$22116,5,FALSE),0)","v":210},{"$f":"IFERROR(VLOOKUP($A91,Filtros!$A$5:$AY$22116,6,FALSE),0)","v":9},{"$f":"IFERROR(VLOOKUP($A91,Filtros!$A$5:$AY$22116,7,FALSE),0)","v":201},{"$f":"IFERROR(VLOOKUP($A91,Filtros!$A$5:$AY$22116,8,FALSE),0)","v":16},{"$f":"IFERROR(VLOOKUP($A91,Filtros!$A$5:$AY$22116,9,FALSE),0)","v":1},{"$f":"IFERROR(VLOOKUP($A91,Filtros!$A$5:$AY$22116,10,FALSE),0)","v":15},{"$f":"IFERROR(VLOOKUP($A91,Filtros!$A$5:$AY$22116,11,FALSE),0)","v":1538},{"$f":"IFERROR(VLOOKUP($A91,Filtros!$A$5:$AY$22116,12,FALSE),0)","v":372},{"$f":"IFERROR(VLOOKUP($A91,Filtros!$A$5:$AY$22116,13,FALSE),0)","v":1166},{"$nulls":20},"","","","","","",{"$nulls":5},0,0,0,0,0,0]
["P9100670","REGULACION DE FECUNDIDAD","10-14 años",{"$f":"IFERROR(VLOOKUP($A92,Filtros!$A$5:$AY$22116,2,FALSE),0)","v":912},{"$f":"IFERROR(VLOOKUP($A92,Filtros!$A$5:$AY$22116,3,FALSE),0)","v":309},{"$f":"IFERROR(VLOOKUP($A92,Filtros!$A$5:$AY$22116,4,FALSE),0)","v":603},{"$f":"IFERROR(VLOOKUP($A92,Filtros!$A$5:$AY$22116,5,FALSE),0)","v":40},{"$f":"IFERROR(VLOOKUP($A92,Filtros!$A$5:$AY$22116,6,FALSE),0)","v":9},{"$f":"IFERROR(VLOOKUP($A92,Filtros!$A$5:$AY$22116,7,FALSE),0)","v":31},{"$f":"IFERROR(VLOOKUP($A92,Filtros!$A$5:$AY$22116,8,FALSE),0)","v":18},{"$f":"IFERROR(VLOOKUP($A92,Filtros!$A$5:$AY$22116,9,FALSE),0)","v":8},{"$f":"IFERROR(VLOOKUP($A92,Filtros!$A$5:$AY$22116,10,FALSE),0)","v":10},{"$f":"IFERROR(VLOOKUP($A92,Filtros!$A$5:$AY$22116,11,FALSE),0)","v":185},{"$f":"IFERROR(VLOOKUP($A92,Filtros!$A$5:$AY$22116,12,FALSE),0)","v":53},{"$f":"IFERROR(VLOOKUP($A92,Filtros!$A$5:$AY$22116,13,FALSE),0)","v":132},{"$nulls":20},"","","","","","",{"$nulls":5},0,0,0,0,0,0]
["P9100680",null,"15 - 19 años",{"$f":"IFERROR(VLOOKUP($A93,Filtros!$A$5:$AY$22116,2,FALSE),0)","v":2789},{"$f":"IFERROR(VLOOKUP($A93,Filtros!$A$5:$AY$22116,3,FALSE),0)","v":384},{"$f":"IFERROR(VLOOKUP($A93,Filtros!$A$5:$AY$22116,4,FALSE),0)","v":2405},{"$f":"IFERROR(VLOOKUP($A93,Filtros!$A$5:$AY$22116,5,FALSE),0)","v":207},{"$f":"IFERROR(VLOOKUP($A93,Filtros!$A$5:$AY$22116,6,FALSE),0)","v":6},{"$f":"IFERROR(VLOOKUP($A93,Filtros!$A$5:$AY$22116,7,FALSE),0)","v":201},{"$f":"IFERROR(VLOOKUP($A93,Filtros!$A$5:$AY$22116,8,FALSE),0)","v":19},{"$f":"IFERROR(VLOOKUP($A93,Filtros!$A$5:$AY$22116,9,FALSE),0)","v":3},{"$f":"IFERROR(VLOOKUP($A93,Filtros!$A$5:$AY$22116,10,FALSE),0)","v":16},{"$f":"IFERROR(VLOOKUP($A93,Filtros!$A$5:$AY$22116,11,FALSE),0)","v":1444},{"$f":"IFERROR(VLOOKUP($A93,Filtros!$A$5:$AY$22116,12,FALSE),0)","v":292},{"$f":"IFERROR(VLOOKUP($A93,Filtros!$A$5:$AY$22116,13,FALSE),0)","v":1152},{"$nulls":20},"","","","","","",{"$nulls":5},0,0,0,0,0,0]
["P9100690","PREVENCION VIH-ITS","10-14 años",{"$f":"IFERROR(VLOOKUP($A94,Filtros!$A$5:$AY$22116,2,FALSE),0)","v":936},{"$f":"IFERROR(VLOOKUP($A94,Filtros!$A$5:$AY$22116,3,FALSE),0)","v":344},{"$f":"IFERROR(VLOOKUP($A94,Filtros!$A$5:$AY$22116,4,FALSE),0)","v":592},{"$f":"IFERROR(VLOOKUP($A94,Filtros!$A$5:$AY$22116,5,FALSE),0)","v":51},{"$f":"IFERROR(VLOOKUP($A94,Filtros!$A$5:$AY$22116,6,FALSE),0)","v":10},{"$f":"IFERROR(VLOOKUP($A94,Filtros!$A$5:$AY$22116,7,FALSE),0)","v":41},{"$f":"IFERROR(VLOOKUP($A94,Filtros!$A$5:$AY$22116,8,FALSE),0)","v":18},{"$f":"IFERROR(VLOOKUP($A94,Filtros!$A$5:$AY$22116,9,FALSE),0)","v":10},{"$f":"IFERROR(VLOOKUP($A94,Filtros!$A$5:$AY$22116,10,FALSE),0)","v":8},{"$f":"IFERROR(VLOOKUP($A94,Filtros!$A$5:$AY$22116,11,FALSE),0)","v":262},{"$f":"IFERROR(VLOOKUP($A94,Filtros!$A$5:$AY$22116,12,FALSE),0)","v":86},{"$f":"IFERROR(VLOOKUP($A94,Filtros!$A$5:$AY$22116,13,FALSE),0)","v":176},{"$nulls":20},"","","","","","",{"$nulls":5},0,0,0,0,0,0]
["P9100700",null,"15 - 19 años",{"$f":"IFERROR(VLOOKUP($A95,Filtros!$A$5:$AY$22116,2,FALSE),0)","v":2568},{"$f":"IFERROR(VLOOKUP($A95,Filtros!$A$5:$AY$22116,3,FALSE),0)","v":479},{"$f":"IFERROR(VLOOKUP($A95,Filtros!$A$5:$AY$22116,4,FALSE),0)","v":2089},{"$f":"IFERROR(VLOOKUP($A95,Filtros!$A$5:$AY$22116,5,FALSE),0)","v":186},{"$f":"IFERROR(VLOOKUP($A95,Filtros!$A$5:$AY$22116,6,FALSE),0)","v":7},{"$f":"IFERROR(VLOOKUP($A95,Filtros!$A$5:$AY$22116,7,FALSE),0)","v":179},{"$f":"IFERROR(VLOOKUP($A95,Filtros!$A$5:$AY$22116,8,FALSE),0)","v":15},{"$f":"IFERROR(VLOOKUP($A95,Filtros!$A$5:$AY$22116,9,FALSE),0)","v":4},{"$f":"IFERROR(VLOOKUP($A95,Filtros!$A$5:$AY$22116,10,FALSE),0)","v":11},{"$f":"IFERROR(VLOOKUP($A95,Filtros!$A$5:$AY$22116,11,FALSE),0)","v":1946},{"$f":"IFERROR(VLOOKUP($A95,Filtros!$A$5:$AY$22116,12,FALSE),0)","v":403},{"$f":"IFERROR(VLOOKUP($A95,Filtros!$A$5:$AY$22116,13,FALSE),0)","v":1543},{"$nulls":20},"","","","","","",{"$nulls":5},0,0,0,0,0,0]
[]
[]
[]
[]
[]
[null,{"$f":"SUM(D12:R40,D46:R51,D57:R62,D68:R77,D82:O95)","v":416814},"datos"]
[null,{"$f":"SUM(AU11:AZ96)","v":4},"errores"]

{"sheet":"P11","index":9,"n_rows":43,"n_cols":75,"rows_kept":43,"merged":[[6,1,6,17],[8,1,10,3],[8,4,9,6],[8,7,8,44],[8,45,9,46],[8,47,10,47],[8,48,10,48],[8,49,10,49],[8,55,9,56],[8,57,10,57],[8,58,10,58],[8,59,10,59],[8,60,9,60],[8,61,9,61],[8,62,9,62],[8,63,9,63],[8,66,9,67],[8,68,10,68],[8,69,10,69],[8,70,10,70],[8,71,9,71],[8,72,9,72],[8,73,9,73],[8,74,9,74],[9,7,9,8],[9,9,9,10],[9,11,9,12],[9,13,9,14],[9,15,9,16],[9,17,9,18],[9,19,9,20],[9,21,9,22],[9,23,9,24],[9,25,9,26],[9,27,9,28],[9,29,9,30],[9,31,9,32],[9,33,9,34],[9,35,9,36],[9,37,9,38],[9,39,9,40],[9,41,9,42],[9,43,9,44],[11,1,14,1],[11,2,12,2],[13,2,14,2],[15,1,16,1],[18,1,20,1],[18,2,19,4],[18,5,18,32],[18,33,19,34],[18,35,20,35],[18,36,20,36],[18,56,19,57],[18,58,20,58],[18,59,20,59],[18,60,19,60],[18,61,19,61],[18,62,19,62],[18,67,19,68],[18,69,20,69],[18,70,20,70],[18,71,19,71],[18,72,19,72],[18,73,19,73],[19,5,19,6],[19,7,19,8],[19,9,19,10],[19,11,19,12],[19,13,19,14],[19,15,19,16],[19,17,19,18],[19,19,19,20],[19,21,19,22],[19,23,19,24],[19,25,19,26],[19,27,19,28],[19,29,19,30],[19,31,19,32]]}
[]
[]
[]
[]
[]
[]
[null,"REM-P11. POBLACIÓN EN CONTROL PROGRAMA DE INFECCIONES DE TRASMISIÓN SEXUAL - VIH / SIDA"]
[null,"SECCION A: POBLACIÓN EN CONTROL DEL PROGRAMA DE VIH/SIDA (Uso exclusivo Centros de Atención VIH-SIDA)"]
[null,"CONCEPTO",null,null,"TOTAL",null,null,"GRUPOS DE EDAD (en años)",{"$nulls":37},"TRANS",null,"Pueblos Originarios","Población Migrantes","Niños, Niñas, Adolescentes y Jóvenes Población SENAME",{"$nulls":5},"TRANS",null,"Pueblos Originarios","Población Migrantes","Población SENAME","TRANS","Pueblos Originarios","Población Migrantes","Población SENAME",null,null,"TRANS",null,"Pueblos Originarios","Población Migrantes","Población SENAME","TRANS","Pueblos Originarios","Población Migrantes","Población SENAME"]
[{"$nulls":7},"Menor 1 Año",null,"1 año",null,"2 a 4 años",null,"5 a 9 años",null,"10 a 14 años",null,"15 a 19 años",null,"20 a 24 años",null,"25 a 29 años",null,"30 a 34 años",null,"35 a 39 años",null,"40 a 44 años",null,"45 a 49 años",null,"50 a 54 años",null,"55 a 59 años",null,"60 a 64 años",null,"65 a 69 años",null,"70 a 74 años",null,"75 a 79 años",null,"80 y más años"]
[{"$nulls":4},"Ambos\nsexos","Hombres","Mujeres","Hombres ","Mujeres","Hombres ","Mujeres","Hombres ","Mujeres","Hombres ","Mujeres","Hombres ","Mujeres","Hombres ","Mujeres","Hombres ","Mujeres","Hombres ","Mujeres","Hombres ","Mujeres","Hombres ","Mujeres","Hombres ","Mujeres","Hombres ","Mujeres","Hombres ","Mujeres","Hombres ","Mujeres","Hombres ","Mujeres","Hombres ","Mujeres","Hombres ","Mujeres","Hombres ","Mujeres","Hombres ","Mujeres","Masculino","Femenino",{"$nulls":8},"Masculino","Femenino (NO)",{"$nulls":3},"No Olvide","No Olvide","No Olvide","No Olvide",null,null,"Masculino","Femenino (NO)",{"$nulls":3},"No Olvide","No Olvide","No Olvide","No Olvide"]
["P11000150","Nº TOTAL DE PERSONAS CON VIH/SIDA","GESTANTES","Inicia TARV en este embarazo",{"$f":"IFERROR(VLOOKUP($A12,Filtros!$A$5:$AY$22116,2,FALSE),0)","v":2},{"$f":"IFERROR(VLOOKUP($A12,Filtros!$A$5:$AY$22116,3,FALSE),0)","v":0},{"$f":"IFERROR(VLOOKUP($A12,Filtros!$A$5:$AY$22116,4,FALSE),0)","v":2},{"$f":"IFERROR(VLOOKUP($A12,Filtros!$A$5:$AY$22116,5,FALSE),0)","v":0},{"$f":"IFERROR(VLOOKUP($A12,Filtros!$A$5:$AY$22116,6,FALSE),0)","v":0},{"$f":"IFERROR(VLOOKUP($A12,Filtros!$A$5:$AY$22116,7,FALSE),0)","v":0},{"$f":"IFERROR(VLOOKUP($A12,Filtros!$A$5:$AY$22116,8,FALSE),0)","v":0},{"$f":"IFERROR(VLOOKUP($A12,Filtros!$A$5:$AY$22116,9,FALSE),0)","v":0},{"$f":"IFERROR(VLOOKUP($A12,Filtros!$A$5:$AY$22116,10,FALSE),0)","v":0},{"$f":"IFERROR(VLOOKUP($A12,Filtros!$A$5:$AY$22116,11,FALSE),0)","v":0},{"$f":"IFERROR(VLOOKUP($A12,Filtros!$A$5:$AY$22116,12,FALSE),0)","v":0},{"$f":"IFERROR(VLOOKUP($A12,Filtros!$A$5:$AY$22116,13,FALSE),0)","v":0},{"$f":"IFERROR(VLOOKUP($A12,Filtros!$A$5:$AY$22116,14,FALSE),0)","v":0},{"$f":"IFERROR(VLOOKUP($A12,Filtros!$A$5:$AY$22116,15,FALSE),0)","v":0},{"$f":"IFERROR(VLOOKUP($A12,Filtros!$A$5:$AY$22116,16,FALSE),0)","v":0},{"$f":"IFERROR(VLOOKUP($A12,Filtros!$A$5:$AY$22116,17,FALSE),0)","v":0},{"$f":"IFERROR(VLOOKUP($A12,Filtros!$A$5:$AY$22116,18,FALSE),0)","v":0},{"$f":"IFERROR(VLOOKUP($A12,Filtros!$A$5:$AY$22116,19,FALSE),0)","v":0},{"$f":"IFERROR(VLOOKUP($A12,Filtros!$A$5:$AY$22116,20,FALSE),0)","v":1},{"$f":"IFERROR(VLOOKUP($A12,Filtros!$A$5:$AY$22116,21,FALSE),0)","v":0},{"$f":"IFERROR(VLOOKUP($A12,Filtros!$A$5:$AY$22116,22,FALSE),0)","v":1},{"$f":"IFERROR(VLOOKUP($A12,Filtros!$A$5:$AY$22116,23,FALSE),0)","v":0},{"$f":"IFERROR(VLOOKUP($A12,Filtros!$A$5:$AY$22116,24,FALSE),0)","v":0},{"$f":"IFERROR(VLOOKUP($A12,Filtros!$A$5:$AY$22116,25,FALSE),0)","v":0},{"$f":"IFERROR(VLOOKUP($A12,Filtros!$A$5:$AY$22116,26,FALSE),0)","v":0},{"$f":"IFERROR(VLOOKUP($A12,Filtros!$A$5:$AY$22116,27,FALSE),0)","v":0},{"$f":"IFERROR(VLOOKUP($A12,Filtros!$A$5:$AY$22116,28,FALSE),0)","v":0},{"$f":"IFERROR(VLOOKUP($A12,Filtros!$A$5:$AY$22116,29,FALSE),0)","v":0},{"$f":"IFERROR(VLOOKUP($A12,Filtros!$A$5:$AY$22116,30,FALSE),0)","v":0},{"$f":"IFERROR(VLOOKUP($A12,Filtros!$A$5:$AY$22116,31,FALSE),0)","v":0},{"$f":"IFERROR(VLOOKUP($A12,Filtros!$A$5:$AY$22116,32,FALSE),0)","v":0},{"$f":"IFERROR(VLOOKUP($A12,Filtros!$A$5:$AY$22116,33,FALSE),0)","v":0},{"$f":"IFERROR(VLOOKUP($A12,Filtros!$A$5:$AY$22116,34,FALSE),0)","v":0},{"$f":"IFERROR(VLOOKUP($A12,Filtros!$A$5:$AY$22116,35,FALSE),0)","v":0},{"$f":"IFERROR(VLOOKUP($A12,Filtros!$A$5:$AY$22116,36,FALSE),0)","v":0},{"$f":"IFERROR(VLOOKUP($A12,Filtros!$A$5:$AY$22116,37,FALSE),0)","v":0},{"$f":"IFERROR(VLOOKUP($A12,Filtros!$A$5:$AY$22116,38,FALSE),0)","v":0},{"$f":"IFERROR(VLOOKUP($A12,Filtros!$A$5:$AY$22116,39,FALSE),0)","v":0},{"$f":"IFERROR(VLOOKUP($A12,Filtros!$A$5:$AY$22116,40,FALSE),0)","v":0},{"$f":"IFERROR(VLOOKUP($A12,Filtros!$A$5:$AY$22116,41,FALSE),0)","v":0},{"$f":"IFERROR(VLOOKUP($A12,Filtros!$A$5:$AY$22116,42,FALSE),0)","v":0},{"$f":"IFERROR(VLOOKUP($A12,Filtros!$A$5:$AY$22116,43,FALSE),0)","v":0},{"$f":"IFERROR(VLOOKUP($A12,Filtros!$A$5:$AY$22116,44,FALSE),0)","v":0},{"$f":"IFERROR(VLOOKUP($A12,Filtros!$A$5:$AY$22116,45,FALSE),0)","v":1},{"$f":"IFERROR(VLOOKUP($A12,Filtros!$A$5:$AY$22116,46,FALSE),0)","v":1},{"$f":"IFERROR(VLOOKUP($A12,Filtros!$A$5:$AY$22116,47,FALSE),0)","v":0},{"$f":"BD12&BE12&BF12&BG12&BH12&BI12&BJ12&BK12&BL12","v":""},{"$nulls":4},{"$f":"IF(($AT12+$AU12)<=$G12,\"\",\"* La suma de las celdas 'Trans' no debe ser mayor al Total de personas bajo control. \")","v":""},null,{"$f":"IF($AV12<=$G12,\"\",\"* La celda de 'Pueblos Originarios' no debe ser mayor al Total de personas bajo control. \")","v":""},{"$f":"IF($AW12<=$G12,\"\",\"* La celda de 'Población Migrantes' no debe ser mayor al Total de personas bajo control. \")","v":""},{"$f":"IF($AX12<=$G12,\"\",\"* La celda de 'Población SENAME' no debe ser mayor al Total de personas bajo control. \")","v":""},{"$f":"IF(AND($G12<>0,$AU12=\"\"),\"* No olvide escribir en la celda de Trans (Digite CERO si no tiene). \",IF(AND(E12<>0,AT12=\"\"),\"* No olvide escribir en la celda Trans (Digite CERO si no tiene). \",\"\"))","v":""},{"$f":"IF(AND($G12<>0,$AV12=\"\"),\"* No olvide escribir en la celda de Pueblos Originarios (Digite CERO si no tiene). \",\"\")","v":""},{"$f":"IF(AND($G12<>0,$AW12=\"\"),\"* No olvide escribir en la celda de Población Migrantes (Digite CERO si no tiene). \",\"\")","v":""},{"$f":"IF(AND($G12<>0,$AX12=\"\"),\"* No olvide escribir en la celda de Población SENAME (Digite CERO si no tiene). \",\"\")","v":""},null,null,{"$f":"IF(($AT12+$AU12)<=$G12,0,1)","v":0},null,{"$f":"IF($AV12<=$G12,0,1)","v":0},{"$f":"IF($AW12<=$G12,0,1)","v":0},{"$f":"IF($AX12<=$G12,0,1)","v":0},{"$f":"IF(AND($G12<>0,$AU12=\"\"),1,0)","v":0},{"$f":"IF(AND($G12<>0,$AV12=\"\"),1,0)","v":0},{"$f":"IF(AND($G12<>0,$AW12=\"\"),1,0)","v":0},{"$f":"IF(AND($G12<>0,$AX12=\"\"),1,0)","v":0}]
["P11000160",null,null,"en TARV previa",{"$f":"IFERROR(VLOOKUP($A13,Filtros!$A$5:$AY$22116,2,FALSE),0)","v":1},{"$f":"IFERROR(VLOOKUP($A13,Filtros!$A$5:$AY$22116,3,FALSE),0)","v":0},{"$f":"IFERROR(VLOOKUP($A13,Filtros!$A$5:$AY$22116,4,FALSE),0)","v":1},{"$f":"IFERROR(VLOOKUP($A13,Filtros!$A$5:$AY$22116,5,FALSE),0)","v":0},{"$f":"IFERROR(VLOOKUP($A13,Filtros!$A$5:$AY$22116,6,FALSE),0)","v":0},{"$f":"IFERROR(VLOOKUP($A13,Filtros!$A$5:$AY$22116,7,FALSE),0)","v":0},{"$f":"IFERROR(VLOOKUP($A13,Filtros!$A$5:$AY$22116,8,FALSE),0)","v":0},{"$f":"IFERROR(VLOOKUP($A13,Filtros!$A$5:$AY$22116,9,FALSE),0)","v":0},{"$f":"IFERROR(VLOOKUP($A13,Filtros!$A$5:$AY$22116,10,FALSE),0)","v":0},{"$f":"IFERROR(VLOOKUP($A13,Filtros!$A$5:$AY$22116,11,FALSE),0)","v":0},{"$f":"IFERROR(VLOOKUP($A13,Filtros!$A$5:$AY$22116,12,FALSE),0)","v":0},{"$f":"IFERROR(VLOOKUP($A13,Filtros!$A$5:$AY$22116,13,FALSE),0)","v":0},{"$f":"IFERROR(VLOOKUP($A13,Filtros!$A$5:$AY$22116,14,FALSE),0)","v":0},{"$f":"IFERROR(VLOOKUP($A13,Filtros!$A$5:$AY$22116,15,FALSE),0)","v":0},{"$f":"IFERROR(VLOOKUP($A13,Filtros!$A$5:$AY$22116,16,FALSE),0)","v":0},{"$f":"IFERROR(VLOOKUP($A13,Filtros!$A$5:$AY$22116,17,FALSE),0)","v":0},{"$f":"IFERROR(VLOOKUP($A13,Filtros!$A$5:$AY$22116,18,FALSE),0)","v":0},{"$f":"IFERROR(VLOOKUP($A13,Filtros!$A$5:$AY$22116,19,FALSE),0)","v":0},{"$f":"IFERROR(VLOOKUP($A13,Filtros!$A$5:$AY$22116,20,FALSE),0)","v":1},{"$f":"IFERROR(VLOOKUP($A13,Filtros!$A$5:$AY$22116,21,FALSE),0)","v":0},{"$f":"IFERROR(VLOOKUP($A13,Filtros!$A$5:$AY$22116,22,FALSE),0)","v":0},{"$f":"IFERROR(VLOOKUP($A13,Filtros!$A$5:$AY$22116,23,FALSE),0)","v":0},{"$f":"IFERROR(VLOOKUP($A13,Filtros!$A$5:$AY$22116,24,FALSE),0)","v":0},{"$f":"IFERROR(VLOOKUP($A13,Filtros!$A$5:$AY$22116,25,FALSE),0)","v":0},{"$f":"IFERROR(VLOOKUP($A13,Filtros!$A$5:$AY$22116,26,FALSE),0)","v":0},{"$f":"IFERROR(VLOOKUP($A13,Filtros!$A$5:$AY$22116,27,FALSE),0)","v":0},{"$f":"IFERROR(VLOOKUP($A13,Filtros!$A$5:$AY$22116,28,FALSE),0)","v":0},{"$f":"IFERROR(VLOOKUP($A13,Filtros!$A$5:$AY$22116,29,FALSE),0)","v":0},{"$f":"IFERROR(VLOOKUP($A13,Filtros!$A$5:$AY$22116,30,FALSE),0)","v":0},{"$f":"IFERROR(VLOOKUP($A13,Filtros!$A$5:$AY$22116,31,FALSE),0)","v":0},{"$f":"IFERROR(VLOOKUP($A13,Filtros!$A$5:$AY$22116,32,FALSE),0)","v":0},{"$f":"IFERROR(VLOOKUP($A13,Filtros!$A$5:$AY$22116,33,FALSE),0)","v":0},{"$f":"IFERROR(VLOOKUP($A13,Filtros!$A$5:$AY$22116,34,FALSE),0)","v":0},{"$f":"IFERROR(VLOOKUP($A13,Filtros!$A$5:$AY$22116,35,FALSE),0)","v":0},{"$f":"IFERROR(VLOOKUP($A13,Filtros!$A$5:$AY$22116,36,FALSE),0)","v":0},{"$f":"IFERROR(VLOOKUP($A13,Filtros!$A$5:$AY$22116,37,FALSE),0)","v":0},{"$f":"IFERROR(VLOOKUP($A13,Filtros!$A$5:$AY$22116,38,FALSE),0)","v":0},{"$f":"IFERROR(VLOOKUP($A13,Filtros!$A$5:$AY$22116,39,FALSE),0)","v":0},{"$f":"IFERROR(VLOOKUP($A13,Filtros!$A$5:$AY$22116,40,FALSE),0)","v":0},{"$f":"IFERROR(VLOOKUP($A13,Filtros!$A$5:$AY$22116,41,FALSE),0)","v":0},{"$f":"IFERROR(VLOOKUP($A13,Filtros!$A$5:$AY$22116,42,FALSE),0)","v":0},{"$f":"IFERROR(VLOOKUP($A13,Filtros!$A$5:$AY$22116,43,FALSE),0)","v":0},{"$f":"IFERROR(VLOOKUP($A13,Filtros!$A$5:$AY$22116,44,FALSE),0)","v":0},{"$f":"IFERROR(VLOOKUP($A13,Filtros!$A$5:$AY$22116,45,FALSE),0)","v":0},{"$f":"IFERROR(VLOOKUP($A13,Filtros!$A$5:$AY$22116,46,FALSE),0)","v":0},{"$f":"IFERROR(VLOOKUP($A13,Filtros!$A$5:$AY$22116,47,FALSE),0)","v":0},{"$f":"BD13&BE13&BF13&BG13&BH13&BI13&BJ13&BK13&BL13","v":""},{"$nulls":4},{"$f":"IF(($AT13+$AU13)<=$G13,\"\",\"* La suma de las celdas 'Trans' no debe ser mayor al Total de personas bajo control. \")","v":""},null,{"$f":"IF($AV13<=$G13,\"\",\"* La celda de 'Pueblos Originarios' no debe ser mayor al Total de personas bajo control. \")","v":""},{"$f":"IF($AW13<=$G13,\"\",\"* La celda de 'Población Migrantes' no debe ser mayor al Total de personas bajo control. \")","v":""},{"$f":"IF($AX13<=$G13,\"\",\"* La celda de 'Población SENAME' no debe ser mayor al Total de personas bajo control. \")","v":""},{"$f":"IF(AND($G13<>0,$AU13=\"\"),\"* No olvide escribir en la celda de Trans (Digite CERO si no tiene). \",IF(AND(E13<>0,AT13=\"\"),\"* No olvide escribir en la celda Trans (Digite CERO si no tiene). \",\"\"))","v":""},{"$f":"IF(AND($G13<>0,$AV13=\"\"),\"* No olvide escribir en la celda de Pueblos Originarios (Digite CERO si no tiene). \",\"\")","v":""},{"$f":"IF(AND($G13<>0,$AW13=\"\"),\"* No olvide escribir en la celda de Población Migrantes (Digite CERO si no tiene). \",\"\")","v":""},{"$f":"IF(AND($G13<>0,$AX13=\"\"),\"* No olvide escribir en la celda de Población SENAME (Digite CERO si no tiene). \",\"\")","v":""},null,null,{"$f":"IF(($AT13+$AU13)<=$G13,0,1)","v":0},null,{"$f":"IF($AV13<=$G13,0,1)","v":0},{"$f":"IF($AW13<=$G13,0,1)","v":0},{"$f":"IF($AX13<=$G13,0,1)","v":0},{"$f":"IF(AND($G13<>0,$AU13=\"\"),1,0)","v":0},{"$f":"IF(AND($G13<>0,$AV13=\"\"),1,0)","v":0},{"$f":"IF(AND($G13<>0,$AW13=\"\"),1,0)","v":0},{"$f":"IF(AND($G13<>0,$AX13=\"\"),1,0)","v":0}]
["P11000170",null,"NO GESTANTES","Con TARV",{"$f":"IFERROR(VLOOKUP($A14,Filtros!$A$5:$AY$22116,2,FALSE),0)","v":0},{"$f":"IFERROR(VLOOKUP($A14,Filtros!$A$5:$AY$22116,3,FALSE),0)","v":0},{"$f":"IFERROR(VLOOKUP($A14,Filtros!$A$5:$AY$22116,4,FALSE),0)","v":0},{"$f":"IFERROR(VLOOKUP($A14,Filtros!$A$5:$AY$22116,5,FALSE),0)","v":0},{"$f":"IFERROR(VLOOKUP($A14,Filtros!$A$5:$AY$22116,6,FALSE),0)","v":0},{"$f":"IFERROR(VLOOKUP($A14,Filtros!$A$5:$AY$22116,7,FALSE),0)","v":0},{"$f":"IFERROR(VLOOKUP($A14,Filtros!$A$5:$AY$22116,8,FALSE),0)","v":0},{"$f":"IFERROR(VLOOKUP($A14,Filtros!$A$5:$AY$22116,9,FALSE),0)","v":0},{"$f":"IFERROR(VLOOKUP($A14,Filtros!$A$5:$AY$22116,10,FALSE),0)","v":0},{"$f":"IFERROR(VLOOKUP($A14,Filtros!$A$5:$AY$22116,11,FALSE),0)","v":0},{"$f":"IFERROR(VLOOKUP($A14,Filtros!$A$5:$AY$22116,12,FALSE),0)","v":0},{"$f":"IFERROR(VLOOKUP($A14,Filtros!$A$5:$AY$22116,13,FALSE),0)","v":0},{"$f":"IFERROR(VLOOKUP($A14,Filtros!$A$5:$AY$22116,14,FALSE),0)","v":0},{"$f":"IFERROR(VLOOKUP($A14,Filtros!$A$5:$AY$22116,15,FALSE),0)","v":0},{"$f":"IFERROR(VLOOKUP($A14,Filtros!$A$5:$AY$22116,16,FALSE),0)","v":0},{"$f":"IFERROR(VLOOKUP($A14,Filtros!$A$5:$AY$22116,17,FALSE),0)","v":0},{"$f":"IFERROR(VLOOKUP($A14,Filtros!$A$5:$AY$22116,18,FALSE),0)","v":0},{"$f":"IFERROR(VLOOKUP($A14,Filtros!$A$5:$AY$22116,19,FALSE),0)","v":0},{"$f":"IFERROR(VLOOKUP($A14,Filtros!$A$5:$AY$22116,20,FALSE),0)","v":0},{"$f":"IFERROR(VLOOKUP($A14,Filtros!$A$5:$AY$22116,21,FALSE),0)","v":0},{"$f":"IFERROR(VLOOKUP($A14,Filtros!$A$5:$AY$22116,22,FALSE),0)","v":0},{"$f":"IFERROR(VLOOKUP($A14,Filtros!$A$5:$AY$22116,23,FALSE),0)","v":0},{"$f":"IFERROR(VLOOKUP($A14,Filtros!$A$5:$AY$22116,24,FALSE),0)","v":0},{"$f":"IFERROR(VLOOKUP($A14,Filtros!$A$5:$AY$22116,25,FALSE),0)","v":0},{"$f":"IFERROR(VLOOKUP($A14,Filtros!$A$5:$AY$22116,26,FALSE),0)","v":0},{"$f":"IFERROR(VLOOKUP($A14,Filtros!$A$5:$AY$22116,27,FALSE),0)","v":0},{"$f":"IFERROR(VLOOKUP($A14,Filtros!$A$5:$AY$22116,28,FALSE),0)","v":0},{"$f":"IFERROR(VLOOKUP($A14,Filtros!$A$5:$AY$22116,29,FALSE),0)","v":0},{"$f":"IFERROR(VLOOKUP($A14,Filtros!$A$5:$AY$22116,30,FALSE),0)","v":0},{"$f":"IFERROR(VLOOKUP($A14,Filtros!$A$5:$AY$22116,31,FALSE),0)","v":0},{"$f":"IFERROR(VLOOKUP($A14,Filtros!$A$5:$AY$22116,32,FALSE),0)","v":0},{"$f":"IFERROR(VLOOKUP($A14,Filtros!$A$5:$AY$22116,33,FALSE),0)","v":0},{"$f":"IFERROR(VLOOKUP($A14,Filtros!$A$5:$AY$22116,34,FALSE),0)","v":0},{"$f":"IFERROR(VLOOKUP($A14,Filtros!$A$5:$AY$22116,35,FALSE),0)","v":0},{"$f":"IFERROR(VLOOKUP($A14,Filtros!$A$5:$AY$22116,36,FALSE),0)","v":0},{"$f":"IFERROR(VLOOKUP($A14,Filtros!$A$5:$AY$22116,37,FALSE),0)","v":0},{"$f":"IFERROR(VLOOKUP($A14,Filtros!$A$5:$AY$22116,38,FALSE),0)","v":0},{"$f":"IFERROR(VLOOKUP($A14,Filtros!$A$5:$AY$22116,39,FALSE),0)","v":0},{"$f":"IFERROR(VLOOKUP($A14,Filtros!$A$5:$AY$22116,40,FALSE),0)","v":0},{"$f":"IFERROR(VLOOKUP($A14,Filtros!$A$5:$AY$22116,41,FALSE),0)","v":0},{"$f":"IFERROR(VLOOKUP($A14,Filtros!$A$5:$AY$22116,42,FALSE),0)","v":0},{"$f":"IFERROR(VLOOKUP($A14,Filtros!$A$5:$AY$22116,43,FALSE),0)","v":0},{"$f":"IFERROR(VLOOKUP($A14,Filtros!$A$5:$AY$22116,44,FALSE),0)","v":0},{"$f":"IFERROR(VLOOKUP($A14,Filtros!$A$5:$AY$22116,45,FALSE),0)","v":0},{"$f":"IFERROR(VLOOKUP($A14,Filtros!$A$5:$AY$22116,46,FALSE),0)","v":0},{"$f":"IFERROR(VLOOKUP($A14,Filtros!$A$5:$AY$22116,47,FALSE),0)","v":0},{"$f":"BD14&BE14&BF14&BG14&BH14&BI14&BJ14&BK14&BL14","v":""},{"$nulls":4},{"$f":"IF(($AT14+$AU14)<=$E14,\"\",\"* La suma de las celdas 'Trans' no debe ser mayor al Total de personas bajo control. \")","v":""},null,{"$f":"IF($AV14<=$E14,\"\",\"* La celda de 'Pueblos Originarios' no debe ser mayor al Total de personas bajo control. \")","v":""},{"$f":"IF($AW14<=$E14,\"\",\"* La celda de 'Población Migrantes' no debe ser mayor al Total de personas bajo control. \")","v":""},{"$f":"IF($AX14<=$E14,\"\",\"* La celda de 'Población SENAME' no debe ser mayor al Total de personas bajo control. \")","v":""},{"$f":"IF(AND($E14<>0,$AU14=\"\"),\"* No olvide escribir en la celda de Trans (Digite CERO si no tiene). \",IF(AND(E14<>0,AT14=\"\"),\"* No olvide escribir en la celda Trans (Digite CERO si no tiene). \",\"\"))","v":""},{"$f":"IF(AND($E14<>0,$AV14=\"\"),\"* No olvide escribir en la celda de Pueblos Originarios (Digite CERO si no tiene). \",\"\")","v":""},{"$f":"IF(AND($E14<>0,$AW14=\"\"),\"* No olvide escribir en la celda de Población Migrantes (Digite CERO si no tiene). \",\"\")","v":""},{"$f":"IF(AND($E14<>0,$AX14=\"\"),\"* No olvide escribir en la celda de Población SENAME (Digite CERO si no tiene). \",\"\")","v":""},null,null,{"$f":"IF(($AT14+$AU14)<=$E14,0,1)","v":0},null,{"$f":"IF($AV14<=$E14,0,1)","v":0},{"$f":"IF($AW14<=$E14,0,1)","v":0},{"$f":"IF($AX14<=$E14,0,1)","v":0},{"$f":"IF(AND($E14<>0,$AU14=\"\"),1,0)","v":0},{"$f":"IF(AND($E14<>0,$AV14=\"\"),1,0)","v":0},{"$f":"IF(AND($E14<>0,$AW14=\"\"),1,0)","v":0},{"$f":"IF(AND($E14<>0,$AX14=\"\"),1,0)","v":0}]
["P11000180",null,null,"Sin TARV",{"$f":"IFERROR(VLOOKUP($A15,Filtros!$A$5:$AY$22116,2,FALSE),0)","v":0},{"$f":"IFERROR(VLOOKUP($A15,Filtros!$A$5:$AY$22116,3,FALSE),0)","v":0},{"$f":"IFERROR(VLOOKUP($A15,Filtros!$A$5:$AY$22116,4,FALSE),0)","v":0},{"$f":"IFERROR(VLOOKUP($A15,Filtros!$A$5:$AY$22116,5,FALSE),0)","v":0},{"$f":"IFERROR(VLOOKUP($A15,Filtros!$A$5:$AY$22116,6,FALSE),0)","v":0},{"$f":"IFERROR(VLOOKUP($A15,Filtros!$A$5:$AY$22116,7,FALSE),0)","v":0},{"$f":"IFERROR(VLOOKUP($A15,Filtros!$A$5:$AY$22116,8,FALSE),0)","v":0},{"$f":"IFERROR(VLOOKUP($A15,Filtros!$A$5:$AY$22116,9,FALSE),0)","v":0},{"$f":"IFERROR(VLOOKUP($A15,Filtros!$A$5:$AY$22116,10,FALSE),0)","v":0},{"$f":"IFERROR(VLOOKUP($A15,Filtros!$A$5:$AY$22116,11,FALSE),0)","v":0},{"$f":"IFERROR(VLOOKUP($A15,Filtros!$A$5:$AY$22116,12,FALSE),0)","v":0},{"$f":"IFERROR(VLOOKUP($A15,Filtros!$A$5:$AY$22116,13,FALSE),0)","v":0},{"$f":"IFERROR(VLOOKUP($A15,Filtros!$A$5:$AY$22116,14,FALSE),0)","v":0},{"$f":"IFERROR(VLOOKUP($A15,Filtros!$A$5:$AY$22116,15,FALSE),0)","v":0},{"$f":"IFERROR(VLOOKUP($A15,Filtros!$A$5:$AY$22116,16,FALSE),0)","v":0},{"$f":"IFERROR(VLOOKUP($A15,Filtros!$A$5:$AY$22116,17,FALSE),0)","v":0},{"$f":"IFERROR(VLOOKUP($A15,Filtros!$A$5:$AY$22116,18,FALSE),0)","v":0},{"$f":"IFERROR(VLOOKUP($A15,Filtros!$A$5:$AY$22116,19,FALSE),0)","v":0},{"$f":"IFERROR(VLOOKUP($A15,Filtros!$A$5:$AY$22116,20,FALSE),0)","v":0},{"$f":"IFERROR(VLOOKUP($A15,Filtros!$A$5:$AY$22116,21,FALSE),0)","v":0},{"$f":"IFERROR(VLOOKUP($A15,Filtros!$A$5:$AY$22116,22,FALSE),0)","v":0},{"$f":"IFERROR(VLOOKUP($A15,Filtros!$A$5:$AY$22116,23,FALSE),0)","v":0},{"$f":"IFERROR(VLOOKUP($A15,Filtros!$A$5:$AY$22116,24,FALSE),0)","v":0},{"$f":"IFERROR(VLOOKUP($A15,Filtros!$A$5:$AY$22116,25,FALSE),0)","v":0},{"$f":"IFERROR(VLOOKUP($A15,Filtros!$A$5:$AY$22116,26,FALSE),0)","v":0},{"$f":"IFERROR(VLOOKUP($A15,Filtros!$A$5:$AY$22116,27,FALSE),0)","v":0},{"$f":"IFERROR(VLOOKUP($A15,Filtros!$A$5:$AY$22116,28,FALSE),0)","v":0},{"$f":"IFERROR(VLOOKUP($A15,Filtros!$A$5:$AY$22116,29,FALSE),0)","v":0},{"$f":"IFERROR(VLOOKUP($A15,Filtros!$A$5:$AY$22116,30,FALSE),0)","v":0},{"$f":"IFERROR(VLOOKUP($A15,Filtros!$A$5:$AY$22116,31,FALSE),0)","v":0},{"$f":"IFERROR(VLOOKUP($A15,Filtros!$A$5:$AY$22116,32,FALSE),0)","v":0},{"$f":"IFERROR(VLOOKUP($A15,Filtros!$A$5:$AY$22116,33,FALSE),0)","v":0},{"$f":"IFERROR(VLOOKUP($A15,Filtros!$A$5:$AY$22116,34,FALSE),0)","v":0},{"$f":"IFERROR(VLOOKUP($A15,Filtros!$A$5:$AY$22116,35,FALSE),0)","v":0},{"$f":"IFERROR(VLOOKUP($A15,Filtros!$A$5:$AY$22116,36,FALSE),0)","v":0},{"$f":"IFERROR(VLOOKUP($A15,Filtros!$A$5:$AY$22116,37,FALSE),0)","v":0},{"$f":"IFERROR(VLOOKUP($A15,Filtros!$A$5:$AY$22116,38,FALSE),0)","v":0},{"$f":"IFERROR(VLOOKUP($A15,Filtros!$A$5:$AY$22116,39,FALSE),0)","v":0},{"$f":"IFERROR(VLOOKUP($A15,Filtros!$A$5:$AY$22116,40,FALSE),0)","v":0},{"$f":"IFERROR(VLOOKUP($A15,Filtros!$A$5:$AY$22116,41,FALSE),0)","v":0},{"$f":"IFERROR(VLOOKUP($A15,Filtros!$A$5:$AY$22116,42,FALSE),0)","v":0},{"$f":"IFERROR(VLOOKUP($A15,Filtros!$A$5:$AY$22116,43,FALSE),0)","v":0},{"$f":"IFERROR(VLOOKUP($A15,Filtros!$A$5:$AY$22116,44,FALSE),0)","v":0},{"$f":"IFERROR(VLOOKUP($A15,Filtros!$A$5:$AY$22116,45,FALSE),0)","v":0},{"$f":"IFERROR(VLOOKUP($A15,Filtros!$A$5:$AY$22116,46,FALSE),0)","v":0},{"$f":"IFERROR(VLOOKUP($A15,Filtros!$A$5:$AY$22116,47,FALSE),0)","v":0},{"$f":"BD15&BE15&BF15&BG15&BH15&BI15&BJ15&BK15&BL15","v":""},{"$nulls":4},{"$f":"IF(($AT15+$AU15)<=$E15,\"\",\"* La suma de las celdas 'Trans' no debe ser mayor al Total de personas bajo control. \")","v":""},null,{"$f":"IF($AV15<=$E15,\"\",\"* La celda de 'Pueblos Originarios' no debe ser mayor al Total de personas bajo control. \")","v":""},{"$f":"IF($AW15<=$E15,\"\",\"* La celda de 'Población Migrantes' no debe ser mayor al Total de personas bajo control. \")","v":""},{"$f":"IF($AX15<=$E15,\"\",\"* La celda de 'Población SENAME' no debe ser mayor al Total de personas bajo control. \")","v":""},{"$f":"IF(AND($E15<>0,$AU15=\"\"),\"* No olvide escribir en la celda de Trans (Digite CERO si no tiene). \",IF(AND(E15<>0,AT15=\"\"),\"* No olvide escribir en la celda Trans (Digite CERO si no tiene). \",\"\"))","v":""},{"$f":"IF(AND($E15<>0,$AV15=\"\"),\"* No olvide escribir en la celda de Pueblos Originarios (Digite CERO si no tiene). \",\"\")","v":""},{"$f":"IF(AND($E15<>0,$AW15=\"\"),\"* No olvide escribir en la celda de Población Migrantes (Digite CERO si no tiene). \",\"\")","v":""},{"$f":"IF(AND($E15<>0,$AX15=\"\"),\"* No olvide escribir en la celda de Población SENAME (Digite CERO si no tiene). \",\"\")","v":""},null,null,{"$f":"IF(($AT15+$AU15)<=$E15,0,1)","v":0},null,{"$f":"IF($AV15<=$E15,0,1)","v":0},{"$f":"IF($AW15<=$E15,0,1)","v":0},{"$f":"IF($AX15<=$E15,0,1)","v":0},{"$f":"IF(AND($E15<>0,$AU15=\"\"),1,0)","v":0},{"$f":"IF(AND($E15<>0,$AV15=\"\"),1,0)","v":0},{"$f":"IF(AND($E15<>0,$AW15=\"\"),1,0)","v":0},{"$f":"IF(AND($E15<>0,$AX15=\"\"),1,0)","v":0}]
["P11000190","N° DE PERSONAS EN TARV","GESTANTES","Con carga viral <a 1000 copias",{"$f":"IFERROR(VLOOKUP($A16,Filtros!$A$5:$AY$22116,2,FALSE),0)","v":3},{"$f":"IFERROR(VLOOKUP($A16,Filtros!$A$5:$AY$22116,3,FALSE),0)","v":0},{"$f":"IFERROR(VLOOKUP($A16,Filtros!$A$5:$AY$22116,4,FALSE),0)","v":3},{"$f":"IFERROR(VLOOKUP($A16,Filtros!$A$5:$AY$22116,5,FALSE),0)","v":0},{"$f":"IFERROR(VLOOKUP($A16,Filtros!$A$5:$AY$22116,6,FALSE),0)","v":0},{"$f":"IFERROR(VLOOKUP($A16,Filtros!$A$5:$AY$22116,7,FALSE),0)","v":0},{"$f":"IFERROR(VLOOKUP($A16,Filtros!$A$5:$AY$22116,8,FALSE),0)","v":0},{"$f":"IFERROR(VLOOKUP($A16,Filtros!$A$5:$AY$22116,9,FALSE),0)","v":0},{"$f":"IFERROR(VLOOKUP($A16,Filtros!$A$5:$AY$22116,10,FALSE),0)","v":0},{"$f":"IFERROR(VLOOKUP($A16,Filtros!$A$5:$AY$22116,11,FALSE),0)","v":0},{"$f":"IFERROR(VLOOKUP($A16,Filtros!$A$5:$AY$22116,12,FALSE),0)","v":0},{"$f":"IFERROR(VLOOKUP($A16,Filtros!$A$5:$AY$22116,13,FALSE),0)","v":0},{"$f":"IFERROR(VLOOKUP($A16,Filtros!$A$5:$AY$22116,14,FALSE),0)","v":0},{"$f":"IFERROR(VLOOKUP($A16,Filtros!$A$5:$AY$22116,15,FALSE),0)","v":0},{"$f":"IFERROR(VLOOKUP($A16,Filtros!$A$5:$AY$22116,16,FALSE),0)","v":0},{"$f":"IFERROR(VLOOKUP($A16,Filtros!$A$5:$AY$22116,17,FALSE),0)","v":0},{"$f":"IFERROR(VLOOKUP($A16,Filtros!$A$5:$AY$22116,18,FALSE),0)","v":0},{"$f":"IFERROR(VLOOKUP($A16,Filtros!$A$5:$AY$22116,19,FALSE),0)","v":0},{"$f":"IFERROR(VLOOKUP($A16,Filtros!$A$5:$AY$22116,20,FALSE),0)","v":2},{"$f":"IFERROR(VLOOKUP($A16,Filtros!$A$5:$AY$22116,21,FALSE),0)","v":0},{"$f":"IFERROR(VLOOKUP($A16,Filtros!$A$5:$AY$22116,22,FALSE),0)","v":1},{"$f":"IFERROR(VLOOKUP($A16,Filtros!$A$5:$AY$22116,23,FALSE),0)","v":0},{"$f":"IFERROR(VLOOKUP($A16,Filtros!$A$5:$AY$22116,24,FALSE),0)","v":0},{"$f":"IFERROR(VLOOKUP($A16,Filtros!$A$5:$AY$22116,25,FALSE),0)","v":0},{"$f":"IFERROR(VLOOKUP($A16,Filtros!$A$5:$AY$22116,26,FALSE),0)","v":0},{"$f":"IFERROR(VLOOKUP($A16,Filtros!$A$5:$AY$22116,27,FALSE),0)","v":0},{"$f":"IFERROR(VLOOKUP($A16,Filtros!$A$5:$AY$22116,28,FALSE),0)","v":0},{"$f":"IFERROR(VLOOKUP($A16,Filtros!$A$5:$AY$22116,29,FALSE),0)","v":0},{"$f":"IFERROR(VLOOKUP($A16,Filtros!$A$5:$AY$22116,30,FALSE),0)","v":0},{"$f":"IFERROR(VLOOKUP($A16,Filtros!$A$5:$AY$22116,31,FALSE),0)","v":0},{"$f":"IFERROR(VLOOKUP($A16,Filtros!$A$5:$AY$22116,32,FALSE),0)","v":0},{"$f":"IFERROR(VLOOKUP($A16,Filtros!$A$5:$AY$22116,33,FALSE),0)","v":0},{"$f":"IFERROR(VLOOKUP($A16,Filtros!$A$5:$AY$22116,34,FALSE),0)","v":0},{"$f":"IFERROR(VLOOKUP($A16,Filtros!$A$5:$AY$22116,35,FALSE),0)","v":0},{"$f":"IFERROR(VLOOKUP($A16,Filtros!$A$5:$AY$22116,36,FALSE),0)","v":0},{"$f":"IFERROR(VLOOKUP($A16,Filtros!$A$5:$AY$22116,37,FALSE),0)","v":0},{"$f":"IFERROR(VLOOKUP($A16,Filtros!$A$5:$AY$22116,38,FALSE),0)","v":0},{"$f":"IFERROR(VLOOKUP($A16,Filtros!$A$5:$AY$22116,39,FALSE),0)","v":0},{"$f":"IFERROR(VLOOKUP($A16,Filtros!$A$5:$AY$22116,40,FALSE),0)","v":0},{"$f":"IFERROR(VLOOKUP($A16,Filtros!$A$5:$AY$22116,41,FALSE),0)","v":0},{"$f":"IFERROR(VLOOKUP($A16,Filtros!$A$5:$AY$22116,42,FALSE),0)","v":0},{"$f":"IFERROR(VLOOKUP($A16,Filtros!$A$5:$AY$22116,43,FALSE),0)","v":0},{"$f":"IFERROR(VLOOKUP($A16,Filtros!$A$5:$AY$22116,44,FALSE),0)","v":0},{"$f":"IFERROR(VLOOKUP($A16,Filtros!$A$5:$AY$22116,45,FALSE),0)","v":1},{"$f":"IFERROR(VLOOKUP($A16,Filtros!$A$5:$AY$22116,46,FALSE),0)","v":1},{"$f":"IFERROR(VLOOKUP($A16,Filtros!$A$5:$AY$22116,47,FALSE),0)","v":0}]
["P11000200",null,"NO GESTANTES","Con carga viral <a 1000 copias",{"$f":"IFERROR(VLOOKUP($A17,Filtros!$A$5:$AY$22116,2,FALSE),0)","v":0},{"$f":"IFERROR(VLOOKUP($A17,Filtros!$A$5:$AY$22116,3,FALSE),0)","v":0},{"$f":"IFERROR(VLOOKUP($A17,Filtros!$A$5:$AY$22116,4,FALSE),0)","v":0},{"$f":"IFERROR(VLOOKUP($A17,Filtros!$A$5:$AY$22116,5,FALSE),0)","v":0},{"$f":"IFERROR(VLOOKUP($A17,Filtros!$A$5:$AY$22116,6,FALSE),0)","v":0},{"$f":"IFERROR(VLOOKUP($A17,Filtros!$A$5:$AY$22116,7,FALSE),0)","v":0},{"$f":"IFERROR(VLOOKUP($A17,Filtros!$A$5:$AY$22116,8,FALSE),0)","v":0},{"$f":"IFERROR(VLOOKUP($A17,Filtros!$A$5:$AY$22116,9,FALSE),0)","v":0},{"$f":"IFERROR(VLOOKUP($A17,Filtros!$A$5:$AY$22116,10,FALSE),0)","v":0},{"$f":"IFERROR(VLOOKUP($A17,Filtros!$A$5:$AY$22116,11,FALSE),0)","v":0},{"$f":"IFERROR(VLOOKUP($A17,Filtros!$A$5:$AY$22116,12,FALSE),0)","v":0},{"$f":"IFERROR(VLOOKUP($A17,Filtros!$A$5:$AY$22116,13,FALSE),0)","v":0},{"$f":"IFERROR(VLOOKUP($A17,Filtros!$A$5:$AY$22116,14,FALSE),0)","v":0},{"$f":"IFERROR(VLOOKUP($A17,Filtros!$A$5:$AY$22116,15,FALSE),0)","v":0},{"$f":"IFERROR(VLOOKUP($A17,Filtros!$A$5:$AY$22116,16,FALSE),0)","v":0},{"$f":"IFERROR(VLOOKUP($A17,Filtros!$A$5:$AY$22116,17,FALSE),0)","v":0},{"$f":"IFERROR(VLOOKUP($A17,Filtros!$A$5:$AY$22116,18,FALSE),0)","v":0},{"$f":"IFERROR(VLOOKUP($A17,Filtros!$A$5:$AY$22116,19,FALSE),0)","v":0},{"$f":"IFERROR(VLOOKUP($A17,Filtros!$A$5:$AY$22116,20,FALSE),0)","v":0},{"$f":"IFERROR(VLOOKUP($A17,Filtros!$A$5:$AY$22116,21,FALSE),0)","v":0},{"$f":"IFERROR(VLOOKUP($A17,Filtros!$A$5:$AY$22116,22,FALSE),0)","v":0},{"$f":"IFERROR(VLOOKUP($A17,Filtros!$A$5:$AY$22116,23,FALSE),0)","v":0},{"$f":"IFERROR(VLOOKUP($A17,Filtros!$A$5:$AY$22116,24,FALSE),0)","v":0},{"$f":"IFERROR(VLOOKUP($A17,Filtros!$A$5:$AY$22116,25,FALSE),0)","v":0},{"$f":"IFERROR(VLOOKUP($A17,Filtros!$A$5:$AY$22116,26,FALSE),0)","v":0},{"$f":"IFERROR(VLOOKUP($A17,Filtros!$A$5:$AY$22116,27,FALSE),0)","v":0},{"$f":"IFERROR(VLOOKUP($A17,Filtros!$A$5:$AY$22116,28,FALSE),0)","v":0},{"$f":"IFERROR(VLOOKUP($A17,Filtros!$A$5:$AY$22116,29,FALSE),0)","v":0},{"$f":"IFERROR(VLOOKUP($A17,Filtros!$A$5:$AY$22116,30,FALSE),0)","v":0},{"$f":"IFERROR(VLOOKUP($A17,Filtros!$A$5:$AY$22116,31,FALSE),0)","v":0},{"$f":"IFERROR(VLOOKUP($A17,Filtros!$A$5:$AY$22116,32,FALSE),0)","v":0},{"$f":"IFERROR(VLOOKUP($A17,Filtros!$A$5:$AY$22116,33,FALSE),0)","v":0},{"$f":"IFERROR(VLOOKUP($A17,Filtros!$A$5:$AY$22116,34,FALSE),0)","v":0},{"$f":"IFERROR(VLOOKUP($A17,Filtros!$A$5:$AY$22116,35,FALSE),0)","v":0},{"$f":"IFERROR(VLOOKUP($A17,Filtros!$A$5:$AY$22116,36,FALSE),0)","v":0},{"$f":"IFERROR(VLOOKUP($A17,Filtros!$A$5:$AY$22116,37,FALSE),0)","v":0},{"$f":"IFERROR(VLOOKUP($A17,Filtros!$A$5:$AY$22116,38,FALSE),0)","v":0},{"$f":"IFERROR(VLOOKUP($A17,Filtros!$A$5:$AY$22116,39,FALSE),0)","v":0},{"$f":"IFERROR(VLOOKUP($A17,Filtros!$A$5:$AY$22116,40,FALSE),0)","v":0},{"$f":"IFERROR(VLOOKUP($A17,Filtros!$A$5:$AY$22116,41,FALSE),0)","v":0},{"$f":"IFERROR(VLOOKUP($A17,Filtros!$A$5:$AY$22116,42,FALSE),0)","v":0},{"$f":"IFERROR(VLOOKUP($A17,Filtros!$A$5:$AY$22116,43,FALSE),0)","v":0},{"$f":"IFERROR(VLOOKUP($A17,Filtros!$A$5:$AY$22116,44,FALSE),0)","v":0},{"$f":"IFERROR(VLOOKUP($A17,Filtros!$A$5:$AY$22116,45,FALSE),0)","v":0},{"$f":"IFERROR(VLOOKUP($A17,Filtros!$A$5:$AY$22116,46,FALSE),0)","v":0},{"$f":"IFERROR(VLOOKUP($A17,Filtros!$A$5:$AY$22116,47,FALSE),0)","v":0}]
[null,"SECCION B: POBLACIÓN EN CONTROL POR COMERCIO SEXUAL (Uso exclusivo de Unidades Control Comercio Sexual)"]
[null,"CONCEPTO","TOTAL",null,null,"GRUPOS DE EDAD (en años)",{"$nulls":27},"TRANS",null,"Pueblos Originarios","Población Migrantes",{"$nulls":19},"TRANS",null,"Pueblos Originarios","Población Migrantes","TRANS","Pueblos Originarios","Población Migrantes",{"$nulls":4},"TRANS",null,"Pueblos Originarios","Población Migrantes","TRANS","Pueblos Originarios","Población Migrantes"]
[{"$nulls":5},"15 a 19 años",null,"20 a 24 años",null,"25 a 29 años",null,"30 a 34 años",null,"35 a 39 años",null,"40 a 44 años",null,"45 a 49 años",null,"50 a 54 años",null,"55 a 59 años",null,"60 a 64 años",null,"65 a 69 años",null,"70 a 74 años",null,"75 a 79 años",null,"80 y más años"]
[null,null,"Ambos\nsexos","Hombres","Mujeres","Hombres ","Mujeres","Hombres ","Mujeres","Hombres ","Mujeres","Hombres ","Mujeres","Hombres ","Mujeres","Hombres ","Mujeres","Hombres ","Mujeres","Hombres ","Mujeres","Hombres ","Mujeres","Hombres ","Mujeres","Hombres ","Mujeres","Hombres ","Mujeres","Hombres ","Mujeres","Hombres ","Mujeres","Masculino","Femenino",{"$nulls":21},"Masculino","Femenino (NO)",null,null,"No Olvide","No Olvide","No Olvide",{"$nulls":4},"Masculino","Femenino (NO)",null,null,"No Olvide","No Olvide","No Olvide"]
["P11000140","Nº DE PERSONAS / COMERCIO SEXUAL",{"$f":"IFERROR(VLOOKUP($A22,Filtros!$A$5:$AY$22116,2,FALSE),0)","v":49},{"$f":"IFERROR(VLOOKUP($A22,Filtros!$A$5:$AY$22116,3,FALSE),0)","v":0},{"$f":"IFERROR(VLOOKUP($A22,Filtros!$A$5:$AY$22116,4,FALSE),0)","v":49},{"$f":"IFERROR(VLOOKUP($A22,Filtros!$A$5:$AY$22116,5,FALSE),0)","v":0},{"$f":"IFERROR(VLOOKUP($A22,Filtros!$A$5:$AY$22116,6,FALSE),0)","v":0},{"$f":"IFERROR(VLOOKUP($A22,Filtros!$A$5:$AY$22116,7,FALSE),0)","v":0},{"$f":"IFERROR(VLOOKUP($A22,Filtros!$A$5:$AY$22116,8,FALSE),0)","v":7},{"$f":"IFERROR(VLOOKUP($A22,Filtros!$A$5:$AY$22116,9,FALSE),0)","v":0},{"$f":"IFERROR(VLOOKUP($A22,Filtros!$A$5:$AY$22116,10,FALSE),0)","v":12},{"$f":"IFERROR(VLOOKUP($A22,Filtros!$A$5:$AY$22116,11,FALSE),0)","v":0},{"$f":"IFERROR(VLOOKUP($A22,Filtros!$A$5:$AY$22116,12,FALSE),0)","v":8},{"$f":"IFERROR(VLOOKUP($A22,Filtros!$A$5:$AY$22116,13,FALSE),0)","v":0},{"$f":"IFERROR(VLOOKUP($A22,Filtros!$A$5:$AY$22116,14,FALSE),0)","v":10},{"$f":"IFERROR(VLOOKUP($A22,Filtros!$A$5:$AY$22116,15,FALSE),0)","v":0},{"$f":"IFERROR(VLOOKUP($A22,Filtros!$A$5:$AY$22116,16,FALSE),0)","v":7},{"$f":"IFERROR(VLOOKUP($A22,Filtros!$A$5:$AY$22116,17,FALSE),0)","v":0},{"$f":"IFERROR(VLOOKUP($A22,Filtros!$A$5:$AY$22116,18,FALSE),0)","v":1},{"$f":"IFERROR(VLOOKUP($A22,Filtros!$A$5:$AY$22116,19,FALSE),0)","v":0},{"$f":"IFERROR(VLOOKUP($A22,Filtros!$A$5:$AY$22116,20,FALSE),0)","v":3},{"$f":"IFERROR(VLOOKUP($A22,Filtros!$A$5:$AY$22116,21,FALSE),0)","v":0},{"$f":"IFERROR(VLOOKUP($A22,Filtros!$A$5:$AY$22116,22,FALSE),0)","v":0},{"$f":"IFERROR(VLOOKUP($A22,Filtros!$A$5:$AY$22116,23,FALSE),0)","v":0},{"$f":"IFERROR(VLOOKUP($A22,Filtros!$A$5:$AY$22116,24,FALSE),0)","v":0},{"$f":"IFERROR(VLOOKUP($A22,Filtros!$A$5:$AY$22116,25,FALSE),0)","v":0},{"$f":"IFERROR(VLOOKUP($A22,Filtros!$A$5:$AY$22116,26,FALSE),0)","v":0},{"$f":"IFERROR(VLOOKUP($A22,Filtros!$A$5:$AY$22116,27,FALSE),0)","v":0},{"$f":"IFERROR(VLOOKUP($A22,Filtros!$A$5:$AY$22116,28,FALSE),0)","v":1},{"$f":"IFERROR(VLOOKUP($A22,Filtros!$A$5:$AY$22116,29,FALSE),0)","v":0},{"$f":"IFERROR(VLOOKUP($A22,Filtros!$A$5:$AY$22116,30,FALSE),0)","v":0},{"$f":"IFERROR(VLOOKUP($A22,Filtros!$A$5:$AY$22116,31,FALSE),0)","v":0},{"$f":"IFERROR(VLOOKUP($A22,Filtros!$A$5:$AY$22116,32,FALSE),0)","v":0},{"$f":"IFERROR(VLOOKUP($A22,Filtros!$A$5:$AY$22116,33,FALSE),0)","v":0},{"$f":"IFERROR(VLOOKUP($A22,Filtros!$A$5:$AY$22116,34,FALSE),0)","v":0},{"$f":"IFERROR(VLOOKUP($A22,Filtros!$A$5:$AY$22116,35,FALSE),0)","v":2},{"$f":"IFERROR(VLOOKUP($A22,Filtros!$A$5:$AY$22116,36,FALSE),0)","v":28},{"$nulls":19},{"$f":"IF(($AH22+$AI22)<=$C22,\"\",\"* La suma de las celdas 'Trans' no debe ser mayor al Total de personas bajo control. \")","v":""},null,{"$f":"IF($AJ22<=$C22,\"\",\"* La celda de 'Pueblos Originarios' no debe ser mayor al Total de personas bajo control. \")","v":""},{"$f":"IF($AK22<=$C22,\"\",\"* La celda de 'Población Migrantes' no debe ser mayor al Total de personas bajo control. \")","v":""},{"$f":"IF(AND($C22<>0,$AH22=\"\"),\"* No olvide escribir en la celda de Trans (Digite CERO si no tiene). \",IF(AND($C22<>0,$AI22=\"\"),\"* No olvide escribir en la celda Trans (Digite CERO si no tiene). \",\"\"))","v":""},{"$f":"IF(AND($C22<>0,$AJ22=\"\"),\"* No olvide escribir en la celda de Pueblos Originarios (Digite CERO si no tiene). \",\"\")","v":""},{"$f":"IF(AND($C22<>0,$AK22=\"\"),\"* No olvide escribir en la celda de Población Migrantes (Digite CERO si no tiene). \",\"\")","v":""},{"$nulls":4},{"$f":"IF(($AH22+$AI22)<=$C22,0,1)","v":0},{"$f":"IF($AI22<=$E22,0,0)","v":0},{"$f":"IF($AJ22<=$C22,0,1)","v":0},{"$f":"IF($AK22<=$C22,0,1)","v":0},{"$f":"IF(AND($C22<>0,$AH22=\"\"),1,IF(AND($C22<>0,$AI22=\"\"),1,0))","v":0},{"$f":"IF(AND($C22<>0,$AJ22=\"\"),1,0)","v":0},{"$f":"IF(AND($C22<>0,$AK22=\"\"),1,0)","v":0}]
{"$rows_empty":7}
["CODIGOS NUEVOS"]
[]
[]
[null,{"$f":"SUM(E12:AW14,C22:AK22)","v":188},"datos"]
[null,{"$f":"SUM(BO12:BW22)","v":0},"errores"]
{"$rows_empty":7}
["P11000190"]
["P11000200"]

{"sheet":"P12","index":10,"n_rows":200,"n_cols":13,"rows_kept":200,"merged":[[4,14,4,15],[6,1,6,11],[23,1,23,3],[24,1,24,11],[25,1,27,1],[25,2,25,12],[26,2,27,2],[26,3,27,3],[26,4,26,5],[26,6,26,11],[26,12,27,12],[42,1,42,3],[43,1,43,11],[44,1,46,1],[44,2,44,12],[45,2,46,2],[45,3,46,3],[45,4,45,5],[45,6,45,11],[45,12,46,12],[98,1,98,11],[99,1,101,1],[99,2,99,7],[100,2,101,2],[100,3,101,3],[100,4,100,6],[100,7,101,7],[115,1,115,11],[116,1,118,1],[116,2,116,7],[117,2,118,2],[117,3,118,3],[117,4,117,6],[117,7,118,7]]}
[]
[]
[]
[]
[]
[]
[null,"REM-P12. PERSONAS CON PAP – MAMOGRAFIA - EXAMEN FISICO DE MAMA VIGENTES Y PRODUCCION DE PAP Y VPH (SEMESTRAL)"]
[null,"SECCION A: PROGRAMA DE CANCER DE CUELLO UTERINO: POBLACIÓN CON PAP VIGENTE"]
[null,"GRUPOS DE EDAD (en años)","MUJERES\ncon PAP Vigente \nen los ultimos 3 años","TRANS MASCULINO\ncon PAP Vigente \nen los ultimos 3 años"]
["P1207150","Menor de 25 años",{"$f":"IFERROR(VLOOKUP($A10,Filtros!$A$5:$AY$22116,2,FALSE),0)","v":8441},{"$f":"IFERROR(VLOOKUP($A10,Filtros!$A$5:$AY$22116,3,FALSE),0)","v":0}]
["P1206010","25 a 29 años ",{"$f":"IFERROR(VLOOKUP($A11,Filtros!$A$5:$AY$22116,2,FALSE),0)","v":11607},{"$f":"IFERROR(VLOOKUP($A11,Filtros!$A$5:$AY$22116,3,FALSE),0)","v":0}]
["P1206020","30 a 34 años",{"$f":"IFERROR(VLOOKUP($A12,Filtros!$A$5:$AY$22116,2,FALSE),0)","v":11230},{"$f":"IFERROR(VLOOKUP($A12,Filtros!$A$5:$AY$22116,3,FALSE),0)","v":0}]
["P1206030","35 a 39 años",{"$f":"IFERROR(VLOOKUP($A13,Filtros!$A$5:$AY$22116,2,FALSE),0)","v":10361},{"$f":"IFERROR(VLOOKUP($A13,Filtros!$A$5:$AY$22116,3,FALSE),0)","v":0}]
["P1206040","40 a 44 años",{"$f":"IFERROR(VLOOKUP($A14,Filtros!$A$5:$AY$22116,2,FALSE),0)","v":9518},{"$f":"IFERROR(VLOOKUP($A14,Filtros!$A$5:$AY$22116,3,FALSE),0)","v":0}]
["P1206050","45 a 49 años",{"$f":"IFERROR(VLOOKUP($A15,Filtros!$A$5:$AY$22116,2,FALSE),0)","v":9571},{"$f":"IFERROR(VLOOKUP($A15,Filtros!$A$5:$AY$22116,3,FALSE),0)","v":0}]
["P1206060","50 a 54 años",{"$f":"IFERROR(VLOOKUP($A16,Filtros!$A$5:$AY$22116,2,FALSE),0)","v":9095},{"$f":"IFERROR(VLOOKUP($A16,Filtros!$A$5:$AY$22116,3,FALSE),0)","v":0}]
["P1206070","55 a 59 años",{"$f":"IFERROR(VLOOKUP($A17,Filtros!$A$5:$AY$22116,2,FALSE),0)","v":8112},{"$f":"IFERROR(VLOOKUP($A17,Filtros!$A$5:$AY$22116,3,FALSE),0)","v":0}]
["P1206080","60 a 64 años",{"$f":"IFERROR(VLOOKUP($A18,Filtros!$A$5:$AY$22116,2,FALSE),0)","v":6099},{"$f":"IFERROR(VLOOKUP($A18,Filtros!$A$5:$AY$22116,3,FALSE),0)","v":0}]
["P1207160","65 a 69 años",{"$f":"IFERROR(VLOOKUP($A19,Filtros!$A$5:$AY$22116,2,FALSE),0)","v":2184},{"$f":"IFERROR(VLOOKUP($A19,Filtros!$A$5:$AY$22116,3,FALSE),0)","v":0}]
["P1230001","70 a 74 años",{"$f":"IFERROR(VLOOKUP($A20,Filtros!$A$5:$AY$22116,2,FALSE),0)","v":596},{"$f":"IFERROR(VLOOKUP($A20,Filtros!$A$5:$AY$22116,3,FALSE),0)","v":0}]
["P1230002","75 a 79 años",{"$f":"IFERROR(VLOOKUP($A21,Filtros!$A$5:$AY$22116,2,FALSE),0)","v":225},{"$f":"IFERROR(VLOOKUP($A21,Filtros!$A$5:$AY$22116,3,FALSE),0)","v":1}]
["P1230003","80 y más años",{"$f":"IFERROR(VLOOKUP($A22,Filtros!$A$5:$AY$22116,2,FALSE),0)","v":61},{"$f":"IFERROR(VLOOKUP($A22,Filtros!$A$5:$AY$22116,3,FALSE),0)","v":1}]
[null,"TOTAL",{"$f":"SUM(C10:C22)","v":87100},{"$f":"SUM(D10:D22)","v":2}]
[null,"(*) FUENTE DE INFORMACIÓN: CITOEXPERT O REVICAN"]
[null,"SECCIÓN B.1- PROGRAMA DE CANCER DE CUELLO UTERINO: PAP REALIZADOS E INFORMADOS SEGÚN RESULTADOS Y GRUPOS DE EDAD\n(Examen realizados en la red pública)"]
[null,"GRUPO DE EDAD \n(en años)","PAP INFORMADOS SEGÚN RESULTADO"]
[null,null,"TOTAL","NORMALES","INADECUADOS Y ATIPICOS",null,"POSITIVOS",{"$nulls":5},"TOTAL PAP INFORMADOS EN TRANS MASCULINO "]
[{"$nulls":4},"INADECUADOS","ATIPICOS"," HPV","NIE I","NIE II"," NIE III","Ca. Inv. (Epidermoide)","Ca. Inv. (Adenocarcinoma)"]
["P1207170","Menor de 25 años",{"$f":"IFERROR(VLOOKUP($A29,Filtros!$A$5:$AY$22116,2,FALSE),0)","v":2171},{"$f":"IFERROR(VLOOKUP($A29,Filtros!$A$5:$AY$22116,3,FALSE),0)","v":1936},{"$f":"IFERROR(VLOOKUP($A29,Filtros!$A$5:$AY$22116,4,FALSE),0)","v":143},{"$f":"IFERROR(VLOOKUP($A29,Filtros!$A$5:$AY$22116,5,FALSE),0)","v":49},{"$f":"IFERROR(VLOOKUP($A29,Filtros!$A$5:$AY$22116,6,FALSE),0)","v":12},{"$f":"IFERROR(VLOOKUP($A29,Filtros!$A$5:$AY$22116,7,FALSE),0)","v":21},{"$f":"IFERROR(VLOOKUP($A29,Filtros!$A$5:$AY$22116,8,FALSE),0)","v":4},{"$f":"IFERROR(VLOOKUP($A29,Filtros!$A$5:$AY$22116,9,FALSE),0)","v":5},{"$f":"IFERROR(VLOOKUP($A29,Filtros!$A$5:$AY$22116,10,FALSE),0)","v":1},{"$f":"IFERROR(VLOOKUP($A29,Filtros!$A$5:$AY$22116,11,FALSE),0)","v":0},{"$f":"IFERROR(VLOOKUP($A29,Filtros!$A$5:$AY$22116,12,FALSE),0)","v":0}]
["P1207010","25 a 29 años ",{"$f":"IFERROR(VLOOKUP($A30,Filtros!$A$5:$AY$22116,2,FALSE),0)","v":3286},{"$f":"IFERROR(VLOOKUP($A30,Filtros!$A$5:$AY$22116,3,FALSE),0)","v":2922},{"$f":"IFERROR(VLOOKUP($A30,Filtros!$A$5:$AY$22116,4,FALSE),0)","v":233},{"$f":"IFERROR(VLOOKUP($A30,Filtros!$A$5:$AY$22116,5,FALSE),0)","v":70},{"$f":"IFERROR(VLOOKUP($A30,Filtros!$A$5:$AY$22116,6,FALSE),0)","v":7},{"$f":"IFERROR(VLOOKUP($A30,Filtros!$A$5:$AY$22116,7,FALSE),0)","v":21},{"$f":"IFERROR(VLOOKUP($A30,Filtros!$A$5:$AY$22116,8,FALSE),0)","v":17},{"$f":"IFERROR(VLOOKUP($A30,Filtros!$A$5:$AY$22116,9,FALSE),0)","v":16},{"$f":"IFERROR(VLOOKUP($A30,Filtros!$A$5:$AY$22116,10,FALSE),0)","v":0},{"$f":"IFERROR(VLOOKUP($A30,Filtros!$A$5:$AY$22116,11,FALSE),0)","v":0},{"$f":"IFERROR(VLOOKUP($A30,Filtros!$A$5:$AY$22116,12,FALSE),0)","v":0}]
["P1207020","30 a 34 años",{"$f":"IFERROR(VLOOKUP($A31,Filtros!$A$5:$AY$22116,2,FALSE),0)","v":3416},{"$f":"IFERROR(VLOOKUP($A31,Filtros!$A$5:$AY$22116,3,FALSE),0)","v":3019},{"$f":"IFERROR(VLOOKUP($A31,Filtros!$A$5:$AY$22116,4,FALSE),0)","v":205},{"$f":"IFERROR(VLOOKUP($A31,Filtros!$A$5:$AY$22116,5,FALSE),0)","v":69},{"$f":"IFERROR(VLOOKUP($A31,Filtros!$A$5:$AY$22116,6,FALSE),0)","v":69},{"$f":"IFERROR(VLOOKUP($A31,Filtros!$A$5:$AY$22116,7,FALSE),0)","v":13},{"$f":"IFERROR(VLOOKUP($A31,Filtros!$A$5:$AY$22116,8,FALSE),0)","v":11},{"$f":"IFERROR(VLOOKUP($A31,Filtros!$A$5:$AY$22116,9,FALSE),0)","v":27},{"$f":"IFERROR(VLOOKUP($A31,Filtros!$A$5:$AY$22116,10,FALSE),0)","v":3},{"$f":"IFERROR(VLOOKUP($A31,Filtros!$A$5:$AY$22116,11,FALSE),0)","v":0},{"$f":"IFERROR(VLOOKUP($A31,Filtros!$A$5:$AY$22116,12,FALSE),0)","v":0}]
["P1208020","35 a 39 años",{"$f":"IFERROR(VLOOKUP($A32,Filtros!$A$5:$AY$22116,2,FALSE),0)","v":3295},{"$f":"IFERROR(VLOOKUP($A32,Filtros!$A$5:$AY$22116,3,FALSE),0)","v":2885},{"$f":"IFERROR(VLOOKUP($A32,Filtros!$A$5:$AY$22116,4,FALSE),0)","v":238},{"$f":"IFERROR(VLOOKUP($A32,Filtros!$A$5:$AY$22116,5,FALSE),0)","v":65},{"$f":"IFERROR(VLOOKUP($A32,Filtros!$A$5:$AY$22116,6,FALSE),0)","v":68},{"$f":"IFERROR(VLOOKUP($A32,Filtros!$A$5:$AY$22116,7,FALSE),0)","v":9},{"$f":"IFERROR(VLOOKUP($A32,Filtros!$A$5:$AY$22116,8,FALSE),0)","v":8},{"$f":"IFERROR(VLOOKUP($A32,Filtros!$A$5:$AY$22116,9,FALSE),0)","v":20},{"$f":"IFERROR(VLOOKUP($A32,Filtros!$A$5:$AY$22116,10,FALSE),0)","v":1},{"$f":"IFERROR(VLOOKUP($A32,Filtros!$A$5:$AY$22116,11,FALSE),0)","v":1},{"$f":"IFERROR(VLOOKUP($A32,Filtros!$A$5:$AY$22116,12,FALSE),0)","v":0}]
["P1208030","40 a 44 años",{"$f":"IFERROR(VLOOKUP($A33,Filtros!$A$5:$AY$22116,2,FALSE),0)","v":3137},{"$f":"IFERROR(VLOOKUP($A33,Filtros!$A$5:$AY$22116,3,FALSE),0)","v":2773},{"$f":"IFERROR(VLOOKUP($A33,Filtros!$A$5:$AY$22116,4,FALSE),0)","v":218},{"$f":"IFERROR(VLOOKUP($A33,Filtros!$A$5:$AY$22116,5,FALSE),0)","v":42},{"$f":"IFERROR(VLOOKUP($A33,Filtros!$A$5:$AY$22116,6,FALSE),0)","v":64},{"$f":"IFERROR(VLOOKUP($A33,Filtros!$A$5:$AY$22116,7,FALSE),0)","v":18},{"$f":"IFERROR(VLOOKUP($A33,Filtros!$A$5:$AY$22116,8,FALSE),0)","v":4},{"$f":"IFERROR(VLOOKUP($A33,Filtros!$A$5:$AY$22116,9,FALSE),0)","v":17},{"$f":"IFERROR(VLOOKUP($A33,Filtros!$A$5:$AY$22116,10,FALSE),0)","v":1},{"$f":"IFERROR(VLOOKUP($A33,Filtros!$A$5:$AY$22116,11,FALSE),0)","v":0},{"$f":"IFERROR(VLOOKUP($A33,Filtros!$A$5:$AY$22116,12,FALSE),0)","v":0}]
["P1208040","45 a 49 años",{"$f":"IFERROR(VLOOKUP($A34,Filtros!$A$5:$AY$22116,2,FALSE),0)","v":3006},{"$f":"IFERROR(VLOOKUP($A34,Filtros!$A$5:$AY$22116,3,FALSE),0)","v":2703},{"$f":"IFERROR(VLOOKUP($A34,Filtros!$A$5:$AY$22116,4,FALSE),0)","v":156},{"$f":"IFERROR(VLOOKUP($A34,Filtros!$A$5:$AY$22116,5,FALSE),0)","v":57},{"$f":"IFERROR(VLOOKUP($A34,Filtros!$A$5:$AY$22116,6,FALSE),0)","v":67},{"$f":"IFERROR(VLOOKUP($A34,Filtros!$A$5:$AY$22116,7,FALSE),0)","v":7},{"$f":"IFERROR(VLOOKUP($A34,Filtros!$A$5:$AY$22116,8,FALSE),0)","v":4},{"$f":"IFERROR(VLOOKUP($A34,Filtros!$A$5:$AY$22116,9,FALSE),0)","v":12},{"$f":"IFERROR(VLOOKUP($A34,Filtros!$A$5:$AY$22116,10,FALSE),0)","v":0},{"$f":"IFERROR(VLOOKUP($A34,Filtros!$A$5:$AY$22116,11,FALSE),0)","v":0},{"$f":"IFERROR(VLOOKUP($A34,Filtros!$A$5:$AY$22116,12,FALSE),0)","v":0}]
["P1208050","50 a 54 años",{"$f":"IFERROR(VLOOKUP($A35,Filtros!$A$5:$AY$22116,2,FALSE),0)","v":2910},{"$f":"IFERROR(VLOOKUP($A35,Filtros!$A$5:$AY$22116,3,FALSE),0)","v":2661},{"$f":"IFERROR(VLOOKUP($A35,Filtros!$A$5:$AY$22116,4,FALSE),0)","v":146},{"$f":"IFERROR(VLOOKUP($A35,Filtros!$A$5:$AY$22116,5,FALSE),0)","v":40},{"$f":"IFERROR(VLOOKUP($A35,Filtros!$A$5:$AY$22116,6,FALSE),0)","v":47},{"$f":"IFERROR(VLOOKUP($A35,Filtros!$A$5:$AY$22116,7,FALSE),0)","v":2},{"$f":"IFERROR(VLOOKUP($A35,Filtros!$A$5:$AY$22116,8,FALSE),0)","v":3},{"$f":"IFERROR(VLOOKUP($A35,Filtros!$A$5:$AY$22116,9,FALSE),0)","v":8},{"$f":"IFERROR(VLOOKUP($A35,Filtros!$A$5:$AY$22116,10,FALSE),0)","v":2},{"$f":"IFERROR(VLOOKUP($A35,Filtros!$A$5:$AY$22116,11,FALSE),0)","v":1},{"$f":"IFERROR(VLOOKUP($A35,Filtros!$A$5:$AY$22116,12,FALSE),0)","v":0}]
["P1208060","55 a 59 años",{"$f":"IFERROR(VLOOKUP($A36,Filtros!$A$5:$AY$22116,2,FALSE),0)","v":2522},{"$f":"IFERROR(VLOOKUP($A36,Filtros!$A$5:$AY$22116,3,FALSE),0)","v":2264},{"$f":"IFERROR(VLOOKUP($A36,Filtros!$A$5:$AY$22116,4,FALSE),0)","v":171},{"$f":"IFERROR(VLOOKUP($A36,Filtros!$A$5:$AY$22116,5,FALSE),0)","v":39},{"$f":"IFERROR(VLOOKUP($A36,Filtros!$A$5:$AY$22116,6,FALSE),0)","v":37},{"$f":"IFERROR(VLOOKUP($A36,Filtros!$A$5:$AY$22116,7,FALSE),0)","v":1},{"$f":"IFERROR(VLOOKUP($A36,Filtros!$A$5:$AY$22116,8,FALSE),0)","v":2},{"$f":"IFERROR(VLOOKUP($A36,Filtros!$A$5:$AY$22116,9,FALSE),0)","v":5},{"$f":"IFERROR(VLOOKUP($A36,Filtros!$A$5:$AY$22116,10,FALSE),0)","v":3},{"$f":"IFERROR(VLOOKUP($A36,Filtros!$A$5:$AY$22116,11,FALSE),0)","v":0},{"$f":"IFERROR(VLOOKUP($A36,Filtros!$A$5:$AY$22116,12,FALSE),0)","v":0}]
["P1208070","60 a 64 años",{"$f":"IFERROR(VLOOKUP($A37,Filtros!$A$5:$AY$22116,2,FALSE),0)","v":1972},{"$f":"IFERROR(VLOOKUP($A37,Filtros!$A$5:$AY$22116,3,FALSE),0)","v":1726},{"$f":"IFERROR(VLOOKUP($A37,Filtros!$A$5:$AY$22116,4,FALSE),0)","v":168},{"$f":"IFERROR(VLOOKUP($A37,Filtros!$A$5:$AY$22116,5,FALSE),0)","v":39},{"$f":"IFERROR(VLOOKUP($A37,Filtros!$A$5:$AY$22116,6,FALSE),0)","v":26},{"$f":"IFERROR(VLOOKUP($A37,Filtros!$A$5:$AY$22116,7,FALSE),0)","v":5},{"$f":"IFERROR(VLOOKUP($A37,Filtros!$A$5:$AY$22116,8,FALSE),0)","v":1},{"$f":"IFERROR(VLOOKUP($A37,Filtros!$A$5:$AY$22116,9,FALSE),0)","v":6},{"$f":"IFERROR(VLOOKUP($A37,Filtros!$A$5:$AY$22116,10,FALSE),0)","v":0},{"$f":"IFERROR(VLOOKUP($A37,Filtros!$A$5:$AY$22116,11,FALSE),0)","v":1},{"$f":"IFERROR(VLOOKUP($A37,Filtros!$A$5:$AY$22116,12,FALSE),0)","v":0}]
["P1208080","65 a 69 años",{"$f":"IFERROR(VLOOKUP($A38,Filtros!$A$5:$AY$22116,2,FALSE),0)","v":723},{"$f":"IFERROR(VLOOKUP($A38,Filtros!$A$5:$AY$22116,3,FALSE),0)","v":651},{"$f":"IFERROR(VLOOKUP($A38,Filtros!$A$5:$AY$22116,4,FALSE),0)","v":61},{"$f":"IFERROR(VLOOKUP($A38,Filtros!$A$5:$AY$22116,5,FALSE),0)","v":7},{"$f":"IFERROR(VLOOKUP($A38,Filtros!$A$5:$AY$22116,6,FALSE),0)","v":0},{"$f":"IFERROR(VLOOKUP($A38,Filtros!$A$5:$AY$22116,7,FALSE),0)","v":3},{"$f":"IFERROR(VLOOKUP($A38,Filtros!$A$5:$AY$22116,8,FALSE),0)","v":0},{"$f":"IFERROR(VLOOKUP($A38,Filtros!$A$5:$AY$22116,9,FALSE),0)","v":0},{"$f":"IFERROR(VLOOKUP($A38,Filtros!$A$5:$AY$22116,10,FALSE),0)","v":1},{"$f":"IFERROR(VLOOKUP($A38,Filtros!$A$5:$AY$22116,11,FALSE),0)","v":0},{"$f":"IFERROR(VLOOKUP($A38,Filtros!$A$5:$AY$22116,12,FALSE),0)","v":0}]
["P1208090","70 a 74 años",{"$f":"IFERROR(VLOOKUP($A39,Filtros!$A$5:$AY$22116,2,FALSE),0)","v":159},{"$f":"IFERROR(VLOOKUP($A39,Filtros!$A$5:$AY$22116,3,FALSE),0)","v":143},{"$f":"IFERROR(VLOOKUP($A39,Filtros!$A$5:$AY$22116,4,FALSE),0)","v":12},{"$f":"IFERROR(VLOOKUP($A39,Filtros!$A$5:$AY$22116,5,FALSE),0)","v":4},{"$f":"IFERROR(VLOOKUP($A39,Filtros!$A$5:$AY$22116,6,FALSE),0)","v":0},{"$f":"IFERROR(VLOOKUP($A39,Filtros!$A$5:$AY$22116,7,FALSE),0)","v":0},{"$f":"IFERROR(VLOOKUP($A39,Filtros!$A$5:$AY$22116,8,FALSE),0)","v":0},{"$f":"IFERROR(VLOOKUP($A39,Filtros!$A$5:$AY$22116,9,FALSE),0)","v":0},{"$f":"IFERROR(VLOOKUP($A39,Filtros!$A$5:$AY$22116,10,FALSE),0)","v":0},{"$f":"IFERROR(VLOOKUP($A39,Filtros!$A$5:$AY$22116,11,FALSE),0)","v":0},{"$f":"IFERROR(VLOOKUP($A39,Filtros!$A$5:$AY$22116,12,FALSE),0)","v":0}]
["P1208100","75 a 79 años",{"$f":"IFERROR(VLOOKUP($A40,Filtros!$A$5:$AY$22116,2,FALSE),0)","v":44},{"$f":"IFERROR(VLOOKUP($A40,Filtros!$A$5:$AY$22116,3,FALSE),0)","v":35},{"$f":"IFERROR(VLOOKUP($A40,Filtros!$A$5:$AY$22116,4,FALSE),0)","v":6},{"$f":"IFERROR(VLOOKUP($A40,Filtros!$A$5:$AY$22116,5,FALSE),0)","v":0},{"$f":"IFERROR(VLOOKUP($A40,Filtros!$A$5:$AY$22116,6,FALSE),0)","v":0},{"$f":"IFERROR(VLOOKUP($A40,Filtros!$A$5:$AY$22116,7,FALSE),0)","v":0},{"$f":"IFERROR(VLOOKUP($A40,Filtros!$A$5:$AY$22116,8,FALSE),0)","v":0},{"$f":"IFERROR(VLOOKUP($A40,Filtros!$A$5:$AY$22116,9,FALSE),0)","v":2},{"$f":"IFERROR(VLOOKUP($A40,Filtros!$A$5:$AY$22116,10,FALSE),0)","v":1},{"$f":"IFERROR(VLOOKUP($A40,Filtros!$A$5:$AY$22116,11,FALSE),0)","v":0},{"$f":"IFERROR(VLOOKUP($A40,Filtros!$A$5:$AY$22116,12,FALSE),0)","v":0}]
["P1230004","80 y más años",{"$f":"IFERROR(VLOOKUP($A41,Filtros!$A$5:$AY$22116,2,FALSE),0)","v":11},{"$f":"IFERROR(VLOOKUP($A41,Filtros!$A$5:$AY$22116,3,FALSE),0)","v":10},{"$f":"IFERROR(VLOOKUP($A41,Filtros!$A$5:$AY$22116,4,FALSE),0)","v":1},{"$f":"IFERROR(VLOOKUP($A41,Filtros!$A$5:$AY$22116,5,FALSE),0)","v":0},{"$f":"IFERROR(VLOOKUP($A41,Filtros!$A$5:$AY$22116,6,FALSE),0)","v":0},{"$f":"IFERROR(VLOOKUP($A41,Filtros!$A$5:$AY$22116,7,FALSE),0)","v":0},{"$f":"IFERROR(VLOOKUP($A41,Filtros!$A$5:$AY$22116,8,FALSE),0)","v":0},{"$f":"IFERROR(VLOOKUP($A41,Filtros!$A$5:$AY$22116,9,FALSE),0)","v":0},{"$f":"IFERROR(VLOOKUP($A41,Filtros!$A$5:$AY$22116,10,FALSE),0)","v":0},{"$f":"IFERROR(VLOOKUP($A41,Filtros!$A$5:$AY$22116,11,FALSE),0)","v":0},{"$f":"IFERROR(VLOOKUP($A41,Filtros!$A$5:$AY$22116,12,FALSE),0)","v":0}]
[null,"TOTAL",{"$f":"SUM(D42:L42)","v":26652},{"$f":"SUM(D29:D41)","v":23728},1758,481,397,100,54,118,13,3,{"$f":"SUM(M29:M41)","v":0}]
[null,"(*) FUENTE DE INFORMACIÓN: CITOEXPERT O REVICAN"]
[null,"SECCIÓN B.2- PROGRAMA DE CANCER DE CUELLO UTERINO: PAP REALIZADOS E INFORMADOS SEGÚN RESULTADOS Y GRUPOS DE EDAD\n(Examen realizados en extrasistema)"]
[null,"GRUPO DE EDAD \n(en años)","PAP INFORMADOS SEGÚN RESULTADO"]
[null,null,"TOTAL","NORMALES","INADECUADOS Y ATIPICOS",null,"POSITIVOS",{"$nulls":5},"TOTAL PAP INFORMADOS EN TRANS MASCULINO "]
[{"$nulls":4},"INADECUADOS","ATIPICOS"," HPV","NIE I","NIE II"," NIE III","Ca. Inv. (Epidermoide)","Ca. Inv. (Adenocarcinoma)"]
["P1220091","Menor de 25 años",{"$f":"IFERROR(VLOOKUP($A48,Filtros!$A$5:$AY$22116,2,FALSE),0)","v":95},{"$f":"IFERROR(VLOOKUP($A48,Filtros!$A$5:$AY$22116,3,FALSE),0)","v":84},{"$f":"IFERROR(VLOOKUP($A48,Filtros!$A$5:$AY$22116,4,FALSE),0)","v":6},{"$f":"IFERROR(VLOOKUP($A48,Filtros!$A$5:$AY$22116,5,FALSE),0)","v":4},{"$f":"IFERROR(VLOOKUP($A48,Filtros!$A$5:$AY$22116,6,FALSE),0)","v":0},{"$f":"IFERROR(VLOOKUP($A48,Filtros!$A$5:$AY$22116,7,FALSE),0)","v":1},{"$f":"IFERROR(VLOOKUP($A48,Filtros!$A$5:$AY$22116,8,FALSE),0)","v":0},{"$f":"IFERROR(VLOOKUP($A48,Filtros!$A$5:$AY$22116,9,FALSE),0)","v":0},{"$f":"IFERROR(VLOOKUP($A48,Filtros!$A$5:$AY$22116,10,FALSE),0)","v":0},{"$f":"IFERROR(VLOOKUP($A48,Filtros!$A$5:$AY$22116,11,FALSE),0)","v":0},{"$f":"IFERROR(VLOOKUP($A48,Filtros!$A$5:$AY$22116,12,FALSE),0)","v":0}]
["P1220092","25 a 29 años ",{"$f":"IFERROR(VLOOKUP($A49,Filtros!$A$5:$AY$22116,2,FALSE),0)","v":188},{"$f":"IFERROR(VLOOKUP($A49,Filtros!$A$5:$AY$22116,3,FALSE),0)","v":165},{"$f":"IFERROR(VLOOKUP($A49,Filtros!$A$5:$AY$22116,4,FALSE),0)","v":12},{"$f":"IFERROR(VLOOKUP($A49,Filtros!$A$5:$AY$22116,5,FALSE),0)","v":5},{"$f":"IFERROR(VLOOKUP($A49,Filtros!$A$5:$AY$22116,6,FALSE),0)","v":0},{"$f":"IFERROR(VLOOKUP($A49,Filtros!$A$5:$AY$22116,7,FALSE),0)","v":2},{"$f":"IFERROR(VLOOKUP($A49,Filtros!$A$5:$AY$22116,8,FALSE),0)","v":2},{"$f":"IFERROR(VLOOKUP($A49,Filtros!$A$5:$AY$22116,9,FALSE),0)","v":2},{"$f":"IFERROR(VLOOKUP($A49,Filtros!$A$5:$AY$22116,10,FALSE),0)","v":0},{"$f":"IFERROR(VLOOKUP($A49,Filtros!$A$5:$AY$22116,11,FALSE),0)","v":0},{"$f":"IFERROR(VLOOKUP($A49,Filtros!$A$5:$AY$22116,12,FALSE),0)","v":0}]
["P1220093","30 a 34 años",{"$f":"IFERROR(VLOOKUP($A50,Filtros!$A$5:$AY$22116,2,FALSE),0)","v":223},{"$f":"IFERROR(VLOOKUP($A50,Filtros!$A$5:$AY$22116,3,FALSE),0)","v":198},{"$f":"IFERROR(VLOOKUP($A50,Filtros!$A$5:$AY$22116,4,FALSE),0)","v":15},{"$f":"IFERROR(VLOOKUP($A50,Filtros!$A$5:$AY$22116,5,FALSE),0)","v":3},{"$f":"IFERROR(VLOOKUP($A50,Filtros!$A$5:$AY$22116,6,FALSE),0)","v":1},{"$f":"IFERROR(VLOOKUP($A50,Filtros!$A$5:$AY$22116,7,FALSE),0)","v":3},{"$f":"IFERROR(VLOOKUP($A50,Filtros!$A$5:$AY$22116,8,FALSE),0)","v":0},{"$f":"IFERROR(VLOOKUP($A50,Filtros!$A$5:$AY$22116,9,FALSE),0)","v":3},{"$f":"IFERROR(VLOOKUP($A50,Filtros!$A$5:$AY$22116,10,FALSE),0)","v":0},{"$f":"IFERROR(VLOOKUP($A50,Filtros!$A$5:$AY$22116,11,FALSE),0)","v":0},{"$f":"IFERROR(VLOOKUP($A50,Filtros!$A$5:$AY$22116,12,FALSE),0)","v":0}]
["P1220094","35 a 39 años",{"$f":"IFERROR(VLOOKUP($A51,Filtros!$A$5:$AY$22116,2,FALSE),0)","v":210},{"$f":"IFERROR(VLOOKUP($A51,Filtros!$A$5:$AY$22116,3,FALSE),0)","v":194},{"$f":"IFERROR(VLOOKUP($A51,Filtros!$A$5:$AY$22116,4,FALSE),0)","v":12},{"$f":"IFERROR(VLOOKUP($A51,Filtros!$A$5:$AY$22116,5,FALSE),0)","v":2},{"$f":"IFERROR(VLOOKUP($A51,Filtros!$A$5:$AY$22116,6,FALSE),0)","v":0},{"$f":"IFERROR(VLOOKUP($A51,Filtros!$A$5:$AY$22116,7,FALSE),0)","v":1},{"$f":"IFERROR(VLOOKUP($A51,Filtros!$A$5:$AY$22116,8,FALSE),0)","v":0},{"$f":"IFERROR(VLOOKUP($A51,Filtros!$A$5:$AY$22116,9,FALSE),0)","v":1},{"$f":"IFERROR(VLOOKUP($A51,Filtros!$A$5:$AY$22116,10,FALSE),0)","v":0},{"$f":"IFERROR(VLOOKUP($A51,Filtros!$A$5:$AY$22116,11,FALSE),0)","v":0},{"$f":"IFERROR(VLOOKUP($A51,Filtros!$A$5:$AY$22116,12,FALSE),0)","v":0}]
["P1220095","40 a 44 años",{"$f":"IFERROR(VLOOKUP($A52,Filtros!$A$5:$AY$22116,2,FALSE),0)","v":200},{"$f":"IFERROR(VLOOKUP($A52,Filtros!$A$5:$AY$22116,3,FALSE),0)","v":180},{"$f":"IFERROR(VLOOKUP($A52,Filtros!$A$5:$AY$22116,4,FALSE),0)","v":11},{"$f":"IFERROR(VLOOKUP($A52,Filtros!$A$5:$AY$22116,5,FALSE),0)","v":5},{"$f":"IFERROR(VLOOKUP($A52,Filtros!$A$5:$AY$22116,6,FALSE),0)","v":0},{"$f":"IFERROR(VLOOKUP($A52,Filtros!$A$5:$AY$22116,7,FALSE),0)","v":1},{"$f":"IFERROR(VLOOKUP($A52,Filtros!$A$5:$AY$22116,8,FALSE),0)","v":0},{"$f":"IFERROR(VLOOKUP($A52,Filtros!$A$5:$AY$22116,9,FALSE),0)","v":3},{"$f":"IFERROR(VLOOKUP($A52,Filtros!$A$5:$AY$22116,10,FALSE),0)","v":0},{"$f":"IFERROR(VLOOKUP($A52,Filtros!$A$5:$AY$22116,11,FALSE),0)","v":0},{"$f":"IFERROR(VLOOKUP($A52,Filtros!$A$5:$AY$22116,12,FALSE),0)","v":0}]
["P1220096","45 a 49 años",{"$f":"IFERROR(VLOOKUP($A53,Filtros!$A$5:$AY$22116,2,FALSE),0)","v":196},{"$f":"IFERROR(VLOOKUP($A53,Filtros!$A$5:$AY$22116,3,FALSE),0)","v":170},{"$f":"IFERROR(VLOOKUP($A53,Filtros!$A$5:$AY$22116,4,FALSE),0)","v":18},{"$f":"IFERROR(VLOOKUP($A53,Filtros!$A$5:$AY$22116,5,FALSE),0)","v":8},{"$f":"IFERROR(VLOOKUP($A53,Filtros!$A$5:$AY$22116,6,FALSE),0)","v":0},{"$f":"IFERROR(VLOOKUP($A53,Filtros!$A$5:$AY$22116,7,FALSE),0)","v":0},{"$f":"IFERROR(VLOOKUP($A53,Filtros!$A$5:$AY$22116,8,FALSE),0)","v":0},{"$f":"IFERROR(VLOOKUP($A53,Filtros!$A$5:$AY$22116,9,FALSE),0)","v":0},{"$f":"IFERROR(VLOOKUP($A53,Filtros!$A$5:$AY$22116,10,FALSE),0)","v":0},{"$f":"IFERROR(VLOOKUP($A53,Filtros!$A$5:$AY$22116,11,FALSE),0)","v":0},{"$f":"IFERROR(VLOOKUP($A53,Filtros!$A$5:$AY$22116,12,FALSE),0)","v":0}]
["P1220097","50 a 54 años",{"$f":"IFERROR(VLOOKUP($A54,Filtros!$A$5:$AY$22116,2,FALSE),0)","v":184},{"$f":"IFERROR(VLOOKUP($A54,Filtros!$A$5:$AY$22116,3,FALSE),0)","v":161},{"$f":"IFERROR(VLOOKUP($A54,Filtros!$A$5:$AY$22116,4,FALSE),0)","v":14},{"$f":"IFERROR(VLOOKUP($A54,Filtros!$A$5:$AY$22116,5,FALSE),0)","v":4},{"$f":"IFERROR(VLOOKUP($A54,Filtros!$A$5:$AY$22116,6,FALSE),0)","v":0},{"$f":"IFERROR(VLOOKUP($A54,Filtros!$A$5:$AY$22116,7,FALSE),0)","v":1},{"$f":"IFERROR(VLOOKUP($A54,Filtros!$A$5:$AY$22116,8,FALSE),0)","v":0},{"$f":"IFERROR(VLOOKUP($A54,Filtros!$A$5:$AY$22116,9,FALSE),0)","v":0},{"$f":"IFERROR(VLOOKUP($A54,Filtros!$A$5:$AY$22116,10,FALSE),0)","v":2},{"$f":"IFERROR(VLOOKUP($A54,Filtros!$A$5:$AY$22116,11,FALSE),0)","v":2},{"$f":"IFERROR(VLOOKUP($A54,Filtros!$A$5:$AY$22116,12,FALSE),0)","v":0}]
["P1220098","55 a 59 años",{"$f":"IFERROR(VLOOKUP($A55,Filtros!$A$5:$AY$22116,2,FALSE),0)","v":159},{"$f":"IFERROR(VLOOKUP($A55,Filtros!$A$5:$AY$22116,3,FALSE),0)","v":142},{"$f":"IFERROR(VLOOKUP($A55,Filtros!$A$5:$AY$22116,4,FALSE),0)","v":12},{"$f":"IFERROR(VLOOKUP($A55,Filtros!$A$5:$AY$22116,5,FALSE),0)","v":2},{"$f":"IFERROR(VLOOKUP($A55,Filtros!$A$5:$AY$22116,6,FALSE),0)","v":0},{"$f":"IFERROR(VLOOKUP($A55,Filtros!$A$5:$AY$22116,7,FALSE),0)","v":1},{"$f":"IFERROR(VLOOKUP($A55,Filtros!$A$5:$AY$22116,8,FALSE),0)","v":0},{"$f":"IFERROR(VLOOKUP($A55,Filtros!$A$5:$AY$22116,9,FALSE),0)","v":0},{"$f":"IFERROR(VLOOKUP($A55,Filtros!$A$5:$AY$22116,10,FALSE),0)","v":1},{"$f":"IFERROR(VLOOKUP($A55,Filtros!$A$5:$AY$22116,11,FALSE),0)","v":1},{"$f":"IFERROR(VLOOKUP($A55,Filtros!$A$5:$AY$22116,12,FALSE),0)","v":0}]
["P1220099","60 a 64 años",{"$f":"IFERROR(VLOOKUP($A56,Filtros!$A$5:$AY$22116,2,FALSE),0)","v":90},{"$f":"IFERROR(VLOOKUP($A56,Filtros!$A$5:$AY$22116,3,FALSE),0)","v":82},{"$f":"IFERROR(VLOOKUP($A56,Filtros!$A$5:$AY$22116,4,FALSE),0)","v":6},{"$f":"IFERROR(VLOOKUP($A56,Filtros!$A$5:$AY$22116,5,FALSE),0)","v":1},{"$f":"IFERROR(VLOOKUP($A56,Filtros!$A$5:$AY$22116,6,FALSE),0)","v":0},{"$f":"IFERROR(VLOOKUP($A56,Filtros!$A$5:$AY$22116,7,FALSE),0)","v":0},{"$f":"IFERROR(VLOOKUP($A56,Filtros!$A$5:$AY$22116,8,FALSE),0)","v":1},{"$f":"IFERROR(VLOOKUP($A56,Filtros!$A$5:$AY$22116,9,FALSE),0)","v":0},{"$f":"IFERROR(VLOOKUP($A56,Filtros!$A$5:$AY$22116,10,FALSE),0)","v":0},{"$f":"IFERROR(VLOOKUP($A56,Filtros!$A$5:$AY$22116,11,FALSE),0)","v":0},{"$f":"IFERROR(VLOOKUP($A56,Filtros!$A$5:$AY$22116,12,FALSE),0)","v":0}]
["P1220100","65 a 69 años",{"$f":"IFERROR(VLOOKUP($A57,Filtros!$A$5:$AY$22116,2,FALSE),0)","v":12},{"$f":"IFERROR(VLOOKUP($A57,Filtros!$A$5:$AY$22116,3,FALSE),0)","v":11},{"$f":"IFERROR(VLOOKUP($A57,Filtros!$A$5:$AY$22116,4,FALSE),0)","v":1},{"$f":"IFERROR(VLOOKUP($A57,Filtros!$A$5:$AY$22116,5,FALSE),0)","v":0},{"$f":"IFERROR(VLOOKUP($A57,Filtros!$A$5:$AY$22116,6,FALSE),0)","v":0},{"$f":"IFERROR(VLOOKUP($A57,Filtros!$A$5:$AY$22116,7,FALSE),0)","v":0},{"$f":"IFERROR(VLOOKUP($A57,Filtros!$A$5:$AY$22116,8,FALSE),0)","v":0},{"$f":"IFERROR(VLOOKUP($A57,Filtros!$A$5:$AY$22116,9,FALSE),0)","v":0},{"$f":"IFERROR(VLOOKUP($A57,Filtros!$A$5:$AY$22116,10,FALSE),0)","v":0},{"$f":"IFERROR(VLOOKUP($A57,Filtros!$A$5:$AY$22116,11,FALSE),0)","v":0},{"$f":"IFERROR(VLOOKUP($A57,Filtros!$A$5:$AY$22116,12,FALSE),0)","v":0}]
["P1220101","70 a 74 años",{"$f":"IFERROR(VLOOKUP($A58,Filtros!$A$5:$AY$22116,2,FALSE),0)","v":4},{"$f":"IFERROR(VLOOKUP($A58,Filtros!$A$5:$AY$22116,3,FALSE),0)","v":3},{"$f":"IFERROR(VLOOKUP($A58,Filtros!$A$5:$AY$22116,4,FALSE),0)","v":1},{"$f":"IFERROR(VLOOKUP($A58,Filtros!$A$5:$AY$22116,5,FALSE),0)","v":0},{"$f":"IFERROR(VLOOKUP($A58,Filtros!$A$5:$AY$22116,6,FALSE),0)","v":0},{"$f":"IFERROR(VLOOKUP($A58,Filtros!$A$5:$AY$22116,7,FALSE),0)","v":0},{"$f":"IFERROR(VLOOKUP($A58,Filtros!$A$5:$AY$22116,8,FALSE),0)","v":0},{"$f":"IFERROR(VLOOKUP($A58,Filtros!$A$5:$AY$22116,9,FALSE),0)","v":0},{"$f":"IFERROR(VLOOKUP($A58,Filtros!$A$5:$AY$22116,10,FALSE),0)","v":0},{"$f":"IFERROR(VLOOKUP($A58,Filtros!$A$5:$AY$22116,11,FALSE),0)","v":0},{"$f":"IFERROR(VLOOKUP($A58,Filtros!$A$5:$AY$22116,12,FALSE),0)","v":0}]
["P1220102","75 a 79 años",{"$f":"IFERROR(VLOOKUP($A59,Filtros!$A$5:$AY$22116,2,FALSE),0)","v":3},{"$f":"IFERROR(VLOOKUP($A59,Filtros!$A$5:$AY$22116,3,FALSE),0)","v":3},{"$f":"IFERROR(VLOOKUP($A59,Filtros!$A$5:$AY$22116,4,FALSE),0)","v":0},{"$f":"IFERROR(VLOOKUP($A59,Filtros!$A$5:$AY$22116,5,FALSE),0)","v":0},{"$f":"IFERROR(VLOOKUP($A59,Filtros!$A$5:$AY$22116,6,FALSE),0)","v":0},{"$f":"IFERROR(VLOOKUP($A59,Filtros!$A$5:$AY$22116,7,FALSE),0)","v":0},{"$f":"IFERROR(VLOOKUP($A59,Filtros!$A$5:$AY$22116,8,FALSE),0)","v":0},{"$f":"IFERROR(VLOOKUP($A59,Filtros!$A$5:$AY$22116,9,FALSE),0)","v":0},{"$f":"IFERROR(VLOOKUP($A59,Filtros!$A$5:$AY$22116,10,FALSE),0)","v":0},{"$f":"IFERROR(VLOOKUP($A59,Filtros!$A$5:$AY$22116,11,FALSE),0)","v":0},{"$f":"IFERROR(VLOOKUP($A59,Filtros!$A$5:$AY$22116,12,FALSE),0)","v":0}]
["P1230005","80 y más años",{"$f":"IFERROR(VLOOKUP($A60,Filtros!$A$5:$AY$22116,2,FALSE),0)","v":4},{"$f":"IFERROR(VLOOKUP($A60,Filtros!$A$5:$AY$22116,3,FALSE),0)","v":2},{"$f":"IFERROR(VLOOKUP($A60,Filtros!$A$5:$AY$22116,4,FALSE),0)","v":0},{"$f":"IFERROR(VLOOKUP($A60,Filtros!$A$5:$AY$22116,5,FALSE),0)","v":0},{"$f":"IFERROR(VLOOKUP($A60,Filtros!$A$5:$AY$22116,6,FALSE),0)","v":0},{"$f":"IFERROR(VLOOKUP($A60,Filtros!$A$5:$AY$22116,7,FALSE),0)","v":0},{"$f":"IFERROR(VLOOKUP($A60,Filtros!$A$5:$AY$22116,8,FALSE),0)","v":0},{"$f":"IFERROR(VLOOKUP($A60,Filtros!$A$5:$AY$22116,9,FALSE),0)","v":0},{"$f":"IFERROR(VLOOKUP($A60,Filtros!$A$5:$AY$22116,10,FALSE),0)","v":2},{"$f":"IFERROR(VLOOKUP($A60,Filtros!$A$5:$AY$22116,11,FALSE),0)","v":0},{"$f":"IFERROR(VLOOKUP($A60,Filtros!$A$5:$AY$22116,12,FALSE),0)","v":0}]
[null,"TOTAL",{"$f":"SUM(D61:L61)","v":1568},{"$f":"SUM(D48:D60)","v":1395},{"$f":"SUM(E48:E60)","v":108},{"$f":"SUM(F48:F60)","v":34},1,10,3,9,5,3,{"$f":"SUM(M48:M60)","v":0}]
[null,"(*) FUENTE DE INFORMACIÓN: CITOEXPERT O REVICAN"]
[null,"SECCION C: PROGRAMA DE CANCER DE MAMA: MUJERES CON MAMOGRAFÍA VIGENTE EN LOS ULTIMOS 3 AÑOS. "]
[null,"GRUPO DE EDAD \n(en años)","Mujeres con mamografia vigente  (Menor o igual a 3 años)"]
["P1207190","Menor de 35 años",{"$f":"IFERROR(VLOOKUP($A65,Filtros!$A$5:$AY$22116,2,FALSE),0)","v":1004}]
["P1220020","35 a 49 años",{"$f":"IFERROR(VLOOKUP($A66,Filtros!$A$5:$AY$22116,2,FALSE),0)","v":11526}]
["P1220030","50 a 54 años",{"$f":"IFERROR(VLOOKUP($A67,Filtros!$A$5:$AY$22116,2,FALSE),0)","v":7869}]
["P1207030","55 a 59 años",{"$f":"IFERROR(VLOOKUP($A68,Filtros!$A$5:$AY$22116,2,FALSE),0)","v":7298}]
["P1207040","60 a 64 años",{"$f":"IFERROR(VLOOKUP($A69,Filtros!$A$5:$AY$22116,2,FALSE),0)","v":5243}]
["P1207050","65 a 69 años",{"$f":"IFERROR(VLOOKUP($A70,Filtros!$A$5:$AY$22116,2,FALSE),0)","v":3106}]
["P1207060","70 a 74 años",{"$f":"IFERROR(VLOOKUP($A71,Filtros!$A$5:$AY$22116,2,FALSE),0)","v":1228}]
["P1207070","75 a 79 años",{"$f":"IFERROR(VLOOKUP($A72,Filtros!$A$5:$AY$22116,2,FALSE),0)","v":413}]
["P1207080","80 y más años",{"$f":"IFERROR(VLOOKUP($A73,Filtros!$A$5:$AY$22116,2,FALSE),0)","v":151}]
[null,"TOTAL",{"$f":"SUM(C65:C73)","v":37838}]
[null,"(*) FUENTE DE INFORMACIÓN: TARJETERO POBLACIONAL DE LA APS"]
[null,"SECCION D: PROGRAMA DE CANCER DE MAMA: NÚMERO DE MUJERES CON EXAMEN FÍSICO DE MAMA (VIGENTE)"]
[null,"GRUPO DE EDAD \n(en años)","Mujeres con EFM vigente\n"]
["P1207180","Menor de 35 años",{"$f":"IFERROR(VLOOKUP($A78,Filtros!$A$5:$AY$22116,2,FALSE),0)","v":20878}]
["P1220070","35 a 49 años",{"$f":"IFERROR(VLOOKUP($A79,Filtros!$A$5:$AY$22116,2,FALSE),0)","v":23553}]
["P1220090","50 a 54 años",{"$f":"IFERROR(VLOOKUP($A80,Filtros!$A$5:$AY$22116,2,FALSE),0)","v":7950}]
["P1207090","55 a 59 años",{"$f":"IFERROR(VLOOKUP($A81,Filtros!$A$5:$AY$22116,2,FALSE),0)","v":6896}]
["P1207100","60 a 64 años",{"$f":"IFERROR(VLOOKUP($A82,Filtros!$A$5:$AY$22116,2,FALSE),0)","v":5082}]
["P1207110","65 a 69 años",{"$f":"IFERROR(VLOOKUP($A83,Filtros!$A$5:$AY$22116,2,FALSE),0)","v":2418}]
["P1207120","70 a 74 años",{"$f":"IFERROR(VLOOKUP($A84,Filtros!$A$5:$AY$22116,2,FALSE),0)","v":708}]
["P1207130","75 a 79 años",{"$f":"IFERROR(VLOOKUP($A85,Filtros!$A$5:$AY$22116,2,FALSE),0)","v":271}]
["P1207140","80 y más años",{"$f":"IFERROR(VLOOKUP($A86,Filtros!$A$5:$AY$22116,2,FALSE),0)","v":118}]
[null,"TOTAL",{"$f":"SUM(C78:C86)","v":67874}]
[null,"(*) FUENTE DE INFORMACIÓN: TARJETERO POBLACIONAL DE LA APS"]
[null,"SECCION E: PROGRAMA DE CANCER DE CUELLO UTERINO: POBLACIÓN CON VPH VIGENTE"]
[null,"GRUPOS DE EDAD (en años)","MUJERES\ncon Examen VPH Vigente \nen los ultimos 5 años","TRANS MASCULINO\ncon Examen VPH Vigente \nen los ultimos 5 años"]
["P1240010","30 a 34 años",{"$f":"IFERROR(VLOOKUP($A91,Filtros!$A$5:$AY$22116,2,FALSE),0)","v":1988},{"$f":"IFERROR(VLOOKUP($A91,Filtros!$A$5:$AY$22116,3,FALSE),0)","v":8}]
["P1240011","35 a 39 años",{"$f":"IFERROR(VLOOKUP($A92,Filtros!$A$5:$AY$22116,2,FALSE),0)","v":2021},{"$f":"IFERROR(VLOOKUP($A92,Filtros!$A$5:$AY$22116,3,FALSE),0)","v":1}]
["P1240012","40 a 44 años",{"$f":"IFERROR(VLOOKUP($A93,Filtros!$A$5:$AY$22116,2,FALSE),0)","v":1724},{"$f":"IFERROR(VLOOKUP($A93,Filtros!$A$5:$AY$22116,3,FALSE),0)","v":0}]
["P1240013","45 a 49 años",{"$f":"IFERROR(VLOOKUP($A94,Filtros!$A$5:$AY$22116,2,FALSE),0)","v":1764},{"$f":"IFERROR(VLOOKUP($A94,Filtros!$A$5:$AY$22116,3,FALSE),0)","v":4}]
["P1240014","50 a 54 años",{"$f":"IFERROR(VLOOKUP($A95,Filtros!$A$5:$AY$22116,2,FALSE),0)","v":1606},{"$f":"IFERROR(VLOOKUP($A95,Filtros!$A$5:$AY$22116,3,FALSE),0)","v":2}]
["P1240015","55 a 59 años",{"$f":"IFERROR(VLOOKUP($A96,Filtros!$A$5:$AY$22116,2,FALSE),0)","v":1357},{"$f":"IFERROR(VLOOKUP($A96,Filtros!$A$5:$AY$22116,3,FALSE),0)","v":4}]
["P1240016","60 a 64 años",{"$f":"IFERROR(VLOOKUP($A97,Filtros!$A$5:$AY$22116,2,FALSE),0)","v":914},{"$f":"IFERROR(VLOOKUP($A97,Filtros!$A$5:$AY$22116,3,FALSE),0)","v":3}]
[null,"TOTAL",{"$f":"SUM(C91:C97)","v":11374},{"$f":"SUM(D91:D97)","v":22}]
[null,"SECCIÓN F: PROGRAMA DE CANCER DE CUELLO UTERINO: RESULTADOS DE VPH  REALIZADOS EN EL SISTEMA PUBLICO SEGÚN GRUPOS DE EDAD \n(Examen realizados en la red pública)"]
[null,"GRUPO DE EDAD \n(en años)","VPH INFORMADOS SEGÚN RESULTADO"]
[null,null,"TOTAL","VPH (-)","POSITIVOS",null,null,"TOTAL VPH  INFORMADOS EN TRANS MASCULINO "]
[{"$nulls":4},"VPH 16 (+)","VPH 18 (+)","VPH AR* (+) "]
["P1240017","30 a 34 años",{"$f":"IFERROR(VLOOKUP($A103,Filtros!$A$5:$AY$22116,2,FALSE),0)","v":1415},{"$f":"IFERROR(VLOOKUP($A103,Filtros!$A$5:$AY$22116,3,FALSE),0)","v":1118},{"$f":"IFERROR(VLOOKUP($A103,Filtros!$A$5:$AY$22116,4,FALSE),0)","v":65},{"$f":"IFERROR(VLOOKUP($A103,Filtros!$A$5:$AY$22116,5,FALSE),0)","v":14},{"$f":"IFERROR(VLOOKUP($A103,Filtros!$A$5:$AY$22116,6,FALSE),0)","v":214},{"$f":"IFERROR(VLOOKUP($A103,Filtros!$A$5:$AY$22116,7,FALSE),0)","v":0}]
["P1240018","35 a 39 años",{"$f":"IFERROR(VLOOKUP($A104,Filtros!$A$5:$AY$22116,2,FALSE),0)","v":1518},{"$f":"IFERROR(VLOOKUP($A104,Filtros!$A$5:$AY$22116,3,FALSE),0)","v":1315},{"$f":"IFERROR(VLOOKUP($A104,Filtros!$A$5:$AY$22116,4,FALSE),0)","v":47},{"$f":"IFERROR(VLOOKUP($A104,Filtros!$A$5:$AY$22116,5,FALSE),0)","v":17},{"$f":"IFERROR(VLOOKUP($A104,Filtros!$A$5:$AY$22116,6,FALSE),0)","v":131},{"$f":"IFERROR(VLOOKUP($A104,Filtros!$A$5:$AY$22116,7,FALSE),0)","v":0}]
["P1240019","40 a 44 años",{"$f":"IFERROR(VLOOKUP($A105,Filtros!$A$5:$AY$22116,2,FALSE),0)","v":1289},{"$f":"IFERROR(VLOOKUP($A105,Filtros!$A$5:$AY$22116,3,FALSE),0)","v":1153},{"$f":"IFERROR(VLOOKUP($A105,Filtros!$A$5:$AY$22116,4,FALSE),0)","v":33},{"$f":"IFERROR(VLOOKUP($A105,Filtros!$A$5:$AY$22116,5,FALSE),0)","v":9},{"$f":"IFERROR(VLOOKUP($A105,Filtros!$A$5:$AY$22116,6,FALSE),0)","v":87},{"$f":"IFERROR(VLOOKUP($A105,Filtros!$A$5:$AY$22116,7,FALSE),0)","v":0}]
["P1240020","45 a 49 años",{"$f":"IFERROR(VLOOKUP($A106,Filtros!$A$5:$AY$22116,2,FALSE),0)","v":1294},{"$f":"IFERROR(VLOOKUP($A106,Filtros!$A$5:$AY$22116,3,FALSE),0)","v":1166},{"$f":"IFERROR(VLOOKUP($A106,Filtros!$A$5:$AY$22116,4,FALSE),0)","v":26},{"$f":"IFERROR(VLOOKUP($A106,Filtros!$A$5:$AY$22116,5,FALSE),0)","v":4},{"$f":"IFERROR(VLOOKUP($A106,Filtros!$A$5:$AY$22116,6,FALSE),0)","v":94},{"$f":"IFERROR(VLOOKUP($A106,Filtros!$A$5:$AY$22116,7,FALSE),0)","v":0}]
["P1240021","50 a 54 años",{"$f":"IFERROR(VLOOKUP($A107,Filtros!$A$5:$AY$22116,2,FALSE),0)","v":1130},{"$f":"IFERROR(VLOOKUP($A107,Filtros!$A$5:$AY$22116,3,FALSE),0)","v":1044},{"$f":"IFERROR(VLOOKUP($A107,Filtros!$A$5:$AY$22116,4,FALSE),0)","v":11},{"$f":"IFERROR(VLOOKUP($A107,Filtros!$A$5:$AY$22116,5,FALSE),0)","v":4},{"$f":"IFERROR(VLOOKUP($A107,Filtros!$A$5:$AY$22116,6,FALSE),0)","v":71},{"$f":"IFERROR(VLOOKUP($A107,Filtros!$A$5:$AY$22116,7,FALSE),0)","v":0}]
["P1240022","55 a 59 años",{"$f":"IFERROR(VLOOKUP($A108,Filtros!$A$5:$AY$22116,2,FALSE),0)","v":1001},{"$f":"IFERROR(VLOOKUP($A108,Filtros!$A$5:$AY$22116,3,FALSE),0)","v":918},{"$f":"IFERROR(VLOOKUP($A108,Filtros!$A$5:$AY$22116,4,FALSE),0)","v":10},{"$f":"IFERROR(VLOOKUP($A108,Filtros!$A$5:$AY$22116,5,FALSE),0)","v":6},{"$f":"IFERROR(VLOOKUP($A108,Filtros!$A$5:$AY$22116,6,FALSE),0)","v":63},{"$f":"IFERROR(VLOOKUP($A108,Filtros!$A$5:$AY$22116,7,FALSE),0)","v":0}]
["P1240023","60 a 64 años",{"$f":"IFERROR(VLOOKUP($A109,Filtros!$A$5:$AY$22116,2,FALSE),0)","v":665},{"$f":"IFERROR(VLOOKUP($A109,Filtros!$A$5:$AY$22116,3,FALSE),0)","v":611},{"$f":"IFERROR(VLOOKUP($A109,Filtros!$A$5:$AY$22116,4,FALSE),0)","v":10},{"$f":"IFERROR(VLOOKUP($A109,Filtros!$A$5:$AY$22116,5,FALSE),0)","v":5},{"$f":"IFERROR(VLOOKUP($A109,Filtros!$A$5:$AY$22116,6,FALSE),0)","v":36},{"$f":"IFERROR(VLOOKUP($A109,Filtros!$A$5:$AY$22116,7,FALSE),0)","v":0}]
["P1240024","65 a 69 años",{"$f":"IFERROR(VLOOKUP($A110,Filtros!$A$5:$AY$22116,2,FALSE),0)","v":48},{"$f":"IFERROR(VLOOKUP($A110,Filtros!$A$5:$AY$22116,3,FALSE),0)","v":44},{"$f":"IFERROR(VLOOKUP($A110,Filtros!$A$5:$AY$22116,4,FALSE),0)","v":2},{"$f":"IFERROR(VLOOKUP($A110,Filtros!$A$5:$AY$22116,5,FALSE),0)","v":0},{"$f":"IFERROR(VLOOKUP($A110,Filtros!$A$5:$AY$22116,6,FALSE),0)","v":2},{"$f":"IFERROR(VLOOKUP($A110,Filtros!$A$5:$AY$22116,7,FALSE),0)","v":0}]
["P1240025","70 a 74 años",{"$f":"IFERROR(VLOOKUP($A111,Filtros!$A$5:$AY$22116,2,FALSE),0)","v":1},{"$f":"IFERROR(VLOOKUP($A111,Filtros!$A$5:$AY$22116,3,FALSE),0)","v":1},{"$f":"IFERROR(VLOOKUP($A111,Filtros!$A$5:$AY$22116,4,FALSE),0)","v":0},{"$f":"IFERROR(VLOOKUP($A111,Filtros!$A$5:$AY$22116,5,FALSE),0)","v":0},{"$f":"IFERROR(VLOOKUP($A111,Filtros!$A$5:$AY$22116,6,FALSE),0)","v":0},{"$f":"IFERROR(VLOOKUP($A111,Filtros!$A$5:$AY$22116,7,FALSE),0)","v":0}]
["P1240026","75 a 79 años",{"$f":"IFERROR(VLOOKUP($A112,Filtros!$A$5:$AY$22116,2,FALSE),0)","v":3},{"$f":"IFERROR(VLOOKUP($A112,Filtros!$A$5:$AY$22116,3,FALSE),0)","v":2},{"$f":"IFERROR(VLOOKUP($A112,Filtros!$A$5:$AY$22116,4,FALSE),0)","v":0},{"$f":"IFERROR(VLOOKUP($A112,Filtros!$A$5:$AY$22116,5,FALSE),0)","v":0},{"$f":"IFERROR(VLOOKUP($A112,Filtros!$A$5:$AY$22116,6,FALSE),0)","v":1},{"$f":"IFERROR(VLOOKUP($A112,Filtros!$A$5:$AY$22116,7,FALSE),0)","v":0}]
["P1240027","80 y más años",{"$f":"IFERROR(VLOOKUP($A113,Filtros!$A$5:$AY$22116,2,FALSE),0)","v":0},{"$f":"IFERROR(VLOOKUP($A113,Filtros!$A$5:$AY$22116,3,FALSE),0)","v":0},{"$f":"IFERROR(VLOOKUP($A113,Filtros!$A$5:$AY$22116,4,FALSE),0)","v":0},{"$f":"IFERROR(VLOOKUP($A113,Filtros!$A$5:$AY$22116,5,FALSE),0)","v":0},{"$f":"IFERROR(VLOOKUP($A113,Filtros!$A$5:$AY$22116,6,FALSE),0)","v":0},{"$f":"IFERROR(VLOOKUP($A113,Filtros!$A$5:$AY$22116,7,FALSE),0)","v":0}]
[null,"TOTAL",{"$f":"SUM(D114:G114)","v":8334},{"$f":"SUM(D103:D113)","v":7372},{"$f":"SUM(E103:E113)","v":204},{"$f":"SUM(F103:F113)","v":59},{"$f":"SUM(G103:G113)","v":699},{"$f":"SUM(H103:H113)","v":0}]
[null,"* Agrupados Alto Riesgo"]
[null,"SECCIÓN F.1: PROGRAMA DE CANCER DE CUELLO UTERINO: RESULTADOS DE  VPH INFORMADOS, REALIZADOS EN EL EXTRASISTEMA SEGÚN  GRUPOS DE EDAD (Examen realizados en extrasistema)"]
[null,"GRUPO DE EDAD \n(en años)","VPH INFORMADOS SEGÚN RESULTADO"]
[null,null,"TOTAL","VPH (-)","POSITIVOS",null,null,"TOTAL VPH  INFORMADOS EN TRANS MASCULINO "]
[{"$nulls":4},"VPH 16 (+)","VPH 18 (+)","VPH AR (+) "]
["P1240028","30 a 34 años",{"$f":"IFERROR(VLOOKUP($A120,Filtros!$A$5:$AY$22116,2,FALSE),0)","v":0},{"$f":"IFERROR(VLOOKUP($A120,Filtros!$A$5:$AY$22116,3,FALSE),0)","v":0},{"$f":"IFERROR(VLOOKUP($A120,Filtros!$A$5:$AY$22116,4,FALSE),0)","v":0},{"$f":"IFERROR(VLOOKUP($A120,Filtros!$A$5:$AY$22116,5,FALSE),0)","v":0},{"$f":"IFERROR(VLOOKUP($A120,Filtros!$A$5:$AY$22116,6,FALSE),0)","v":0},{"$f":"IFERROR(VLOOKUP($A120,Filtros!$A$5:$AY$22116,7,FALSE),0)","v":0}]
["P1240029","35 a 39 años",{"$f":"IFERROR(VLOOKUP($A121,Filtros!$A$5:$AY$22116,2,FALSE),0)","v":0},{"$f":"IFERROR(VLOOKUP($A121,Filtros!$A$5:$AY$22116,3,FALSE),0)","v":0},{"$f":"IFERROR(VLOOKUP($A121,Filtros!$A$5:$AY$22116,4,FALSE),0)","v":0},{"$f":"IFERROR(VLOOKUP($A121,Filtros!$A$5:$AY$22116,5,FALSE),0)","v":0},{"$f":"IFERROR(VLOOKUP($A121,Filtros!$A$5:$AY$22116,6,FALSE),0)","v":0},{"$f":"IFERROR(VLOOKUP($A121,Filtros!$A$5:$AY$22116,7,FALSE),0)","v":0}]
["P1240030","40 a 44 años",{"$f":"IFERROR(VLOOKUP($A122,Filtros!$A$5:$AY$22116,2,FALSE),0)","v":1},{"$f":"IFERROR(VLOOKUP($A122,Filtros!$A$5:$AY$22116,3,FALSE),0)","v":1},{"$f":"IFERROR(VLOOKUP($A122,Filtros!$A$5:$AY$22116,4,FALSE),0)","v":0},{"$f":"IFERROR(VLOOKUP($A122,Filtros!$A$5:$AY$22116,5,FALSE),0)","v":0},{"$f":"IFERROR(VLOOKUP($A122,Filtros!$A$5:$AY$22116,6,FALSE),0)","v":0},{"$f":"IFERROR(VLOOKUP($A122,Filtros!$A$5:$AY$22116,7,FALSE),0)","v":0}]
["P1240031","45 a 49 años",{"$f":"IFERROR(VLOOKUP($A123,Filtros!$A$5:$AY$22116,2,FALSE),0)","v":0},{"$f":"IFERROR(VLOOKUP($A123,Filtros!$A$5:$AY$22116,3,FALSE),0)","v":0},{"$f":"IFERROR(VLOOKUP($A123,Filtros!$A$5:$AY$22116,4,FALSE),0)","v":0},{"$f":"IFERROR(VLOOKUP($A123,Filtros!$A$5:$AY$22116,5,FALSE),0)","v":0},{"$f":"IFERROR(VLOOKUP($A123,Filtros!$A$5:$AY$22116,6,FALSE),0)","v":0},{"$f":"IFERROR(VLOOKUP($A123,Filtros!$A$5:$AY$22116,7,FALSE),0)","v":0}]
["P1240032","50 a 54 años",{"$f":"IFERROR(VLOOKUP($A124,Filtros!$A$5:$AY$22116,2,FALSE),0)","v":0},{"$f":"IFERROR(VLOOKUP($A124,Filtros!$A$5:$AY$22116,3,FALSE),0)","v":0},{"$f":"IFERROR(VLOOKUP($A124,Filtros!$A$5:$AY$22116,4,FALSE),0)","v":0},{"$f":"IFERROR(VLOOKUP($A124,Filtros!$A$5:$AY$22116,5,FALSE),0)","v":0},{"$f":"IFERROR(VLOOKUP($A124,Filtros!$A$5:$AY$22116,6,FALSE),0)","v":0},{"$f":"IFERROR(VLOOKUP($A124,Filtros!$A$5:$AY$22116,7,FALSE),0)","v":0}]
["P1240033","55 a 59 años",{"$f":"IFERROR(VLOOKUP($A125,Filtros!$A$5:$AY$22116,2,FALSE),0)","v":0},{"$f":"IFERROR(VLOOKUP($A125,Filtros!$A$5:$AY$22116,3,FALSE),0)","v":0},{"$f":"IFERROR(VLOOKUP($A125,Filtros!$A$5:$AY$22116,4,FALSE),0)","v":0},{"$f":"IFERROR(VLOOKUP($A125,Filtros!$A$5:$AY$22116,5,FALSE),0)","v":0},{"$f":"IFERROR(VLOOKUP($A125,Filtros!$A$5:$AY$22116,6,FALSE),0)","v":0},{"$f":"IFERROR(VLOOKUP($A125,Filtros!$A$5:$AY$22116,7,FALSE),0)","v":0}]
["P1240034","60 a 64 años",{"$f":"IFERROR(VLOOKUP($A126,Filtros!$A$5:$AY$22116,2,FALSE),0)","v":0},{"$f":"IFERROR(VLOOKUP($A126,Filtros!$A$5:$AY$22116,3,FALSE),0)","v":0},{"$f":"IFERROR(VLOOKUP($A126,Filtros!$A$5:$AY$22116,4,FALSE),0)","v":0},{"$f":"IFERROR(VLOOKUP($A126,Filtros!$A$5:$AY$22116,5,FALSE),0)","v":0},{"$f":"IFERROR(VLOOKUP($A126,Filtros!$A$5:$AY$22116,6,FALSE),0)","v":0},{"$f":"IFERROR(VLOOKUP($A126,Filtros!$A$5:$AY$22116,7,FALSE),0)","v":0}]
["P1240035","65 a 69 años",{"$f":"IFERROR(VLOOKUP($A127,Filtros!$A$5:$AY$22116,2,FALSE),0)","v":0},{"$f":"IFERROR(VLOOKUP($A127,Filtros!$A$5:$AY$22116,3,FALSE),0)","v":0},{"$f":"IFERROR(VLOOKUP($A127,Filtros!$A$5:$AY$22116,4,FALSE),0)","v":0},{"$f":"IFERROR(VLOOKUP($A127,Filtros!$A$5:$AY$22116,5,FALSE),0)","v":0},{"$f":"IFERROR(VLOOKUP($A127,Filtros!$A$5:$AY$22116,6,FALSE),0)","v":0},{"$f":"IFERROR(VLOOKUP($A127,Filtros!$A$5:$AY$22116,7,FALSE),0)","v":0}]
["P1240036","70 a 74 años",{"$f":"IFERROR(VLOOKUP($A128,Filtros!$A$5:$AY$22116,2,FALSE),0)","v":0},{"$f":"IFERROR(VLOOKUP($A128,Filtros!$A$5:$AY$22116,3,FALSE),0)","v":0},{"$f":"IFERROR(VLOOKUP($A128,Filtros!$A$5:$AY$22116,4,FALSE),0)","v":0},{"$f":"IFERROR(VLOOKUP($A128,Filtros!$A$5:$AY$22116,5,FALSE),0)","v":0},{"$f":"IFERROR(VLOOKUP($A128,Filtros!$A$5:$AY$22116,6,FALSE),0)","v":0},{"$f":"IFERROR(VLOOKUP($A128,Filtros!$A$5:$AY$22116,7,FALSE),0)","v":0}]
["P1240037","75 a 79 años",{"$f":"IFERROR(VLOOKUP($A129,Filtros!$A$5:$AY$22116,2,FALSE),0)","v":0},{"$f":"IFERROR(VLOOKUP($A129,Filtros!$A$5:$AY$22116,3,FALSE),0)","v":0},{"$f":"IFERROR(VLOOKUP($A129,Filtros!$A$5:$AY$22116,4,FALSE),0)","v":0},{"$f":"IFERROR(VLOOKUP($A129,Filtros!$A$5:$AY$22116,5,FALSE),0)","v":0},{"$f":"IFERROR(VLOOKUP($A129,Filtros!$A$5:$AY$22116,6,FALSE),0)","v":0},{"$f":"IFERROR(VLOOKUP($A129,Filtros!$A$5:$AY$22116,7,FALSE),0)","v":0}]
["P1240038","80 y más años",{"$f":"IFERROR(VLOOKUP($A130,Filtros!$A$5:$AY$22116,2,FALSE),0)","v":0},{"$f":"IFERROR(VLOOKUP($A130,Filtros!$A$5:$AY$22116,3,FALSE),0)","v":0},{"$f":"IFERROR(VLOOKUP($A130,Filtros!$A$5:$AY$22116,4,FALSE),0)","v":0},{"$f":"IFERROR(VLOOKUP($A130,Filtros!$A$5:$AY$22116,5,FALSE),0)","v":0},{"$f":"IFERROR(VLOOKUP($A130,Filtros!$A$5:$AY$22116,6,FALSE),0)","v":0},{"$f":"IFERROR(VLOOKUP($A130,Filtros!$A$5:$AY$22116,7,FALSE),0)","v":0}]
[null,"TOTAL",{"$f":"SUM(D131:G131)","v":1},{"$f":"SUM(D120:D130)","v":1},{"$f":"SUM(E120:E130)","v":0},{"$f":"SUM(F120:F130)","v":0},{"$f":"SUM(G120:G130)","v":0},{"$f":"SUM(H120:H130)","v":0}]
{"$rows_empty":67}
[null,{"$f":"SUM(C10:D22,D29:M41,D48:M60,C65:C73,C78:C86,C91:D97,D103:H113,D120:H130)","v":240765},"datos"]
[null,{"$f":"SUM(BB$10:CA130)","v":0},"errores"]

{"sheet":"P13","index":11,"n_rows":53,"n_cols":70,"rows_kept":53,"merged":[[6,2,6,16],[7,1,7,7],[8,5,8,10],[8,11,10,11],[8,12,10,12],[9,2,9,4],[9,5,9,6],[9,7,9,8],[9,9,9,10],[13,1,15,1],[13,2,14,4],[13,5,13,16],[13,17,15,17],[13,18,15,18],[14,5,14,6],[14,7,14,8],[14,9,14,10],[14,11,14,12],[14,13,14,14],[14,15,14,16],[21,1,23,1],[21,2,22,4],[21,5,21,16],[21,17,23,17],[21,18,23,18],[22,5,22,6],[22,7,22,8],[22,9,22,10],[22,11,22,12],[22,13,22,14],[22,15,22,16],[31,1,33,1],[31,2,32,4],[31,5,31,16],[31,17,33,17],[31,18,33,18],[32,5,32,6],[32,7,32,8],[32,9,32,10],[32,11,32,12],[32,13,32,14],[32,15,32,16]]}
[]
[]
[]
[]
[]
[]
[null,null,"REM-P13. NIÑOS, NIÑAS, ADOLESCENTES Y JÓVENES DE LA RED DE PROTECCIÓN SENAME EN ATENCIÓN"]
[null,"SECCIÓN A. POBLACIÓN SENAME POTENCIAL DE ATENCION EN APS AL CORTE"]
[{"$nulls":5},"TIPO DE PROGRAMAS SENAME",{"$nulls":5},"MIGRANTES","PUEBLOS ORIGINARIOS"]
[null,null,"TOTAL",null,null,"Ambulatorios",null,"Residencia",null,"CIP / CRC"]
[null,null,"Ambos Sexos","Hombre","Mujer","Hombre","Mujer","Hombre","Mujer","Hombre","Mujer"]
["P1310010","N° TOTAL DE POBLACIÓN POTENCIAL SENAME",{"$f":"IFERROR(VLOOKUP($A12,Filtros!$A$5:$AY$22116,2,FALSE),0)","v":6683},{"$f":"IFERROR(VLOOKUP($A12,Filtros!$A$5:$AY$22116,3,FALSE),0)","v":3438},{"$f":"IFERROR(VLOOKUP($A12,Filtros!$A$5:$AY$22116,4,FALSE),0)","v":3245},{"$f":"IFERROR(VLOOKUP($A12,Filtros!$A$5:$AY$22116,5,FALSE),0)","v":3222},{"$f":"IFERROR(VLOOKUP($A12,Filtros!$A$5:$AY$22116,6,FALSE),0)","v":3166},{"$f":"IFERROR(VLOOKUP($A12,Filtros!$A$5:$AY$22116,7,FALSE),0)","v":176},{"$f":"IFERROR(VLOOKUP($A12,Filtros!$A$5:$AY$22116,8,FALSE),0)","v":74},{"$f":"IFERROR(VLOOKUP($A12,Filtros!$A$5:$AY$22116,9,FALSE),0)","v":40},{"$f":"IFERROR(VLOOKUP($A12,Filtros!$A$5:$AY$22116,10,FALSE),0)","v":5},{"$f":"IFERROR(VLOOKUP($A12,Filtros!$A$5:$AY$22116,11,FALSE),0)","v":42},{"$f":"IFERROR(VLOOKUP($A12,Filtros!$A$5:$AY$22116,12,FALSE),0)","v":57},{"$nulls":40},{"$f":"IF(BQ12=1,\" * El total de Migrantes no debe superar el total de población ingresada. \",\"\")","v":""},{"$f":"IF(BR12=1,\"* No olvide ingresar la columna Migrantes (Digite Cero si no tiene). \",\"\")","v":""},{"$nulls":13},{"$f":"IF(L12>C12,1,0)","v":0},{"$f":"IF(AND(C12<>0,L12=\"\"),1,0)","v":0}]
[null,"SECCIÓN B. NIÑOS, NIÑAS, ADOLESCENTES Y JÓVENES VINCULADOS A POBLACIÓN SENAME EN CONTROL DE SALUD EN APS AL CORTE"]
[null,"Tipo de Programas SENAME","TOTAL",null,null,"POR EDAD ",{"$nulls":11},"MIGRANTES","PUEBLOS ORIGINARIOS"]
[{"$nulls":5}," 0 - 4",null," 5 - 9",null," 10 - 14 ",null,"15 a 19",null,"20 - 24",null,"Mayor a 25 años"]
[null,null,"Ambos sexos","Hombre","Mujer","Hombre","Mujer","Hombre","Mujer","Hombre","Mujer","Hombre","Mujer","Hombre","Mujer","Hombre","Mujer"]
[null,"TOTAL",{"$f":"SUM(D17:E17)","v":2753},{"$f":"SUM(D18:D20)","v":1362},{"$f":"SUM(E18:E20)","v":1391},{"$f":"SUM(F18:F20)","v":209},{"$f":"SUM(G18:G20)","v":205},400,351,425,448,301,371,27,4,0,12,{"$f":"SUM(R18:R20)","v":12},{"$f":"SUM(S18:S20)","v":34},{"$nulls":34},{"$f":"IF(BQ17=1,\" * El total de Migrantes no debe superar el total de población ingresada. \",\"\")","v":""},{"$nulls":14},{"$f":"IF(R17>C17,1,0)","v":0}]
["P1310020","AMBULATORIOS",{"$f":"IFERROR(VLOOKUP($A18,Filtros!$A$5:$AY$22116,2,FALSE),0)","v":2558},{"$f":"IFERROR(VLOOKUP($A18,Filtros!$A$5:$AY$22116,3,FALSE),0)","v":1247},{"$f":"IFERROR(VLOOKUP($A18,Filtros!$A$5:$AY$22116,4,FALSE),0)","v":1311},{"$f":"IFERROR(VLOOKUP($A18,Filtros!$A$5:$AY$22116,5,FALSE),0)","v":188},{"$f":"IFERROR(VLOOKUP($A18,Filtros!$A$5:$AY$22116,6,FALSE),0)","v":195},{"$f":"IFERROR(VLOOKUP($A18,Filtros!$A$5:$AY$22116,7,FALSE),0)","v":377},{"$f":"IFERROR(VLOOKUP($A18,Filtros!$A$5:$AY$22116,8,FALSE),0)","v":326},{"$f":"IFERROR(VLOOKUP($A18,Filtros!$A$5:$AY$22116,9,FALSE),0)","v":405},{"$f":"IFERROR(VLOOKUP($A18,Filtros!$A$5:$AY$22116,10,FALSE),0)","v":420},{"$f":"IFERROR(VLOOKUP($A18,Filtros!$A$5:$AY$22116,11,FALSE),0)","v":259},{"$f":"IFERROR(VLOOKUP($A18,Filtros!$A$5:$AY$22116,12,FALSE),0)","v":354},{"$f":"IFERROR(VLOOKUP($A18,Filtros!$A$5:$AY$22116,13,FALSE),0)","v":18},{"$f":"IFERROR(VLOOKUP($A18,Filtros!$A$5:$AY$22116,14,FALSE),0)","v":4},{"$f":"IFERROR(VLOOKUP($A18,Filtros!$A$5:$AY$22116,15,FALSE),0)","v":0},{"$f":"IFERROR(VLOOKUP($A18,Filtros!$A$5:$AY$22116,16,FALSE),0)","v":12},{"$f":"IFERROR(VLOOKUP($A18,Filtros!$A$5:$AY$22116,17,FALSE),0)","v":11},{"$f":"IFERROR(VLOOKUP($A18,Filtros!$A$5:$AY$22116,18,FALSE),0)","v":32},{"$nulls":34},{"$f":"IF(BQ18=1,\" * El total de Migrantes no debe superar el total de población ingresada. \",\"\")","v":""},{"$f":"IF(BR18=1,\"* No olvide ingresar la columna Migrantes (Digite Cero si no tiene). \",\"\")","v":""},{"$nulls":13},{"$f":"IF(R18>C18,1,0)","v":0},{"$f":"IF(AND(C18<>0,R18=\"\"),1,0)","v":0}]
["P1310030","RESIDENCIALES",{"$f":"IFERROR(VLOOKUP($A19,Filtros!$A$5:$AY$22116,2,FALSE),0)","v":164},{"$f":"IFERROR(VLOOKUP($A19,Filtros!$A$5:$AY$22116,3,FALSE),0)","v":85},{"$f":"IFERROR(VLOOKUP($A19,Filtros!$A$5:$AY$22116,4,FALSE),0)","v":79},{"$f":"IFERROR(VLOOKUP($A19,Filtros!$A$5:$AY$22116,5,FALSE),0)","v":21},{"$f":"IFERROR(VLOOKUP($A19,Filtros!$A$5:$AY$22116,6,FALSE),0)","v":10},{"$f":"IFERROR(VLOOKUP($A19,Filtros!$A$5:$AY$22116,7,FALSE),0)","v":23},{"$f":"IFERROR(VLOOKUP($A19,Filtros!$A$5:$AY$22116,8,FALSE),0)","v":25},{"$f":"IFERROR(VLOOKUP($A19,Filtros!$A$5:$AY$22116,9,FALSE),0)","v":20},{"$f":"IFERROR(VLOOKUP($A19,Filtros!$A$5:$AY$22116,10,FALSE),0)","v":28},{"$f":"IFERROR(VLOOKUP($A19,Filtros!$A$5:$AY$22116,11,FALSE),0)","v":21},{"$f":"IFERROR(VLOOKUP($A19,Filtros!$A$5:$AY$22116,12,FALSE),0)","v":16},{"$f":"IFERROR(VLOOKUP($A19,Filtros!$A$5:$AY$22116,13,FALSE),0)","v":0},{"$f":"IFERROR(VLOOKUP($A19,Filtros!$A$5:$AY$22116,14,FALSE),0)","v":0},{"$f":"IFERROR(VLOOKUP($A19,Filtros!$A$5:$AY$22116,15,FALSE),0)","v":0},{"$f":"IFERROR(VLOOKUP($A19,Filtros!$A$5:$AY$22116,16,FALSE),0)","v":0},{"$f":"IFERROR(VLOOKUP($A19,Filtros!$A$5:$AY$22116,17,FALSE),0)","v":1},{"$f":"IFERROR(VLOOKUP($A19,Filtros!$A$5:$AY$22116,18,FALSE),0)","v":2},{"$nulls":34},{"$f":"IF(BQ19=1,\" * El total de Migrantes no debe superar el total de población ingresada. \",\"\")","v":""},{"$f":"IF(BR19=1,\"* No olvide ingresar la columna Migrantes (Digite Cero si no tiene). \",\"\")","v":""},{"$nulls":13},{"$f":"IF(R19>C19,1,0)","v":0},{"$f":"IF(AND(C19<>0,R19=\"\"),1,0)","v":0}]
["P1310040","CIP-CRC",{"$f":"IFERROR(VLOOKUP($A20,Filtros!$A$5:$AY$22116,2,FALSE),0)","v":31},{"$f":"IFERROR(VLOOKUP($A20,Filtros!$A$5:$AY$22116,3,FALSE),0)","v":30},{"$f":"IFERROR(VLOOKUP($A20,Filtros!$A$5:$AY$22116,4,FALSE),0)","v":1},{"$f":"IFERROR(VLOOKUP($A20,Filtros!$A$5:$AY$22116,5,FALSE),0)","v":0},{"$f":"IFERROR(VLOOKUP($A20,Filtros!$A$5:$AY$22116,6,FALSE),0)","v":0},{"$f":"IFERROR(VLOOKUP($A20,Filtros!$A$5:$AY$22116,7,FALSE),0)","v":0},{"$f":"IFERROR(VLOOKUP($A20,Filtros!$A$5:$AY$22116,8,FALSE),0)","v":0},{"$f":"IFERROR(VLOOKUP($A20,Filtros!$A$5:$AY$22116,9,FALSE),0)","v":0},{"$f":"IFERROR(VLOOKUP($A20,Filtros!$A$5:$AY$22116,10,FALSE),0)","v":0},{"$f":"IFERROR(VLOOKUP($A20,Filtros!$A$5:$AY$22116,11,FALSE),0)","v":21},{"$f":"IFERROR(VLOOKUP($A20,Filtros!$A$5:$AY$22116,12,FALSE),0)","v":1},{"$f":"IFERROR(VLOOKUP($A20,Filtros!$A$5:$AY$22116,13,FALSE),0)","v":9},{"$f":"IFERROR(VLOOKUP($A20,Filtros!$A$5:$AY$22116,14,FALSE),0)","v":0},{"$f":"IFERROR(VLOOKUP($A20,Filtros!$A$5:$AY$22116,15,FALSE),0)","v":0},{"$f":"IFERROR(VLOOKUP($A20,Filtros!$A$5:$AY$22116,16,FALSE),0)","v":0},{"$f":"IFERROR(VLOOKUP($A20,Filtros!$A$5:$AY$22116,17,FALSE),0)","v":0},{"$f":"IFERROR(VLOOKUP($A20,Filtros!$A$5:$AY$22116,18,FALSE),0)","v":0},{"$nulls":34},{"$f":"IF(BQ20=1,\" * El total de Migrantes no debe superar el total de población ingresada. \",\"\")","v":""},{"$f":"IF(BR20=1,\"* No olvide ingresar la columna Migrantes (Digite Cero si no tiene). \",\"\")","v":""},{"$nulls":13},{"$f":"IF(R20>C20,1,0)","v":0},{"$f":"IF(AND(C20<>0,R20=\"\"),1,0)","v":0}]
[null,"SECCIÓN C. VARIABLES DE SEGUIMIENTO A POBLACIÓN SENAME EN CONTROL DE SALUD EN APS AL CORTE"]
[null,"Variable","TOTAL",null,null,"POR EDAD ",{"$nulls":11},"MIGRANTES","PUEBLOS ORIGINARIOS"]
[{"$nulls":5}," 0 - 4",null," 5 - 9",null," 10 - 14 ",null,"15 a 19",null,"20 a 24",null,"Mayor a 25 años"]
[null,null,"Ambos sexos","Hombre","Mujer","Hombre","Mujer","Hombre","Mujer","Hombre","Mujer","Hombre","Mujer","Hombre","Mujer","Hombre","Mujer"]
["P1310050","POBLACIÓN EN CONTROL CON MÉTODO DE REGULACIÓN DE FERTILIDAD",{"$f":"IFERROR(VLOOKUP($A25,Filtros!$A$5:$AY$22116,2,FALSE),0)","v":238},{"$f":"IFERROR(VLOOKUP($A25,Filtros!$A$5:$AY$22116,3,FALSE),0)","v":20},{"$f":"IFERROR(VLOOKUP($A25,Filtros!$A$5:$AY$22116,4,FALSE),0)","v":218},{"$f":"IFERROR(VLOOKUP($A25,Filtros!$A$5:$AY$22116,5,FALSE),0)","v":0},{"$f":"IFERROR(VLOOKUP($A25,Filtros!$A$5:$AY$22116,6,FALSE),0)","v":0},{"$f":"IFERROR(VLOOKUP($A25,Filtros!$A$5:$AY$22116,7,FALSE),0)","v":0},{"$f":"IFERROR(VLOOKUP($A25,Filtros!$A$5:$AY$22116,8,FALSE),0)","v":0},{"$f":"IFERROR(VLOOKUP($A25,Filtros!$A$5:$AY$22116,9,FALSE),0)","v":0},{"$f":"IFERROR(VLOOKUP($A25,Filtros!$A$5:$AY$22116,10,FALSE),0)","v":33},{"$f":"IFERROR(VLOOKUP($A25,Filtros!$A$5:$AY$22116,11,FALSE),0)","v":20},{"$f":"IFERROR(VLOOKUP($A25,Filtros!$A$5:$AY$22116,12,FALSE),0)","v":173},{"$f":"IFERROR(VLOOKUP($A25,Filtros!$A$5:$AY$22116,13,FALSE),0)","v":0},{"$f":"IFERROR(VLOOKUP($A25,Filtros!$A$5:$AY$22116,14,FALSE),0)","v":12},{"$f":"IFERROR(VLOOKUP($A25,Filtros!$A$5:$AY$22116,15,FALSE),0)","v":0},{"$f":"IFERROR(VLOOKUP($A25,Filtros!$A$5:$AY$22116,16,FALSE),0)","v":0},{"$f":"IFERROR(VLOOKUP($A25,Filtros!$A$5:$AY$22116,17,FALSE),0)","v":1},{"$f":"IFERROR(VLOOKUP($A25,Filtros!$A$5:$AY$22116,18,FALSE),0)","v":2},{"$nulls":34},{"$f":"IF(BQ25=1,\" * El total de Migrantes no debe superar el total de población ingresada. \",\"\")","v":""},{"$f":"IF(BR25=1,\"* No olvide ingresar la columna Migrantes (Digite Cero si no tiene). \",\"\")","v":""},{"$nulls":13},{"$f":"IF(R25>C25,1,0)","v":0},{"$f":"IF(AND(C25<>0,R25=\"\"),1,0)","v":0}]
["P1310060","GESTANTES EN CONTROL CON RIESGO PSICOSOCIAL",{"$f":"IFERROR(VLOOKUP($A26,Filtros!$A$5:$AY$22116,2,FALSE),0)","v":18},{"$f":"IFERROR(VLOOKUP($A26,Filtros!$A$5:$AY$22116,3,FALSE),0)","v":0},{"$f":"IFERROR(VLOOKUP($A26,Filtros!$A$5:$AY$22116,4,FALSE),0)","v":18},{"$f":"IFERROR(VLOOKUP($A26,Filtros!$A$5:$AY$22116,5,FALSE),0)","v":0},{"$f":"IFERROR(VLOOKUP($A26,Filtros!$A$5:$AY$22116,6,FALSE),0)","v":0},{"$f":"IFERROR(VLOOKUP($A26,Filtros!$A$5:$AY$22116,7,FALSE),0)","v":0},{"$f":"IFERROR(VLOOKUP($A26,Filtros!$A$5:$AY$22116,8,FALSE),0)","v":0},{"$f":"IFERROR(VLOOKUP($A26,Filtros!$A$5:$AY$22116,9,FALSE),0)","v":0},{"$f":"IFERROR(VLOOKUP($A26,Filtros!$A$5:$AY$22116,10,FALSE),0)","v":2},{"$f":"IFERROR(VLOOKUP($A26,Filtros!$A$5:$AY$22116,11,FALSE),0)","v":0},{"$f":"IFERROR(VLOOKUP($A26,Filtros!$A$5:$AY$22116,12,FALSE),0)","v":4},{"$f":"IFERROR(VLOOKUP($A26,Filtros!$A$5:$AY$22116,13,FALSE),0)","v":0},{"$f":"IFERROR(VLOOKUP($A26,Filtros!$A$5:$AY$22116,14,FALSE),0)","v":0},{"$f":"IFERROR(VLOOKUP($A26,Filtros!$A$5:$AY$22116,15,FALSE),0)","v":0},{"$f":"IFERROR(VLOOKUP($A26,Filtros!$A$5:$AY$22116,16,FALSE),0)","v":12},{"$f":"IFERROR(VLOOKUP($A26,Filtros!$A$5:$AY$22116,17,FALSE),0)","v":1},{"$f":"IFERROR(VLOOKUP($A26,Filtros!$A$5:$AY$22116,18,FALSE),0)","v":0},{"$nulls":34},"","",{"$nulls":13},0,0]
["P1310070","POBLACIÓN INFANTIL EN CONTROL",{"$f":"IFERROR(VLOOKUP($A27,Filtros!$A$5:$AY$22116,2,FALSE),0)","v":722},{"$f":"IFERROR(VLOOKUP($A27,Filtros!$A$5:$AY$22116,3,FALSE),0)","v":386},{"$f":"IFERROR(VLOOKUP($A27,Filtros!$A$5:$AY$22116,4,FALSE),0)","v":336},{"$f":"IFERROR(VLOOKUP($A27,Filtros!$A$5:$AY$22116,5,FALSE),0)","v":164},{"$f":"IFERROR(VLOOKUP($A27,Filtros!$A$5:$AY$22116,6,FALSE),0)","v":153},{"$f":"IFERROR(VLOOKUP($A27,Filtros!$A$5:$AY$22116,7,FALSE),0)","v":222},{"$f":"IFERROR(VLOOKUP($A27,Filtros!$A$5:$AY$22116,8,FALSE),0)","v":183},{"$f":"IFERROR(VLOOKUP($A27,Filtros!$A$5:$AY$22116,9,FALSE),0)","v":0},{"$f":"IFERROR(VLOOKUP($A27,Filtros!$A$5:$AY$22116,10,FALSE),0)","v":0},{"$f":"IFERROR(VLOOKUP($A27,Filtros!$A$5:$AY$22116,11,FALSE),0)","v":0},{"$f":"IFERROR(VLOOKUP($A27,Filtros!$A$5:$AY$22116,12,FALSE),0)","v":0},{"$f":"IFERROR(VLOOKUP($A27,Filtros!$A$5:$AY$22116,13,FALSE),0)","v":0},{"$f":"IFERROR(VLOOKUP($A27,Filtros!$A$5:$AY$22116,14,FALSE),0)","v":0},{"$f":"IFERROR(VLOOKUP($A27,Filtros!$A$5:$AY$22116,15,FALSE),0)","v":0},{"$f":"IFERROR(VLOOKUP($A27,Filtros!$A$5:$AY$22116,16,FALSE),0)","v":0},{"$f":"IFERROR(VLOOKUP($A27,Filtros!$A$5:$AY$22116,17,FALSE),0)","v":7},{"$f":"IFERROR(VLOOKUP($A27,Filtros!$A$5:$AY$22116,18,FALSE),0)","v":7},{"$nulls":34},"","",{"$nulls":13},0,0]
["P1310080","POBLACIÓN EN CONTROL DE SALUD INTEGRAL DE ADOLESCENTES SEGÚN ÁREA DE RIESGO",{"$f":"IFERROR(VLOOKUP($A28,Filtros!$A$5:$AY$22116,2,FALSE),0)","v":572},{"$f":"IFERROR(VLOOKUP($A28,Filtros!$A$5:$AY$22116,3,FALSE),0)","v":263},{"$f":"IFERROR(VLOOKUP($A28,Filtros!$A$5:$AY$22116,4,FALSE),0)","v":309},{"$f":"IFERROR(VLOOKUP($A28,Filtros!$A$5:$AY$22116,5,FALSE),0)","v":0},{"$f":"IFERROR(VLOOKUP($A28,Filtros!$A$5:$AY$22116,6,FALSE),0)","v":0},{"$f":"IFERROR(VLOOKUP($A28,Filtros!$A$5:$AY$22116,7,FALSE),0)","v":0},{"$f":"IFERROR(VLOOKUP($A28,Filtros!$A$5:$AY$22116,8,FALSE),0)","v":0},{"$f":"IFERROR(VLOOKUP($A28,Filtros!$A$5:$AY$22116,9,FALSE),0)","v":162},{"$f":"IFERROR(VLOOKUP($A28,Filtros!$A$5:$AY$22116,10,FALSE),0)","v":201},{"$f":"IFERROR(VLOOKUP($A28,Filtros!$A$5:$AY$22116,11,FALSE),0)","v":100},{"$f":"IFERROR(VLOOKUP($A28,Filtros!$A$5:$AY$22116,12,FALSE),0)","v":108},{"$f":"IFERROR(VLOOKUP($A28,Filtros!$A$5:$AY$22116,13,FALSE),0)","v":1},{"$f":"IFERROR(VLOOKUP($A28,Filtros!$A$5:$AY$22116,14,FALSE),0)","v":0},{"$f":"IFERROR(VLOOKUP($A28,Filtros!$A$5:$AY$22116,15,FALSE),0)","v":0},{"$f":"IFERROR(VLOOKUP($A28,Filtros!$A$5:$AY$22116,16,FALSE),0)","v":0},{"$f":"IFERROR(VLOOKUP($A28,Filtros!$A$5:$AY$22116,17,FALSE),0)","v":1},{"$f":"IFERROR(VLOOKUP($A28,Filtros!$A$5:$AY$22116,18,FALSE),0)","v":6},{"$nulls":34},"","",{"$nulls":13},0,0]
["P1310090","POBLACIÓN EN CONTROL DE SALUD MENTAL",{"$f":"IFERROR(VLOOKUP($A29,Filtros!$A$5:$AY$22116,2,FALSE),0)","v":977},{"$f":"IFERROR(VLOOKUP($A29,Filtros!$A$5:$AY$22116,3,FALSE),0)","v":473},{"$f":"IFERROR(VLOOKUP($A29,Filtros!$A$5:$AY$22116,4,FALSE),0)","v":504},{"$f":"IFERROR(VLOOKUP($A29,Filtros!$A$5:$AY$22116,5,FALSE),0)","v":8},{"$f":"IFERROR(VLOOKUP($A29,Filtros!$A$5:$AY$22116,6,FALSE),0)","v":13},{"$f":"IFERROR(VLOOKUP($A29,Filtros!$A$5:$AY$22116,7,FALSE),0)","v":140},{"$f":"IFERROR(VLOOKUP($A29,Filtros!$A$5:$AY$22116,8,FALSE),0)","v":119},{"$f":"IFERROR(VLOOKUP($A29,Filtros!$A$5:$AY$22116,9,FALSE),0)","v":176},{"$f":"IFERROR(VLOOKUP($A29,Filtros!$A$5:$AY$22116,10,FALSE),0)","v":206},{"$f":"IFERROR(VLOOKUP($A29,Filtros!$A$5:$AY$22116,11,FALSE),0)","v":135},{"$f":"IFERROR(VLOOKUP($A29,Filtros!$A$5:$AY$22116,12,FALSE),0)","v":165},{"$f":"IFERROR(VLOOKUP($A29,Filtros!$A$5:$AY$22116,13,FALSE),0)","v":14},{"$f":"IFERROR(VLOOKUP($A29,Filtros!$A$5:$AY$22116,14,FALSE),0)","v":1},{"$f":"IFERROR(VLOOKUP($A29,Filtros!$A$5:$AY$22116,15,FALSE),0)","v":0},{"$f":"IFERROR(VLOOKUP($A29,Filtros!$A$5:$AY$22116,16,FALSE),0)","v":0},{"$f":"IFERROR(VLOOKUP($A29,Filtros!$A$5:$AY$22116,17,FALSE),0)","v":4},{"$f":"IFERROR(VLOOKUP($A29,Filtros!$A$5:$AY$22116,18,FALSE),0)","v":15},{"$nulls":34},"","",{"$nulls":13},0,0]
["P1320010","POBLACIÓN EN PROGRAMA DE ACOMPAÑAMIENTO PSICOSOCIAL",{"$f":"IFERROR(VLOOKUP($A30,Filtros!$A$5:$AY$22116,2,FALSE),0)","v":285},{"$f":"IFERROR(VLOOKUP($A30,Filtros!$A$5:$AY$22116,3,FALSE),0)","v":127},{"$f":"IFERROR(VLOOKUP($A30,Filtros!$A$5:$AY$22116,4,FALSE),0)","v":158},{"$f":"IFERROR(VLOOKUP($A30,Filtros!$A$5:$AY$22116,5,FALSE),0)","v":12},{"$f":"IFERROR(VLOOKUP($A30,Filtros!$A$5:$AY$22116,6,FALSE),0)","v":23},{"$f":"IFERROR(VLOOKUP($A30,Filtros!$A$5:$AY$22116,7,FALSE),0)","v":39},{"$f":"IFERROR(VLOOKUP($A30,Filtros!$A$5:$AY$22116,8,FALSE),0)","v":33},{"$f":"IFERROR(VLOOKUP($A30,Filtros!$A$5:$AY$22116,9,FALSE),0)","v":48},{"$f":"IFERROR(VLOOKUP($A30,Filtros!$A$5:$AY$22116,10,FALSE),0)","v":52},{"$f":"IFERROR(VLOOKUP($A30,Filtros!$A$5:$AY$22116,11,FALSE),0)","v":26},{"$f":"IFERROR(VLOOKUP($A30,Filtros!$A$5:$AY$22116,12,FALSE),0)","v":50},{"$f":"IFERROR(VLOOKUP($A30,Filtros!$A$5:$AY$22116,13,FALSE),0)","v":2},{"$f":"IFERROR(VLOOKUP($A30,Filtros!$A$5:$AY$22116,14,FALSE),0)","v":0},{"$f":"IFERROR(VLOOKUP($A30,Filtros!$A$5:$AY$22116,15,FALSE),0)","v":0},{"$f":"IFERROR(VLOOKUP($A30,Filtros!$A$5:$AY$22116,16,FALSE),0)","v":0},{"$f":"IFERROR(VLOOKUP($A30,Filtros!$A$5:$AY$22116,17,FALSE),0)","v":1},{"$f":"IFERROR(VLOOKUP($A30,Filtros!$A$5:$AY$22116,18,FALSE),0)","v":4},{"$nulls":34},"","",{"$nulls":13},0,0]
[null,"SECCIÓN D. NIÑOS, NIÑAS, ADOLESCENTES Y JÓVENES VINCULADOS A LA RED SENAME EN CONTROL DE SALUD MENTAL EN ESPECIALIDAD AL CORTE"]
[null,"Tipo de Programas SENAME","TOTAL",null,null,"POR EDAD ",{"$nulls":11},"MIGRANTES","PUEBLOS ORIGINARIOS"]
[{"$nulls":5}," 0 - 4",null," 5 - 9",null," 10 - 14 ",null,"15 a 19",null,"20 - 24",null,"Mayor a 25 años"]
[null,null,"Ambos sexos","Hombre","Mujer","Hombre","Mujer","Hombre","Mujer","Hombre","Mujer","Hombre","Mujer","Hombre","Mujer","Hombre","Mujer",{"$nulls":36},{"$f":"IF(BQ34=1,\" * El total de Migrantes no debe superar el total de población ingresada. \",\"\")","v":" * El total de Migrantes no debe superar el total de población ingresada. "},{"$f":"IF(BR34=1,\"* No olvide ingresar la columna Migrantes (Digite Cero si no tiene). \",\"\")","v":""},{"$nulls":13},{"$f":"IF(L34>C34,1,0)","v":1},{"$f":"IF(AND(C34<>0,L34=\"\"),1,0)","v":0}]
[null,"TOTAL",{"$f":"SUM(D35:E35)","v":228},{"$f":"SUM(D36:D38)","v":108},120,{"$f":"SUM(F36:F38)","v":2},4,23,28,32,50,49,38,2,0,0,0,0,{"$f":"SUM(S36:S38)","v":0}]
["P1320030","AMBULATORIOS",{"$f":"IFERROR(VLOOKUP($A36,Filtros!$A$5:$AY$22116,2,FALSE),0)","v":208},{"$f":"IFERROR(VLOOKUP($A36,Filtros!$A$5:$AY$22116,3,FALSE),0)","v":95},{"$f":"IFERROR(VLOOKUP($A36,Filtros!$A$5:$AY$22116,4,FALSE),0)","v":113},{"$f":"IFERROR(VLOOKUP($A36,Filtros!$A$5:$AY$22116,5,FALSE),0)","v":1},{"$f":"IFERROR(VLOOKUP($A36,Filtros!$A$5:$AY$22116,6,FALSE),0)","v":4},{"$f":"IFERROR(VLOOKUP($A36,Filtros!$A$5:$AY$22116,7,FALSE),0)","v":20},{"$f":"IFERROR(VLOOKUP($A36,Filtros!$A$5:$AY$22116,8,FALSE),0)","v":28},{"$f":"IFERROR(VLOOKUP($A36,Filtros!$A$5:$AY$22116,9,FALSE),0)","v":30},{"$f":"IFERROR(VLOOKUP($A36,Filtros!$A$5:$AY$22116,10,FALSE),0)","v":47},{"$f":"IFERROR(VLOOKUP($A36,Filtros!$A$5:$AY$22116,11,FALSE),0)","v":42},{"$f":"IFERROR(VLOOKUP($A36,Filtros!$A$5:$AY$22116,12,FALSE),0)","v":34},{"$f":"IFERROR(VLOOKUP($A36,Filtros!$A$5:$AY$22116,13,FALSE),0)","v":2},{"$f":"IFERROR(VLOOKUP($A36,Filtros!$A$5:$AY$22116,14,FALSE),0)","v":0},{"$f":"IFERROR(VLOOKUP($A36,Filtros!$A$5:$AY$22116,15,FALSE),0)","v":0},{"$f":"IFERROR(VLOOKUP($A36,Filtros!$A$5:$AY$22116,16,FALSE),0)","v":0},{"$f":"IFERROR(VLOOKUP($A36,Filtros!$A$5:$AY$22116,17,FALSE),0)","v":0},{"$f":"IFERROR(VLOOKUP($A36,Filtros!$A$5:$AY$22116,18,FALSE),0)","v":0}]
["P1320040","RESIDENCIALES",{"$f":"IFERROR(VLOOKUP($A37,Filtros!$A$5:$AY$22116,2,FALSE),0)","v":20},{"$f":"IFERROR(VLOOKUP($A37,Filtros!$A$5:$AY$22116,3,FALSE),0)","v":13},{"$f":"IFERROR(VLOOKUP($A37,Filtros!$A$5:$AY$22116,4,FALSE),0)","v":7},{"$f":"IFERROR(VLOOKUP($A37,Filtros!$A$5:$AY$22116,5,FALSE),0)","v":1},{"$f":"IFERROR(VLOOKUP($A37,Filtros!$A$5:$AY$22116,6,FALSE),0)","v":0},{"$f":"IFERROR(VLOOKUP($A37,Filtros!$A$5:$AY$22116,7,FALSE),0)","v":3},{"$f":"IFERROR(VLOOKUP($A37,Filtros!$A$5:$AY$22116,8,FALSE),0)","v":0},{"$f":"IFERROR(VLOOKUP($A37,Filtros!$A$5:$AY$22116,9,FALSE),0)","v":2},{"$f":"IFERROR(VLOOKUP($A37,Filtros!$A$5:$AY$22116,10,FALSE),0)","v":3},{"$f":"IFERROR(VLOOKUP($A37,Filtros!$A$5:$AY$22116,11,FALSE),0)","v":7},{"$f":"IFERROR(VLOOKUP($A37,Filtros!$A$5:$AY$22116,12,FALSE),0)","v":4},{"$f":"IFERROR(VLOOKUP($A37,Filtros!$A$5:$AY$22116,13,FALSE),0)","v":0},{"$f":"IFERROR(VLOOKUP($A37,Filtros!$A$5:$AY$22116,14,FALSE),0)","v":0},{"$f":"IFERROR(VLOOKUP($A37,Filtros!$A$5:$AY$22116,15,FALSE),0)","v":0},{"$f":"IFERROR(VLOOKUP($A37,Filtros!$A$5:$AY$22116,16,FALSE),0)","v":0},{"$f":"IFERROR(VLOOKUP($A37,Filtros!$A$5:$AY$22116,17,FALSE),0)","v":0},{"$f":"IFERROR(VLOOKUP($A37,Filtros!$A$5:$AY$22116,18,FALSE),0)","v":0}]
["P1320050","CIP-CRC",{"$f":"IFERROR(VLOOKUP($A38,Filtros!$A$5:$AY$22116,2,FALSE),0)","v":0},{"$f":"IFERROR(VLOOKUP($A38,Filtros!$A$5:$AY$22116,3,FALSE),0)","v":0},{"$f":"IFERROR(VLOOKUP($A38,Filtros!$A$5:$AY$22116,4,FALSE),0)","v":0},{"$f":"IFERROR(VLOOKUP($A38,Filtros!$A$5:$AY$22116,5,FALSE),0)","v":0},{"$f":"IFERROR(VLOOKUP($A38,Filtros!$A$5:$AY$22116,6,FALSE),0)","v":0},{"$f":"IFERROR(VLOOKUP($A38,Filtros!$A$5:$AY$22116,7,FALSE),0)","v":0},{"$f":"IFERROR(VLOOKUP($A38,Filtros!$A$5:$AY$22116,8,FALSE),0)","v":0},{"$f":"IFERROR(VLOOKUP($A38,Filtros!$A$5:$AY$22116,9,FALSE),0)","v":0},{"$f":"IFERROR(VLOOKUP($A38,Filtros!$A$5:$AY$22116,10,FALSE),0)","v":0},{"$f":"IFERROR(VLOOKUP($A38,Filtros!$A$5:$AY$22116,11,FALSE),0)","v":0},{"$f":"IFERROR(VLOOKUP($A38,Filtros!$A$5:$AY$22116,12,FALSE),0)","v":0},{"$f":"IFERROR(VLOOKUP($A38,Filtros!$A$5:$AY$22116,13,FALSE),0)","v":0},{"$f":"IFERROR(VLOOKUP($A38,Filtros!$A$5:$AY$22116,14,FALSE),0)","v":0},{"$f":"IFERROR(VLOOKUP($A38,Filtros!$A$5:$AY$22116,15,FALSE),0)","v":0},{"$f":"IFERROR(VLOOKUP($A38,Filtros!$A$5:$AY$22116,16,FALSE),0)","v":0},{"$f":"IFERROR(VLOOKUP($A38,Filtros!$A$5:$AY$22116,17,FALSE),0)","v":0},{"$f":"IFERROR(VLOOKUP($A38,Filtros!$A$5:$AY$22116,18,FALSE),0)","v":0}]
[]
[]
[]
["CODIGOS ELIMINADOS"]
["P1320020"]
["P1320060"]
["P1320070"]
["P1320080"]
["P1320090"]
["P1320100"]
["P1320110"]
[]
[]
[null,{"$f":"SUM(C12:K12,C17:Q20,C25:Q30,F34:L34,#REF!,#REF!)","v":{"$error":"#REF!"}},"datos"]
[null,{"$f":"SUM(BQ5:BT34)","v":1},"errores"]